Workbook
Name ___nit1: #REF!
Name ___nit1: #REF!
Name ___nit1: #REF!
Name ___nit1: #REF!
Name ___nit1: #REF!
Name __nit1: #REF!
Name __nit1: #REF!
Name __nit1: #REF!
Name _nit1: #REF!
Name _nit1: #REF!
Name _nit1: #REF!
Name A_2018: [1]Comprobacion!#REF!
Name A_2018: [1]Comprobacion!#REF!
Name A_2018: [1]Comprobacion!#REF!
Name A_impresión_IM: #REF!
Name A_impresión_IM: #REF!
Name A_impresión_IM: #REF!
Name A_impresión_IM: #REF!
Name aaa: MATCH(0.01,'26. solvencia - solidez'!End_Bal,-1)+1
Name aaa: MATCH(0.01,End_Bal,-1)+1
Name aaa: MATCH(0.01,End_Bal,-1)+1
Name aaa: MATCH(0.01,End_Bal,-1)+1
Name aaa: MATCH(0.01,End_Bal,-1)+1
Name aaa: MATCH(0.01,End_Bal,-1)+1
Name aaa: MATCH(0.01,End_Bal,-1)+1
Name aaa: MATCH(0.01,End_Bal,-1)+1
Name agencias: [2]Listas!$U$2:$U$10
Name avvillas: #REF!
Name avvillas: #REF!
Name avvillas: #REF!
Name avvillas: #REF!
Name BANCOS: [3]BANCOS!$A$2:$A$25
Name BASE_DATOS_ESTUDIO_CRED: #REF!
Name BASE_DATOS_ESTUDIO_CRED: #REF!
Name BASE_DATOS_ESTUDIO_CRED: #REF!
Name BASE_DATOS_ESTUDIO_CRED: #REF!
Name BASE1F: #REF!
Name BASE1F: #REF!
Name BASE1F: #REF!
Name BASE1F: #REF!
Name BASE1F: #REF!
Name Beg_Bal: #REF!
Name Beg_Bal: #REF!
Name cartera: #REF!
Name cartera: #REF!
Name clientes: #REF!
Name clientes: #REF!
Name CODENTIDAD: '[4]+DATOS'!$F$52:$F$231
Name contador1: 5
Name contador2: 5
Name COOPERATIVAS: [5]COOPERATIVAS!$C$4:$C$191
Name COORDINACION: '[4]DATOS COORDINACION SEGUIMIENTO'!$O$4:$O$6
Name Data: #REF!
Name Data: #REF!
Name Data: #REF!
Name Data: #REF!
Name depositos: #REF!
Name depositos: #REF!
Name depositos: #REF!
Name DINERS: #REF!

Sheet 24. Eficiencia operativa (ajus)
A1: indicador | B1: Descripción Formula | C1: TIPO | D1: NOMBRE INDICADOR | E1: Descripcion Indicador
A2: RIESGO | B2: =+Indicadores!E28 -> Gasto Administrativo / Ingresos por venta de bienes y servicios y recuperaciones | C2: =+Indicadores!B28 -> Riesgo Operativo | D2: =+Indicadores!C28 -> Indicador de relación entre el Gasto Administrativo y los Ingresos por venta de bienes y servicios y recuperaciones | E2: =+Indicadores!D28 -> Estructura Gastos de Administración
B3: 2 | C3: 3 | D3: 4 | E3: 5 | F3: 6 | G3: 7 | H3: 8
A4: Cuenta | B4: Descripcion | C4: Año 16 | D4: Año 17 | E4: Año 18 | F4: Año 19 | G4: Año 20 | H4: Año 21
A5: 510500 | B5: =PROPER(VLOOKUP($A5,cuc!$A$2:$AA$2088,B$3,FALSE)) -> Beneficio A Empleados | C5: =VLOOKUP($A5,cuc!$A$2:$AA$2088,C$3,FALSE) -> 420653326 | D5: =VLOOKUP($A5,cuc!$A$2:$AA$2088,D$3,FALSE) -> 499861517 | E5: =VLOOKUP($A5,cuc!$A$2:$AA$2088,E$3,FALSE) -> 571002831 | F5: =VLOOKUP($A5,cuc!$A$2:$AA$2088,F$3,FALSE) -> 618680814 | G5: =VLOOKUP($A5,cuc!$A$2:$AA$2088,G$3,FALSE) -> 636866962 | H5: =VLOOKUP($A5,cuc!$A$2:$AA$2088,H$3,FALSE) -> 549789899
A6: 510700 | B6: =PROPER(VLOOKUP($A6,cuc!$A$2:$AA$2088,B$3,FALSE)) -> Gastos Por Obligaciones De Organizaciones Solidarias De Trabajo Asociado | C6: =VLOOKUP($A6,cuc!$A$2:$AA$2088,C$3,FALSE) -> 0 | D6: =VLOOKUP($A6,cuc!$A$2:$AA$2088,D$3,FALSE) -> 0 | E6: =VLOOKUP($A6,cuc!$A$2:$AA$2088,E$3,FALSE) -> 0 | F6: =VLOOKUP($A6,cuc!$A$2:$AA$2088,F$3,FALSE) -> 0 | G6: =VLOOKUP($A6,cuc!$A$2:$AA$2088,G$3,FALSE) -> 0 | H6: =VLOOKUP($A6,cuc!$A$2:$AA$2088,H$3,FALSE) -> 0
A7: 511000 | B7: =PROPER(VLOOKUP($A7,cuc!$A$2:$AA$2088,B$3,FALSE)) -> Gastos Generales | C7: =VLOOKUP($A7,cuc!$A$2:$AA$2088,C$3,FALSE) -> 3.1355733e+08 | D7: =VLOOKUP($A7,cuc!$A$2:$AA$2088,D$3,FALSE) -> 3.7843057e+08 | E7: =VLOOKUP($A7,cuc!$A$2:$AA$2088,E$3,FALSE) -> 4.0102235e+08 | F7: =VLOOKUP($A7,cuc!$A$2:$AA$2088,F$3,FALSE) -> 3.7212276e+08 | G7: =VLOOKUP($A7,cuc!$A$2:$AA$2088,G$3,FALSE) -> 3.0243525e+08 | H7: =VLOOKUP($A7,cuc!$A$2:$AA$2088,H$3,FALSE) -> 1.9351911e+08
A8: 540000 | B8: =PROPER(VLOOKUP($A8,cuc!$A$2:$AA$2088,B$3,FALSE)) -> Gastos De Ventas | C8: =VLOOKUP($A8,cuc!$A$2:$AA$2088,C$3,FALSE) -> 0 | D8: =VLOOKUP($A8,cuc!$A$2:$AA$2088,D$3,FALSE) -> 0 | E8: =VLOOKUP($A8,cuc!$A$2:$AA$2088,E$3,FALSE) -> 0 | F8: =VLOOKUP($A8,cuc!$A$2:$AA$2088,F$3,FALSE) -> 0 | G8: =VLOOKUP($A8,cuc!$A$2:$AA$2088,G$3,FALSE) -> 0 | H8: =VLOOKUP($A8,cuc!$A$2:$AA$2088,H$3,FALSE) -> 0
A9: 511095 | B9: =PROPER(VLOOKUP($A9,cuc!$A$2:$AA$2088,B$3,FALSE)) -> Otros | C9: =-VLOOKUP($A9,cuc!$A$2:$AA$2088,C$3,FALSE) -> -1.6200687e+08 | D9: =-VLOOKUP($A9,cuc!$A$2:$AA$2088,D$3,FALSE) -> -1.8724626e+08 | E9: =-VLOOKUP($A9,cuc!$A$2:$AA$2088,E$3,FALSE) -> -1.9642536e+08 | F9: =-VLOOKUP($A9,cuc!$A$2:$AA$2088,F$3,FALSE) -> -1.7824962e+08 | G9: =-VLOOKUP($A9,cuc!$A$2:$AA$2088,G$3,FALSE) -> -1.1551683e+08 | H9: =-VLOOKUP($A9,cuc!$A$2:$AA$2088,H$3,FALSE) -> -43422713
B10: Gastos ajustados | C10: =+SUM(C5:C9) -> 5.7220379e+08 | D10: =+SUM(D5:D9) -> 6.9104582e+08 | E10: =+SUM(E5:E9) -> 7.7559982e+08 | F10: =+SUM(F5:F9) -> 8.1255396e+08 | G10: =+SUM(G5:G9) -> 8.2378538e+08 | H10: =+SUM(H5:H9) -> 6.998863e+08
A12: Cuenta | B12: Descripción | C12: =+C$4 -> Año 16 | D12: =+D$4 -> Año 17 | E12: =+E$4 -> Año 18 | F12: =+F$4 -> Año 19 | G12: =+G$4 -> Año 20 | H12: =+H$4 -> Año 21
A13: 410000 | B13: =PROPER(VLOOKUP($A13,cuc!$A$2:$AA$2088,B$3,FALSE)) -> Ingresos Por Venta De Bienes Y Servicios | C13: =VLOOKUP($A13,cuc!$A$2:$AA$2088,C$3,FALSE) -> 1000970561 | D13: =VLOOKUP($A13,cuc!$A$2:$AA$2088,D$3,FALSE) -> 1113153461 | E13: =VLOOKUP($A13,cuc!$A$2:$AA$2088,E$3,FALSE) -> 1214617633 | F13: =VLOOKUP($A13,cuc!$A$2:$AA$2088,F$3,FALSE) -> 1314447748 | G13: =VLOOKUP($A13,cuc!$A$2:$AA$2088,G$3,FALSE) -> 1411311466 | H13: =VLOOKUP($A13,cuc!$A$2:$AA$2088,H$3,FALSE) -> 1274007689
A14: 420500 | B14: =PROPER(VLOOKUP($A14,cuc!$A$2:$AA$2088,B$3,FALSE)) -> Ingresos Por Utilidad En Venta De Inversiones Y Otros Activos | C14: =VLOOKUP($A14,cuc!$A$2:$AA$2088,C$3,FALSE) -> 245599.85 | D14: =VLOOKUP($A14,cuc!$A$2:$AA$2088,D$3,FALSE) -> 38598.47 | E14: =VLOOKUP($A14,cuc!$A$2:$AA$2088,E$3,FALSE) -> 163984.03 | F14: =VLOOKUP($A14,cuc!$A$2:$AA$2088,F$3,FALSE) -> 44105.94 | G14: =VLOOKUP($A14,cuc!$A$2:$AA$2088,G$3,FALSE) -> 1567320.1 | H14: =VLOOKUP($A14,cuc!$A$2:$AA$2088,H$3,FALSE) -> 65434.3
A15: 421000 | B15: =PROPER(VLOOKUP($A15,cuc!$A$2:$AA$2088,B$3,FALSE)) -> Ingresos Por Valoración Inversiones | C15: =VLOOKUP($A15,cuc!$A$2:$AA$2088,C$3,FALSE) -> 27404450 | D15: =VLOOKUP($A15,cuc!$A$2:$AA$2088,D$3,FALSE) -> 40805288 | E15: =VLOOKUP($A15,cuc!$A$2:$AA$2088,E$3,FALSE) -> 60979551 | F15: =VLOOKUP($A15,cuc!$A$2:$AA$2088,F$3,FALSE) -> 6279522.8 | G15: =VLOOKUP($A15,cuc!$A$2:$AA$2088,G$3,FALSE) -> 7717368.5 | H15: =VLOOKUP($A15,cuc!$A$2:$AA$2088,H$3,FALSE) -> 3700938.5
A16: 422004 | B16: =PROPER(VLOOKUP($A16,cuc!$A$2:$AA$2088,B$3,FALSE)) -> Intereses De Bancos Y Otras Entidades Con Actividad Financiera | C16: =VLOOKUP($A16,cuc!$A$2:$AA$2088,C$3,FALSE) -> 0 | D16: =VLOOKUP($A16,cuc!$A$2:$AA$2088,D$3,FALSE) -> 0 | E16: =VLOOKUP($A16,cuc!$A$2:$AA$2088,E$3,FALSE) -> 0 | F16: =VLOOKUP($A16,cuc!$A$2:$AA$2088,F$3,FALSE) -> 0 | G16: =VLOOKUP($A16,cuc!$A$2:$AA$2088,G$3,FALSE) -> 0 | H16: =VLOOKUP($A16,cuc!$A$2:$AA$2088,H$3,FALSE) -> 0
A17: 422005 | B17: =PROPER(VLOOKUP($A17,cuc!$A$2:$AA$2088,B$3,FALSE)) -> Dividendos, Participaciones Y Retornos | C17: =VLOOKUP($A17,cuc!$A$2:$AA$2088,C$3,FALSE) -> 5971143 | D17: =VLOOKUP($A17,cuc!$A$2:$AA$2088,D$3,FALSE) -> 8369587.9 | E17: =VLOOKUP($A17,cuc!$A$2:$AA$2088,E$3,FALSE) -> 10374629 | F17: =VLOOKUP($A17,cuc!$A$2:$AA$2088,F$3,FALSE) -> 11862555 | G17: =VLOOKUP($A17,cuc!$A$2:$AA$2088,G$3,FALSE) -> 6881924 | H17: =VLOOKUP($A17,cuc!$A$2:$AA$2088,H$3,FALSE) -> 5443853
A18: 422010 | B18: =PROPER(VLOOKUP($A18,cuc!$A$2:$AA$2088,B$3,FALSE)) -> Comisiones Y/O Honorarios | C18: =VLOOKUP($A18,cuc!$A$2:$AA$2088,C$3,FALSE) -> 0 | D18: =VLOOKUP($A18,cuc!$A$2:$AA$2088,D$3,FALSE) -> 0 | E18: =VLOOKUP($A18,cuc!$A$2:$AA$2088,E$3,FALSE) -> 0 | F18: =VLOOKUP($A18,cuc!$A$2:$AA$2088,F$3,FALSE) -> 0 | G18: =VLOOKUP($A18,cuc!$A$2:$AA$2088,G$3,FALSE) -> 0 | H18: =VLOOKUP($A18,cuc!$A$2:$AA$2088,H$3,FALSE) -> 0
A19: 423000 | B19: =PROPER(VLOOKUP($A19,cuc!$A$2:$AA$2088,B$3,FALSE)) -> Administrativos Y Sociales | C19: =VLOOKUP($A19,cuc!$A$2:$AA$2088,C$3,FALSE) -> 0 | D19: =VLOOKUP($A19,cuc!$A$2:$AA$2088,D$3,FALSE) -> 0 | E19: =VLOOKUP($A19,cuc!$A$2:$AA$2088,E$3,FALSE) -> 3761417 | F19: =VLOOKUP($A19,cuc!$A$2:$AA$2088,F$3,FALSE) -> 0 | G19: =VLOOKUP($A19,cuc!$A$2:$AA$2088,G$3,FALSE) -> 0 | H19: =VLOOKUP($A19,cuc!$A$2:$AA$2088,H$3,FALSE) -> 970589.71
B20: Ingresos con recuperaciones | C20: =SUM(C13:C19) -> 1.0345918e+09 | D20: =SUM(D13:D19) -> 1.1623669e+09 | E20: =SUM(E13:E19) -> 1.2898972e+09 | F20: =SUM(F13:F19) -> 1.3326339e+09 | G20: =SUM(G13:G19) -> 1.4274781e+09 | H20: =SUM(H13:H19) -> 1.2841885e+09
B23: Descripcion | C23: =+C4 -> Año 16 | D23: =+D4 -> Año 17 | E23: =+E4 -> Año 18 | F23: =+F4 -> Año 19 | G23: =+G4 -> Año 20 | H23: =+H4 -> Año 21
B24: Eficiencia operativa | C24: =+C10/C20 -> 0.55307205 | D24: =+D10/D20 -> 0.59451607 | E24: =+E10/E20 -> 0.60128808 | F24: =+F10/F20 -> 0.60973531 | G24: =+G10/G20 -> 0.57709144 | H24: =+H10/H20 -> 0.54500277

Sheet Cronograma COMITE SIAR
A1: RIESGO | B1: Actividad | C1: ENE | D1: FEB | E1: MAR | F1: ABR | G1: MAY | H1: JUN | I1: JUL | J1: AGO | K1: SEP | L1: OCT | M1: NOV | N1: DIC
A2: SIAR | B2: Evaluación ANUAL efectividad SIAR (actualización de cada matriz de riesgo) | N2: X
B3: Informe Revisoría Fiscal sobre efectividad SIAR | F3: X | K3: X
B4: Cálculo y segumiento indicadores, limites y apetitos SIAR | C4: X | F4: X | I4: X | L4: X
B5: Revision capacidad patrimonial para asumir los riesgos | C5: X | F5: X | I5: X | L5: X
A6: SARC | B6: Revisión cartera por edades, calificación, rotación, concentración, tipo garantía, medio recaudo, jurisdicción, patronal, actividad económica, clasificación | C6: X | D6: X | E6: X | F6: X | G6: X | H6: X | I6: X | J6: X | K6: X | L6: X | M6: X | N6: X
B7: Revisión individual Cartera > RIESGO: cobro jurídico, ex asociados, reestructurados, periodos gracia y morosa | C7: X | F7: X | I7: X | L7: X
B8: Evaluación de Cartera | N8: X
B9: Revisión estado de las garantía de los créditos >= "D" y Deudores hasta 10% del activo | D9: X | G9: X | J9: X | M9: X
B10: Revisión de otras cuentas por cobrar y deudores patronales | E10: X | H10: X | K10: X | N10: X
A11: SARLAFT | B11: Consolidación electrónica de operaciones y revisión principales operaciones: por contraparte, por canal, por jurisdicción, por producto. Estadistíca ROI | D11: X | J11: X
B12: Informe reportes UIAF: ROS, ROE, Exonerados, Productos, TD y CR | D12: X | J12: X
B13: Resultado del monitoreo al proceso de debida diligencia | D13: X | J13: X
B14: Resultado del monitoreo al proceso de actualización de datos: documentos y aplicativos | D14: X | J14: X
B15: Capacitación, actualización y evaluación anual de empleados y directivos | D15: X | J15: X
A16: SARL Y SARM | B16: Revisión de indicadores de liquidez (Indicadores SIAR) | C16: X | D16: X | E16: X | F16: X | G16: X | H16: X | I16: X | J16: X | K16: X | L16: X | M16: X | N16: X
B17: Revisión Brecha, Fondo de liquidez | C17: X | D17: X | E17: X | F17: X | G17: X | H17: X | I17: X | J17: X | K17: X | L17: X | M17: X | N17: X
B18: Pruebas de estrés Brecha o Flujo / modelo propio y revision plan contingencia | N18: X
B19: Revisión composición de efectivo y Eq e inversiones de deuda: concentración, rentabilidad, limites | C19: X | F19: X | I19: X | L19: X
B20: Revisión otras inversiones participativas y propiedades de inversión: rentabilidad, legalidad, liquidez. | C20: X | I20: X
B21: Revisión margen de intermediación y competitividad de las tasas | C21: X | F21: X | I21: X | L21: X
A22: SARO | B22: Evaluación cumplimiento PLAN DE DESARROLLO Y PESEM | N22: X
B23: Revisión actualización Manuales de Funciones y Procedimientos | M23: X
B24: Revisión Transacciones con partes relacionadas | C24: X
B25: Revisión estados financieros, ejecución presupuestal | C25: X | F25: X | I25: X | L25: X
B26: Autoevaluación Directivos | C26: X
B27: Informe sobre eventos de Riesgo Matriz SARO | C27: X | D27: X | E27: X | F27: X | G27: X | H27: X | I27: X | J27: X | K27: X | L27: X | M27: X | N27: X | O27: *** Revisar
B28: Revisión estado de las polizas | E28: X
B29: Revisión informe revisoría Fiscal | F29: X | K29: X
B30: Revisión requerimientos SES, DIAN otros | G30: X | L30: X
B31: Revise el estado de reportes a través del SICSES, control de legalidad reformas de estatutos, reporte de información impresa a la SES | H31: X | M31: X
B32: Evaluacion de seguridad informática (puede ser auditoria externa) | J32: X
B33: Evaluacion gestión documental (conservación) | K33: X
B34: Revise el estado del SGSST | L34: X
B35: Cumplimiento RUES, contribución SES, Renta, Exógena e ICA | M35: X

Sheet ALN + CxC  a depositso
A1: Indicador | B1: Descripción Formula | C1: TIPO | D1: NOMBRE INDICADOR | E1: Descripcion Indicador
B3: 2 | C3: 3 | D3: 4 | E3: 5 | F3: 6 | G3: 7 | H3: 8
A4: Cuenta | B4: Descripcion | C4: =+cuc!C1 -> 42735 | D4: =+cuc!D1 -> 43100 | E4: =+cuc!E1 -> 43465 | F4: =+cuc!F1 -> 43830 | G4: =+cuc!G1 -> 44196 | H4: =+cuc!H1 -> 44500 | BD4: 140400 | BE4: 140500 | BF4: 141100 | BG4: 141200 | BH4: 144100 | BI4: 144200 | BJ4: 144800 | BK4: 145400 | BL4: 145500 | BM4: 146100 | BN4: 146200 | BO4: 146900
A5: 110500 | B5: =PROPER(VLOOKUP($A5,cuc!$A$2:$AA$2088,B$3,FALSE)) -> Caja | C5: =VLOOKUP($A5,cuc!$A$2:$AA$2088,C$3,FALSE) -> 1346100 | D5: =VLOOKUP($A5,cuc!$A$2:$AA$2088,D$3,FALSE) -> 277600 | E5: =VLOOKUP($A5,cuc!$A$2:$AA$2088,E$3,FALSE) -> 14407 | F5: =VLOOKUP($A5,cuc!$A$2:$AA$2088,F$3,FALSE) -> 1098000 | G5: =VLOOKUP($A5,cuc!$A$2:$AA$2088,G$3,FALSE) -> 1255150 | H5: =VLOOKUP($A5,cuc!$A$2:$AA$2088,H$3,FALSE) -> 1156800
A6: 111000 | B6: =PROPER(VLOOKUP($A6,cuc!$A$2:$AA$2088,B$3,FALSE)) -> Bancos Y Otras Entidades Con Actividad Financiera | C6: =VLOOKUP($A6,cuc!$A$2:$AA$2088,C$3,FALSE) -> 82032386 | D6: =VLOOKUP($A6,cuc!$A$2:$AA$2088,D$3,FALSE) -> 2.6037943e+08 | E6: =VLOOKUP($A6,cuc!$A$2:$AA$2088,E$3,FALSE) -> 3.185538e+08 | F6: =VLOOKUP($A6,cuc!$A$2:$AA$2088,F$3,FALSE) -> 4.343698e+08 | G6: =VLOOKUP($A6,cuc!$A$2:$AA$2088,G$3,FALSE) -> 5.6971018e+08 | H6: =VLOOKUP($A6,cuc!$A$2:$AA$2088,H$3,FALSE) -> 1.0471347e+09
A7: 111500 | B7: =PROPER(VLOOKUP($A7,cuc!$A$2:$AA$2088,B$3,FALSE)) -> Equivalentes Al Efectivo (Compromiso De Pago) | C7: =VLOOKUP($A7,cuc!$A$2:$AA$2088,C$3,FALSE) -> 0 | D7: =VLOOKUP($A7,cuc!$A$2:$AA$2088,D$3,FALSE) -> 0 | E7: =VLOOKUP($A7,cuc!$A$2:$AA$2088,E$3,FALSE) -> 0 | F7: =VLOOKUP($A7,cuc!$A$2:$AA$2088,F$3,FALSE) -> 0 | G7: =VLOOKUP($A7,cuc!$A$2:$AA$2088,G$3,FALSE) -> 0 | H7: =VLOOKUP($A7,cuc!$A$2:$AA$2088,H$3,FALSE) -> 0
A8: 112000 | B8: =PROPER(VLOOKUP($A8,cuc!$A$2:$AA$2088,B$3,FALSE)) -> Efectivo De Uso Restringido Y/O Con Destinación Específica | C8: =VLOOKUP($A8,cuc!$A$2:$AA$2088,C$3,FALSE) -> 39312781 | D8: =VLOOKUP($A8,cuc!$A$2:$AA$2088,D$3,FALSE) -> 48355408 | E8: =VLOOKUP($A8,cuc!$A$2:$AA$2088,E$3,FALSE) -> 63405919 | F8: =VLOOKUP($A8,cuc!$A$2:$AA$2088,F$3,FALSE) -> 68470629 | G8: =VLOOKUP($A8,cuc!$A$2:$AA$2088,G$3,FALSE) -> 1.0244741e+08 | H8: =VLOOKUP($A8,cuc!$A$2:$AA$2088,H$3,FALSE) -> 1.1253313e+08
A9: 122800 | B9: =PROPER(VLOOKUP($A9,cuc!$A$2:$AA$2088,B$3,FALSE)) -> Inversiones Contabilizadas A Costo Amortizado | C9: =VLOOKUP($A9,cuc!$A$2:$AA$2088,C$3,FALSE) -> 0 | D9: =VLOOKUP($A9,cuc!$A$2:$AA$2088,D$3,FALSE) -> 0 | E9: =VLOOKUP($A9,cuc!$A$2:$AA$2088,E$3,FALSE) -> 0 | F9: =VLOOKUP($A9,cuc!$A$2:$AA$2088,F$3,FALSE) -> 0 | G9: =VLOOKUP($A9,cuc!$A$2:$AA$2088,G$3,FALSE) -> 0 | H9: =VLOOKUP($A9,cuc!$A$2:$AA$2088,H$3,FALSE) -> 0
A10: 165000 | B10: =PROPER(VLOOKUP($A10,cuc!$A$2:$AA$2088,B$3,FALSE)) -> Deudores Patronales Y Empresas | C10: =VLOOKUP($A10,cuc!$A$2:$AA$2088,C$3,FALSE) -> 163125827 | D10: =VLOOKUP($A10,cuc!$A$2:$AA$2088,D$3,FALSE) -> 629860856 | E10: =VLOOKUP($A10,cuc!$A$2:$AA$2088,E$3,FALSE) -> 722719503 | F10: =VLOOKUP($A10,cuc!$A$2:$AA$2088,F$3,FALSE) -> 718850022 | G10: =VLOOKUP($A10,cuc!$A$2:$AA$2088,G$3,FALSE) -> 370117103 | H10: =VLOOKUP($A10,cuc!$A$2:$AA$2088,H$3,FALSE) -> 844825310
B11: ALN + CXC | C11: =+SUM(C5:C10) -> 2.8581709e+08 | D11: =+SUM(D5:D10) -> 9.388733e+08 | E11: =+SUM(E5:E10) -> 1.1046936e+09 | F11: =+SUM(F5:F10) -> 1.2227885e+09 | G11: =+SUM(G5:G10) -> 1.0435298e+09 | H11: =+SUM(H5:H10) -> 2.0056499e+09
A13: Cuenta | B13: Descripción | C13: =+C$4 -> 42735 | D13: =+D$4 -> 43100 | E13: =+E$4 -> 43465 | F13: =+F$4 -> 43830 | G13: =+G$4 -> 44196 | H13: =+H$4 -> 44500 | BD13: 140400 | BE13: 140500 | BF13: 141100 | BG13: 141200 | BH13: 144100 | BI13: 144200 | BJ13: 144800 | BK13: 145400 | BL13: 145500 | BM13: 146100 | BN13: 146200 | BO13: 146900
A14: 210500 | B14: =PROPER(VLOOKUP($A14,cuc!$A$2:$AA$2088,B$3,FALSE)) -> Depósitos De Ahorro | C14: =VLOOKUP($A14,cuc!$A$2:$AA$2088,C$3,FALSE) -> 0 | D14: =VLOOKUP($A14,cuc!$A$2:$AA$2088,D$3,FALSE) -> 0 | E14: =VLOOKUP($A14,cuc!$A$2:$AA$2088,E$3,FALSE) -> 0 | F14: =VLOOKUP($A14,cuc!$A$2:$AA$2088,F$3,FALSE) -> 0 | G14: =VLOOKUP($A14,cuc!$A$2:$AA$2088,G$3,FALSE) -> 0 | H14: =VLOOKUP($A14,cuc!$A$2:$AA$2088,H$3,FALSE) -> 0
A15: 211000 | B15: =PROPER(VLOOKUP($A15,cuc!$A$2:$AA$2088,B$3,FALSE)) -> Certificados Depósitos De Ahorro A TÉrmino | C15: =VLOOKUP($A15,cuc!$A$2:$AA$2088,C$3,FALSE) -> 5.6662845e+08 | D15: =VLOOKUP($A15,cuc!$A$2:$AA$2088,D$3,FALSE) -> 5.2280401e+08 | E15: =VLOOKUP($A15,cuc!$A$2:$AA$2088,E$3,FALSE) -> 5.4761145e+08 | F15: =VLOOKUP($A15,cuc!$A$2:$AA$2088,F$3,FALSE) -> 6.0265058e+08 | G15: =VLOOKUP($A15,cuc!$A$2:$AA$2088,G$3,FALSE) -> 7.2475498e+08 | H15: =VLOOKUP($A15,cuc!$A$2:$AA$2088,H$3,FALSE) -> 8.358702e+08
A16: 212500 | B16: =PROPER(VLOOKUP($A16,cuc!$A$2:$AA$2088,B$3,FALSE)) -> Depósitos De Ahorro Contractual | C16: =VLOOKUP($A16,cuc!$A$2:$AA$2088,C$3,FALSE) -> 370609859 | D16: =VLOOKUP($A16,cuc!$A$2:$AA$2088,D$3,FALSE) -> 466375197 | E16: =VLOOKUP($A16,cuc!$A$2:$AA$2088,E$3,FALSE) -> 476409852 | F16: =VLOOKUP($A16,cuc!$A$2:$AA$2088,F$3,FALSE) -> 558388656 | G16: =VLOOKUP($A16,cuc!$A$2:$AA$2088,G$3,FALSE) -> 682534619 | H16: =VLOOKUP($A16,cuc!$A$2:$AA$2088,H$3,FALSE) -> 872122995
B17: Ahorros voluntarios | C17: =+SUM(C14:C16) -> 9.3723831e+08 | D17: =+SUM(D14:D16) -> 9.8917921e+08 | E17: =+SUM(E14:E16) -> 1.0240213e+09 | F17: =+SUM(F14:F16) -> 1.1610392e+09 | G17: =+SUM(G14:G16) -> 1.4072896e+09 | H17: =+SUM(H14:H16) -> 1.7079932e+09
B19: Descripcion | C19: Año 16 | D19: Año 17 | E19: Año 18 | F19: Año 19 | G19: Año 20 | H19: Año 21
B20: ALN + XCX / AH Voluntarios | C20: =+C11/C17 -> 0.30495669 | D20: =+D11/D17 -> 0.94914378 | E20: =+E11/E17 -> 1.0787799 | F20: =+F11/F17 -> 1.0531844 | G20: =+G11/G17 -> 0.74151748 | H20: =+H11/H17 -> 1.1742728

Sheet interpretacion perfil de riesgo
A1: INDICADOR | B1: Formula | C1: Riesgo | D1: Interpretación
A2: Calidad de Cartera | B2: Cartera Mora / Cartera Bruta | C2: SARC | D2: Que porcentaje de la cartera está en mora: Por cada $100 pesos de cartera $X pesos están en mora
A3: Cartera mora / Patrimonio | B3: Cartera Mora / Patrimonio | C3: SARC | D3: Que porcentaje del patrimonio está en riesgo por cuenta de la cartera en mora
A4: Cartera improductiva (>=c) | B4: Cartera >=C / Cartera Bruta | C4: SARC | D4: Que porcentaje de la Cartera está en riesgo de mayor deterioro (default)
A5: Patrimonio sin aportes / PPE + Improductiva | B5: Patrimonio – aportes / PPE + Cartera C+D+E | C5: SARC | D5: Por cada $100 pesos de activos de lenta, difícil o incierta realización cuanto se tiene de capital propio más excedentes (sin aportes).
A6: Solvencia | B6: Patrimonio / Activos | C6: SARC | D6: Que porcentaje de los activos está financiado con el patrimonio. Entre mayor sea el indicador mayor es la seguridad de los ahorradores y acreedores.
A7: Cobertura TOTAL de cartera en MORA | B7: Provisión individual + General / cartera en MORA | C7: SARC | D7: Por cada $100 pesos de cartera en mora cuanto se tiene de provisiones (deterioro).
A8: Quebranto Patrimonial | B8: Patrimonio / Aportes | C8: SARC | D8: Por cada $100 pesos de aportes cuanto se tiene de patrimonio
A9: Eficiencia de la intermediación | B9: Inversiones + Fiducias y Cartera / Depósitos + Obligaciones + Aportes | C9: SARL y SARM | D9: Por cada $100 pesos captados de aportes o ahorros o apalancados con crédito bancario cuantos activos productivos se tienen
A10: Activos productivos / Pasivos con costo | B10: Igual que el anterior, pero sin aportes | C10: SARL y SARM | D10: Por cada $100 pesos captados de ahorros o apalancados con crédito bancario cuantos activos productivos se tienen
A11: Activos Fijos | B11: Activos materiales / Activo Total | C11: SARL y SARM | D11: Que porcentaje del activo total está representado en propiedad planta y equipo y en propiedades de inversión
A12: Activos improductivos | B12: Caja + Bancos + PPE + CxC / Activo Total | C12: SARL y SARM | D12: Que porcentaje del activo no produce ingresos financieros
... A37: Crecimiento de Asociados | B37: La variación anual porcentual del total de asociados | C37: SARM | D37: Cuantas veces creció la base social porcentualmente

Sheet ANEXO 1 - Manual SIAR
A1: ANEXO MANUAL SIAR
A2: # | B2: Actividad | C2: Mes | D2: Nota
A3: SIAR: T IV Cap 1
A4: 1 | B4: Defina el empleado o área que integrará el Comité de Riesgos | C4: 44348
A5: 2 | B5: Nombre el Comité de Riesgos: el empleado, un integrante del órgano permanente de administración y mínimo otro más (asociado, empleado, directivo, oficial de cumplimiento) | C5: 44348
A6: 3 | B6: Adapte, ajuste, y apruebe por parte del órgano permanente de administración el manual SIAR | C6: 44348 | D6: Use la herramienta y modelo (defina limites y apetito).
A7: 4 | B7: Implemente los indicadores que le resulten aplicables del Titulo V (herramienta Excel) | C7: 44378
A8: 5 | B8: Implemente los indicadores del SIAR propio con SCORING (herramienta Excel) | C8: 44378
A9: 6 | B9: Elabore la primera reunión y acta con el seguimiento a los 5 riesgos | C9: 44378
A10: 7 | B10: Revise la capacidad patrimonial que tiene la entidad de asumir los riesgos: | C10: Trimestral | D10: <=100%
B11: 200% del % máximo de cartera D y E (cartera >90 y CxC clientes > 180) de los ultimos 5 años menos deterioro constituido (general e individual) Si >0 o 5% de la Cartera Neta
A12: + | B12: Valor máximo de evento de riesgo operativo histórico presentado (actualizado SMLMV) x 3 o 1% del valor del activo menos valor de la póliza manejo si >0 + deducible
A13: + | B13: 10% del componente de efectivo y equivalentes y de las inversiones de patrimonio que son susceptibles a variaciones de precios de mercado (acciones, cuotas o partes de interés social, fiducias, patrimonios autónomos, FIC, inversiones medidas a valor razonable)
A14: + | B14: 100% del Inventario menos valor cubierto por la póliza + deducible
A15: + | B15: 100% Valor neto contable de la PPE menos valor cubierto por la póliza + deducible
A16: + | B16: 100% Valor de los intangibles
A17: / | B17: Patrimonio sin aportes
A18: SARL: T III y IV Cap 3 y anexos
A19: 0 | B19: Defina integrantes del comité (podrían ser los mismos del comité de riesgos) y actualice manual | C19: Año 2019
A20: 1 | B20: Implemente el calculo de los indicadores del Titulo III de la CBC: (defina limites y apetito) | C20: 44348 | D20: Fondos de empleados de categoría plena hacen todo: Solidez, concentracion, Brechas, IRL, Matriz de Riesgo, pruebas de estrés, pruebas de desempeño. Los demas fondos solo fondo de liquidez y brecha? Consultar SES y Analfe AMBITO DE APLICACIÓN
B21: 1.1. Fondo de Liquidez constituido / Fondo de liquidez requerido | C21: 44378
B22: 1.2. Mayor ahorrador individual / Fondo de liquidez | C22: 44378
B23: 1.3. Primeros 5, 10, 20, 30 ahorradores / Activos liquidos netos (ALN) + CxC Patronales + Cupos crédito contingentes no utilizados | C23: 44378
B24: 1.1. Brecha acumulada 3 banda + ALN madurados después de la tercera banda + % renovación de CDAT + sobrante (faltante) fondo de liquidez - Gastos de personal y generales de 1 trimestre / Recaudos proyectados de cartera (capital más intereses) de las tres primeras bandas o presupuesto de colocación del próximo trimestre | C24: 44378
B25: 1.5. ALN + Patronales + Cupos crédito contingentes no utilizados / Captaciones aportes y ahorros | C25: 44378
B26: 1.6. Índice de riesgo de liquidez ajustado en todas las bandas <=110 | C26: 44378
B27: 1.7. Indicador de Solidez (solvencia) y concentracion de crédito, captaciones | C27: 44378
A28: 2 | B28: Efectúe las pruebas de estrés (que pasa con la brecha acumulada e IRL a 3 meses): | C28: 44378
B29: 2.1. Atraso de 1 a 3 meses en el pago de los descuentos de nomina | C29: 44378
B30: 2.2. Incremento de la mora al 20-30% de la cartera | C30: 44378
B31: 2.3. Retiro de los 5, 10, 15, 20, 30 primeros ahorradores | C31: 44378
B32: 2.4. Retiro del 100% de los CDAT que se vencen (no aplicar índice de renovación) | C32: 44378
B33: 2.5. Retiro del 10% de los asociados con mayor nivel de aportes | C33: 44378
B34: 2.6. Retiro del 30% del ahorro a la vista | C34: 44378
A35: 3 | B35: Elabore el formato de reporte de tesorería diario para presentar a la Gerencia | C35: 44378
A36: 4 | B36: Diseñe el informe de flujo de caja semanal para presentar a la Gerencia | C36: 44378
A37: 5 | B37: Defina los otros indicadores de liquidez aplicables a su entidad: capital de trabajo, rotación de inventarios, rotación de cuentas por cobrar, rotación de cuentas por pagar. Etc. | C37: 44501 | D37: Defina limites y apetito
A38: 6 | B38: Diseñe un modelo de proyecciones financieras a 3 o 5 años: balance, flujo, resultado y simule tres escenarios: conservador, pesimista y optimista (tasas, colocaciones, captaciones, ingreso y retiro de asociados, morosidad) | C38: 44501 | D38: Defina limites y apetito
A39: SARLAFT - CBJ Titulo V y anexos
A40: 1 | B40: Estadística de operaciones inusuales del mes | C40: 44348
...

Sheet CAPACIDAD PATRIMONIAL
A1: CUC | B1: Posición | C1: RIESGO | D1: Vr contable | E1: % Var | F1: Vr Riesgo | G1: Vr poliza / Deterioro | H1: Deducible | I1: VaR | J1: Observación
A2: 100000 | B2: Activo | C2: SARO | D2: =VLOOKUP(A2,cuc!$A$2:$H$2088,8,FALSE) -> 1.14897e+10 | E2: 0.05 | F2: =+D2*E2 -> 5.7448502e+08 | G2: 0 | H2: 0 | I2: =IF(+F2+G2+H2>0,+F2+G2+H2,0) -> 5.7448502e+08 | J2: Demandas, multas
A3: 110500 | B3: Caja | C3: SARO | D3: =VLOOKUP(A3,cuc!$A$2:$H$2088,8,FALSE) -> 1156800 | E3: 1 | F3: =+D3*E3 -> 1156800 | G3: =-F3 -> -1156800 | H3: =-G3*10% -> 115680 | I3: =IF(+F3+G3+H3>0,+F3+G3+H3,0) -> 115680 | J3: Sustracción
A4: 111000 | B4: Bancos Y Otras Entidades Con Actividad Financiera | C4: SARO | D4: =VLOOKUP(A4,cuc!$A$2:$H$2088,8,FALSE) -> 1.0471347e+09 | E4: 0.5 | F4: =+D4*E4 -> 5.2356734e+08 | G4: =-F4 -> -5.2356734e+08 | H4: =-G4*10% -> 52356734 | I4: =IF(+F4+G4+H4>0,+F4+G4+H4,0) -> 52356734 | J4: Fraude
A5: 111500 | B5: Equivalentes Al Efectivo (Compromiso De Pago) | C5: SARM | D5: =VLOOKUP(A5,cuc!$A$2:$H$2088,8,FALSE) -> 0 | E5: 0.5 | F5: =+D5*E5 -> 0 | G5: 0 | H5: =+G5*-10% -> 0 | I5: =IF(+F5+G5+H5>0,+F5+G5+H5,0) -> 0 | J5: Desvalorización
A6: 112000 | B6: Efectivo De Uso Restringido Y/O Con Destinación Específica | C6: SARM | D6: =VLOOKUP(A6,cuc!$A$2:$H$2088,8,FALSE) -> 1.1253313e+08 | E6: 0.5 | F6: =+D6*E6 -> 56266563 | G6: 0 | H6: =+G6*-10% -> 0 | I6: =IF(+F6+G6+H6>0,+F6+G6+H6,0) -> 56266563 | J6: Desvalorización
A7: 120000 | B7: Inversiones | C7: SARO | D7: =VLOOKUP(A7,cuc!$A$2:$H$2088,8,FALSE) -> 1.7103825e+08 | E7: 0.5 | F7: =+D7*E7 -> 85519126 | G7: 0 | H7: =-G7*10% -> 0 | I7: =IF(+F7+G7+H7>0,+F7+G7+H7,0) -> 85519126 | J7: Desvalorización
A8: 140000 | B8: Cartera De CrÉditos | C8: SARC | D8: =VLOOKUP(A8,cuc!$A$2:$H$2088,8,FALSE) -> 9264950899 | E8: 0.08 | F8: =+D8*E8 -> 7.4119607e+08 | G8: =-D8*1% -> -92649509 | H8: 0 | I8: =IF(+F8+G8+H8>0,+F8+G8+H8,0) -> 6.4854656e+08 | J8: Deterioro
A9: 170000 | B9: Activos Materiales | C9: SARO | D9: =VLOOKUP(A9,cuc!$A$2:$H$2088,8,FALSE) -> 45433657 | E9: 1 | F9: =+SUM(D9:D9) -> 45433657 | G9: =-F9 -> -45433657 | H9: =-G9*10% -> 4543365.7 | I9: =IF(+F9+G9+H9>0,+F9+G9+H9,0) -> 4543365.7 | J9: Destrucción, Robo
A10: 190000 | B10: Otros Activos | C10: SARO | D10: =VLOOKUP(A10,cuc!$A$2:$H$2088,8,FALSE) -> 374488 | E10: 1 | F10: =+SUM(D10:D15) -> 374488 | I10: =IF(+F10+G10+H10>0,+F10+G10+H10,0) -> 374488
B11: Total Exposicion Riesgos | I11: =+SUM(I2:I10) -> 1.4222075e+09
B12: Patrimonio sin aportes | H12: =+I12/I11 -> 1.0838947 | I12: =cuc!H1068-cuc!H1069+cuc!H1075 -> 1.5415232e+09

Sheet Perfil de Riesgo 
H1: 10 | I1: modificar manualmente según el mes de corte
A2: CTA | B2: descripcion | C2: 42705 | D2: 43070 | E2: 43435 | F2: 43800 | G2: 44166 | H2: =EOMONTH(G2,H1) -> 44500
A3: 100000 | B3: ACTIVO | C3: 7.8891958e+09 | D3: 8.6070806e+09 | E3: 9.0401657e+09 | F3: 9.23811e+09 | G3: 1.0368671e+10 | H3: 1.14897e+10
A4: 110000 | B4: EFECTIVO Y EQUIVALENTE AL EFECTIVO | C4: 1.2269127e+08 | D4: 3.0901244e+08 | E4: 3.8197413e+08 | F4: 5.0393843e+08 | G4: 6.7341274e+08 | H4: 1.1608246e+09
A5: 110500 | B5: CAJA | C5: 1346100 | D5: 277600 | E5: 14407 | F5: 1098000 | G5: 1255150 | H5: 1156800
A6: 110505 | B6: CAJA GENERAL | C6: 1126100 | D6: 57600 | E6: 14407 | F6: 684000 | G6: 841150 | H6: 742800
A7: 110510 | B7: CAJA MENOR | C7: 220000 | D7: 220000 | E7: 0 | F7: 414000 | G7: 414000 | H7: 414000
A8: 111000 | B8: BANCOS Y OTRAS ENTIDADES CON ACTIVIDAD FINANCIERA | C8: 82032386 | D8: 2.6037943e+08 | E8: 3.185538e+08 | F8: 4.343698e+08 | G8: 5.6971018e+08 | H8: 1.0471347e+09
A9: 111005 | B9: BANCOS COMERCIALES | C9: 82032386 | D9: 2.6037943e+08 | E9: 3.185538e+08 | F9: 4.343698e+08 | G9: 5.6971018e+08 | H9: 1.0471347e+09
A10: 111010 | B10: BANCOS COOPERATIVOS | C10: 0 | D10: 0 | E10: 0 | F10: 0 | G10: 0 | H10: 0
A11: 111015 | B11: ENTIDADES SECTOR SOLIDARIO | C11: 0 | D11: 0 | E11: 0 | F11: 0 | G11: 0 | H11: 0
A12: 111020 | B12: ENTIDADES DEL EXTERIOR | C12: 0 | D12: 0 | E12: 0 | F12: 0 | G12: 0 | H12: 0
A13: 111025 | B13: OTRAS ENTIDADES | C13: 0 | D13: 0 | E13: 0 | F13: 0 | G13: 0 | H13: 0
A14: 111500 | B14: EQUIVALENTES AL EFECTIVO (compromiso de pago) | C14: 0 | D14: 0 | E14: 0 | F14: 0 | G14: 0 | H14: 0
... A2025: 980000 | B2025: ACREEDORAS DE CONTROL POR CONTRA (CR) | C2025: 0 | D2025: 0 | E2025: 0 | F2025: 7592037161 | G2025: 8989826768 | H2025: 9213414170
B2028: ESTADISTICA | C2028: 42705 | D2028: 43070 | E2028: 43435 | F2028: 43800 | G2028: 44166 | H2028: =+H2 -> 44500
B2029: N° Asociados | C2029: 1328 | D2029: 1561 | E2029: 1767 | F2029: 1798 | G2029: 1699 | H2029: 1689 | I2029: **
B2030: Empleados | C2030: 10 | D2030: 11 | E2030: 11 | F2030: 11 | G2030: 11 | H2030: 10 | I2030: **
B2031: SMLMV | C2031: 689455 | D2031: 737717 | E2031: 781242 | F2031: 828116 | G2031: 878000 | H2031: 908000
B2032: IPC | C2032: 0.0575 | D2032: 0.0409 | E2032: 0.0318 | F2032: 0.038 | G2032: 0.0161 | H2032: 0.053
B2033: Tasa Usura | C2033: 0.32985 | D2033: 0.3116 | E2033: 0.291 | F2033: 0.2837 | G2033: 0.26 | H2033: 0.26
B2034: IBR efectiva anual (3 meses) | C2034: 0.07204 | D2034: 0.04655 | E2034: 0.04267 | F2034: 0.0427 | G2034: 0.0175 | H2034: 0.04
B2035: Gasto NETO de provisiones | C2035: =+C1521-C1344 -> -7202682 | D2035: =+D1521-D1344 -> -6978502 | E2035: =+E1521-E1344 -> 29948960 | F2035: =+F1521-F1344 -> 30591973 | G2035: =+G1521-G1344 -> 90330808 | H2035: =+H1521-H1344 -> 71137934
B2036: Cartera Bruta | C2036: =+C249+C255+C261+C291+C297+C303+C309+C350+C386+C392+C433+C439+C267+C321+C362+C356+C398+C404+C451+C481+C492+C525+C534 -> 7552647886 | D2036: =+D249+D255+D261+D291+D297+D303+D309+D350+D386+D392+D433+D439+D267+D321+D362+D356+D398+D404+D451+D481+D492+D525+D534 -> 7553319763 | E2036: =+E249+E255+E261+E291+E297+E303+E309+E350+E386+E392+E433+E439+E267+E321+E362+E356+E398+E404+E451+E481+E492+E525+E534 -> 7887272803 | F2036: =+F249+F255+F261+F291+F297+F303+F309+F350+F386+F392+F433+F439+F267+F321+F362+F356+F398+F404+F451+F481+F492+F525+F534 -> 7934057401 | G2036: =+G249+G255+G261+G291+G297+G303+G309+G350+G386+G392+G433+G439+G267+G321+G362+G356+G398+G404+G451+G481+G492+G525+G534 -> 9332949614 | H2036: =+H249+H255+H261+H291+H297+H303+H309+H350+H386+H392+H433+H439+H267+H321+H362+H356+H398+H404+H451+H481+H492+H525+H534 -> 9554982298
B2037: Cartera Vigente | C2037: =+C250+C256+C292+C298+C304+C310+C351+C387+C393+C434+C440+C268+C322+C363+C357+C399+C405+C446+C452+C482+C493+C525+C535+C262+C487+C498 -> 7453713765 | D2037: =+D250+D256+D292+D298+D304+D310+D351+D387+D393+D434+D440+D268+D322+D363+D357+D399+D405+D446+D452+D482+D493+D525+D535+D262+D487+D498 -> 7475598933 | E2037: =+E250+E256+E292+E298+E304+E310+E351+E387+E393+E434+E440+E268+E322+E363+E357+E399+E405+E446+E452+E482+E493+E525+E535+E262+E487+E498 -> 7730525181 | F2037: =+F250+F256+F292+F298+F304+F310+F351+F387+F393+F434+F440+F268+F322+F363+F357+F399+F405+F446+F452+F482+F493+F525+F535+F262+F487+F498 -> 7553661397 | G2037: =+G250+G256+G292+G298+G304+G310+G351+G387+G393+G434+G440+G268+G322+G363+G357+G399+G405+G446+G452+G482+G493+G525+G535+G262+G487+G498 -> 9146203003 | H2037: =+H250+H256+H292+H298+H304+H310+H351+H387+H393+H434+H440+H268+H322+H363+H357+H399+H405+H446+H452+H482+H493+H525+H535+H262+H487+H498 -> 9357408022
B2038: Cartera MORA | C2038: =+C2036-C2037 -> 98934121 | D2038: =+D2036-D2037 -> 77720830 | E2038: =+E2036-E2037 -> 156747622 | F2038: =+F2036-F2037 -> 380396004 | G2038: =+G2036-G2037 -> 186746611 | H2038: =+H2036-H2037 -> 197574276
B2039: Cartera improductiva | C2039: =+C2038-C251-C257-C263-C269-C293-C299-C305-C311-C317-C352-C358-C364-C388-C394-C400-C406-C435-C441-C447-C453-C483-C494-C323-C488 -> 85096418 | D2039: =+D2038-D251-D257-D263-D269-D293-D299-D305-D311-D317-D352-D358-D364-D388-D394-D400-D406-D435-D441-D447-D453-D483-D494-D323-D488 -> 75031172 | E2039: =+E2038-E251-E257-E263-E269-E293-E299-E305-E311-E317-E352-E358-E364-E388-E394-E400-E406-E435-E441-E447-E453-E483-E494-E323-E488 -> 131412424 | F2039: =+F2038-F251-F257-F263-F269-F293-F299-F305-F311-F317-F352-F358-F364-F388-F394-F400-F406-F435-F441-F447-F453-F483-F494-F323-F488 -> 86343025 | G2039: =+G2038-G251-G257-G263-G269-G293-G299-G305-G311-G317-G352-G358-G364-G388-G394-G400-G406-G435-G441-G447-G453-G483-G494-G323-G488 -> 149049766 | H2039: =+H2038-H251-H257-H263-H269-H293-H299-H305-H311-H317-H352-H358-H364-H388-H394-H400-H406-H435-H441-H447-H453-H483-H494-H323-H488 -> 175486244
B2040: % improducitva | C2040: =+C2039/C2036 -> 0.011267097 | D2040: =+D2039/D2036 -> 0.0099335358 | E2040: =+E2039/E2036 -> 0.016661326 | F2040: =+F2039/F2036 -> 0.010882581 | G2040: =+G2039/G2036 -> 0.015970274 | H2040: =+H2039/H2036 -> 0.018365941
B2041: Provisiones | C2041: =+C273+C279+C285+C327+C338+C344+C368+C374+C380+C410+C421+C427+C457+C468+C474+C480+C503+C514 -> 151865111 | D2041: =+D273+D279+D285+D327+D338+D344+D368+D374+D380+D410+D421+D427+D457+D468+D474+D480+D503+D514 -> 138241997 | E2041: =+E273+E279+E285+E327+E338+E344+E368+E374+E380+E410+E421+E427+E457+E468+E474+E480+E503+E514 -> 175422728 | F2041: =+F273+F279+F285+F327+F338+F344+F368+F374+F380+F410+F421+F427+F457+F468+F474+F480+F503+F514 -> 142263065 | G2041: =+G273+G279+G285+G327+G338+G344+G368+G374+G380+G410+G421+G427+G457+G468+G474+G480+G503+G514 -> 229710931 | H2041: =+H273+H279+H285+H327+H338+H344+H368+H374+H380+H410+H421+H427+H457+H468+H474+H480+H503+H514 -> 300722903
B2042: Cartera Libranza / Bruta | C2042: =+(C249+C291+C303)/C2036 -> 0.96792624 | D2042: =+(D249+D291+D303)/D2036 -> 0.9434908 | E2042: =+(E249+E291+E303)/E2036 -> 0.94218569 | F2042: =+(F249+F291+F303)/F2036 -> 0.93757223 | G2042: =+(G249+G291+G303)/G2036 -> 0.92216877 | H2042: =+(H249+H291+H303)/H2036 -> 0.90848852
B2043: Inversiones / Activos | C2043: =+C32/C3 -> 0.02359945 | D2043: =+D32/D3 -> 0.025198042 | E2043: =+E32/E3 -> 0.016114021 | F2043: =+F32/F3 -> 0.017093175 | G2043: =+G32/G3 -> 0.015931219 | H2043: =+H32/H3 -> 0.014886224
B2044: Depositos + Aportes | C2044: =+(C740+C1034) -> 5.7202371e+09 | D2044: =+(D740+D1034) -> 6.2919787e+09 | E2044: =+(E740+E1034) -> 6.9179637e+09 | F2044: =+(F740+F1034) -> 7.2317445e+09 | G2044: =+(G740+G1034) -> 8.1935964e+09 | H2044: =+(H740+H1034) -> 8.8959012e+09
I2045: Sector 2020
B2046: INDICADOR | C2046: =+C2 -> 42705 | D2046: =+D2 -> 43070 | E2046: =+E2 -> 43435 | F2046: =+F2 -> 43800 | G2046: =+G2 -> 44166 | H2046: =+H2 -> 44500 | I2046: PROM | J2046: MED | K2046: P.80
A2047: RIESGO CREDITO | B2047: Calidad de Cartera | C2047: =+C2038/C2036 -> 0.013099263 | D2047: =+D2038/D2036 -> 0.010289625 | E2047: =+E2038/E2036 -> 0.019873488 | F2047: =+F2038/F2036 -> 0.0479447 | G2047: =+G2038/G2036 -> 0.020009388 | H2047: =+H2038/H2036 -> 0.020677618 | I2047: 0.025397795 | J2047: 0.017955032 | K2047: 0.042406227
B2048: Cartera mora / Patrimonio | C2048: =+C2038/C1033 -> 0.019234207 | D2048: =+D2038/D1033 -> 0.013836114 | E2048: =+E2038/E1033 -> 0.02548215 | F2048: =+F2038/F1033 -> 0.059344918 | G2048: =+G2038/G1033 -> 0.026032116 | H2048: =+H2038/H1033 -> 0.025602836 | I2048: 0.080279869 | J2048: 0.044256907 | K2048: 0.11259204
B2049: Cartera improductiva (>=c) | C2049: =+C2040 -> 0.011267097 | D2049: =+D2040 -> 0.0099335358 | E2049: =+E2040 -> 0.016661326 | F2049: =+F2040 -> 0.010882581 | G2049: =+G2040 -> 0.015970274 | H2049: =+H2040 -> 0.018365941 | I2049: 0.017591313 | J2049: 0.013446605 | K2049: 0.030981632
B2050: Patrimonio sin aportes / PPE + Improductiva | C2050: =IFERROR(+(C1033-C1034)/(+C224+C634+C$252+C$253+C$254+C$258+C$259+C$260+C$264+C$265+C$266+C$270+C$271+C$272+C$294+C$295+C$296+C$300+C$301+C$302+C$306+C$307+C$308+C$312+C$313+C$314+C$318+C$319+C$320+C$324+C$325+C$326+C$353+C$354+C$355+C$359+C$360+C$361+C$365+C$366+C$367+C$389+C$390+C$391+C$395+C$396+C$397+C$401+C$402+C$403+C$407+C$408+C$409+C$436+C$437+C$438+C$442+C$443+C$444+C$448+C$449+C$450+C$454+C$455+C$456+C$484+C$485+C$486+C$489+C$490+C$491+C$495+C$496+C$497+C$500+C$501+C$502+C$537+C$538+C$539),9999%) -> 11.843815 | D2050: =IFERROR(+(D1033-D1034)/(+D224+D634+D$252+D$253+D$254+D$258+D$259+D$260+D$264+D$265+D$266+D$270+D$271+D$272+D$294+D$295+D$296+D$300+D$301+D$302+D$306+D$307+D$308+D$312+D$313+D$314+D$318+D$319+D$320+D$324+D$325+D$326+D$353+D$354+D$355+D$359+D$360+D$361+D$365+D$366+D$367+D$389+D$390+D$391+D$395+D$396+D$397+D$401+D$402+D$403+D$407+D$408+D$409+D$436+D$437+D$438+D$442+D$443+D$444+D$448+D$449+D$450+D$454+D$455+D$456+D$484+D$485+D$486+D$489+D$490+D$491+D$495+D$496+D$497+D$500+D$501+D$502+D$537+D$538+D$539),9999%) -> 11.301467 | E2050: =IFERROR(+(E1033-E1034)/(+E224+E634+E$252+E$253+E$254+E$258+E$259+E$260+E$264+E$265+E$266+E$270+E$271+E$272+E$294+E$295+E$296+E$300+E$301+E$302+E$306+E$307+E$308+E$312+E$313+E$314+E$318+E$319+E$320+E$324+E$325+E$326+E$353+E$354+E$355+E$359+E$360+E$361+E$365+E$366+E$367+E$389+E$390+E$391+E$395+E$396+E$397+E$401+E$402+E$403+E$407+E$408+E$409+E$436+E$437+E$438+E$442+E$443+E$444+E$448+E$449+E$450+E$454+E$455+E$456+E$484+E$485+E$486+E$489+E$490+E$491+E$495+E$496+E$497+E$500+E$501+E$502+E$537+E$538+E$539),9999%) -> 5.8802258 | F2050: =IFERROR(+(F1033-F1034)/(+F224+F634+F$252+F$253+F$254+F$258+F$259+F$260+F$264+F$265+F$266+F$270+F$271+F$272+F$294+F$295+F$296+F$300+F$301+F$302+F$306+F$307+F$308+F$312+F$313+F$314+F$318+F$319+F$320+F$324+F$325+F$326+F$353+F$354+F$355+F$359+F$360+F$361+F$365+F$366+F$367+F$389+F$390+F$391+F$395+F$396+F$397+F$401+F$402+F$403+F$407+F$408+F$409+F$436+F$437+F$438+F$442+F$443+F$444+F$448+F$449+F$450+F$454+F$455+F$456+F$484+F$485+F$486+F$489+F$490+F$491+F$495+F$496+F$497+F$500+F$501+F$502+F$537+F$538+F$539),9999%) -> 8.8122892 | G2050: =IFERROR(+(G1033-G1034)/(+G224+G634+G$252+G$253+G$254+G$258+G$259+G$260+G$264+G$265+G$266+G$270+G$271+G$272+G$294+G$295+G$296+G$300+G$301+G$302+G$306+G$307+G$308+G$312+G$313+G$314+G$318+G$319+G$320+G$324+G$325+G$326+G$353+G$354+G$355+G$359+G$360+G$361+G$365+G$366+G$367+G$389+G$390+G$391+G$395+G$396+G$397+G$401+G$402+G$403+G$407+G$408+G$409+G$436+G$437+G$438+G$442+G$443+G$444+G$448+G$449+G$450+G$454+G$455+G$456+G$484+G$485+G$486+G$489+G$490+G$491+G$495+G$496+G$497+G$500+G$501+G$502+G$537+G$538+G$539),9999%) -> 6.8633128 | H2050: =IFERROR(+(H1033-H1034)/(+H224+H634+H$252+H$253+H$254+H$258+H$259+H$260+H$264+H$265+H$266+H$270+H$271+H$272+H$294+H$295+H$296+H$300+H$301+H$302+H$306+H$307+H$308+H$312+H$313+H$314+H$318+H$319+H$320+H$324+H$325+H$326+H$353+H$354+H$355+H$359+H$360+H$361+H$365+H$366+H$367+H$389+H$390+H$391+H$395+H$396+H$397+H$401+H$402+H$403+H$407+H$408+H$409+H$436+H$437+H$438+H$442+H$443+H$444+H$448+H$449+H$450+H$454+H$455+H$456+H$484+H$485+H$486+H$489+H$490+H$491+H$495+H$496+H$497+H$500+H$501+H$502+H$537+H$538+H$539),9999%) -> 6.752606 | I2050: 4.3659221 | J2050: 3.0080832 | K2050: 9.8280872
B2051: Patrimonio / Activos | C2051: =+C1033/C3 -> 0.65198721 | D2051: =+D1033/D3 -> 0.65263059 | E2051: =+E1033/E3 -> 0.68043791 | F2051: =+F1033/F3 -> 0.6938559 | G2051: =+G1033/G3 -> 0.69186311 | H2051: =+H1033/H3 -> 0.67163546 | I2051: 0.28995688 | J2051: 0.24628601 | K2051: 0.42906905
B2052: Provisiones / Cartera en MORA (cobertura total) | C2052: =IFERROR(+C2041/C2038,9999%) -> 1.5350125 | D2052: =IFERROR(+D2041/D2038,9999%) -> 1.7786994 | E2052: =IFERROR(+E2041/E2038,9999%) -> 1.1191412 | F2052: =IFERROR(+F2041/F2038,9999%) -> 0.37398675 | G2052: =IFERROR(+G2041/G2038,9999%) -> 1.2300675 | H2052: =IFERROR(+H2041/H2038,9999%) -> 1.5220752 | I2052: 1.3303946 | J2052: 1.3634948 | K2052: 1.99
...

Sheet pasos
A1: # | B1: PASO
A2: 1 | B2: Insertar columnas del mes anterior para convertir en valores y comparar evolucion de corto plazo
A3: 2 | B3: actualizar el numero de meses en las tablas (ejemplo octubre = 10)
A4: 3 | B4: Actualizar el balance en PERFIL DE RIESGO… tener presente los signos (no deben estar negativas las que tienen naturaleza credito (depreciacion, deterioro)
A5: 4 | B5: Actualizar numero de asociados

Sheet Apetito y Límites
A1: Suficiencia Margen | B1: Puntos | C1: Depósitos / Cartera | D1: Puntos | E1: Endeudamiento Bancario | F1: Puntos | G1: Patrimonio / Activos | H1: Puntos | I1: Margen TOTAL | J1: Puntos | K1: Margen operacional | L1: Puntos | M1: Excedente + gastos sociales / Activos | N1: Puntos
A2: 0 | B2: 0 | C2: 0 | D2: 100 | E2: 0 | F2: 100 | G2: 0 | H2: 0 | I2: -1 | J2: 0 | K2: -1 | L2: 0 | M2: -1 | N2: 0
A3: 1.1 | B3: 20 | C3: 0.8 | D3: 75 | E3: 0.04 | F3: 75 | G3: 0.3 | H3: 20 | I3: 0.07 | J3: 20 | K3: 0.08 | L3: 20 | M3: 0.02 | N3: 20
A4: 1.15 | B4: 50 | C4: 0.85 | D4: 50 | E4: 0.06 | F4: 50 | G4: 0.32 | H4: 50 | I4: 0.08 | J4: 50 | K4: 0.09 | L4: 50 | M4: 0.0225 | N4: 50
A5: 1.2 | B5: 75 | C5: 0.9 | D5: 20 | E5: 0.08 | F5: 20 | G5: 0.34 | H5: 75 | I5: 0.09 | J5: 75 | K5: 0.1 | L5: 75 | M5: 0.025 | N5: 75
A6: 1.25 | B6: 100 | C6: 0.95 | D6: 0 | E6: 0.1 | F6: 0 | G6: 0.36 | H6: 100 | I6: 0.1 | J6: 100 | K6: 0.11 | L6: 100 | M6: 0.0275 | N6: 100
A7: 10 | C7: 10 | E7: 10 | G7: 9.99 | I7: 1 | K7: 1 | M7: 1
A9: Calidad Cartera | B9: Puntos | C9: Cartera MORA / Patrimonio | D9: Puntos | E9: Cartera improductiva / Cartera | F9: Puntos | G9: Activos productivos / Pasivos con Costo y aportes | H9: Puntos | I9: Activos productivos / Pasivos con costo | J9: Puntos | K9: Activo improductivo / Activo | L9: Puntos | M9: Activos Fijos / Activos | N9: Puntos
A10: 0 | B10: 100 | C10: -0.01 | D10: 100 | E10: -0.01 | F10: 100 | G10: 0 | H10: 0 | I10: 0 | J10: 0 | K10: 0 | L10: 100 | M10: 0 | N10: 100
A11: 0.02 | B11: 75 | C11: 0.08 | D11: 75 | E11: 0.016 | F11: 75 | G11: 0.98 | H11: 20 | I11: 1.1 | J11: 20 | K11: 0.08 | L11: 75 | M11: 0.02 | N11: 75
A12: 0.025 | B12: 50 | C12: 0.1 | D12: 50 | E12: 0.02 | F12: 50 | G12: 0.99 | H12: 50 | I12: 1.15 | J12: 50 | K12: 0.1 | L12: 50 | M12: 0.03 | N12: 50
A13: 0.03 | B13: 20 | C13: 0.12 | D13: 20 | E13: 0.024 | F13: 20 | G13: 1 | H13: 75 | I13: 1.2 | J13: 75 | K13: 0.12 | L13: 20 | M13: 0.04 | N13: 20
A14: 0.035 | B14: 0 | C14: 0.14 | D14: 0 | E14: 0.028 | F14: 0 | G14: 1.01 | H14: 100 | I14: 1.25 | J14: 100 | K14: 0.14 | L14: 0 | M14: 0.05 | N14: 0
A15: 1 | B15: 0 | C15: 10 | D15: 0 | E15: 1 | F15: 0 | G15: 10 | H15: 0 | I15: 10 | J15: 0 | K15: 1 | M15: 1
A17: Gastos Personal y Generales / Ingresos operacionales | B17: Puntos | C17: Rentabilidad de la Cartera | D17: Puntos | E17: Costo de los Depósitos | F17: Puntos | G17: Margen de intermediación | H17: Puntos | I17: Margen Financiero Bruto / Activo promedio | J17: Puntos | K17: Rentabilidad del Patrimonio Promedio | L17: Puntos | M17: Tasa Cartera / Tasa usura | N17: Puntos
A18: 0 | B18: 100 | C18: 0 | D18: 0 | E18: 0 | F18: 100 | G18: -1 | H18: 0 | I18: -1 | J18: 0 | K18: -1 | L18: 0 | M18: 0 | N18: 100
A19: 0.6 | B19: 75 | C19: 0.13 | D19: 20 | E19: 0.025 | F19: 75 | G19: 0.09 | H19: 20 | I19: 0.06 | J19: 20 | K19: 0.02 | L19: 20 | M19: 0.6 | N19: 75
A20: 0.62 | B20: 50 | C20: 0.14 | D20: 50 | E20: 0.0275 | F20: 50 | G20: 0.1 | H20: 50 | I20: 0.07 | J20: 50 | K20: 0.0225 | L20: 50 | M20: 0.7 | N20: 50
A21: 0.64 | B21: 20 | C21: 0.15 | D21: 75 | E21: 0.03 | F21: 25 | G21: 0.11 | H21: 75 | I21: 0.08 | J21: 75 | K21: 0.025 | L21: 75 | M21: 0.8 | N21: 20
A22: 0.66 | B22: 0 | C22: 0.16 | D22: 100 | E22: 0.0325 | F22: 0 | G22: 0.12 | H22: 100 | I22: 0.09 | J22: 100 | K22: 0.0275 | L22: 100 | M22: 0.9 | N22: 0
A23: 1 | C23: 1 | E23: 1 | G23: 1 | I23: 1 | K23: 1 | M23: 1
A25: Tasa Cartera - IBR | B25: Puntos | C25: G. Provision Neta / Ingresos | D25: Puntos | E25: Patrimonio sin aportes / PPE + Improductiva | F25: Puntos | G25: Provision / Cartera improductiva | H25: Puntos | I25: Cartera / Activos | J25: Puntos | K25: Efectivo y Equivalentes + Inversiones / Depósitos | L25: Puntos | M25: Excedente / Aporte Social | N25: Puntos
A26: 0 | B26: 0 | C26: 0 | D26: 100 | E26: 0 | F26: 0 | G26: 0 | H26: 0 | I26: 0 | J26: 0 | K26: 0 | L26: 0 | M26: -1 | N26: 0
A27: 0.1 | B27: 20 | C27: 0.06 | D27: 75 | E27: 1 | F27: 20 | G27: 1 | H27: 20 | I27: 0.76 | J27: 20 | K27: 0.1 | L27: 20 | M27: 0.03 | N27: 20
A28: 0.11 | B28: 50 | C28: 0.08 | D28: 50 | E28: 1.2 | F28: 50 | G28: 1.05 | H28: 50 | I28: 0.78 | J28: 50 | K28: 0.11 | L28: 50 | M28: 0.035 | N28: 50
A29: 0.12 | B29: 75 | C29: 0.1 | D29: 20 | E29: 1.4 | F29: 75 | G29: 1.1 | H29: 75 | I29: 0.8 | J29: 75 | K29: 0.12 | L29: 75 | M29: 0.04 | N29: 75
A30: 0.13 | B30: 100 | C30: 0.12 | D30: 0 | E30: 1.6 | F30: 100 | G30: 1.15 | H30: 100 | I30: 0.82 | J30: 100 | K30: 0.13 | L30: 100 | M30: 0.045 | N30: 100
A31: 1 | C31: 1 | E31: 10000 | G31: 100 | I31: 1 | K31: 1 | L31: 0 | M31: 100
A33: Rentabilidad TOTAL de los aportes y ahorros | B33: Puntos | C33: Patrimonio / Aportes (Quebranto Patrimonial) | D33: Puntos | E33: Capital institucional | F33: Puntos | G33: Crecimiento Cartera # VECES IPC | H33: Puntos | I33: Crecimiento Aportes y Captac # VECES IPC | J33: Puntos | K33: Crecimiento Asociados | L33: Puntos
A34: -1 | B34: 0 | C34: -1 | D34: 0 | E34: 0 | F34: 0 | G34: -1000 | H34: 0 | I34: -1000 | J34: 0 | K34: -1 | L34: 0
A35: 0.035 | B35: 20 | C35: 1.1 | D35: 20 | E35: 0.1 | F35: 20 | G35: 0 | H35: 20 | I35: 0 | J35: 20 | K35: 0 | L35: 20
A36: 0.0375 | B36: 50 | C36: 1.15 | D36: 50 | E36: 0.105 | F36: 50 | G36: 0.5 | H36: 50 | I36: 0.5 | J36: 50 | K36: 0.005 | L36: 50
A37: 0.04 | B37: 75 | C37: 1.2 | D37: 75 | E37: 0.11 | F37: 75 | G37: 1 | H37: 75 | I37: 1 | J37: 75 | K37: 0.01 | L37: 75
A38: 0.0425 | B38: 100 | C38: 1.25 | D38: 100 | E38: 0.115 | F38: 100 | G38: 1.5 | H38: 100 | I38: 1.5 | J38: 100 | K38: 0.015 | L38: 100
A39: 1 | C39: 1000 | E39: 99.99 | G39: 1000 | I39: 1000 | K39: 1000

Sheet cuc
A1: CUENTA | B1: DESCRIPCION | C1: 42735 | D1: 43100 | E1: 43465 | F1: 43830 | G1: 44196 | H1: =+'Perfil de Riesgo '!H2 -> 44500
A2: 100000 | B2: ACTIVO | C2: =IFERROR(VLOOKUP($A2,'Perfil de Riesgo '!$A$3:$H$2025,3,FALSE),0) -> 7.8891958e+09 | D2: =IFERROR(VLOOKUP($A2,'Perfil de Riesgo '!$A$3:$H$2025,4,FALSE),0) -> 8.6070806e+09 | E2: =IFERROR(VLOOKUP($A2,'Perfil de Riesgo '!$A$3:$H$2025,5,FALSE),0) -> 9.0401657e+09 | F2: =IFERROR(VLOOKUP($A2,'Perfil de Riesgo '!$A$3:$H$2025,6,FALSE),0) -> 9.23811e+09 | G2: =IFERROR(VLOOKUP($A2,'Perfil de Riesgo '!$A$3:$H$2025,7,FALSE),0) -> 1.0368671e+10 | H2: =IFERROR(VLOOKUP($A2,'Perfil de Riesgo '!$A$3:$H$2025,8,FALSE),0) -> 1.14897e+10
A3: 110000 | B3: EFECTIVO Y EQUIVALENTE AL EFECTIVO | C3: =IFERROR(VLOOKUP($A3,'Perfil de Riesgo '!$A$3:$H$2025,3,FALSE),0) -> 1.2269127e+08 | D3: =IFERROR(VLOOKUP($A3,'Perfil de Riesgo '!$A$3:$H$2025,4,FALSE),0) -> 3.0901244e+08 | E3: =IFERROR(VLOOKUP($A3,'Perfil de Riesgo '!$A$3:$H$2025,5,FALSE),0) -> 3.8197413e+08 | F3: =IFERROR(VLOOKUP($A3,'Perfil de Riesgo '!$A$3:$H$2025,6,FALSE),0) -> 5.0393843e+08 | G3: =IFERROR(VLOOKUP($A3,'Perfil de Riesgo '!$A$3:$H$2025,7,FALSE),0) -> 6.7341274e+08 | H3: =IFERROR(VLOOKUP($A3,'Perfil de Riesgo '!$A$3:$H$2025,8,FALSE),0) -> 1.1608246e+09
A4: 110500 | B4: CAJA | C4: =IFERROR(VLOOKUP($A4,'Perfil de Riesgo '!$A$3:$H$2025,3,FALSE),0) -> 1346100 | D4: =IFERROR(VLOOKUP($A4,'Perfil de Riesgo '!$A$3:$H$2025,4,FALSE),0) -> 277600 | E4: =IFERROR(VLOOKUP($A4,'Perfil de Riesgo '!$A$3:$H$2025,5,FALSE),0) -> 14407 | F4: =IFERROR(VLOOKUP($A4,'Perfil de Riesgo '!$A$3:$H$2025,6,FALSE),0) -> 1098000 | G4: =IFERROR(VLOOKUP($A4,'Perfil de Riesgo '!$A$3:$H$2025,7,FALSE),0) -> 1255150 | H4: =IFERROR(VLOOKUP($A4,'Perfil de Riesgo '!$A$3:$H$2025,8,FALSE),0) -> 1156800
A5: 110505 | B5: CAJA GENERAL | C5: =IFERROR(VLOOKUP($A5,'Perfil de Riesgo '!$A$3:$H$2025,3,FALSE),0) -> 1126100 | D5: =IFERROR(VLOOKUP($A5,'Perfil de Riesgo '!$A$3:$H$2025,4,FALSE),0) -> 57600 | E5: =IFERROR(VLOOKUP($A5,'Perfil de Riesgo '!$A$3:$H$2025,5,FALSE),0) -> 14407 | F5: =IFERROR(VLOOKUP($A5,'Perfil de Riesgo '!$A$3:$H$2025,6,FALSE),0) -> 684000 | G5: =IFERROR(VLOOKUP($A5,'Perfil de Riesgo '!$A$3:$H$2025,7,FALSE),0) -> 841150 | H5: =IFERROR(VLOOKUP($A5,'Perfil de Riesgo '!$A$3:$H$2025,8,FALSE),0) -> 742800
A6: 110510 | B6: CAJA MENOR | C6: =IFERROR(VLOOKUP($A6,'Perfil de Riesgo '!$A$3:$H$2025,3,FALSE),0) -> 220000 | D6: =IFERROR(VLOOKUP($A6,'Perfil de Riesgo '!$A$3:$H$2025,4,FALSE),0) -> 220000 | E6: =IFERROR(VLOOKUP($A6,'Perfil de Riesgo '!$A$3:$H$2025,5,FALSE),0) -> 0 | F6: =IFERROR(VLOOKUP($A6,'Perfil de Riesgo '!$A$3:$H$2025,6,FALSE),0) -> 414000 | G6: =IFERROR(VLOOKUP($A6,'Perfil de Riesgo '!$A$3:$H$2025,7,FALSE),0) -> 414000 | H6: =IFERROR(VLOOKUP($A6,'Perfil de Riesgo '!$A$3:$H$2025,8,FALSE),0) -> 414000
A7: 111000 | B7: BANCOS Y OTRAS ENTIDADES CON ACTIVIDAD FINANCIERA | C7: =IFERROR(VLOOKUP($A7,'Perfil de Riesgo '!$A$3:$H$2025,3,FALSE),0) -> 82032386 | D7: =IFERROR(VLOOKUP($A7,'Perfil de Riesgo '!$A$3:$H$2025,4,FALSE),0) -> 2.6037943e+08 | E7: =IFERROR(VLOOKUP($A7,'Perfil de Riesgo '!$A$3:$H$2025,5,FALSE),0) -> 3.185538e+08 | F7: =IFERROR(VLOOKUP($A7,'Perfil de Riesgo '!$A$3:$H$2025,6,FALSE),0) -> 4.343698e+08 | G7: =IFERROR(VLOOKUP($A7,'Perfil de Riesgo '!$A$3:$H$2025,7,FALSE),0) -> 5.6971018e+08 | H7: =IFERROR(VLOOKUP($A7,'Perfil de Riesgo '!$A$3:$H$2025,8,FALSE),0) -> 1.0471347e+09
A8: 111005 | B8: BANCOS COMERCIALES | C8: =IFERROR(VLOOKUP($A8,'Perfil de Riesgo '!$A$3:$H$2025,3,FALSE),0) -> 82032386 | D8: =IFERROR(VLOOKUP($A8,'Perfil de Riesgo '!$A$3:$H$2025,4,FALSE),0) -> 2.6037943e+08 | E8: =IFERROR(VLOOKUP($A8,'Perfil de Riesgo '!$A$3:$H$2025,5,FALSE),0) -> 3.185538e+08 | F8: =IFERROR(VLOOKUP($A8,'Perfil de Riesgo '!$A$3:$H$2025,6,FALSE),0) -> 4.343698e+08 | G8: =IFERROR(VLOOKUP($A8,'Perfil de Riesgo '!$A$3:$H$2025,7,FALSE),0) -> 5.6971018e+08 | H8: =IFERROR(VLOOKUP($A8,'Perfil de Riesgo '!$A$3:$H$2025,8,FALSE),0) -> 1.0471347e+09
A9: 111010 | B9: BANCOS COOPERATIVOS | C9: =IFERROR(VLOOKUP($A9,'Perfil de Riesgo '!$A$3:$H$2025,3,FALSE),0) -> 0 | D9: =IFERROR(VLOOKUP($A9,'Perfil de Riesgo '!$A$3:$H$2025,4,FALSE),0) -> 0 | E9: =IFERROR(VLOOKUP($A9,'Perfil de Riesgo '!$A$3:$H$2025,5,FALSE),0) -> 0 | F9: =IFERROR(VLOOKUP($A9,'Perfil de Riesgo '!$A$3:$H$2025,6,FALSE),0) -> 0 | G9: =IFERROR(VLOOKUP($A9,'Perfil de Riesgo '!$A$3:$H$2025,7,FALSE),0) -> 0 | H9: =IFERROR(VLOOKUP($A9,'Perfil de Riesgo '!$A$3:$H$2025,8,FALSE),0) -> 0
A10: 111015 | B10: ENTIDADES SECTOR SOLIDARIO | C10: =IFERROR(VLOOKUP($A10,'Perfil de Riesgo '!$A$3:$H$2025,3,FALSE),0) -> 0 | D10: =IFERROR(VLOOKUP($A10,'Perfil de Riesgo '!$A$3:$H$2025,4,FALSE),0) -> 0 | E10: =IFERROR(VLOOKUP($A10,'Perfil de Riesgo '!$A$3:$H$2025,5,FALSE),0) -> 0 | F10: =IFERROR(VLOOKUP($A10,'Perfil de Riesgo '!$A$3:$H$2025,6,FALSE),0) -> 0 | G10: =IFERROR(VLOOKUP($A10,'Perfil de Riesgo '!$A$3:$H$2025,7,FALSE),0) -> 0 | H10: =IFERROR(VLOOKUP($A10,'Perfil de Riesgo '!$A$3:$H$2025,8,FALSE),0) -> 0
A11: 111020 | B11: ENTIDADES DEL EXTERIOR | C11: =IFERROR(VLOOKUP($A11,'Perfil de Riesgo '!$A$3:$H$2025,3,FALSE),0) -> 0 | D11: =IFERROR(VLOOKUP($A11,'Perfil de Riesgo '!$A$3:$H$2025,4,FALSE),0) -> 0 | E11: =IFERROR(VLOOKUP($A11,'Perfil de Riesgo '!$A$3:$H$2025,5,FALSE),0) -> 0 | F11: =IFERROR(VLOOKUP($A11,'Perfil de Riesgo '!$A$3:$H$2025,6,FALSE),0) -> 0 | G11: =IFERROR(VLOOKUP($A11,'Perfil de Riesgo '!$A$3:$H$2025,7,FALSE),0) -> 0 | H11: =IFERROR(VLOOKUP($A11,'Perfil de Riesgo '!$A$3:$H$2025,8,FALSE),0) -> 0
A12: 111025 | B12: OTRAS ENTIDADES | C12: =IFERROR(VLOOKUP($A12,'Perfil de Riesgo '!$A$3:$H$2025,3,FALSE),0) -> 0 | D12: =IFERROR(VLOOKUP($A12,'Perfil de Riesgo '!$A$3:$H$2025,4,FALSE),0) -> 0 | E12: =IFERROR(VLOOKUP($A12,'Perfil de Riesgo '!$A$3:$H$2025,5,FALSE),0) -> 0 | F12: =IFERROR(VLOOKUP($A12,'Perfil de Riesgo '!$A$3:$H$2025,6,FALSE),0) -> 0 | G12: =IFERROR(VLOOKUP($A12,'Perfil de Riesgo '!$A$3:$H$2025,7,FALSE),0) -> 0 | H12: =IFERROR(VLOOKUP($A12,'Perfil de Riesgo '!$A$3:$H$2025,8,FALSE),0) -> 0
A13: 111500 | B13: EQUIVALENTES AL EFECTIVO (compromiso de pago) | C13: =IFERROR(VLOOKUP($A13,'Perfil de Riesgo '!$A$3:$H$2025,3,FALSE),0) -> 0 | D13: =IFERROR(VLOOKUP($A13,'Perfil de Riesgo '!$A$3:$H$2025,4,FALSE),0) -> 0 | E13: =IFERROR(VLOOKUP($A13,'Perfil de Riesgo '!$A$3:$H$2025,5,FALSE),0) -> 0 | F13: =IFERROR(VLOOKUP($A13,'Perfil de Riesgo '!$A$3:$H$2025,6,FALSE),0) -> 0 | G13: =IFERROR(VLOOKUP($A13,'Perfil de Riesgo '!$A$3:$H$2025,7,FALSE),0) -> 0 | H13: =IFERROR(VLOOKUP($A13,'Perfil de Riesgo '!$A$3:$H$2025,8,FALSE),0) -> 0
... A16: 111515 | B16: FONDOS FIDUCIARIOS A LA VISTA | C16: =IFERROR(VLOOKUP($A16,'Perfil de Riesgo '!$A$3:$H$2025,3,FALSE),0) -> 0 | D16: =IFERROR(VLOOKUP($A16,'Perfil de Riesgo '!$A$3:$H$2025,4,FALSE),0) -> 0 | E16: =IFERROR(VLOOKUP($A16,'Perfil de Riesgo '!$A$3:$H$2025,5,FALSE),0) -> 0 | F16: =IFERROR(VLOOKUP($A16,'Perfil de Riesgo '!$A$3:$H$2025,6,FALSE),0) -> 0 | G16: =IFERROR(VLOOKUP($A16,'Perfil de Riesgo '!$A$3:$H$2025,7,FALSE),0) -> 0 | H16: =IFERROR(VLOOKUP($A16,'Perfil de Riesgo '!$A$3:$H$2025,8,FALSE),0) -> 0
A17: 112000 | B17: EFECTIVO DE USO RESTRINGIDO Y/O CON DESTINACIÓN ESPECÍFICA | C17: =IFERROR(VLOOKUP($A17,'Perfil de Riesgo '!$A$3:$H$2025,3,FALSE),0) -> 39312781 | D17: =IFERROR(VLOOKUP($A17,'Perfil de Riesgo '!$A$3:$H$2025,4,FALSE),0) -> 48355408 | E17: =IFERROR(VLOOKUP($A17,'Perfil de Riesgo '!$A$3:$H$2025,5,FALSE),0) -> 63405919 | F17: =IFERROR(VLOOKUP($A17,'Perfil de Riesgo '!$A$3:$H$2025,6,FALSE),0) -> 68470629 | G17: =IFERROR(VLOOKUP($A17,'Perfil de Riesgo '!$A$3:$H$2025,7,FALSE),0) -> 1.0244741e+08 | H17: =IFERROR(VLOOKUP($A17,'Perfil de Riesgo '!$A$3:$H$2025,8,FALSE),0) -> 1.1253313e+08 | I17: =+H17/I20 -> 0.5654349
A18: 112001 | B18: FONDO DE LIQUIDEZ – CUENTAS CORRIENTES | C18: =IFERROR(VLOOKUP($A18,'Perfil de Riesgo '!$A$3:$H$2025,3,FALSE),0) -> 0 | D18: =IFERROR(VLOOKUP($A18,'Perfil de Riesgo '!$A$3:$H$2025,4,FALSE),0) -> 0 | E18: =IFERROR(VLOOKUP($A18,'Perfil de Riesgo '!$A$3:$H$2025,5,FALSE),0) -> 0 | F18: =IFERROR(VLOOKUP($A18,'Perfil de Riesgo '!$A$3:$H$2025,6,FALSE),0) -> 0 | G18: =IFERROR(VLOOKUP($A18,'Perfil de Riesgo '!$A$3:$H$2025,7,FALSE),0) -> 0 | H18: =IFERROR(VLOOKUP($A18,'Perfil de Riesgo '!$A$3:$H$2025,8,FALSE),0) -> 0
A19: 112003 | B19: FONDO DE LIQUIDEZ - FONDOS DE INVERSIÓN COLECTIVA ADMINISTRADOS POR SOCIEDADES FIDUCIARIAS | C19: =IFERROR(VLOOKUP($A19,'Perfil de Riesgo '!$A$3:$H$2025,3,FALSE),0) -> 0 | D19: =IFERROR(VLOOKUP($A19,'Perfil de Riesgo '!$A$3:$H$2025,4,FALSE),0) -> 0 | E19: =IFERROR(VLOOKUP($A19,'Perfil de Riesgo '!$A$3:$H$2025,5,FALSE),0) -> 0 | F19: =IFERROR(VLOOKUP($A19,'Perfil de Riesgo '!$A$3:$H$2025,6,FALSE),0) -> 0 | G19: =IFERROR(VLOOKUP($A19,'Perfil de Riesgo '!$A$3:$H$2025,7,FALSE),0) -> 0 | H19: =IFERROR(VLOOKUP($A19,'Perfil de Riesgo '!$A$3:$H$2025,8,FALSE),0) -> 0
A20: 112005 | B20: FONDO DE LIQUIDEZ - CUENTAS DE AHORRO | C20: =IFERROR(VLOOKUP($A20,'Perfil de Riesgo '!$A$3:$H$2025,3,FALSE),0) -> 39312781 | D20: =IFERROR(VLOOKUP($A20,'Perfil de Riesgo '!$A$3:$H$2025,4,FALSE),0) -> 48355408 | E20: =IFERROR(VLOOKUP($A20,'Perfil de Riesgo '!$A$3:$H$2025,5,FALSE),0) -> 63405919 | F20: =IFERROR(VLOOKUP($A20,'Perfil de Riesgo '!$A$3:$H$2025,6,FALSE),0) -> 68470629 | G20: =IFERROR(VLOOKUP($A20,'Perfil de Riesgo '!$A$3:$H$2025,7,FALSE),0) -> 1.0244741e+08 | H20: =IFERROR(VLOOKUP($A20,'Perfil de Riesgo '!$A$3:$H$2025,8,FALSE),0) -> 1.1253313e+08 | I20: =+H20+H33 -> 1.9902048e+08
A21: 112006 | B21: FONDO DE LIQUIDEZ - FONDOS DE INVERSIÓN COLECTIVA ADMINISTRADOS POR SOCIEDADES COMISIONISTAS DE BOLSA | C21: =IFERROR(VLOOKUP($A21,'Perfil de Riesgo '!$A$3:$H$2025,3,FALSE),0) -> 0 | D21: =IFERROR(VLOOKUP($A21,'Perfil de Riesgo '!$A$3:$H$2025,4,FALSE),0) -> 0 | E21: =IFERROR(VLOOKUP($A21,'Perfil de Riesgo '!$A$3:$H$2025,5,FALSE),0) -> 0 | F21: =IFERROR(VLOOKUP($A21,'Perfil de Riesgo '!$A$3:$H$2025,6,FALSE),0) -> 0 | G21: =IFERROR(VLOOKUP($A21,'Perfil de Riesgo '!$A$3:$H$2025,7,FALSE),0) -> 0 | H21: =IFERROR(VLOOKUP($A21,'Perfil de Riesgo '!$A$3:$H$2025,8,FALSE),0) -> 0
A22: 112007 | B22: FONDO DE LIQUIDEZ - CERTIFICADO DE DEPÓSITO A TÉRMINO | C22: =IFERROR(VLOOKUP($A22,'Perfil de Riesgo '!$A$3:$H$2025,3,FALSE),0) -> 0 | D22: =IFERROR(VLOOKUP($A22,'Perfil de Riesgo '!$A$3:$H$2025,4,FALSE),0) -> 0 | E22: =IFERROR(VLOOKUP($A22,'Perfil de Riesgo '!$A$3:$H$2025,5,FALSE),0) -> 0 | F22: =IFERROR(VLOOKUP($A22,'Perfil de Riesgo '!$A$3:$H$2025,6,FALSE),0) -> 0 | G22: =IFERROR(VLOOKUP($A22,'Perfil de Riesgo '!$A$3:$H$2025,7,FALSE),0) -> 0 | H22: =IFERROR(VLOOKUP($A22,'Perfil de Riesgo '!$A$3:$H$2025,8,FALSE),0) -> 0
A23: 112008 | B23: FONDO DE LIQUIDEZ - CERTIFICADOS DE AHORRO A TÉRMINO | C23: =IFERROR(VLOOKUP($A23,'Perfil de Riesgo '!$A$3:$H$2025,3,FALSE),0) -> 0 | D23: =IFERROR(VLOOKUP($A23,'Perfil de Riesgo '!$A$3:$H$2025,4,FALSE),0) -> 0 | E23: =IFERROR(VLOOKUP($A23,'Perfil de Riesgo '!$A$3:$H$2025,5,FALSE),0) -> 0 | F23: =IFERROR(VLOOKUP($A23,'Perfil de Riesgo '!$A$3:$H$2025,6,FALSE),0) -> 0 | G23: =IFERROR(VLOOKUP($A23,'Perfil de Riesgo '!$A$3:$H$2025,7,FALSE),0) -> 0 | H23: =IFERROR(VLOOKUP($A23,'Perfil de Riesgo '!$A$3:$H$2025,8,FALSE),0) -> 0
A24: 112010 | B24: FONDOS FIDUCIARIOS | C24: =IFERROR(VLOOKUP($A24,'Perfil de Riesgo '!$A$3:$H$2025,3,FALSE),0) -> 0 | D24: =IFERROR(VLOOKUP($A24,'Perfil de Riesgo '!$A$3:$H$2025,4,FALSE),0) -> 0 | E24: =IFERROR(VLOOKUP($A24,'Perfil de Riesgo '!$A$3:$H$2025,5,FALSE),0) -> 0 | F24: =IFERROR(VLOOKUP($A24,'Perfil de Riesgo '!$A$3:$H$2025,6,FALSE),0) -> 0 | G24: =IFERROR(VLOOKUP($A24,'Perfil de Riesgo '!$A$3:$H$2025,7,FALSE),0) -> 0 | H24: =IFERROR(VLOOKUP($A24,'Perfil de Riesgo '!$A$3:$H$2025,8,FALSE),0) -> 0
A25: 112015 | B25: FONDOS ESPECIALES - FONDOS SOCIALES Y MUTUALES | C25: =IFERROR(VLOOKUP($A25,'Perfil de Riesgo '!$A$3:$H$2025,3,FALSE),0) -> 0 | D25: =IFERROR(VLOOKUP($A25,'Perfil de Riesgo '!$A$3:$H$2025,4,FALSE),0) -> 0 | E25: =IFERROR(VLOOKUP($A25,'Perfil de Riesgo '!$A$3:$H$2025,5,FALSE),0) -> 0 | F25: =IFERROR(VLOOKUP($A25,'Perfil de Riesgo '!$A$3:$H$2025,6,FALSE),0) -> 0 | G25: =IFERROR(VLOOKUP($A25,'Perfil de Riesgo '!$A$3:$H$2025,7,FALSE),0) -> 0 | H25: =IFERROR(VLOOKUP($A25,'Perfil de Riesgo '!$A$3:$H$2025,8,FALSE),0) -> 0
A26: 112020 | B26: FIDEICOMISO FONDO DE REPOSICIÓN | C26: =IFERROR(VLOOKUP($A26,'Perfil de Riesgo '!$A$3:$H$2025,3,FALSE),0) -> 0 | D26: =IFERROR(VLOOKUP($A26,'Perfil de Riesgo '!$A$3:$H$2025,4,FALSE),0) -> 0 | E26: =IFERROR(VLOOKUP($A26,'Perfil de Riesgo '!$A$3:$H$2025,5,FALSE),0) -> 0 | F26: =IFERROR(VLOOKUP($A26,'Perfil de Riesgo '!$A$3:$H$2025,6,FALSE),0) -> 0 | G26: =IFERROR(VLOOKUP($A26,'Perfil de Riesgo '!$A$3:$H$2025,7,FALSE),0) -> 0 | H26: =IFERROR(VLOOKUP($A26,'Perfil de Riesgo '!$A$3:$H$2025,8,FALSE),0) -> 0
