Workbook
Name ___nit1: #REF!
Name ___nit1: #REF!
Name __nit1: #REF!
Name __nit1: #REF!
Name _nit1: #REF!
Name _nit1: #REF!
Name A_impresión_IM: #REF!
Name A_impresión_IM: #REF!
Name aaa: MATCH(0.01,'Plan de Continuidad'!End_Bal,-1)+1
Name aaa: MATCH(0.01,End_Bal,-1)+1
Name aaa: MATCH(0.01,End_Bal,-1)+1
Name agencias: [1]Listas!$U$2:$U$10
Name avvillas: #REF!
Name avvillas: #REF!
Name BANCOS: [2]BANCOS!$A$2:$A$25
Name Beg_Bal: #REF!
Name Beg_Bal: #REF!
Name cartera: #REF!
Name cartera: #REF!
Name clientes: #REF!
Name clientes: #REF!
Name Data: #REF!
Name Data: #REF!
Name depositos: #REF!
Name depositos: #REF!
Name DINERS: #REF!
Name DINERS: #REF!
Name End_Bal: #REF!
Name End_Bal: #REF!
Name Extra_Pay: #REF!
Name Extra_Pay: #REF!
Name FECHA: #REF!
Name FECHA: #REF!
Name Full_Print: #REF!
Name Full_Print: #REF!
Name Header_Row: ROW(#REF!)
Name Int: #REF!
Name Int: #REF!
Name Interest_Rate: #REF!
Name Interest_Rate: #REF!
Name ITEM: #REF!
Name ITEM: #REF!
Name Last_Row: IF([3]COOADAMS!Values_Entered,Header_Row+[3]COOADAMS!Number_of_Payments,Header_Row)
Name Last_Row: IF([3]COOADAMS!Values_Entered,Header_Row+[3]COOADAMS!Number_of_Payments,Header_Row)
Name Last_Row: IF([3]COOADAMS!Values_Entered,Header_Row+[3]COOADAMS!Number_of_Payments,Header_Row)
Name Loan_Amount: #REF!
Name Loan_Amount: #REF!
Name Loan_Start: #REF!
Name Loan_Start: #REF!
Name Loan_Years: #REF!
Name Loan_Years: #REF!
Name MONITOR: #REF!
Name MONITOR: #REF!
Name MONITOR_AVVILLAS: #REF!
Name MONITOR_AVVILLAS: #REF!
Name Net_Income: #REF!
Name Net_Income: #REF!
Name NetIncomeGrowth: #REF!
Name NetIncomeGrowth: #REF!
Name nits: #REF!

Sheet RIESGO INHERENTE 
A1: CLASIFICACION | D1: EVALUACION DEL RIESGO INHERENTE | G1: EVALUACION DE LOS CONTROLES EXISTENTES | L1: RIESGO RESIDUAL | O1: TRATAMIENTO DEL RIESGO | R1: SEGUIMIENTO
A2: Nivel 1 | B2: Nivel 2 | C2: Nivel 3 | D2: Probabilidad | E2: Impacto | F2: INHERENTE | G2: Descripción del Control Existente | H2: Responsable | I2: Frecuencia | J2: Tipo | K2: Efectividad | L2: Reducción de la Probabilidad | M2: Reducción del Impacto | N2: RIESGO RESIDUAL | O2: Descripcion | P2: Responsable | Q2: Prioridad | R2: Responsable | S2: Fecha | T2: Estado
A3: 1 - Fraude Interno | B3: 11 - Actividades no autorizadas | C3: 111 - Operaciones no reveladas intencionalmente | D3: 5 | E3: 5 | F3: =VLOOKUP(D3*E3,'riesgo inherente-Anexo '!C4:D28,2,TRUE) -> Crítico | G3: 1. Todos los créditos de partes relacionadas (privilegiados y empleados) son aprobados por 4/5 partes del Consejo de Administración 2. En las notas a los estados financieros se incluye una revelación especial sobre partes relacionadas. 3. El estatuto tiene régimen de inhabilidades e incompatibilidades prohibe prebendas, ventajas, comisiones o similares a los órganos de administración y control. 4. Se cuenta con codigo de buen gobierno. 5. Segregación de funciones: autorización, registro, desembolso y reporte | H3: Auditoría y Jefe de crédito | I3: Periódico | J3: Detectivo | K3: Baja | L3: 5 | M3: 3 | N3: =VLOOKUP((D3*E3)-(L3*M3),'riesgo inherente-Anexo '!C2:D28,2,TRUE) -> Moderado | O3: Hacer seguimiento a las condiciones operaciones pasivas y otros tipos de operación de compra y venta en la que puedan presentarse conflictos de interés | P3: Auditoría | Q3: Media | R3: Gestor de Riesgos | S3: 44926 | T3: Implementación
A4: 1 - Fraude Interno | B4: 11 - Actividades no autorizadas | C4: 112 - Operaciones no autorizadas con pérdida de dinero | D4: 1 | E4: 1 | F4: =VLOOKUP(D4*E4,'riesgo inherente-Anexo '!C4:D28,2,TRUE) -> Bajo | G4: 1. Reglamentos y estatutos contienen limitaciones atribuciones y competencias de Gerencia, Comités, Consejo y funcionarios en lo relativo a los servicios, gastos e inversiones. 2. Limites legales de concentración. 3. Segregación de funciones. 4. Claves del aplicativo personalizadas y se cambian cada mes. 5. En la disposición de recursos financieros existe firmas conjuntas, visación de nota contable y segregación cargue y aprobación. 6. Contabilización solo despues de autorización de Gerencia o Consejo y pago a proveedores solo con casusación. 7. Arqueo diario de efectivo a los cajeros. 8. Póliza manejo GLOBAL | H4: Gerencia, Auditoría Interna | I4: Permanente | J4: Preventivo | K4: Alta | L4: 1 | M4: 1 | N4: =VLOOKUP((D4*E4)-(L4*M4),'riesgo inherente-Anexo '!C2:D28,2,TRUE) -> Bajo | O4: No se requiere | P4: N.A. | Q4: Baja | R4: Gestor de Riesgos | S4: 44926 | T4: Funcionamiento
A5: 1 - Fraude Interno | B5: 11 - Actividades no autorizadas | C5: 113 - Valoración errada de posiciones de forma intencional | D5: 1 | E5: 1 | F5: =VLOOKUP(D5*E5,'riesgo inherente-Anexo '!C4:D28,2,TRUE) -> Bajo | G5: 1. Análisis de crédito (requisitos y criterios mínimos obligatorios) lo realiza el analista de crédito y lo revisa la Jefe de Crédito por cuantías de aprobación x Gerencia y Comité. 2. Limitación en los montos por instancia aprobatoria. 3. Metodología de Evaluación de cartera aprobada por Consejo y efectuada por Jefe de Crédito, se presenta al comité de riesgos y al Consejo permite identificar fallas del proceso de otorgamiento. 4. Las inversiones de fondo de liquidez y los excesos temporales de tesorería se invierten en instrumentos de corto plazo y baja volatilidad. 5. Solo se tienen inversiones de patrimonio en entes gremiales. 6. No se hacen inversiones especulativas ni en propiedades de inversión. 7. Solo se tienen los bienes inmuebles donde funciona la Cooperativa y el avalúo se actualiza de manera técnica e independiente. | H5: Auditoria Interna verifica cumplimiento de limites y políticas en materia de instancias y atribuciones. Jefe de Crédito revisa lo relativo a crédito | I5: Permanente | J5: Preventivo | K5: Alta | L5: 1 | M5: 1 | N5: =VLOOKUP((D5*E5)-(L5*M5),'riesgo inherente-Anexo '!C2:D28,2,TRUE) -> Bajo | O5: No se requiere | P5: N.A. | Q5: Baja | R5: Gestor de Riesgos | S5: 44926 | T5: Implementación
A6: 1 - Fraude Interno | B6: 12 - Hurto y Fraude | C6: 121 - Fraude: fraude crediticio, hurto, depósito sin valor, etc. | D6: 1 | E6: 1 | F6: =VLOOKUP(D6*E6,'riesgo inherente-Anexo '!C4:D28,2,TRUE) -> Bajo | G6: 1. Póliza de manejo GLOBAL. 2. Seguimiento a los movimientos y operaciones de los empleados y directivos (SARLAFT). 3. Verificación diaria de movimientos y consecutivos: a) Auxiliar de oficina arma movimiento diario b) Contabilidad verifica registro y soporte c) Se remite a la Subgerencia para revisión antes de enviar al archivo 4. Verificación diaria de las notas de causación de intereses | H6: Oficial de cumplimiento, Auxiliar, Contabilidad, Subgerencia, Auditor | I6: Permanente | J6: Preventivo | K6: Alta | L6: 1 | M6: 1 | N6: =VLOOKUP((D6*E6)-(L6*M6),'riesgo inherente-Anexo '!C2:D28,2,TRUE) -> Bajo | O6: No se requiere | P6: N.A. | Q6: Alta | R6: Gestor de Riesgos | S6: 44926 | T6: Implementación
A7: 1 - Fraude Interno | B7: 12 - Hurto y Fraude | C7: 122 - Extorsión, malversación, o robo por apropiación indebida | D7: 1 | E7: 1 | F7: =VLOOKUP(D7*E7,'riesgo inherente-Anexo '!C4:D28,2,TRUE) -> Bajo | G7: 1. Vigilancia privada 2. Monitoreo de Alarmas. 3. Rondas programadas con la Policía. 4. Limite a recursos en efectivo en Caja. 5. Transportadora de Valores. 6. Poliza de seguro contra robos. 7. Apertura de oficina con Guarda. 8. Trabajo fuera del horario laboral requiere autorización de Gerencia | H7: Subgerencia | I7: Permanente | J7: Preventivo | K7: Alta | L7: 1 | M7: 1 | N7: =VLOOKUP((D7*E7)-(L7*M7),'riesgo inherente-Anexo '!C2:D28,2,TRUE) -> Bajo | O7: No se requiere | P7: N.A. | Q7: Baja | R7: Gestor de Riesgos | S7: 44926 | T7: Implementación
A8: 1 - Fraude Interno | B8: 12 - Hurto y Fraude | C8: 123 - Apropiación indebida de activos | D8: 1 | E8: 1 | F8: =VLOOKUP(D8*E8,'riesgo inherente-Anexo '!C4:D28,2,TRUE) -> Bajo | G8: 1. Arqueos diarios de caja. 2. Titulos de deuda desmaterializados. 3. Caja Fuerte con temporizador que solo maneja cajero principal y subgerente. 4. No se puede abrir la caja en días no laborales. 5. Retiro de bienes con permiso especial. 6. Cámaras internas. 7. Poliza GLOBAL de Manejo. 8. Pagarés y titulos valores en caja fuerte custodiada por analista y jefe de crédito y otra caja fuerte para Garantias reales. 9. Clave de acceso para Alarmas diferentes y personalizadas para 4 personas diferentes. | H8: Gerencia y Subgerencia, Cajeros principales y Jefe de Crédito | I8: Permanente | J8: Preventivo | K8: Alta | L8: 1 | M8: 1 | N8: =VLOOKUP((D8*E8)-(L8*M8),'riesgo inherente-Anexo '!C2:D28,2,TRUE) -> Bajo | O8: Pagarés desmaterializados y digitalización de pagarés, titulos valores y documentación contable | P8: Gerencia | Q8: Alta | R8: Gestor de Riesgos | S8: 44926 | T8: Planeación
A9: 1 - Fraude Interno | B9: 12 - Hurto y Fraude | C9: 124 - Destrucción dolosa de activos | D9: 1 | E9: 1 | F9: =VLOOKUP(D9*E9,'riesgo inherente-Anexo '!C4:D28,2,TRUE) -> Bajo | G9: 1. Poliza de PPE 2. Custodia en caja furte de dinero, titulos valores. | H9: Gerente, Subgerente, Cajero Ppal | I9: Permanente | J9: Preventivo | K9: Alta | L9: 1 | M9: 1 | N9: =VLOOKUP((D9*E9)-(L9*M9),'riesgo inherente-Anexo '!C2:D28,2,TRUE) -> Bajo | O9: No se requiere | P9: N.A. | Q9: Baja | R9: Gestor de Riesgos | S9: 44926 | T9: Implementación
A10: 1 - Fraude Interno | B10: 12 - Hurto y Fraude | C10: 125 - Falsificación | D10: 1 | E10: 1 | F10: =VLOOKUP(D10*E10,'riesgo inherente-Anexo '!C4:D28,2,TRUE) -> Bajo | G10: 1. Verificación de información y documentos en las solicitudes de crédito. 2. Desembolsos solo con crédito original. 3. Escaneo en el sistema de huella, foto y cédula. 4. Vinculación personal con documentos originales y huella en presencia de un empleado. 5. Consecutivos de cheques cargado en el sistema. 6. Conciliaciones Bancarias. 7. La chequera solo la maneja el auxiliar de crédito o el Director de Agencia | H10: Información y Oficial de cumplimiento | I10: Permanente | J10: Preventivo | K10: Alta | L10: 1 | M10: 1 | N10: =VLOOKUP((D10*E10)-(L10*M10),'riesgo inherente-Anexo '!C2:D28,2,TRUE) -> Bajo | O10: Seguridad biométrica y vinculación no presencial | P10: Gerencia | Q10: Baja | R10: Gestor de Riesgos | S10: 45291 | T10: Planeación
A11: 1 - Fraude Interno | B11: 12 - Hurto y Fraude | C11: 126 - Apropiación de: cuentas, identidad, etc. | D11: 1 | E11: 1 | F11: =VLOOKUP(D11*E11,'riesgo inherente-Anexo '!C4:D28,2,TRUE) -> Bajo | G11: 1. Topes para retiros por caja. 2. Visación de firma. 3. Documento original para retiro por caja. 4. El sistema tiene foto, huella y documento escaneado. 5. Libreta Talonario y formatos individuales para retiro 6. Tarjetas débito con clave. 7. Transferencias solo a cuentas con cetificación bancaria con autorización escrita del asociado en formato prestablecido y presencial | H11: Cajero | I11: Permanente | J11: Preventivo | K11: Alta | L11: 1 | M11: 1 | N11: =VLOOKUP((D11*E11)-(L11*M11),'riesgo inherente-Anexo '!C2:D28,2,TRUE) -> Bajo | O11: Seguridad biométrica y vinculación no presencial | P11: Gerencia | Q11: Baja | R11: Gestor de Riesgos | S11: 45291 | T11: Planeación
A12: 1 - Fraude Interno | B12: 12 - Hurto y Fraude | C12: 127 - Evasión intencional de impuestos | D12: 1 | E12: 1 | F12: =VLOOKUP(D12*E12,'riesgo inherente-Anexo '!C4:D28,2,TRUE) -> Bajo | G12: 1. Cooperativa es régimen tributario especial. 2. Revisión declaraciones tributarias. 3. Revisión aleatoria de causación y pago de declaraciones de impuestos, retenciones e información exógena | H12: Contador, Auditor Interno | I12: Permanente | J12: Preventivo | K12: Alta | L12: 1 | M12: 1 | N12: =VLOOKUP((D12*E12)-(L12*M12),'riesgo inherente-Anexo '!C2:D28,2,TRUE) -> Bajo | O12: No se requiere | P12: N.A. | Q12: Baja | R12: Gestor de Riesgos | S12: 44926 | T12: Implementación
A13: 1 - Fraude Interno | B13: 12 - Hurto y Fraude | C13: 128 - Abuso de información privilegiada (no a favor de la empresa) | D13: 1 | E13: 1 | F13: =VLOOKUP(D13*E13,'riesgo inherente-Anexo '!C4:D28,2,TRUE) -> Bajo | G13: 1. Código de ética, conducta y buen gobierno. 2. Seguridad informática para el acceso a las bases de datos. 3. Política de tratamiento de datos. 4. Transacciones a través de canales personales: No se cuenta con canales transaccionales digitales. 5. Atribuciones para acceso a aplicativos y generación de reportes. | H13: Sistemas | I13: Permanente | J13: Preventivo | K13: Alta | L13: 1 | M13: 1 | N13: =VLOOKUP((D13*E13)-(L13*M13),'riesgo inherente-Anexo '!C2:D28,2,TRUE) -> Bajo | O13: Establecer controles automáticos informáticos para envio de bases de datos a través de correos electrónicos o dispositivos externos | P13: Sistemas | Q13: Media | R13: Gestor de Riesgos | S13: 44926 | T13: Planeación
A14: 1 - Fraude Interno | B14: 12 - Hurto y Fraude | C14: 129 - Soborno, cohecho, otros relacionados en la ley | D14: 1 | E14: 1 | F14: =VLOOKUP(D14*E14,'riesgo inherente-Anexo '!C4:D28,2,TRUE) -> Bajo | G14: 1. Segregación en facultades de análisis, registro, autorización, desembolso. 2. Varias cotizaciones para adquisición de bienes y servicios por valores representativos. 3. Limitaciones en las atribuciones de compras o autorizaciones o aprobaciones. 4. Pólizas de cumplimiento | H14: Gerencia | I14: Permanente | J14: Preventivo | K14: Alta | L14: 1 | M14: 1 | N14: =VLOOKUP((D14*E14)-(L14*M14),'riesgo inherente-Anexo '!C2:D28,2,TRUE) -> Bajo | O14: No se requiere | P14: N.A. | Q14: Media | R14: Gestor de Riesgos | S14: 44926 | T14: Implementación
A15: 2 - Fraude Externo | B15: 21 - Seguridad de los Sistemas | C15: 211 - Robo de información con pérdidas de dinero | D15: 1 | E15: 1 | F15: =VLOOKUP(D15*E15,'riesgo inherente-Anexo '!C4:D28,2,TRUE) -> Bajo | G15: 1. 3 copias externas de seguridad diarias de la BD Principal. 2. Antivirus y Firewall con seguridad perimetral. 3. Acceso VPN para acceso remoto solo bajo condiciones de contingencia (Covid, paro). 4. Backup manual de cada equipo responsabilidad de usuario y tales copias se respaldan externamente por sistemas. 5. Descompresión de copias en ambiente de pruebas | H15: Sistemas | I15: Permanente | J15: Preventivo | K15: Alta | L15: 1 | M15: 1 | N15: =VLOOKUP((D15*E15)-(L15*M15),'riesgo inherente-Anexo '!C2:D28,2,TRUE) -> Bajo | O15: Evaluar poliza contra fraude electrónico | P15: Gerencia | Q15: Alta | R15: Gestor de Riesgos | S15: 44926 | T15: Planeación
A16: 2 - Fraude Externo | B16: 21 - Seguridad de los Sistemas | C16: 212 - Daños por ataques informáticos | D16: 1 | E16: 1 | F16: =VLOOKUP(D16*E16,'riesgo inherente-Anexo '!C4:D28,2,TRUE) -> Bajo | G16: 1. Antivirus y Firewall con seguridad perimetral. | H16: Sistemas | I16: Permanente | J16: Preventivo | K16: Alta | L16: 1 | M16: 1 | N16: =VLOOKUP((D16*E16)-(L16*M16),'riesgo inherente-Anexo '!C2:D28,2,TRUE) -> Bajo | O16: Evaluar poliza contra fraude electrónico | P16: Gerencia | Q16: Alta | R16: Gestor de Riesgos | S16: 44926 | T16: Planeación
A17: 2 - Fraude Externo | B17: 22 - Hurto y Fraude | C17: 221 - Robo o hurto | D17: 1 | E17: 1 | F17: =VLOOKUP(D17*E17,'riesgo inherente-Anexo '!C4:D28,2,TRUE) -> Bajo | G17: 1. Vigilancia privada 2. Monitoreo de Alarmas. 3. Rondas programadas con la Policía. 4. Limite a recursos en efectivo en Caja. 5. Transportadora de Valores. 6. Poliza de seguro contra robos. 7. Apertura de oficina con Guarda. 8. Localización de las oficinas en ubicación geográfica segura, concurrida, cercano al CAI. 8. Limitación de aforo. 9. Vigilante apertura la puerta para ingreso a la oficina | H17: Subgerencia | I17: Permanente | J17: Preventivo | K17: Alta | L17: 1 | M17: 1 | N17: =VLOOKUP((D17*E17)-(L17*M17),'riesgo inherente-Anexo '!C2:D28,2,TRUE) -> Bajo | O17: No se requiere | P17: N.A. | Q17: Media | R17: Gestor de Riesgos | S17: 44926 | T17: Implementación
A18: 2 - Fraude Externo | B18: 22 - Hurto y Fraude | C18: 222 - Falsificación | D18: 1 | E18: 1 | F18: =VLOOKUP(D18*E18,'riesgo inherente-Anexo '!C4:D28,2,TRUE) -> Bajo | G18: 1. Verificación de información y documentos en las solicitudes de crédito. 2. Desembolsos solo con crédito original. 3. Escaneo en el sistema de huella, foto y cédula. 4. Vinculación personal con documentos originales y huella en presencia de un empleado. 5. Consecutivos de cheques cargado en el sistema. 6. Conciliaciones Bancarias. 7. La chequera solo la maneja el auxiliar de crédito o el Director de Agencia | H18: Información y Oficial de cumplimiento | I18: Permanente | J18: Preventivo | K18: Alta | L18: 1 | M18: 1 | N18: Bajo | O18: Seguridad biométrica y vinculación no presencial | P18: Gerencia | Q18: Baja | R18: Gestor de Riesgos | S18: 44926 | T18: Implementación
A19: 3 - Relaciones laborales | B19: 31 - Relaciones Laborales | C19: 311 - Cuestiones relativas a remuneración | D19: 3 | E19: 3 | F19: =VLOOKUP(D19*E19,'riesgo inherente-Anexo '!C4:D28,2,TRUE) -> Moderado | G19: 1. Se suplen las vacantes internas a partir de concursos internos para dar oportunidad de ascenso a los empleados. 2. El salario de los cargos se basa en lo observado en la ciudad de Tuluá para cargos similares. 3. Bonificación y permiso de cumpleaños. 4. Buen clima laboral. 5. Se contrata a término fijo a los nuevos empleados, solo los antiguos son contrato a término indefinido | H19: Consejo de Administración | I19: Permanente | J19: Preventivo | K19: Alta | L19: 3 | M19: 1 | N19: =VLOOKUP((D19*E19)-(L19*M19),'riesgo inherente-Anexo '!C2:D28,2,TRUE) -> Moderado | O19: 1. Actualizar el estudio de escala salarial. 2. Definir política mínima de reajuste salarial sobre la inflación + productividad | P19: Gerencia y Consejo | Q19: Media | R19: Gestor de Riesgos | S19: 44926 | T19: Implementación
A20: 3 - Relaciones laborales | B20: 31 - Relaciones Laborales | C20: 312 - Cuestiones relativas a prestaciones sociales | D20: 1 | E20: 1 | F20: =VLOOKUP(D20*E20,'riesgo inherente-Anexo '!C4:D28,2,TRUE) -> Bajo | G20: 1. Se pagan las prestaciones sociales de ley oportunamente de acuerdo con las bases y normas del código sustantivo del trabajo. 2. Auditoría Interna revisa antes de los pagos. | H20: Contador | I20: Permanente | J20: Preventivo | K20: Alta | L20: 1 | M20: 1 | N20: =VLOOKUP((D20*E20)-(L20*M20),'riesgo inherente-Anexo '!C2:D28,2,TRUE) -> Bajo | O20: No se requiere | P20: N.A. | Q20: Baja | R20: Gestor de Riesgos | S20: 44926 | T20: Funcionamiento
A21: 3 - Relaciones laborales | B21: 31 - Relaciones Laborales | C21: 313 - Cuestiones relativas a terminación de contratos | D21: 1 | E21: 1 | F21: =VLOOKUP(D21*E21,'riesgo inherente-Anexo '!C4:D28,2,TRUE) -> Bajo | G21: 1. La liquidación final de prestaciones sociales se hace conforme a las bases y normas del código sustantivo de trabajo informando con el término legal de antelación la no renovación de los contratos a término fijo o pagando la respectiva indemnización cuando es sin justa causa. 2. Se cuenta con reglamento interno de trabajo actualizado el cual es conocido y difundido entre los empleados cuando se produce un cambio. | H21: Contador y Gerente | I21: Permanente | J21: Preventivo | K21: Alta | L21: 1 | M21: 1 | N21: =VLOOKUP((D21*E21)-(L21*M21),'riesgo inherente-Anexo '!C2:D28,2,TRUE) -> Bajo | O21: No se requiere | P21: N.A. | Q21: Baja | R21: Gestor de Riesgos | S21: 44926 | T21: Funcionamiento
A22: 3 - Relaciones laborales | B22: 31 - Relaciones Laborales | C22: 314 - Organización laboral | D22: 3 | E22: 3 | F22: =VLOOKUP(D22*E22,'riesgo inherente-Anexo '!C4:D28,2,TRUE) -> Moderado | G22: 1. Se cuenta con organigrama actualizado. 2. Existe adecuada segregación de funciones y separación funcional de areas comerciales, de apoyo y de riesgos. | H22: Consejo de Administración | I22: Permanente | J22: Preventivo | K22: Alta | L22: 1 | M22: 1 | N22: =VLOOKUP((D22*E22)-(L22*M22),'riesgo inherente-Anexo '!C2:D28,2,TRUE) -> Moderado | O22: 1. El consejo de administración o Junta de Vigilancia debe canalizar su relación con los empleados a través de la gerencia y no impartir instrucciones o dar ordenes directamente, ni desautorizar a la Gerencia o mantener relaciones de confianza estrecha con los trabajadores | P22: Consejo de Administración | Q22: Alta | R22: Gestor de Riesgos | S22: 44926 | T22: Implementación
A23: 3 - Relaciones laborales | B23: 32 - Higiene y Seguridad en el Trabajo | C23: 321 - Responsabilidad general: caídas, resbalones, cortadas, etc. | D23: 1 | E23: 1 | F23: =VLOOKUP(D23*E23,'riesgo inherente-Anexo '!C4:D28,2,TRUE) -> Bajo | G23: 1. Se cuenta con todos los protocolos de seguridad y mitigación en caso de accidentes laborales que exige (Camilla, Botiquín, Tensiometro). 2. Se capacita y hacen simulacros para atender accidentes laborales o atender emergencias. 3. Todos los empleados cuentan con seguridad social y ARL. | H23: Asesor Externo | I23: Permanente | J23: Preventivo | K23: Alta | L23: 1 | M23: 1 | N23: =VLOOKUP((D23*E23)-(L23*M23),'riesgo inherente-Anexo '!C2:D28,2,TRUE) -> Bajo | O23: 1. Cambiar tensiómetro a digital. 2. Revisar contrato de servicio de emergencia médica o contacto para Ambulancias | P23: Gerencia | Q23: Alta | R23: Gestor de Riesgos | S23: 44926 | T23: Implementación
A24: 3 - Relaciones laborales | B24: 32 - Higiene y Seguridad en el Trabajo | C24: 322 - Casos relacionados con las normas de higiene y seguridad | D24: 1 | E24: 1 | F24: =VLOOKUP(D24*E24,'riesgo inherente-Anexo '!C4:D28,2,TRUE) -> Bajo | G24: 1. Se efectúa evaluación y seguimiento periodico de ergonomía y condiciones físicas de los puestos de trabajo para corregir inmediatamente. 2. Pausas activas programadas. 3. Anualmente se tiene la semana de la salud para chequeos médicos a los empleados. 4. Se practica exámen médico de ingreso y retiro | H24: Asesor Externo | I24: Periódico | J24: Preventivo | K24: Alta | L24: 1 | M24: 1 | N24: =VLOOKUP((D24*E24)-(L24*M24),'riesgo inherente-Anexo '!C2:D28,2,TRUE) -> Bajo | O24: 1. Establecer ambulancia o empresa para atender emergencias médicas | P24: Gerencia | Q24: Alta | R24: Gestor de Riesgos | S24: 44926 | T24: Implementación
A25: 3 - Relaciones laborales | B25: 32 - Higiene y Seguridad en el Trabajo | C25: 323 - Indemnización a trabajadores | D25: 1 | E25: 1 | F25: =VLOOKUP(D25*E25,'riesgo inherente-Anexo '!C4:D28,2,TRUE) -> Bajo | G25: 1. Los nuevos empleados se contratan bajo la modalidad de término fijo y se hace la interrupción del contrato laboral cada año. 2. Se cuenta con la asesoría profesional de abogado laboralista (Solo 4 de 20 empleados son contrato a término indefinido). 3. Se dan oportunidades de mejora a los empleados que presentan bajo desempeño. 4. Baja rotación laboral, la mayoría de los retiros son voluntarios. | H25: Gerencia y Abogado Externo | I25: Permanente | J25: Preventivo | K25: Alta | L25: 1 | M25: 1 | N25: =VLOOKUP((D25*E25)-(L25*M25),'riesgo inherente-Anexo '!C2:D28,2,TRUE) -> Bajo | O25: No se requiere | P25: N.A. | Q25: Baja | R25: Gestor de Riesgos | S25: 44926 | T25: Implementación
A26: 3 - Relaciones laborales | B26: 33 - Discriminación | C26: 331 - Todo tipo de discriminación | D26: 1 | E26: 1 | F26: =VLOOKUP(D26*E26,'riesgo inherente-Anexo '!C4:D28,2,TRUE) -> Bajo | G26: 1. Se cuenta con comité de convivencia laboral. 2. Clima laboral y ambiente de trabajo es excelente sin casos de acoso o discriminación. 3. Capacitación anual sobre prevención del acoso laboral. 4. Trimestralmente se programan en el comité actividades de beneficio e integración de los trabajadores | H26: Comité de Convivencia Laboral | I26: Permanente | J26: Preventivo | K26: Alta | L26: 1 | M26: 1 | N26: =VLOOKUP((D26*E26)-(L26*M26),'riesgo inherente-Anexo '!C2:D28,2,TRUE) -> Bajo | O26: Capacitaciones para empleados diferentes de las eminentemente técnicas y que apunten a su crecimiento personal y desarrollara actividades de integración del personal | P26: Comité | Q26: Alta | R26: Gestor de Riesgos | S26: 44926 | T26: Implementación
A27: 3 - Relaciones laborales | B27: 34 - Recurso Humano | C27: 341 - Falta de capacitación | D27: 1 | E27: 1 | F27: =VLOOKUP(D27*E27,'riesgo inherente-Anexo '!C4:D28,2,TRUE) -> Bajo | G27: 1. Capacitación anual en SARLAFT. 2. Capacitación permanente para empleados en relación con su rol a través de seminarios, foros, talleres programados por entidades o asesores expertos. 3. Asesoría y capacitación particular y permanente para la implementación y mantenimiento de los sistemas de riesgo. 4. Se incluye partida de capacitación en el presupuesto a partir de las necesidades que expresa cada área | H27: Comité de Educación y Gerencia | I27: Permanente | J27: Preventivo | K27: Alta | L27: 1 | M27: 1 | N27: =VLOOKUP((D27*E27)-(L27*M27),'riesgo inherente-Anexo '!C2:D28,2,TRUE) -> Bajo | O27: No se requiere | P27: N.A. | Q27: Baja | R27: Gestor de Riesgos | S27: 44926 | T27: Implementación
A28: 3 - Relaciones laborales | B28: 34 - Recurso Humano | C28: 342 - Alta rotación de personal | D28: 1 | E28: 1 | F28: =VLOOKUP(D28*E28,'riesgo inherente-Anexo '!C4:D28,2,TRUE) -> Bajo | G28: 1. Buen ambiente laboral. 2. Remuneración relativamente acorde con lo observado en la Plaza. 3. Oportunidades de ascenso en la organización. 4. Capacitación permanente. 5. Oportunidades de mejora constante para empleados que presentan bajo desempeño en algún area. 6. Posibilidad de acceso a los servicios de la Cooperativa | H28: Gerencia y Consejo de Administración | I28: Permanente | J28: Preventivo | K28: Alta | L28: 1 | M28: 1 | N28: =VLOOKUP((D28*E28)-(L28*M28),'riesgo inherente-Anexo '!C2:D28,2,TRUE) -> Bajo | O28: Crédito especial para empleados: VIVIENDA, EDUCACIÓN SUPERIOR | P28: Consejo de Administración | Q28: Alta | R28: Gestor de Riesgos | S28: 44926 | T28: Implementación
A29: 3 - Relaciones laborales | B29: 34 - Recurso Humano | C29: 343 - Alta temporalidad | D29: 1 | E29: 1 | F29: =VLOOKUP(D29*E29,'riesgo inherente-Anexo '!C4:D28,2,TRUE) -> Bajo | G29: No se tienen trabajadores Temporales. A pesar de que los trabajadores están contratados a término fijo se les renueva permanentemente el contrato y mantienen estabilidad motivo por el cual la gran mayoría de los retiros son voluntarios | H29: Gerencia y Consejo de Administración | I29: Permanente | J29: Preventivo | K29: Alta | L29: 1 | M29: 1 | N29: =VLOOKUP((D29*E29)-(L29*M29),'riesgo inherente-Anexo '!C2:D28,2,TRUE) -> Bajo | O29: No se requiere | P29: N.A. | Q29: Baja | R29: Gestor de Riesgos | S29: 44926 | T29: Implementación
A30: 3 - Relaciones laborales | B30: 34 - Recurso Humano | C30: 344 - Falta de personal | D30: 1 | E30: 1 | F30: =VLOOKUP(D30*E30,'riesgo inherente-Anexo '!C4:D28,2,TRUE) -> Bajo | G30: 1. Se asignan horarios y cargas laborales acordes con el cargo, experiencia y responsabilidad. 2. No se presenta trabajo suplementario o por fuera del horario de trabajo de manera excesiva o permanente. 3. Los empleados salen a vacaciones anualmente. 4. Los reemplazos en vacaciones de los empleados son efectuados por un Supernumerario | H30: Gerencia y Consejo de Administración | I30: Permanente | J30: Preventivo | K30: Alta | L30: 1 | M30: 1 | N30: =VLOOKUP((D30*E30)-(L30*M30),'riesgo inherente-Anexo '!C2:D28,2,TRUE) -> Bajo | O30: Actualizar estudio de cargas laborales y escala salarial | P30: Gerencia | Q30: Baja | R30: Gestor de Riesgos | S30: 44926 | T30: Implementación
A31: 3 - Relaciones laborales | B31: 34 - Recurso Humano | C31: 345 - Pérdida de talento | D31: 1 | E31: 1 | F31: =VLOOKUP(D31*E31,'riesgo inherente-Anexo '!C4:D28,2,TRUE) -> Bajo | G31: 1. Buen ambiente laboral. 2. Remuneración relativamente acorde con lo observado en la Plaza. 3. Oportunidades de ascenso en la organización. 4. Capacitación permanente. 5. Oportunidades de mejora constante para empleados que presentan bajo desempeño en algún area. 6. Posibilidad de acceso a los servicios de la Cooperativa. 7. No existe una gran cantidad de entidades solidarias en Tuluá de tamaño similar o superior a la Cooperativa | H31: Gerencia y Consejo de Administración | I31: Permanente | J31: Preventivo | K31: Alta | L31: 1 | M31: 1 | N31: =VLOOKUP((D31*E31)-(L31*M31),'riesgo inherente-Anexo '!C2:D28,2,TRUE) -> Bajo | O31: No se requiere | P31: N.A. | Q31: Baja | R31: Gestor de Riesgos | S31: 44926 | T31: Implementación
A32: 4 - Asociados o Clientes | B32: 41 - Adecuación, divulgación de información y confianza | C32: 411 - Incumplimiento de pautas, abuso de confianza | D32: 3 | E32: 3 | F32: =VLOOKUP(D32*E32,'riesgo inherente-Anexo '!C4:D28,2,TRUE) -> Moderado | G32: 1. El código de ética y reglamento de trabaja establece pautas de comportamiento adecuado y limite en la relaciones con los asociados, proveedores otros empleados y contrapartes donde se establecen prohibiciones específicas como recibir sobornos, dádivas o similares a cambio de privilegio alguno en los servicios o negociaciones 2. Segregación de funciones e independencia funcional entre personas que atienden los asociados y quienes fijan las condiciones de los productos y autorizan las operaciones o analizan los riesgos 3. Operaciones de directivos y empleados pasan siempre a Consejo y no pueden servir de codeudores de créditos 4. Poliza de Manejo Global | H32: Gerencia | I32: Permanente | J32: Preventivo | K32: Alta | L32: 5 | M32: 3 | N32: =VLOOKUP((D32*E32)-(L32*M32),'riesgo inherente-Anexo '!C2:D28,2,TRUE) -> Bajo | O32: Difundir y capacitar empleados y directivos sobre revelación y restricción de operaciones que impliquen conflicto de interés (operaciones con familiares) - Revelar operaciones con familiares de empleados | Q32: Baja | R32: Gestor de Riesgos | S32: 44926 | T32: Implementación
A33: 4 - Asociados o Clientes | B33: 41 - Adecuación, divulgación de información y confianza | C33: 412 - Aspectos de adecuación, divulgación de la información | D33: 1 | E33: 1 | F33: =VLOOKUP(D33*E33,'riesgo inherente-Anexo '!C4:D28,2,TRUE) -> Bajo | G33: 1. Se entrega plan de pagos al asociado en los desembolsos y previamente se informa las condiciones del crédito. 2. El reglamento de crédito y condiciones se encuentran en la página WEB 3. Tasas activas y pasivas están publicadas en términos efectivos anuales. 4. Página WEB contiene toda la información del Régimen Tributario Especial, así como los reglamentos, miembros de los órganos de adminsitración y control 5. Los horarios están publicados en las puertas de acceso 6. Capacitación mensual con nuevos asociados para inducción: cooperativismo, deberes y derechos, servicios, comunicación, capacitación, participación. | H33: Operador de Sistemas y Comité de Medios | I33: Permanente | J33: Preventivo | K33: Alta | L33: 1 | M33: 1 | N33: =VLOOKUP((D33*E33)-(L33*M33),'riesgo inherente-Anexo '!C2:D28,2,TRUE) -> Bajo | O33: No se requiere | P33: N.A. | Q33: Baja | R33: Gestor de Riesgos | S33: 44926 | T33: Implementación
A34: 4 - Asociados o Clientes | B34: 41 - Adecuación, divulgación de información y confianza | C34: 413 - Violar la privacidad de información sobre clientes minoristas | D34: 1 | E34: 1 | F34: =VLOOKUP(D34*E34,'riesgo inherente-Anexo '!C4:D28,2,TRUE) -> Bajo | G34: 1. Archivo de expedientes de asociados bajo responsabilidad de un empleado y el acceso requiere solicitud escrita. Se hace arqueo de expedientes. 2. Prohibición a empleados de revelar o entregar información a personas diferentes del asociado. 3. En la política de tratamiento de datos y código de ética está la obligación de tratamiento confidencial de información reservada o sensible. | H34: Operador de Archivo | I34: Permanente | J34: Preventivo | K34: Alta | L34: 1 | M34: 1 | N34: =VLOOKUP((D34*E34)-(L34*M34),'riesgo inherente-Anexo '!C2:D28,2,TRUE) -> Bajo | O34: Capacitacion en gestión documental del responsable de Archivo | P34: Operador de Archivo | Q34: Baja | R34: Gestor de Riesgos | S34: 44926 | T34: Implementación
A35: 4 - Asociados o Clientes | B35: 41 - Adecuación, divulgación de información y confianza | C35: 414 - Otra violación de privacidad | D35: 5 | E35: 3 | F35: =VLOOKUP(D35*E35,'riesgo inherente-Anexo '!C4:D28,2,TRUE) -> Alto | G35: 1. Perfiles de usuario para acceso a los aplicativos según funciones y niveles de responsabilidad | H35: Operador de sistemas | I35: Permanente | J35: Preventivo | K35: Alta | L35: 1 | M35: 1 | N35: =VLOOKUP((D35*E35)-(L35*M35),'riesgo inherente-Anexo '!C2:D28,2,TRUE) -> Alto | O35: Evaluar que controles son posibles establecer para prevenir una sustracción indebida de datos de los asociados | P35: Operador de Sistemas | Q35: Alta | R35: Gestor de Riesgos | S35: 44926 | T35: Implementación
A36: 4 - Asociados o Clientes | B36: 41 - Adecuación, divulgación de información y confianza | C36: 415 - Ventas/Colocaciones agresivas | D36: 1 | E36: 1 | F36: =VLOOKUP(D36*E36,'riesgo inherente-Anexo '!C4:D28,2,TRUE) -> Bajo | G36: 1. Por reglamento un asociado solo puede tener dos lineas de crédito o servir de codeudor a dos personas. 2. Metas comerciales alcanzables se les hace seguimiento pero no se generan presiones que promuevan malas prácticas comerciales 3. Empleados del area comercial tienen ingresos fijos 4. Comisiones o estimulos por logro de metas comerciales no son representativos frente a los ingresos laborales deventados | H36: Subgerencia | I36: Permanente | J36: Preventivo | K36: Alta | L36: 1 | M36: 1 | N36: =VLOOKUP((D36*E36)-(L36*M36),'riesgo inherente-Anexo '!C2:D28,2,TRUE) -> Bajo | O36: No se requiere | P36: N.A. | Q36: Baja | R36: Gestor de Riesgos | S36: 44926 | T36: Implementación
A37: 4 - Asociados o Clientes | B37: 41 - Adecuación, divulgación de información y confianza | C37: 416 - Confusión de cuentas | D37: 1 | E37: 1 | F37: =VLOOKUP(D37*E37,'riesgo inherente-Anexo '!C4:D28,2,TRUE) -> Bajo | G37: 1. Verificación diaria de todas las operaciones de caja. 2. Verificación de identidad en operaciones 3. Notas por transferencia o consignación a través de red bancaria son revisadas por Jefe de Crédito y aprobadas por Subgerencia. 4. SMS automático para cartera en mora y verificación de saldos en linea para asociados, notificaciones automáticas por movimiento de Tarjeta Débito | H37: Auxiliar de oficina, subgerencia y operador de sistemas | I37: Permanente | J37: Preventivo | K37: Alta | L37: 1 | M37: 1 | N37: =VLOOKUP((D37*E37)-(L37*M37),'riesgo inherente-Anexo '!C2:D28,2,TRUE) -> Bajo | O37: No se requiere | P37: N.A. | Q37: Alta | R37: Gestor de Riesgos | S37: 44926 | T37: Implementación
A38: 4 - Asociados o Clientes | B38: 41 - Adecuación, divulgación de información y confianza | C38: 417 - Información confidencial | D38: 1 | E38: 1 | F38: =VLOOKUP(D38*E38,'riesgo inherente-Anexo '!C4:D28,2,TRUE) -> Bajo | G38: 1. Auditoría custodia actas de: Asamblea, Consejo, Junta. 2. Revisión de Actas de manera digital para uso interno y física al interior de la Cooperativa 3. Compromiso de confidencialidad frente a información de actas por parte de la Junta de vigilancia. 4. Contabilidad conserva informacion contable y archivo inactivo con acceso restringido bajo llave. 5. Analista de crédito custodia actas de creditos y la Jefe de Crédito las de riesgos, foliadas, bajo llave, con firma de oficial de cumplimiento. Solo se revisan fisicamente sin copias fisicas o digitales | H38: Auditoría y Jefe de crédito | I38: Permanente | J38: Preventivo | K38: Alta | L38: 1 | M38: 1 | N38: =VLOOKUP((D38*E38)-(L38*M38),'riesgo inherente-Anexo '!C2:D28,2,TRUE) -> Bajo | O38: Para la entrega de documentos digitales de actas o contables establecer claves de acceso al documento | P38: Auditoría | Q38: Alta | R38: Gestor de Riesgos | S38: 44926 | T38: Implementación
A39: 4 - Asociados o Clientes | B39: 42 - Prácticas empresariales o de mercado improcedentes | C39: 421 - Prácticas restrictivas de la competencia | D39: 1 | E39: 1 | F39: =VLOOKUP(D39*E39,'riesgo inherente-Anexo '!C4:D28,2,TRUE) -> Bajo | G39: 1. Los reglamentos y estatutos no impiden que los asociados puedan ser asociados o clientes de otras entidades. 2. Las condiciones de los productos son de mercado. 3. En las compras de cartera que se hacen la Cooperativa simplemente verifica que el pago se haga a la entidad acreedora del asociado. 4. No existen trabas, costos, penalidades o impedimentos para que los asociados efectúen pagos anticipados de sus créditos parciales o totales o para la expedición de certificaciones de saldos. | H39: Consejo de Administración | I39: Permanente | J39: Preventivo | K39: Alta | L39: 1 | M39: 1 | N39: =VLOOKUP((D39*E39)-(L39*M39),'riesgo inherente-Anexo '!C2:D28,2,TRUE) -> Bajo | O39: No se requiere | P39: N.A. | Q39: Baja | R39: Gestor de Riesgos | S39: 44926 | T39: Implementación
A40: 4 - Asociados o Clientes | B40: 42 - Prácticas empresariales o de mercado improcedentes | C40: 422 - Prácticas comerciales o de mercadeo improcedentes | D40: 1 | E40: 1 | F40: =VLOOKUP(D40*E40,'riesgo inherente-Anexo '!C4:D28,2,TRUE) -> Bajo | G40: 1. Asesores comerciales a empresas para convenios de libranzas o visitas a personas naturales sin incentivos diferentes al porfafolio de servicios. 2. Programas de Referidos 3. Los asesores comerciales devengan mayoritariamente sus ingresos laborales de manera fija de tal forma que no se incentivan desde la administración prácticas indebidas 4. No se acepta el pago de comisiones, sobornos o dádivas para ser favorecidos en ninguna negociación como por ejemplo CONVENIOS DE LIBRANZA | H40: Consejo de Administración | I40: Permanente | J40: Preventivo | K40: Alta | L40: 1 | M40: 1 | N40: =VLOOKUP((D40*E40)-(L40*M40),'riesgo inherente-Anexo '!C2:D28,2,TRUE) -> Bajo | O40: No se requiere | P40: N.A. | Q40: Baja | R40: Gestor de Riesgos | S40: 44926 | T40: Implementación
...

Sheet Plan de Continuidad
A1: EVENTO | B1: DESCRIPCION ESTADO ACTUAL | C1: ACTIVIDADES A REALIZAR PARA RECUPERAR EL SERVICIO | D1: RESPONSABLE DE EJECUTAR EL PLAN | E1: TAREAS PENDIENTE DE REALIZAR | F1: TIEMPO DE RECUPERACIÓN | G1: MEJORAS AL SERVICIO
A2: INTERNET | B2: El canal principal es en FIBRA OPTICA y se tiene un canal para contigencias de BANDA ANCHA con otra empresa diferente. | C2: En caso de que se caiga la conexión por FIBRA OPTICA, se conecta automáticamente el CANAL de BANDA ANCHA. | D2: Automático. Asistente de Gerencia | E2: Ninguna | F2: Inmediato | G2: Ninguna
A3: SWICHT | B3: CAJA UNION cuenta con dos equipos para esta función y un equipo de respaldo en caso de falla | C3: Si falla un equipo, se procede a la instalación inmediata del respaldo. El tiempo aproximado del reemplazo es 10 minutos. | D3: Asistente de Gerencia y Gerente. Ambos técnicos en sistemas y redes | E3: Ninguna | F3: 10 minutos | G3: Ninguna
A4: ENERGIA | B4: Se cuenta con UPS | C4: La UPS soporta hasta 2 horas de funcionamiento sin energía | D4: Automático. Asistente de Gerencia | E4: Ninguna | F4: AUTOMATICO
A5: DESTRUCCION DE LAS OFICINAS (incendio, terremoto, terrorismo, asonada) | B5: La oficina es arrendada localizada en el Centro de Cúcuta (Norte de Santander) a dos cuadras de la Avenida CERO. El municipio es de bajo riesgo en orden público, sísmico y de inundaciones y cuenta con alarmas contra incendio. CAJA UNION es miembro de la red COOPCENTRAL lo que significa que los asociados pueden hacer sus transacciones en cualquiera de las casi 500 oficinas que forman parte de la RED | C5: FASE I: el Gerente con uno o dos empleados más puede conectarse con sus equipos portátiles a la RED para efectuar pagos y transferencias (retiros de ahorros o desembolsos). Aquellos que no tengan cuenta bancaria se les podrá girar cheque. FASE II: Arrendar LOCAL COMERCIAL y efectuar las adecuaciones físicas necesarias para los puestos de trabajo prioritarios de servicio CAJAS, la red (contratista usual) y los equipos (se compran). La información está en la "NUBE". Se requiere hacer publicidad para informar del evento y nuevo lugar de trabajo. | D5: Gerencia y Asitente de Gerencia | E5: Lograr que la mayoria de los asociados cuente con Tarjeta Débito para disponer de sus recursos a través de la red de cajeros automáticos o pago directo | F5: FASE I: 2 horas / FASE II: 48 horas. En caso de terremoto, la Fase I podría tardarse 48 horas y la Fase II una semana. | G5: Implementar CORRSPONSALES BANCARIOS e informar a todos los asociados las entidades que integral la RED Coopcentral
A6: FALLO DE EQUIPOS por daño físico | B6: Los equipos son propios (computadores, impresoras, telefonos) y tienen plan de mantenimiento, seguros. Se reponen por obsolescencia o daño. Se tiene sistema a tierra para evitar quema masiva por rayo | C6: Se cuenta con dos equipos portátiles de contingencia para atender daños imprevistos. | D6: Asistente de Gerencia y Gerente. Ambos técnicos en sistemas y redes | E6: Ninguna | F6: Inmediato | G6: Ninguna
A7: TELEFONO | B7: Se cuenta con 4 lineas FIJAS y 4 Celulares | C7: La lineas FIJAS son con la unica empresa que opera en el Municipio y las celulares con CLARO en caso de falla de las fijas se recurre a los telefonos celulares CLARO corporativos y los personales. En caso de que los celulares corporativos fallen, se tendría que comprar o habilitar un servicio con otro proveedor en los telefonos celulares personales | D7: Asistente de Gerencia | E7: Ninguna | F7: Inmediato | G7: Ninguna
A8: DATOS DE USUARIO y APLICATIVO | B8: La información de cada usuario se almacena en su equipos de computo y este a su vez se le efectúa backup en el SERVIDOR DE DOMINIO. La información informacion del aplicativo está en la NUBE en Datacenter replicado en otros 2 servidores, uno fuera del país. Se cuenta con seguridad contra ataques informáticos y captura de información por sofware malicioso | C8: Solicitar al Asistente de Gerencia el descargue de la información requerida del Backup. | D8: Asistente de Gerencia | E8: Automatizar backup de archivos de trabajo de usuarios en la NUBE o dispositivo fuera de las instalaciones de la Cooperativa | F8: 5 minutos | G8: Manejar toda la información laboral en una sola carpeta, que no este en mis documentos o el escritorio, ubicaciones mas vulnerables a perdida de información.
A9: PERSONAL CLAVE DE LA GERENCIA | B9: El gerente y asistente de Gerencia tienen firmas registradas en Bancos y la Secretaria de Gerencia es Representante Legal Suplente | C9: En caso de ausencia por cualquier motivo del personal CLAVE de la GERENCIA existen personas con firmas y atribuciones que permiten que la Cooperativa continue operando bajo condiciones normales. En caso de ausencia del Contador la Cooperativa no se paraliza y el Gerente está en capacidad de reemplazarlo temporalmente. | D9: Gerencia y Asitente de Gerencia | E9: Ninguna | F9: Inmediato | G9: Ninguna
B13: ELABORO | C13: APROBO
B17: FIRMA Y NOMBRE | C17: FIRMA Y NOMBRE

Sheet riesgo inherente-Anexo 
A1: Proabilidad | B1: Severidad | C1: SCORE | D1: Riesgo Inherente | F1: Riesgo Inherente | G1: Frecuencia Control | H1: Tipo de Control | I1: Efectividad | J1: Estado Implementación
A2: 0 | B2: 0 | C2: -999 | D2: Bajo | F2: Bajo | G2: Permanente | H2: Detectivo | I2: Alta | J2: Planeación
A3: 0 | B3: 1 | C3: 0 | D3: Bajo | F3: Moderado | G3: Periódico | H3: Preventivo | I3: Media | J3: Diseño
A4: 1 | B4: 1 | C4: =+A4*B4 -> 1 | D4: Bajo | F4: Alto | G4: Esporádico | I4: Baja | J4: Pruebas
A5: 1 | B5: 2 | C5: =+A5*B5 -> 2 | D5: Bajo | F5: Crítico | G5: Anual | J5: Implementación
A6: 2 | B6: 1 | C6: =+A6*B6 -> 2 | D6: Bajo | G6: Unica | J6: Funcionamiento
A7: 1 | B7: 3 | C7: =+A7*B7 -> 3 | D7: Bajo
A8: 3 | B8: 1 | C8: =+A8*B8 -> 3 | D8: Bajo
A9: 1 | B9: 4 | C9: =+A9*B9 -> 4 | D9: Bajo
A10: 2 | B10: 2 | C10: =+A10*B10 -> 4 | D10: Bajo
A11: 4 | B11: 1 | C11: =+A11*B11 -> 4 | D11: Bajo
A12: 1 | B12: 5 | C12: =+A12*B12 -> 5 | D12: Bajo
A13: 5 | B13: 1 | C13: =+A13*B13 -> 5 | D13: Bajo
A14: 2 | B14: 3 | C14: =+A14*B14 -> 6 | D14: Moderado
A15: 3 | B15: 2 | C15: =+A15*B15 -> 6 | D15: Moderado
A16: 2 | B16: 4 | C16: =+A16*B16 -> 8 | D16: Moderado
A17: 4 | B17: 2 | C17: =+A17*B17 -> 8 | D17: Moderado
A18: 3 | B18: 3 | C18: =+A18*B18 -> 9 | D18: Moderado
... A28: 5 | B28: 5 | C28: =+A28*B28 -> 25 | D28: Crítico

Sheet Codificacion
A1: Factores de Riesgo | B1: Cod | C1: Categorías de Riesgos | D1: Cod | E1: Macroprocesos
A2: Fraude Interno | B2: 1 | C2: Fraude Interno | D2: 1 | E2: Gestion Gerencial
A3: Fraude Externo | B3: 2 | C3: Fraude Externo | D3: 2 | E3: Vinculación
A4: Relaciones Laborales | B4: 3 | C4: Relaciones Laborales | D4: 3 | E4: Crédito
A5: Asociados o clientes | B5: 4 | C5: Asociados o clientes | D5: 4 | E5: Ahorro
A6: Daños a Activos Físicos | B6: 5 | C6: Daños a Activos Físicos | D6: 5 | E6: Fondos Sociales y Bienestar
A7: Fallas Tecnologicas | B7: 6 | C7: Fallas Tecnologicas | D7: 6 | E7: Talento Humano
A8: Ejecución y Administración de Procesos | B8: 7 | C8: Ejecución y Administración de Procesos | D8: 7 | E8: Contabilidad y Gestion Administrativa
B11: PROBABILIDAD | E11: IMPACTO | F11: % de los ingresos ordinarios anuales sin recuperaciones
A12: 1 | B12: 1. Improbable | E12: 1. Insignificante | F12: Hasta 0,5%
A13: 2 | B13: 2. Raro | E13: 2. Menor | F13: >0,5% hasta 1%
A14: 3 | B14: 3. Potencia | E14: 3. Moderado | F14: >1% hasta 3%
A15: 4 | B15: 4. Probable | E15: 4. Mayor | F15: >3% hasta 10%
A16: 5 | B16: 5. Casi Certeza | E16: 5. Catastrófico | F16: >10%
