Workbook

Sheet Cta Contable
A1: CUENTA | B1: TIPO | C1: DESCRIPCION DE LA CUENTA | D1: CLASIFICACIÓN | E1: CALIFICACIÓN
A2: 140000 | B2: SIN LIBRANZA | C2: CARTERA DE CRDITOS
A3: 140400 | B3: LIBRANZA | C3: CREDITOS DE VIVIENDA - CON LIBRANZA | D3: Vivienda | E3: -
A4: 140405 | B4: LIBRANZA | C4: CATEGORIA A RIESGO NORMAL | D4: Vivienda | E4: A
A5: 140410 | B5: LIBRANZA | C5: CATEGORIA B RIESGO ACEPTABLE | D5: Vivienda | E5: B
A6: 140415 | B6: LIBRANZA | C6: CATEGORIA C RIESGO APRECIABLE | D6: Vivienda | E6: C
A7: 140420 | B7: LIBRANZA | C7: CATEGORIA D RIESGO SIGNIFICATIVO | D7: Vivienda | E7: D
A8: 140425 | B8: LIBRANZA | C8: CATEGORIA E RIESGO DE INCOBRABILIDAD | D8: Vivienda | E8: E
A9: 140500 | B9: SIN LIBRANZA | C9: CREDITOS DE VIVIENDA - SIN LIBRANZA | D9: Vivienda | E9: -
A10: 140505 | B10: SIN LIBRANZA | C10: CATEGORIA A RIESGO NORMAL | D10: Vivienda | E10: =E4 -> A
A11: 140510 | B11: SIN LIBRANZA | C11: CATEGORIA B RIESGO ACEPTABLE | D11: Vivienda | E11: =E5 -> B
A12: 140515 | B12: SIN LIBRANZA | C12: CATEGORIA C RIESGO APRECIABLE | D12: Vivienda | E12: =E6 -> C
A13: 140520 | B13: SIN LIBRANZA | C13: CATEGORIA D RIESGO SIGNIFICATIVO | D13: Vivienda | E13: =E7 -> D
A14: 140525 | B14: SIN LIBRANZA | C14: CATEGORIA E RIESGO DE INCOBRABILIDAD | D14: Vivienda | E14: =E8 -> E
A15: 140600 | B15: SIN LIBRANZA | C15: INTERESES CREDITOS DE VIVIENDA | D15: Vivienda | E15: =E9 -> -
A16: 140605 | B16: SIN LIBRANZA | C16: CATEGORIA A RIESGO NORMAL | D16: Vivienda | E16: =E10 -> A
A17: 140610 | B17: SIN LIBRANZA | C17: CATEGORIA B RIESGO ACEPTABLE | D17: Vivienda | E17: =E11 -> B
A18: 140615 | B18: SIN LIBRANZA | C18: CATEGORIA C RIESGO APRECIABLE | D18: Vivienda | E18: =E12 -> C
A19: 140620 | B19: SIN LIBRANZA | C19: CATEGORIA D RIESGO SIGNIFICATIVO | D19: Vivienda | E19: =E13 -> D
A20: 140625 | B20: SIN LIBRANZA | C20: CATEGORIA E RIESGO DE INCOBRABILIDAD | D20: Vivienda | E20: =E14 -> E
A21: 140700 | B21: SIN LIBRANZA | C21: PAGOS POR CUENTA DE ASOCIADOS - CRDITOS VIVIENDA | D21: Vivienda | E21: =E15 -> -
... A81: 144500 | B81: SIN LIBRANZA | C81: DETERIORO CRDITOS DE CONSUMO (CR) | D81: Consumo | E81: =E75 -> -
A82: 144505 | B82: SIN LIBRANZA | C82: CATEGORIA A RIESGO NORMAL GARANTIA ADMISIBLE | D82: Consumo | E82: A
A83: 144510 | B83: SIN LIBRANZA | C83: CATEGORIA A RIESGO NORMAL OTRAS GARANTIAS | D83: Consumo | E83: A
A84: 144515 | B84: SIN LIBRANZA | C84: CATEGORIA B RIESGO ACEPTABLE GARANTIA ADMISIBLE | D84: Consumo | E84: B
A85: 144520 | B85: SIN LIBRANZA | C85: CATEGORIA B RIESGO ACEPTABLE OTRAS GARANTIAS | D85: Consumo | E85: B
A86: 144525 | B86: SIN LIBRANZA | C86: CATEGORIA C RIESGO APRECIABLE GARANTIA ADMISIBLE | D86: Consumo | E86: C
A87: 144530 | B87: SIN LIBRANZA | C87: CATEGORIA C RIESGO APRECIABLE OTRAS GARANTIAS | D87: Consumo | E87: C
A88: 144535 | B88: SIN LIBRANZA | C88: CATEGORIA D RIESGO SIGNIFICATIVO GARANTIA ADMISIBLE | D88: Consumo | E88: D
A89: 144540 | B89: SIN LIBRANZA | C89: CATEGORIA D RIESGO SIGNIFICATIVO OTRAS GARANTIAS | D89: Consumo | E89: D
A90: 144545 | B90: SIN LIBRANZA | C90: CATEGORIA E RIESGO DE INCOBRABILIDAD GARANTIA ADMISIBLE | D90: Consumo | E90: E
A91: 144550 | B91: SIN LIBRANZA | C91: CATEGORIA E RIESGO DE INCOBRABILIDAD OTRAS GARANTIAS | D91: Consumo | E91: E
A92: 144600 | B92: SIN LIBRANZA | C92: DETERIORO INTERESES CREDITOS DE CONSUMO (CR) | D92: Consumo | E92: -
A93: 144605 | B93: SIN LIBRANZA | C93: CATEGORIA A RIESGO NORMAL | D93: Consumo | E93: A
... A97: 144625 | B97: SIN LIBRANZA | C97: CATEGORIA E RIESGO DE INCOBRABILIDAD | D97: Consumo | E97: E
A98: 144700 | B98: SIN LIBRANZA | C98: DETERIORO PAGO POR CUENTA DE ASOCIADOS - CREDITOS DE CONSUMO (CR) | D98: Consumo | E98: =E92 -> -
A99: 144705 | B99: SIN LIBRANZA | C99: CATEGORIA A RIESGO NORMAL | D99: Consumo | E99: =E93 -> A
A100: 144710 | B100: SIN LIBRANZA | C100: CATEGORIA B RIESGO ACEPTABLE | D100: Consumo | E100: =E94 -> B
A101: 144715 | B101: SIN LIBRANZA | C101: CATEGORIA C RIESGO APRECIABLE | D101: Consumo | E101: =E95 -> C
A102: 144720 | B102: SIN LIBRANZA | C102: CATEGORIA D RIESGO SIGNIFICATIVO | D102: Consumo | E102: =E96 -> D
...

Sheet T. Dinamica
A3: Etiquetas de fila | B3: No Créditos | C3: % No Créditos | D3: Vr Cartera | E3: % Vr Cartera
A4: 1- 2.500.000 | B4: 290 | C4: 0.38208169 | D4: 311006837 | E4: 0.063415796
A5: 2.500.001 - 5.000.000 | B5: 190 | C5: 0.25032938 | D5: 717473792 | E5: 0.14629637
A6: 5.000.001 - 10.000.000 | B6: 141 | C6: 0.18577075 | D6: 1003674845 | E6: 0.20465415
A7: 10.000.001 - 15.000.000 | B7: 57 | C7: 0.075098814 | D7: 7.1580901e+08 | E7: 0.14595691
A8: 15.000.001 - 20.000.000 | B8: 41 | C8: 0.054018445 | D8: 724300246 | E8: 0.14768832
A9: 20.000.001 - 63.000.000 | B9: 36 | C9: 0.04743083 | D9: 1032564927 | E9: 0.21054497
A10: > 63.000.000 | B10: 4 | C10: 0.0052700922 | D10: 399419108 | E10: 0.081443484
A11: Total general | B11: 759 | C11: 1 | D11: 4.9042488e+09 | E11: 1
A15: Vr Cartera | B15: Etiquetas de columna
A16: Etiquetas de fila | B16: Al día | C16: Mora | D16: Total general | E16: Mora
A17: 1- 2.500.000 | B17: 288248200 | C17: 22758637 | D17: 311006837 | E17: =C17/$D$24 -> 0.004640596
A18: 2.500.001 - 5.000.000 | B18: 689878621 | C18: 27595171 | D18: 717473792 | E18: =C18/$D$24 -> 0.0056267886
A19: 5.000.001 - 10.000.000 | B19: 977529517 | C19: 26145328 | D19: 1003674845 | E19: =C19/$D$24 -> 0.0053311586
A20: 10.000.001 - 15.000.000 | B20: 7.0436758e+08 | C20: 11441423 | D20: 7.1580901e+08 | E20: =C20/$D$24 -> 0.0023329614
A21: 15.000.001 - 20.000.000 | B21: 706060633 | C21: 18239613 | D21: 724300246 | E21: =C21/$D$24 -> 0.0037191452
A22: 20.000.001 - 63.000.000 | B22: 911112920 | C22: 121452007 | D22: 1032564927 | E22: =C22/$D$24 -> 0.024764651
A23: > 63.000.000 | B23: 284248666 | C23: 115170442 | D23: 399419108 | E23: =C23/$D$24 -> 0.023483809
A24: Total general | B24: 4.5614461e+09 | C24: 342802621 | D24: 4.9042488e+09 | E24: =C24/$D$24 -> 0.069899109
A28: Reest | B28: Reestructurado
A30: Calif / No Créditos | B30: No Cr Reestructurados | C30: Vr Cartera
A31: A | B31: 12 | C31: 128980064
A32: C | B32: 1 | C32: 1331529
A33: D | B33: 4 | C33: 62418012
A34: E | B34: 1 | C34: 115170442
A35: Total general | B35: 18 | C35: 307900047
E39: =51-39 -> 12

Sheet Cartera
BF1: =VLOOKUP(C1,'Cta Contable'!A:E,5,FALSE) -> #N/A | BG1: =VLOOKUP(C1,'Cta Contable'!A:D,4,FALSE) -> #N/A | BH1: =VLOOKUP(Q1,Lista!A:B,2,TRUE) -> #N/A | BI1: =IF(BF1<>"A","Mora","Al día") -> #N/A | BJ1: =IF(AND(AO1<>"",AP1<>"A"),"Reestructurado","-") -> -
A2: TipoIden | B2: NIT | C2: CodigoContable | D2: ModificacionesAlCredito | E2: NroCredito | F2: FechaDesembolsoInicial | G2: FechaVencimiento | H2: Morosidad | I2: TipoCuota | J2: AlturaCuota | K2: Amortizacion | L2: Modalidad | M2: TasaIntereNominal | N2: TasaInteresEfectiva | O2: ValorPrestamo | P2: ValorCuotaFija | Q2: SaldoCapital | R2: SaldoIntereses | S2: OtrosSaldos | T2: Garantia | U2: FechaAvaluo | V2: Provision | W2: ProvisionInteres | X2: Contingencia | Y2: ValosCuotasExtra | Z2: MesesCuotaExtra | AA2: fechaultimopago | AB2: clasegarantia | AC2: destinocredito | AD2: CodOficina | AE2: AmortiCapital | AF2: ValorMora | AG2: TipoVivienda | AH2: VIS | AI2: RangoTipo | AJ2: EntidadRedescuento | AK2: MargenRedescuento | AL2: Subsidio | AM2: Desembolso | AN2: Moneda | AO2: FechaReestructuracion | AP2: CategoriaReestr | AQ2: AportesSociales | AR2: LineaCredEntidad | AS2: NumModificaciones | AT2: Estadocredito | AU2: NITPatronal | AV2: NombrePatronal | AW2: MODCREDCE1120 | AX2: TIPOMODCE1120 | AY2: FECHAMODCE1120 | AZ2: CALIFANTEMODCE1120 | BA2: PERIOGRACIA | BB2: TARJCREDCUPROT | BC2: ENTOTORGARANT | BD2: MODCREDCE1720 | BE2: FECHA | BF2: Calificación | BG2: Clasif | BH2: R. Saldos | BI2: Mora | BJ2: Reest
A3: C | B3: * | C3: 144205 | D3: 4 | E3: 19593 | F3: 43798 | G3: 44757 | H3: 0 | I3: 1 | J3: 15 | K3: 30 | L3: 2 | M3: 20.88 | N3: 22.998779 | O3: 5000000 | P3: 210048 | Q3: 2905531 | R3: 25275 | S3: 0 | T3: 0 | V3: 0 | W3: 0 | X3: 0 | AA3: 44270 | AB3: 1 | AC3: O | AD3: 1 | AE3: 30 | AF3: 0 | AM3: 1 | AN3: 1 | AQ3: 958000 | AR3: LINEA CONSUMO | AS3: 0 | AT3: 0 | AW3: 5 | BB3: 1 | BC3: 7 | BD3: 2 | BE3: 44286 | BF3: =VLOOKUP(C3,'Cta Contable'!A:E,5,FALSE) -> A | BG3: =VLOOKUP(C3,'Cta Contable'!A:D,4,FALSE) -> Consumo | BH3: =VLOOKUP(Q3,Lista!A:B,2,TRUE) -> 2.500.001 - 5.000.000 | BI3: =IF(BF3<>"A","Mora","Al día") -> Al día | BJ3: =IF(AND(AO3<>"",AP3<>"A"),"Reestructurado","-") -> -
A4: C | B4: * | C4: 144205 | D4: 4 | E4: 17983 | F4: 44013 | G4: 44509 | H4: 21 | I4: 1 | J4: 7 | K4: 30 | L4: 2 | M4: 20.92 | N4: 23.047146 | O4: 2985655 | P4: 215448 | Q4: 1605028 | R4: 19503 | S4: 0 | T4: 0 | V4: 0 | W4: 0 | X4: 0 | AA4: 44279 | AB4: 1 | AC4: O | AD4: 1 | AE4: 30 | AF4: 9163 | AM4: 1 | AN4: 1 | AQ4: 303000 | AR4: LINEA CONSUMO | AS4: 0 | AT4: 0 | AW4: 1 | AX4: 2 | AY4: 44013 | AZ4: A | BB4: 1 | BC4: 7 | BD4: 2 | BE4: 44286 | BF4: =VLOOKUP(C4,'Cta Contable'!A:E,5,FALSE) -> A | BG4: =VLOOKUP(C4,'Cta Contable'!A:D,4,FALSE) -> Consumo | BH4: =VLOOKUP(Q4,Lista!A:B,2,TRUE) -> 1- 2.500.000 | BI4: =IF(BF4<>"A","Mora","Al día") -> Al día | BJ4: =IF(AND(AO4<>"",AP4<>"A"),"Reestructurado","-") -> -
A5: C | B5: * | C5: 144205 | D5: 4 | E5: 20217 | F5: 43994 | G5: 44910 | H5: 0 | I5: 1 | J5: 11 | K5: 30 | L5: 2 | M5: 23.42 | N5: 26.104899 | O5: 5000000 | P5: 221769 | Q5: 3389668 | R5: 33075 | S5: 0 | T5: 0 | V5: 0 | W5: 0 | X5: 0 | AA5: 44270 | AB5: 1 | AC5: O | AD5: 1 | AE5: 30 | AF5: 0 | AM5: 1 | AN5: 1 | AQ5: 1591000 | AR5: LINEA CONSUMO | AS5: 0 | AT5: 0 | AW5: 5 | BB5: 1 | BC5: 7 | BD5: 2 | BE5: 44286 | BF5: =VLOOKUP(C5,'Cta Contable'!A:E,5,FALSE) -> A | BG5: =VLOOKUP(C5,'Cta Contable'!A:D,4,FALSE) -> Consumo | BH5: =VLOOKUP(Q5,Lista!A:B,2,TRUE) -> 2.500.001 - 5.000.000 | BI5: =IF(BF5<>"A","Mora","Al día") -> Al día | BJ5: =IF(AND(AO5<>"",AP5<>"A"),"Reestructurado","-") -> -
A6: C | B6: * | C6: 144205 | D6: 4 | E6: 19640 | F6: 44013 | G6: 44842 | H6: 0 | I6: 1 | J6: 8 | K6: 30 | L6: 2 | M6: 20.95 | N6: 23.083432 | O6: 4473720 | P6: 209218 | Q6: 3356715 | R6: 42966 | S6: 0 | T6: 0 | V6: 0 | W6: 0 | X6: 0 | AA6: 44263 | AB6: 1 | AC6: O | AD6: 1 | AE6: 30 | AF6: 0 | AM6: 1 | AN6: 1 | AQ6: 1383000 | AR6: LINEA CONSUMO | AS6: 0 | AT6: 0 | AW6: 1 | AX6: 2 | AY6: 44013 | AZ6: A | BB6: 1 | BC6: 7 | BD6: 2 | BE6: 44286 | BF6: =VLOOKUP(C6,'Cta Contable'!A:E,5,FALSE) -> A | BG6: =VLOOKUP(C6,'Cta Contable'!A:D,4,FALSE) -> Consumo | BH6: =VLOOKUP(Q6,Lista!A:B,2,TRUE) -> 2.500.001 - 5.000.000 | BI6: =IF(BF6<>"A","Mora","Al día") -> Al día | BJ6: =IF(AND(AO6<>"",AP6<>"A"),"Reestructurado","-") -> -
A7: C | B7: * | C7: 144205 | D7: 4 | E7: 20565 | F7: 44083 | G7: 45325 | H7: 0 | I7: 1 | J7: 7 | K7: 30 | L7: 2 | M7: 19.32 | N7: 21.126011 | O7: 5000000 | P7: 170510 | Q7: 4241384 | R7: 0 | S7: 0 | T7: 0 | V7: 0 | W7: 0 | X7: 0 | AA7: 44286 | AB7: 1 | AC7: O | AD7: 1 | AE7: 30 | AF7: 0 | AM7: 1 | AN7: 1 | AQ7: 1606500 | AR7: LINEA CONSUMO | AS7: 0 | AT7: 0 | AW7: 5 | BB7: 1 | BC7: 7 | BD7: 2 | BE7: 44286 | BF7: =VLOOKUP(C7,'Cta Contable'!A:E,5,FALSE) -> A | BG7: =VLOOKUP(C7,'Cta Contable'!A:D,4,FALSE) -> Consumo | BH7: =VLOOKUP(Q7,Lista!A:B,2,TRUE) -> 2.500.001 - 5.000.000 | BI7: =IF(BF7<>"A","Mora","Al día") -> Al día | BJ7: =IF(AND(AO7<>"",AP7<>"A"),"Reestructurado","-") -> -
A8: C | B8: * | C8: 144205 | D8: 4 | E8: 18214 | F8: 44013 | G8: 44848 | H8: 0 | I8: 1 | J8: 8 | K8: 30 | L8: 2 | M8: 23.43 | N8: 26.117269 | O8: 7593026 | P8: 364508 | Q8: 5740035 | R8: 58333 | S8: 0 | T8: 0 | V8: 0 | W8: 0 | X8: 0 | AA8: 44284 | AB8: 1 | AC8: O | AD8: 1 | AE8: 30 | AF8: 0 | AM8: 1 | AN8: 1 | AQ8: 1103000 | AR8: LINEA CONSUMO | AS8: 0 | AT8: 0 | AW8: 1 | AX8: 2 | AY8: 44013 | AZ8: A | BB8: 1 | BC8: 7 | BD8: 2 | BE8: 44286 | BF8: =VLOOKUP(C8,'Cta Contable'!A:E,5,FALSE) -> A | BG8: =VLOOKUP(C8,'Cta Contable'!A:D,4,FALSE) -> Consumo | BH8: =VLOOKUP(Q8,Lista!A:B,2,TRUE) -> 5.000.001 - 10.000.000 | BI8: =IF(BF8<>"A","Mora","Al día") -> Al día | BJ8: =IF(AND(AO8<>"",AP8<>"A"),"Reestructurado","-") -> -
A9: C | B9: * | C9: 144205 | D9: 4 | E9: 19146 | F9: 43704 | G9: 44819 | H9: 0 | I9: 1 | J9: 18 | K9: 30 | L9: 2 | M9: 17.41 | N9: 18.868676 | O9: 29900000 | P9: 1072128 | Q9: 16798707 | R9: 170604 | S9: 0 | T9: 0 | V9: 0 | W9: 0 | X9: 0 | AA9: 44264 | AB9: 1 | AC9: O | AD9: 1 | AE9: 30 | AF9: 0 | AM9: 1 | AN9: 1 | AQ9: 2572900 | AR9: LINEA CONSUMO | AS9: 0 | AT9: 0 | AW9: 5 | BB9: 1 | BC9: 7 | BD9: 2 | BE9: 44286 | BF9: =VLOOKUP(C9,'Cta Contable'!A:E,5,FALSE) -> A | BG9: =VLOOKUP(C9,'Cta Contable'!A:D,4,FALSE) -> Consumo | BH9: =VLOOKUP(Q9,Lista!A:B,2,TRUE) -> 15.000.001 - 20.000.000 | BI9: =IF(BF9<>"A","Mora","Al día") -> Al día | BJ9: =IF(AND(AO9<>"",AP9<>"A"),"Reestructurado","-") -> -
A10: C | B10: * | C10: 144205 | D10: 4 | E10: 18262 | F10: 44013 | G10: 44537 | H10: 0 | I10: 1 | J10: 8 | K10: 30 | L10: 2 | M10: 21.03 | N10: 23.180244 | O10: 3289201 | P10: 225411 | Q10: 1861784 | R10: 25024 | S10: 0 | T10: 0 | V10: 0 | W10: 0 | X10: 0 | AA10: 44275 | AB10: 1 | AC10: O | AD10: 1 | AE10: 30 | AF10: 0 | AM10: 1 | AN10: 1 | AQ10: 1204000 | AR10: LINEA CONSUMO | AS10: 0 | AT10: 0 | AW10: 1 | AX10: 2 | AY10: 44013 | AZ10: A | BB10: 1 | BC10: 7 | BD10: 2 | BE10: 44286 | BF10: =VLOOKUP(C10,'Cta Contable'!A:E,5,FALSE) -> A | BG10: =VLOOKUP(C10,'Cta Contable'!A:D,4,FALSE) -> Consumo | BH10: =VLOOKUP(Q10,Lista!A:B,2,TRUE) -> 1- 2.500.000 | BI10: =IF(BF10<>"A","Mora","Al día") -> Al día | BJ10: =IF(AND(AO10<>"",AP10<>"A"),"Reestructurado","-") -> -
A11: C | B11: * | C11: 144205 | D11: 4 | E11: 15208 | F11: 42893 | G11: 44537 | H11: 23 | I11: 1 | J11: 44 | K11: 30 | L11: 2 | M11: 21.600001 | N11: 23.872054 | O11: 29900000 | P11: 870325 | Q11: 7900205 | R11: 238444 | S11: 0 | T11: 0 | V11: 0 | W11: 0 | X11: 0 | AA11: 44285 | AB11: 1 | AC11: O | AD11: 1 | AE11: 30 | AF11: 728115 | AM11: 1 | AN11: 1 | AQ11: 3036856 | AR11: LINEA CONSUMO | AS11: 0 | AT11: 0 | AW11: 5 | BB11: 1 | BC11: 7 | BD11: 2 | BE11: 44286 | BF11: =VLOOKUP(C11,'Cta Contable'!A:E,5,FALSE) -> A | BG11: =VLOOKUP(C11,'Cta Contable'!A:D,4,FALSE) -> Consumo | BH11: =VLOOKUP(Q11,Lista!A:B,2,TRUE) -> 5.000.001 - 10.000.000 | BI11: =IF(BF11<>"A","Mora","Al día") -> Al día | BJ11: =IF(AND(AO11<>"",AP11<>"A"),"Reestructurado","-") -> -
A12: C | B12: * | C12: 144205 | D12: 4 | E12: 19809 | F12: 44013 | G12: 44352 | H12: 25 | I12: 1 | J12: 7 | K12: 30 | L12: 2 | M12: 11.38 | N12: 11.992731 | O12: 1092266 | P12: 105036 | Q12: 309711 | R12: 2573 | S12: 0 | T12: 0 | V12: 0 | W12: 0 | X12: 0 | AA12: 44259 | AB12: 1 | AC12: O | AD12: 1 | AE12: 30 | AF12: 486 | AM12: 1 | AN12: 1 | AQ12: 1783000 | AR12: LINEA CONSUMO | AS12: 0 | AT12: 0 | AW12: 1 | AX12: 2 | AY12: 44013 | AZ12: A | BB12: 1 | BC12: 7 | BD12: 2 | BE12: 44286 | BF12: =VLOOKUP(C12,'Cta Contable'!A:E,5,FALSE) -> A | BG12: =VLOOKUP(C12,'Cta Contable'!A:D,4,FALSE) -> Consumo | BH12: =VLOOKUP(Q12,Lista!A:B,2,TRUE) -> 1- 2.500.000 | BI12: =IF(BF12<>"A","Mora","Al día") -> Al día | BJ12: =IF(AND(AO12<>"",AP12<>"A"),"Reestructurado","-") -> -
A13: C | B13: * | C13: 144205 | D13: 3 | E13: 19826 | F13: 44013 | G13: 45061 | H13: 0 | I13: 1 | J13: 8 | K13: 30 | L13: 2 | M13: 20.98 | N13: 23.119728 | O13: 7674275 | P13: 301318 | Q13: 6252359 | R13: 50811 | S13: 0 | T13: 0 | V13: 0 | W13: 0 | X13: 0 | AA13: 44281 | AB13: 1 | AC13: O | AD13: 1 | AE13: 30 | AF13: 0 | AM13: 1 | AN13: 1 | AO13: 44013 | AP13: A | AQ13: 1181559 | AR13: LINEA CONSUMO | AS13: 1 | AT13: 0 | AW13: 5 | BB13: 1 | BC13: 7 | BD13: 2 | BE13: 44286 | BF13: =VLOOKUP(C13,'Cta Contable'!A:E,5,FALSE) -> A | BG13: =VLOOKUP(C13,'Cta Contable'!A:D,4,FALSE) -> Consumo | BH13: =VLOOKUP(Q13,Lista!A:B,2,TRUE) -> 5.000.001 - 10.000.000 | BI13: =IF(BF13<>"A","Mora","Al día") -> Al día | BJ13: =IF(AND(AO13<>"",AP13<>"A"),"Reestructurado","-") -> -
A14: C | B14: * | C14: 144205 | D14: 4 | E14: 20577 | F14: 44085 | G14: 44834 | H14: 0 | I14: 1 | J14: 6 | K14: 30 | L14: 2 | M14: 11.42 | N14: 12.037116 | O14: 1100000 | P14: 51483 | Q14: 838407 | R14: 3990 | S14: 0 | T14: 0 | V14: 0 | W14: 0 | X14: 0 | AA14: 44270 | AB14: 1 | AC14: O | AD14: 1 | AE14: 30 | AF14: 0 | AM14: 1 | AN14: 1 | AQ14: 158441 | AR14: LINEA CONSUMO | AS14: 0 | AT14: 0 | AW14: 5 | BB14: 1 | BC14: 7 | BD14: 2 | BE14: 44286 | BF14: =VLOOKUP(C14,'Cta Contable'!A:E,5,FALSE) -> A | BG14: =VLOOKUP(C14,'Cta Contable'!A:D,4,FALSE) -> Consumo | BH14: =VLOOKUP(Q14,Lista!A:B,2,TRUE) -> 1- 2.500.000 | BI14: =IF(BF14<>"A","Mora","Al día") -> Al día | BJ14: =IF(AND(AO14<>"",AP14<>"A"),"Reestructurado","-") -> -
A15: C | B15: * | C15: 144205 | D15: 4 | E15: 20405 | F15: 44042 | G15: 44650 | H15: 0 | I15: 1 | J15: 7 | K15: 30 | L15: 2 | M15: 23.42 | N15: 26.104899 | O15: 2000000 | P15: 121744 | Q15: 1386001 | R15: 26344 | S15: 0 | T15: 0 | V15: 0 | W15: 0 | X15: 0 | AA15: 44258 | AB15: 1 | AC15: O | AD15: 1 | AE15: 30 | AF15: 0 | AM15: 1 | AN15: 1 | AQ15: 404000 | AR15: LINEA CONSUMO | AS15: 0 | AT15: 0 | AW15: 5 | BB15: 1 | BC15: 7 | BD15: 2 | BE15: 44286 | BF15: =VLOOKUP(C15,'Cta Contable'!A:E,5,FALSE) -> A | BG15: =VLOOKUP(C15,'Cta Contable'!A:D,4,FALSE) -> Consumo | BH15: =VLOOKUP(Q15,Lista!A:B,2,TRUE) -> 1- 2.500.000 | BI15: =IF(BF15<>"A","Mora","Al día") -> Al día | BJ15: =IF(AND(AO15<>"",AP15<>"A"),"Reestructurado","-") -> -
A16: C | B16: * | C16: 144205 | D16: 3 | E16: 20488 | F16: 44063 | G16: 45092 | H16: 0 | I16: 1 | J16: 6 | K16: 30 | L16: 2 | M16: 11.42 | N16: 12.037116 | O16: 2570000 | P16: 91114 | Q16: 2151222 | R16: 13640 | S16: 0 | T16: 0 | V16: 0 | W16: 0 | X16: 0 | AA16: 44265 | AB16: 1 | AC16: O | AD16: 1 | AE16: 30 | AF16: 0 | AM16: 1 | AN16: 1 | AO16: 44063 | AP16: A | AQ16: 2813000 | AR16: LINEA CONSUMO | AS16: 1 | AT16: 0 | AW16: 5 | BB16: 1 | BC16: 7 | BD16: 2 | BE16: 44286 | BF16: =VLOOKUP(C16,'Cta Contable'!A:E,5,FALSE) -> A | BG16: =VLOOKUP(C16,'Cta Contable'!A:D,4,FALSE) -> Consumo | BH16: =VLOOKUP(Q16,Lista!A:B,2,TRUE) -> 1- 2.500.000 | BI16: =IF(BF16<>"A","Mora","Al día") -> Al día | BJ16: =IF(AND(AO16<>"",AP16<>"A"),"Reestructurado","-") -> -
A17: C | B17: * | C17: 144205 | D17: 4 | E17: 17862 | F17: 43434 | G17: 44717 | H17: 0 | I17: 1 | J17: 27 | K17: 30 | L17: 2 | M17: 20.9 | N17: 23.02296 | O17: 15000000 | P17: 506521 | Q17: 6623136 | R17: 92280 | S17: 0 | T17: 0 | V17: 0 | W17: 0 | X17: 0 | AA17: 44261 | AB17: 1 | AC17: O | AD17: 1 | AE17: 30 | AF17: 0 | AM17: 1 | AN17: 1 | AQ17: 3472208 | AR17: LINEA CONSUMO | AS17: 0 | AT17: 0 | AW17: 5 | BB17: 1 | BC17: 7 | BD17: 2 | BE17: 44286 | BF17: =VLOOKUP(C17,'Cta Contable'!A:E,5,FALSE) -> A | BG17: =VLOOKUP(C17,'Cta Contable'!A:D,4,FALSE) -> Consumo | BH17: =VLOOKUP(Q17,Lista!A:B,2,TRUE) -> 5.000.001 - 10.000.000 | BI17: =IF(BF17<>"A","Mora","Al día") -> Al día | BJ17: =IF(AND(AO17<>"",AP17<>"A"),"Reestructurado","-") -> -
A18: C | B18: * | C18: 144205 | D18: 4 | E18: 18751 | F18: 44013 | G18: 44727 | H18: 15 | I18: 1 | J18: 7 | K18: 30 | L18: 2 | M18: 20.97 | N18: 23.107629 | O18: 7365056 | P18: 391624 | Q18: 5128614 | R18: 44811 | S18: 0 | T18: 0 | V18: 0 | W18: 0 | X18: 0 | AA18: 44279 | AB18: 1 | AC18: O | AD18: 1 | AE18: 30 | AF18: 161 | AM18: 1 | AN18: 1 | AQ18: 3343520 | AR18: LINEA CONSUMO | AS18: 0 | AT18: 0 | AW18: 1 | AX18: 2 | AY18: 44013 | AZ18: A | BB18: 1 | BC18: 7 | BD18: 2 | BE18: 44286 | BF18: =VLOOKUP(C18,'Cta Contable'!A:E,5,FALSE) -> A | BG18: =VLOOKUP(C18,'Cta Contable'!A:D,4,FALSE) -> Consumo | BH18: =VLOOKUP(Q18,Lista!A:B,2,TRUE) -> 5.000.001 - 10.000.000 | BI18: =IF(BF18<>"A","Mora","Al día") -> Al día | BJ18: =IF(AND(AO18<>"",AP18<>"A"),"Reestructurado","-") -> -
A19: C | B19: * | C19: 144205 | D19: 4 | E19: 20383 | F19: 44042 | G19: 45275 | H19: 0 | I19: 1 | J19: 7 | K19: 30 | L19: 2 | M19: 19.320074 | N19: 21.1261 | O19: 5000000 | P19: 170511 | Q19: 4338662 | R19: 30803 | S19: 0 | T19: 0 | V19: 0 | W19: 0 | X19: 0 | AA19: 44275 | AB19: 1 | AC19: O | AD19: 1 | AE19: 30 | AF19: 0 | AM19: 1 | AN19: 1 | AQ19: 1553952 | AR19: LINEA CONSUMO | AS19: 0 | AT19: 0 | AW19: 5 | BB19: 1 | BC19: 7 | BD19: 2 | BE19: 44286 | BF19: =VLOOKUP(C19,'Cta Contable'!A:E,5,FALSE) -> A | BG19: =VLOOKUP(C19,'Cta Contable'!A:D,4,FALSE) -> Consumo | BH19: =VLOOKUP(Q19,Lista!A:B,2,TRUE) -> 2.500.001 - 5.000.000 | BI19: =IF(BF19<>"A","Mora","Al día") -> Al día | BJ19: =IF(AND(AO19<>"",AP19<>"A"),"Reestructurado","-") -> -
A20: C | B20: * | C20: 144205 | D20: 3 | E20: 21354 | F20: 44252 | G20: 45319 | H20: 0 | I20: 1 | J20: 1 | K20: 30 | L20: 2 | M20: 21.02 | N20: 23.168139 | O20: 10000000 | P20: 384610 | Q20: 9790170 | R20: 0 | S20: 0 | T20: 0 | V20: 0 | W20: 0 | X20: 0 | AA20: 44285 | AB20: 1 | AC20: O | AD20: 1 | AE20: 30 | AF20: 0 | AM20: 1 | AN20: 1 | AO20: 44252 | AP20: A | AQ20: 843000 | AR20: LINEA CONSUMO | AS20: 1 | AT20: 0 | AW20: 5 | BB20: 1 | BC20: 7 | BD20: 2 | BE20: 44286 | BF20: =VLOOKUP(C20,'Cta Contable'!A:E,5,FALSE) -> A | BG20: =VLOOKUP(C20,'Cta Contable'!A:D,4,FALSE) -> Consumo | BH20: =VLOOKUP(Q20,Lista!A:B,2,TRUE) -> 5.000.001 - 10.000.000 | BI20: =IF(BF20<>"A","Mora","Al día") -> Al día | BJ20: =IF(AND(AO20<>"",AP20<>"A"),"Reestructurado","-") -> -
A21: C | B21: * | C21: 144205 | D21: 4 | E21: 17973 | F21: 44013 | G21: 45153 | H21: 0 | I21: 1 | J21: 8 | K21: 30 | L21: 2 | M21: 20.92 | N21: 23.047146 | O21: 20412925 | P21: 753264 | Q21: 17032838 | R21: 148179 | S21: 0 | T21: 0 | V21: 0 | W21: 0 | X21: 0 | AA21: 44284 | AB21: 1 | AC21: O | AD21: 1 | AE21: 30 | AF21: 0 | AM21: 1 | AN21: 1 | AQ21: 1512357 | AR21: LINEA CONSUMO | AS21: 0 | AT21: 0 | AW21: 1 | AX21: 2 | AY21: 44013 | AZ21: A | BB21: 1 | BC21: 7 | BD21: 2 | BE21: 44286 | BF21: =VLOOKUP(C21,'Cta Contable'!A:E,5,FALSE) -> A | BG21: =VLOOKUP(C21,'Cta Contable'!A:D,4,FALSE) -> Consumo | BH21: =VLOOKUP(Q21,Lista!A:B,2,TRUE) -> 15.000.001 - 20.000.000 | BI21: =IF(BF21<>"A","Mora","Al día") -> Al día | BJ21: =IF(AND(AO21<>"",AP21<>"A"),"Reestructurado","-") -> -
A22: C | B22: * | C22: 144205 | D22: 4 | E22: 21123 | F22: 44194 | G22: 45107 | H22: 0 | I22: 1 | J22: 2 | K22: 30 | L22: 2 | M22: 11.42 | N22: 12.037116 | O22: 1640000 | P22: 63099 | Q22: 1544564 | R22: 12911 | S22: 0 | T22: 0 | V22: 0 | W22: 0 | X22: 0 | AA22: 44261 | AB22: 1 | AC22: O | AD22: 1 | AE22: 30 | AF22: 0 | AM22: 1 | AN22: 1 | AQ22: 137143 | AR22: LINEA CONSUMO | AS22: 0 | AT22: 0 | AW22: 5 | BB22: 1 | BC22: 7 | BD22: 2 | BE22: 44286 | BF22: =VLOOKUP(C22,'Cta Contable'!A:E,5,FALSE) -> A | BG22: =VLOOKUP(C22,'Cta Contable'!A:D,4,FALSE) -> Consumo | BH22: =VLOOKUP(Q22,Lista!A:B,2,TRUE) -> 1- 2.500.000 | BI22: =IF(BF22<>"A","Mora","Al día") -> Al día | BJ22: =IF(AND(AO22<>"",AP22<>"A"),"Reestructurado","-") -> -
A23: C | B23: * | C23: 144205 | D23: 4 | E23: 19301 | F23: 43733 | G23: 44849 | H23: 0 | I23: 1 | J23: 17 | K23: 30 | L23: 2 | M23: 20.94 | N23: 23.071336 | O23: 14000000 | P23: 527020 | Q23: 8424736 | R23: 83300 | S23: 0 | T23: 0 | V23: 0 | W23: 0 | X23: 0 | AA23: 44268 | AB23: 1 | AC23: O | AD23: 1 | AE23: 30 | AF23: 0 | AM23: 1 | AN23: 1 | AQ23: 1914000 | AR23: LINEA CONSUMO | AS23: 0 | AT23: 0 | AW23: 5 | BB23: 1 | BC23: 7 | BD23: 2 | BE23: 44286 | BF23: =VLOOKUP(C23,'Cta Contable'!A:E,5,FALSE) -> A | BG23: =VLOOKUP(C23,'Cta Contable'!A:D,4,FALSE) -> Consumo | BH23: =VLOOKUP(Q23,Lista!A:B,2,TRUE) -> 5.000.001 - 10.000.000 | BI23: =IF(BF23<>"A","Mora","Al día") -> Al día | BJ23: =IF(AND(AO23<>"",AP23<>"A"),"Reestructurado","-") -> -
A24: C | B24: * | C24: 144205 | D24: 4 | E24: 18550 | F24: 44013 | G24: 44819 | H24: 0 | I24: 1 | J24: 8 | K24: 30 | L24: 2 | M24: 21.08 | N24: 23.240787 | O24: 6247162 | P24: 301377 | Q24: 4610665 | R24: 40500 | S24: 0 | T24: 0 | V24: 0 | W24: 0 | X24: 0 | AA24: 44270 | AB24: 1 | AC24: O | AD24: 1 | AE24: 30 | AF24: 0 | AM24: 1 | AN24: 1 | AQ24: 1018000 | AR24: LINEA CONSUMO | AS24: 0 | AT24: 0 | AW24: 1 | AX24: 2 | AY24: 44013 | AZ24: A | BB24: 1 | BC24: 7 | BD24: 2 | BE24: 44286 | BF24: =VLOOKUP(C24,'Cta Contable'!A:E,5,FALSE) -> A | BG24: =VLOOKUP(C24,'Cta Contable'!A:D,4,FALSE) -> Consumo | BH24: =VLOOKUP(Q24,Lista!A:B,2,TRUE) -> 2.500.001 - 5.000.000 | BI24: =IF(BF24<>"A","Mora","Al día") -> Al día | BJ24: =IF(AND(AO24<>"",AP24<>"A"),"Reestructurado","-") -> -
A25: C | B25: * | C25: 144205 | D25: 4 | E25: 20924 | F25: 44148 | G25: 45392 | H25: 0 | I25: 1 | J25: 3 | K25: 30 | L25: 2 | M25: 19.32 | N25: 21.126011 | O25: 5000000 | P25: 170510 | Q25: 4725599 | R25: 46441 | S25: 0 | T25: 0 | V25: 0 | W25: 0 | X25: 0 | AA25: 44285 | AB25: 1 | AC25: O | AD25: 1 | AE25: 30 | AF25: 0 | AM25: 1 | AN25: 1 | AQ25: 1826000 | AR25: LINEA CONSUMO | AS25: 0 | AT25: 0 | AW25: 5 | BB25: 1 | BC25: 7 | BD25: 2 | BE25: 44286 | BF25: =VLOOKUP(C25,'Cta Contable'!A:E,5,FALSE) -> A | BG25: =VLOOKUP(C25,'Cta Contable'!A:D,4,FALSE) -> Consumo | BH25: =VLOOKUP(Q25,Lista!A:B,2,TRUE) -> 2.500.001 - 5.000.000 | BI25: =IF(BF25<>"A","Mora","Al día") -> Al día | BJ25: =IF(AND(AO25<>"",AP25<>"A"),"Reestructurado","-") -> -
A26: C | B26: * | C26: 144205 | D26: 4 | E26: 19148 | F26: 44013 | G26: 45275 | H26: 0 | I26: 1 | J26: 8 | K26: 30 | L26: 2 | M26: 21.01 | N26: 23.156035 | O26: 22516598 | P26: 774277 | Q26: 19283226 | R26: 164549 | S26: 0 | T26: 0 | V26: 0 | W26: 0 | X26: 0 | AA26: 44275 | AB26: 1 | AC26: O | AD26: 1 | AE26: 30 | AF26: 0 | AM26: 1 | AN26: 1 | AQ26: 3043500 | AR26: LINEA CONSUMO | AS26: 0 | AT26: 0 | AW26: 1 | AX26: 2 | AY26: 44013 | AZ26: A | BB26: 1 | BC26: 7 | BD26: 2 | BE26: 44286 | BF26: =VLOOKUP(C26,'Cta Contable'!A:E,5,FALSE) -> A | BG26: =VLOOKUP(C26,'Cta Contable'!A:D,4,FALSE) -> Consumo | BH26: =VLOOKUP(Q26,Lista!A:B,2,TRUE) -> 15.000.001 - 20.000.000 | BI26: =IF(BF26<>"A","Mora","Al día") -> Al día | BJ26: =IF(AND(AO26<>"",AP26<>"A"),"Reestructurado","-") -> -
A27: C | B27: * | C27: 144205 | D27: 4 | E27: 16037 | F27: 44013 | G27: 44484 | H27: 0 | I27: 1 | J27: 8 | K27: 30 | L27: 2 | M27: 20.900004 | N27: 23.022965 | O27: 8567727 | P27: 653969 | Q27: 4274832 | R27: 33704 | S27: 0 | T27: 0 | V27: 0 | W27: 0 | X27: 0 | AA27: 44274 | AB27: 1 | AC27: O | AD27: 1 | AE27: 30 | AF27: 0 | AM27: 1 | AN27: 1 | AQ27: 1651200 | AR27: LINEA CONSUMO | AS27: 0 | AT27: 0 | AW27: 1 | AX27: 2 | AY27: 44013 | AZ27: A | BB27: 1 | BC27: 7 | BD27: 2 | BE27: 44286 | BF27: =VLOOKUP(C27,'Cta Contable'!A:E,5,FALSE) -> A | BG27: =VLOOKUP(C27,'Cta Contable'!A:D,4,FALSE) -> Consumo | BH27: =VLOOKUP(Q27,Lista!A:B,2,TRUE) -> 2.500.001 - 5.000.000 | BI27: =IF(BF27<>"A","Mora","Al día") -> Al día | BJ27: =IF(AND(AO27<>"",AP27<>"A"),"Reestructurado","-") -> -
A28: C | B28: * | C28: 144205 | D28: 4 | E28: 17349 | F28: 44013 | G28: 44607 | H28: 15 | I28: 1 | J28: 7 | K28: 30 | L28: 2 | M28: 20.05 | N28: 21.999092 | O28: 9017444 | P28: 557836 | Q28: 6020345 | R28: 151318 | S28: 0 | T28: 0 | V28: 0 | W28: 0 | X28: 0 | AA28: 44250 | AB28: 1 | AC28: O | AD28: 1 | AE28: 30 | AF28: 457243 | AM28: 1 | AN28: 1 | AQ28: 1767000 | AR28: LINEA CONSUMO | AS28: 0 | AT28: 0 | AW28: 1 | AX28: 2 | AY28: 44013 | AZ28: A | BB28: 1 | BC28: 7 | BD28: 2 | BE28: 44286 | BF28: =VLOOKUP(C28,'Cta Contable'!A:E,5,FALSE) -> A | BG28: =VLOOKUP(C28,'Cta Contable'!A:D,4,FALSE) -> Consumo | BH28: =VLOOKUP(Q28,Lista!A:B,2,TRUE) -> 5.000.001 - 10.000.000 | BI28: =IF(BF28<>"A","Mora","Al día") -> Al día | BJ28: =IF(AND(AO28<>"",AP28<>"A"),"Reestructurado","-") -> -
A29: C | B29: * | C29: 144205 | D29: 4 | E29: 17230 | F29: 44013 | G29: 44757 | H29: 15 | I29: 1 | J29: 7 | K29: 30 | L29: 2 | M29: 20.150001 | N29: 22.119141 | O29: 12656741 | P29: 645103 | Q29: 9471836 | R29: 239121 | S29: 0 | T29: 0 | V29: 0 | W29: 0 | X29: 0 | AA29: 44245 | AB29: 1 | AC29: O | AD29: 1 | AE29: 30 | AF29: 486051 | AM29: 1 | AN29: 1 | AQ29: 1086300 | AR29: LINEA CONSUMO | AS29: 0 | AT29: 0 | AW29: 1 | AX29: 2 | AY29: 44013 | AZ29: A | BB29: 1 | BC29: 7 | BD29: 2 | BE29: 44286 | BF29: =VLOOKUP(C29,'Cta Contable'!A:E,5,FALSE) -> A | BG29: =VLOOKUP(C29,'Cta Contable'!A:D,4,FALSE) -> Consumo | BH29: =VLOOKUP(Q29,Lista!A:B,2,TRUE) -> 5.000.001 - 10.000.000 | BI29: =IF(BF29<>"A","Mora","Al día") -> Al día | BJ29: =IF(AND(AO29<>"",AP29<>"A"),"Reestructurado","-") -> -
A30: C | B30: * | C30: 144205 | D30: 4 | E30: 19948 | F30: 43885 | G30: 44326 | H30: 0 | I30: 1 | J30: 12 | K30: 30 | L30: 2 | M30: 11.47 | N30: 12.092619 | O30: 1500000 | P30: 114982 | Q30: 224261 | R30: 1278 | S30: 0 | T30: 0 | V30: 0 | W30: 0 | X30: 0 | AA30: 44267 | AB30: 1 | AC30: O | AD30: 1 | AE30: 30 | AF30: 0 | AM30: 1 | AN30: 1 | AQ30: 50457 | AR30: LINEA CONSUMO | AS30: 0 | AT30: 0 | AW30: 5 | BB30: 1 | BC30: 7 | BD30: 2 | BE30: 44286 | BF30: =VLOOKUP(C30,'Cta Contable'!A:E,5,FALSE) -> A | BG30: =VLOOKUP(C30,'Cta Contable'!A:D,4,FALSE) -> Consumo | BH30: =VLOOKUP(Q30,Lista!A:B,2,TRUE) -> 1- 2.500.000 | BI30: =IF(BF30<>"A","Mora","Al día") -> Al día | BJ30: =IF(AND(AO30<>"",AP30<>"A"),"Reestructurado","-") -> -
A31: C | B31: * | C31: 144205 | D31: 3 | E31: 20331 | F31: 44033 | G31: 45148 | H31: 0 | I31: 1 | J31: 7 | K31: 30 | L31: 2 | M31: 21.02 | N31: 23.168139 | O31: 8000000 | P31: 301483 | Q31: 6809436 | R31: 76469 | S31: 0 | T31: 0 | V31: 0 | W31: 0 | X31: 0 | AA31: 44267 | AB31: 1 | AC31: O | AD31: 1 | AE31: 30 | AF31: 0 | AM31: 1 | AN31: 1 | AO31: 44033 | AP31: A | AQ31: 1532062 | AR31: LINEA CONSUMO | AS31: 1 | AT31: 0 | AW31: 5 | BB31: 1 | BC31: 7 | BD31: 2 | BE31: 44286 | BF31: =VLOOKUP(C31,'Cta Contable'!A:E,5,FALSE) -> A | BG31: =VLOOKUP(C31,'Cta Contable'!A:D,4,FALSE) -> Consumo | BH31: =VLOOKUP(Q31,Lista!A:B,2,TRUE) -> 5.000.001 - 10.000.000 | BI31: =IF(BF31<>"A","Mora","Al día") -> Al día | BJ31: =IF(AND(AO31<>"",AP31<>"A"),"Reestructurado","-") -> -
A32: C | B32: * | C32: 144205 | D32: 4 | E32: 21497 | F32: 44284 | G32: 44941 | H32: 0 | I32: 1 | J32: 0 | K32: 30 | L32: 2 | M32: 11.420004 | N32: 12.03712 | O32: 2100000 | P32: 110799 | Q32: 2100000 | R32: 0 | S32: 0 | T32: 0 | V32: 0 | W32: 0 | X32: 0 | AA32: 44286 | AB32: 1 | AC32: O | AD32: 1 | AE32: 30 | AF32: 0 | AM32: 1 | AN32: 1 | AQ32: 472481 | AR32: LINEA CONSUMO | AS32: 0 | AT32: 0 | AW32: 5 | BB32: 1 | BC32: 7 | BD32: 2 | BE32: 44286 | BF32: =VLOOKUP(C32,'Cta Contable'!A:E,5,FALSE) -> A | BG32: =VLOOKUP(C32,'Cta Contable'!A:D,4,FALSE) -> Consumo | BH32: =VLOOKUP(Q32,Lista!A:B,2,TRUE) -> 1- 2.500.000 | BI32: =IF(BF32<>"A","Mora","Al día") -> Al día | BJ32: =IF(AND(AO32<>"",AP32<>"A"),"Reestructurado","-") -> -
A33: C | B33: * | C33: 144205 | D33: 4 | E33: 20273 | F33: 44008 | G33: 44747 | H33: 25 | I33: 1 | J33: 7 | K33: 30 | L33: 2 | M33: 21.02 | N33: 23.168139 | O33: 3500000 | P33: 179884 | Q33: 2625055 | R33: 79543 | S33: 0 | T33: 0 | V33: 0 | W33: 0 | X33: 0 | AA33: 44286 | AB33: 1 | AC33: O | AD33: 1 | AE33: 30 | AF33: 133904 | AM33: 1 | AN33: 1 | AQ33: 2796619 | AR33: LINEA CONSUMO | AS33: 0 | AT33: 0 | AW33: 5 | BB33: 1 | BC33: 7 | BD33: 2 | BE33: 44286 | BF33: =VLOOKUP(C33,'Cta Contable'!A:E,5,FALSE) -> A | BG33: =VLOOKUP(C33,'Cta Contable'!A:D,4,FALSE) -> Consumo | BH33: =VLOOKUP(Q33,Lista!A:B,2,TRUE) -> 2.500.001 - 5.000.000 | BI33: =IF(BF33<>"A","Mora","Al día") -> Al día | BJ33: =IF(AND(AO33<>"",AP33<>"A"),"Reestructurado","-") -> -
A34: C | B34: * | C34: 144205 | D34: 4 | E34: 19094 | F34: 43692 | G34: 44717 | H34: 25 | I34: 1 | J34: 17 | K34: 30 | L34: 2 | M34: 21.01 | N34: 23.156035 | O34: 12000000 | P34: 481834 | Q34: 6673209 | R34: 190456 | S34: 0 | T34: 0 | V34: 0 | W34: 0 | X34: 0 | AA34: 44280 | AB34: 1 | AC34: O | AD34: 1 | AE34: 30 | AF34: 365011 | AM34: 1 | AN34: 1 | AQ34: 1086000 | AR34: LINEA CONSUMO | AS34: 0 | AT34: 0 | AW34: 5 | BB34: 1 | BC34: 7 | BD34: 2 | BE34: 44286 | BF34: =VLOOKUP(C34,'Cta Contable'!A:E,5,FALSE) -> A | BG34: =VLOOKUP(C34,'Cta Contable'!A:D,4,FALSE) -> Consumo | BH34: =VLOOKUP(Q34,Lista!A:B,2,TRUE) -> 5.000.001 - 10.000.000 | BI34: =IF(BF34<>"A","Mora","Al día") -> Al día | BJ34: =IF(AND(AO34<>"",AP34<>"A"),"Reestructurado","-") -> -
A35: C | B35: * | C35: 144205 | D35: 3 | E35: 21257 | F35: 44225 | G35: 45703 | H35: 15 | I35: 1 | J35: 0 | K35: 30 | L35: 2 | M35: 21.02 | N35: 23.168139 | O35: 8000000 | P35: 247812 | Q35: 8000000 | R35: 210300 | S35: 0 | T35: 0 | V35: 0 | W35: 0 | X35: 0 | AA35: 44242 | AB35: 1 | AC35: O | AD35: 1 | AE35: 30 | AF35: 107666 | AM35: 1 | AN35: 1 | AO35: 44225 | AP35: A | AQ35: 1787000 | AR35: LINEA CONSUMO | AS35: 1 | AT35: 0 | AW35: 5 | BB35: 1 | BC35: 7 | BD35: 2 | BE35: 44286 | BF35: =VLOOKUP(C35,'Cta Contable'!A:E,5,FALSE) -> A | BG35: =VLOOKUP(C35,'Cta Contable'!A:D,4,FALSE) -> Consumo | BH35: =VLOOKUP(Q35,Lista!A:B,2,TRUE) -> 5.000.001 - 10.000.000 | BI35: =IF(BF35<>"A","Mora","Al día") -> Al día | BJ35: =IF(AND(AO35<>"",AP35<>"A"),"Reestructurado","-") -> -
A36: C | B36: * | C36: 144105 | D36: 4 | E36: 19420 | F36: 43763 | G36: 44931 | H36: 0 | I36: 1 | J36: 16 | K36: 30 | L36: 2 | M36: 20.93 | N36: 23.05924 | O36: 5000000 | P36: 181068 | Q36: 3276114 | R36: 53340 | S36: 0 | T36: 0 | V36: 0 | W36: 0 | X36: 0 | AA36: 44257 | AB36: 1 | AC36: O | AD36: 1 | AE36: 30 | AF36: 0 | AM36: 1 | AN36: 1 | AQ36: 1700000 | AR36: LINEA CONSUMO | AS36: 0 | AT36: 0 | AU36: 1 | AV36: VARIOS - - | AW36: 5 | BB36: 1 | BC36: 7 | BD36: 2 | BE36: 44286 | BF36: =VLOOKUP(C36,'Cta Contable'!A:E,5,FALSE) -> A | BG36: =VLOOKUP(C36,'Cta Contable'!A:D,4,FALSE) -> Consumo | BH36: =VLOOKUP(Q36,Lista!A:B,2,TRUE) -> 2.500.001 - 5.000.000 | BI36: =IF(BF36<>"A","Mora","Al día") -> Al día | BJ36: =IF(AND(AO36<>"",AP36<>"A"),"Reestructurado","-") -> -
A37: C | B37: * | C37: 144205 | D37: 4 | E37: 18975 | F37: 43665 | G37: 44454 | H37: 0 | I37: 1 | J37: 19 | K37: 30 | L37: 2 | M37: 21.02 | N37: 23.168139 | O37: 5300000 | P37: 263619 | Q37: 1462225 | R37: 14518 | S37: 0 | T37: 0 | V37: 0 | W37: 0 | X37: 0 | AA37: 44268 | AB37: 1 | AC37: O | AD37: 1 | AE37: 30 | AF37: 0 | AM37: 1 | AN37: 1 | AQ37: 2602500 | AR37: LINEA CONSUMO | AS37: 0 | AT37: 0 | AW37: 5 | BB37: 1 | BC37: 7 | BD37: 2 | BE37: 44286 | BF37: =VLOOKUP(C37,'Cta Contable'!A:E,5,FALSE) -> A | BG37: =VLOOKUP(C37,'Cta Contable'!A:D,4,FALSE) -> Consumo | BH37: =VLOOKUP(Q37,Lista!A:B,2,TRUE) -> 1- 2.500.000 | BI37: =IF(BF37<>"A","Mora","Al día") -> Al día | BJ37: =IF(AND(AO37<>"",AP37<>"A"),"Reestructurado","-") -> -
A38: C | B38: * | C38: 144205 | D38: 4 | E38: 16894 | F38: 44013 | G38: 44484 | H38: 0 | I38: 1 | J38: 8 | K38: 30 | L38: 2 | M38: 20.34 | N38: 22.347531 | O38: 7141945 | P38: 543222 | Q38: 3311351 | R38: 33678 | S38: 0 | T38: 0 | V38: 0 | W38: 0 | X38: 0 | AA38: 44267 | AB38: 1 | AC38: O | AD38: 1 | AE38: 30 | AF38: 0 | AM38: 1 | AN38: 1 | AQ38: 2179675 | AR38: LINEA CONSUMO | AS38: 0 | AT38: 0 | AW38: 1 | AX38: 2 | AY38: 44013 | AZ38: A | BB38: 1 | BC38: 7 | BD38: 2 | BE38: 44286 | BF38: =VLOOKUP(C38,'Cta Contable'!A:E,5,FALSE) -> A | BG38: =VLOOKUP(C38,'Cta Contable'!A:D,4,FALSE) -> Consumo | BH38: =VLOOKUP(Q38,Lista!A:B,2,TRUE) -> 2.500.001 - 5.000.000 | BI38: =IF(BF38<>"A","Mora","Al día") -> Al día | BJ38: =IF(AND(AO38<>"",AP38<>"A"),"Reestructurado","-") -> -
A39: C | B39: * | C39: 144205 | D39: 4 | E39: 19283 | F39: 43728 | G39: 44972 | H39: 15 | I39: 1 | J39: 16 | K39: 30 | L39: 2 | M39: 20.94 | N39: 23.071336 | O39: 19900000 | P39: 695322 | Q39: 13212084 | R39: 114120 | S39: 0 | T39: 0 | V39: 0 | W39: 0 | X39: 0 | AA39: 44285 | AB39: 1 | AC39: O | AD39: 1 | AE39: 30 | AF39: 131940 | AM39: 1 | AN39: 1 | AQ39: 2673213 | AR39: LINEA CONSUMO | AS39: 0 | AT39: 0 | AW39: 5 | BB39: 1 | BC39: 7 | BD39: 2 | BE39: 44286 | BF39: =VLOOKUP(C39,'Cta Contable'!A:E,5,FALSE) -> A | BG39: =VLOOKUP(C39,'Cta Contable'!A:D,4,FALSE) -> Consumo | BH39: =VLOOKUP(Q39,Lista!A:B,2,TRUE) -> 10.000.001 - 15.000.000 | BI39: =IF(BF39<>"A","Mora","Al día") -> Al día | BJ39: =IF(AND(AO39<>"",AP39<>"A"),"Reestructurado","-") -> -
A40: C | B40: * | C40: 144205 | D40: 4 | E40: 19720 | F40: 43826 | G40: 45209 | H40: 0 | I40: 1 | J40: 14 | K40: 30 | L40: 2 | M40: 20.95 | N40: 23.083432 | O40: 19900000 | P40: 642106 | Q40: 15199704 | R40: 168055 | S40: 0 | T40: 0 | V40: 0 | W40: 0 | X40: 0 | AA40: 44266 | AB40: 1 | AC40: O | AD40: 1 | AE40: 30 | AF40: 0 | AM40: 1 | AN40: 1 | AQ40: 2152500 | AR40: LINEA CONSUMO | AS40: 0 | AT40: 0 | AW40: 5 | BB40: 1 | BC40: 7 | BD40: 2 | BE40: 44286 | BF40: =VLOOKUP(C40,'Cta Contable'!A:E,5,FALSE) -> A | BG40: =VLOOKUP(C40,'Cta Contable'!A:D,4,FALSE) -> Consumo | BH40: =VLOOKUP(Q40,Lista!A:B,2,TRUE) -> 15.000.001 - 20.000.000 | BI40: =IF(BF40<>"A","Mora","Al día") -> Al día | BJ40: =IF(AND(AO40<>"",AP40<>"A"),"Reestructurado","-") -> -
...

Sheet Lista
A1: Rango de Saldos
A2: 1 | B2: 1- 2.500.000
A3: 2500001 | B3: 2.500.001 - 5.000.000
A4: 5000001 | B4: 5.000.001 - 10.000.000
A5: 10000001 | B5: 10.000.001 - 15.000.000
A6: 15000001 | B6: 15.000.001 - 20.000.000
A7: 20000001 | B7: 20.000.001 - 63.000.000
A8: 63000001 | B8: > 63.000.000
