Workbook

Sheet RESUMEN
A3: Etiquetas de fila | B3: Suma de Cartera
A4: A | B4: 6463876562
A5: B | B5: 9383300
A6: C | B6: 3023223
A7: D | B7: 7624285
A8: Total general | B8: 6483907370
B9: =+SUM(B5:B7) -> 20030808
B10: =+B9/GETPIVOTDATA("Cartera",$A$3) -> 0.0030893113
A12: Etiquetas de fila | B12: Suma de Cartera
A13: A | B13: 6351903017
A14: B | B14: 121356845
A15: C | B15: 3023223
A16: D | B16: 7624285
A17: Total general | B17: 6483907370
B18: =+SUM(B14:B16) -> 132004353
B19: =+B18/GETPIVOTDATA("Cartera",$A$12) -> 0.020358766

Sheet EVALUACION TALLER
AM1: 1. Capacidad | AP1: 2. Solvencia | AU1: 3. Garantía | AY1: 4. Servicio | BD1: 5. Modif | BE1: 6. Central Riesgo
AM2: 0.08 | AN2: 0.08 | AO2: 0.01 | AP2: 0.08 | AQ2: 0.08 | AR2: 0.01 | AS2: 0.01 | AT2: 0.01 | AU2: 0.05 | AV2: 0.05 | AW2: 0.05 | AX2: 0.05 | AY2: 0.05 | AZ2: 0.05 | BA2: 0.05 | BB2: 0.01 | BC2: 0.01 | BD2: 0.07 | BE2: 0.1 | BF2: 0.1 | BG2: =+SUM(AM2:BF2) -> 1
A4: ID | B4: NOMBRE | C4: consulta | D4: Rango DESC | E4: Vista | F4: Cartera | G4: Descub | H4: VaR | I4: INT | J4: Cuota cartera | K4: Deterioro | L4: Garantia | M4: Ap + Ahp | N4: Ingresos | O4: Cuota externa minima probable | P4: Ext | Q4: Ext >=C | R4: MPIO | S4: CLASE G | T4: REC | U4: CAL | V4: TIPO MODIF | W4: Mora Cartera | X4: Mora aportes | Y4: ANT | Z4: EDAD | AA4: GEN | AB4: ESC | AC4: ESTR | AD4: ING | AE4: E. CIV | AF4: peor cal ext | AG4: Carga | AH4: Endeudamiento | AI4: Captac / Ingresos | AJ4: Desc | AK4: VaR | AL4: Ext >=C | AM4: Carga | AN4: ING | AO4: ESC | AP4: End | AQ4: Captac / Ingresos | AR4: ESTR | AS4: E. CIV | AT4: EDAD | AU4: CLASE G | AV4: Desc | AW4: VaR | AX4: REC | AY4: Mora Cartera | AZ4: Mora aportes | BA4: CAL | BB4: ANT | BC4: GEN | BD4: TIPO MODIF | BE4: peor cal ext | BF4: Ext >=C | BG4: NOTA | BH4: NIVEL RIESGO | BI4: REC | BJ4: RECAL | BK4: PEOR EXT | BL4: VAR | BM4: Ext >=C
A5: 24662246 | B5: ASOCIADO 1 | C5: 1. SI | D5: 7. >$10 MM | F5: 15803899 | G5: =+IF(F5>M5+100000,F5-M5,0) -> 11640130 | H5: =IF(G5>L5+100000,G5-L5,0) -> 2348028 | I5: 15804000 | J5: 418843 | K5: 0 | L5: 9292102 | M5: 4163769 | N5: =VLOOKUP(AD5,'tabla ingresos'!$A$3:$D$15,4,FALSE) -> 2000000 | O5: 668274.55 | P5: 27561000 | Q5: 27561000 | R5: 76130 | S5: 6- pignoración | T5: LBZ | U5: A | V5: 4 | W5: 0 | X5: 0 | Y5: 7.8328767 | Z5: 44.523288 | AA5: 1 | AB5: 2 | AC5: 2 | AD5: 3 | AE5: 1 | AF5: E | AG5: =+(O5+J5)/(N5*1.5) -> 0.36237252 | AH5: =+(P5+F5)/(N5*1.5) -> 14.454966 | AI5: =+(E5+M5)/(N5*1.5) -> 1.387923 | AJ5: =+G5/(N5*1.5) -> 3.8800433 | AK5: =+H5/(N5*1.5) -> 0.782676 | AL5: =+Q5/(N5*1.5) -> 9.187 | AM5: =VLOOKUP(AG5,'SCORE TALLER'!$AC$2:$AD$10,2,TRUE)*AM$2 -> 0 | AN5: =VLOOKUP(AD5,'SCORE TALLER'!$W$2:$X$10,2,TRUE)*AN$2 -> 0.32 | AO5: =VLOOKUP(AB5,'SCORE TALLER'!$S$2:$T$10,2,FALSE)*AO$2 -> 0.04 | AP5: =VLOOKUP(AH5,'SCORE TALLER'!$AE$2:$AF$10,2,TRUE)*AP$2 -> 0.16 | AQ5: =VLOOKUP(AI5,'SCORE TALLER'!$AG$2:$AH$10,2,TRUE)*AQ$2 -> 0.32 | AR5: =VLOOKUP(AC5,'SCORE TALLER'!$U$2:$V$10,2,FALSE)*AR$2 -> 0.04 | AS5: =VLOOKUP(AE5,'SCORE TALLER'!$Y$2:$Z$10,2,FALSE)*AS$2 -> 0.03 | AT5: =VLOOKUP(Z5,'SCORE TALLER'!$O$2:$P$10,2,TRUE)*AT$2 -> 0.03 | AU5: =VLOOKUP(S5,'SCORE TALLER'!$A$2:$B$10,2,FALSE)*AU$2 -> 0.15 | AV5: =VLOOKUP(AJ5,'SCORE TALLER'!$AI$2:$AJ$10,2,TRUE)*AV$2 -> 0.1 | AW5: =VLOOKUP(AK5,'SCORE TALLER'!$AK$2:$AL$10,2,TRUE)*AW$2 -> 0.25 | AX5: =VLOOKUP(T5,'SCORE TALLER'!$C$2:$D$10,2,FALSE)*AX$2 -> 0 | AY5: =VLOOKUP(W5,'SCORE TALLER'!$I$2:$J$10,2,TRUE)*AY$2 -> 0 | AZ5: =VLOOKUP(X5,'SCORE TALLER'!$K$2:$L$10,2,TRUE)*AZ$2 -> 0 | BA5: =VLOOKUP(U5,'SCORE TALLER'!$E$2:$F$10,2,FALSE)*BA$2 -> 0 | BB5: =VLOOKUP(Y5,'SCORE TALLER'!$M$2:$N$10,2,TRUE)*BB$2 -> 0.02 | BC5: =VLOOKUP(AA5,'SCORE TALLER'!$Q$2:$R$10,2,FALSE)*BC$2 -> 0.05 | BD5: =VLOOKUP(V5,'SCORE TALLER'!$G$2:$H$10,2,FALSE)*BD$2 -> 0 | BE5: =VLOOKUP(AF5,'SCORE TALLER'!$AA$2:$AB$10,2,FALSE)*BE$2 -> 0.5 | BF5: =VLOOKUP(AL5,'SCORE TALLER'!$AM$2:$AN$10,2,TRUE)*BF$2 -> 0.5 | BG5: =+SUM(AM5:BF5) -> 2.51 | BH5: =VLOOKUP(BG5,'SCORE TALLER'!$AP$2:$AQ$7,2,TRUE) -> 4. Alto | BI5: =+T5 -> LBZ | BJ5: B | BK5: =+AF5 -> E | BL5: =+H5 -> 2348028 | BM5: =+Q5 -> 27561000
A6: 2224804622 | B6: ASOCIADO 2 | C6: 1. SI | D6: 6. >$5-$10 MM | E6: 1755373 | F6: 12283389 | G6: =+IF(F6>M6+100000,F6-M6,0) -> 9690608 | H6: =IF(G6>L6+100000,G6-L6,0) -> 7431972 | I6: 12283000 | J6: 338361 | K6: 0 | L6: 2258636 | M6: 2592781 | N6: =VLOOKUP(AD6,'tabla ingresos'!$A$3:$D$15,4,FALSE) -> 3000000 | O6: 1041592.2 | P6: 35085000 | Q6: 28496000 | R6: 76275 | S6: 6- pignoración | T6: LBZ | U6: A | V6: 4 | W6: 0 | X6: 0 | Y6: 2.7643836 | Z6: 26.60274 | AA6: 1 | AB6: 0 | AC6: 1 | AD6: 4 | AE6: 1 | AF6: E | AG6: =+(O6+J6)/(N6*1.5) -> 0.30665627 | AH6: =+(P6+F6)/(N6*1.5) -> 10.526309 | AI6: =+(E6+M6)/(N6*1.5) -> 0.96625644 | AJ6: =+G6/(N6*1.5) -> 2.1534684 | AK6: =+H6/(N6*1.5) -> 1.6515493 | AL6: =+Q6/(N6*1.5) -> 6.3324444 | AM6: =VLOOKUP(AG6,'SCORE TALLER'!$AC$2:$AD$10,2,TRUE)*AM$2 -> 0 | AN6: =VLOOKUP(AD6,'SCORE TALLER'!$W$2:$X$10,2,TRUE)*AN$2 -> 0.24 | AO6: =VLOOKUP(AB6,'SCORE TALLER'!$S$2:$T$10,2,FALSE)*AO$2 -> 0.05 | AP6: =VLOOKUP(AH6,'SCORE TALLER'!$AE$2:$AF$10,2,TRUE)*AP$2 -> 0.16 | AQ6: =VLOOKUP(AI6,'SCORE TALLER'!$AG$2:$AH$10,2,TRUE)*AQ$2 -> 0.4 | AR6: =VLOOKUP(AC6,'SCORE TALLER'!$U$2:$V$10,2,FALSE)*AR$2 -> 0.05 | AS6: =VLOOKUP(AE6,'SCORE TALLER'!$Y$2:$Z$10,2,FALSE)*AS$2 -> 0.03 | AT6: =VLOOKUP(Z6,'SCORE TALLER'!$O$2:$P$10,2,TRUE)*AT$2 -> 0.04 | AU6: =VLOOKUP(S6,'SCORE TALLER'!$A$2:$B$10,2,FALSE)*AU$2 -> 0.15 | AV6: =VLOOKUP(AJ6,'SCORE TALLER'!$AI$2:$AJ$10,2,TRUE)*AV$2 -> 0.15 | AW6: =VLOOKUP(AK6,'SCORE TALLER'!$AK$2:$AL$10,2,TRUE)*AW$2 -> 0.2 | AX6: =VLOOKUP(T6,'SCORE TALLER'!$C$2:$D$10,2,FALSE)*AX$2 -> 0 | AY6: =VLOOKUP(W6,'SCORE TALLER'!$I$2:$J$10,2,TRUE)*AY$2 -> 0 | AZ6: =VLOOKUP(X6,'SCORE TALLER'!$K$2:$L$10,2,TRUE)*AZ$2 -> 0 | BA6: =VLOOKUP(U6,'SCORE TALLER'!$E$2:$F$10,2,FALSE)*BA$2 -> 0 | BB6: =VLOOKUP(Y6,'SCORE TALLER'!$M$2:$N$10,2,TRUE)*BB$2 -> 0.04 | BC6: =VLOOKUP(AA6,'SCORE TALLER'!$Q$2:$R$10,2,FALSE)*BC$2 -> 0.05 | BD6: =VLOOKUP(V6,'SCORE TALLER'!$G$2:$H$10,2,FALSE)*BD$2 -> 0 | BE6: =VLOOKUP(AF6,'SCORE TALLER'!$AA$2:$AB$10,2,FALSE)*BE$2 -> 0.5 | BF6: =VLOOKUP(AL6,'SCORE TALLER'!$AM$2:$AN$10,2,TRUE)*BF$2 -> 0.5 | BG6: =+SUM(AM6:BF6) -> 2.56 | BH6: =VLOOKUP(BG6,'SCORE TALLER'!$AP$2:$AQ$7,2,TRUE) -> 4. Alto | BI6: =+T6 -> LBZ | BJ6: B | BK6: =+AF6 -> E | BL6: =+H6 -> 7431972 | BM6: =+Q6 -> 28496000
A7: 4468026 | B7: ASOCIADO 3 | C7: 1. SI | D7: 6. >$5-$10 MM | E7: 997042 | F7: 9817662 | G7: =+IF(F7>M7+100000,F7-M7,0) -> 6698991 | H7: =IF(G7>L7+100000,G7-L7,0) -> 3698991 | I7: 9818000 | J7: 322338 | K7: 0 | L7: 3000000 | M7: 3118671 | N7: =VLOOKUP(AD7,'tabla ingresos'!$A$3:$D$15,4,FALSE) -> 1000000 | O7: 595688.91 | P7: 58731000 | Q7: 58731000 | R7: 76130 | S7: 6- pignoración | T7: LBZ | U7: A | V7: 4 | W7: 0 | X7: 0 | Y7: 1.8438356 | Z7: 46.361644 | AA7: 1 | AB7: 2 | AC7: 2 | AD7: 2 | AE7: 3 | AF7: D | AG7: =+(O7+J7)/(N7*1.5) -> 0.61201794 | AH7: =+(P7+F7)/(N7*1.5) -> 45.699108 | AI7: =+(E7+M7)/(N7*1.5) -> 2.7438087 | AJ7: =+G7/(N7*1.5) -> 4.465994 | AK7: =+H7/(N7*1.5) -> 2.465994 | AL7: =+Q7/(N7*1.5) -> 39.154 | AM7: =VLOOKUP(AG7,'SCORE TALLER'!$AC$2:$AD$10,2,TRUE)*AM$2 -> 0.16 | AN7: =VLOOKUP(AD7,'SCORE TALLER'!$W$2:$X$10,2,TRUE)*AN$2 -> 0.32 | AO7: =VLOOKUP(AB7,'SCORE TALLER'!$S$2:$T$10,2,FALSE)*AO$2 -> 0.04 | AP7: =VLOOKUP(AH7,'SCORE TALLER'!$AE$2:$AF$10,2,TRUE)*AP$2 -> 0.4 | AQ7: =VLOOKUP(AI7,'SCORE TALLER'!$AG$2:$AH$10,2,TRUE)*AQ$2 -> 0.24 | AR7: =VLOOKUP(AC7,'SCORE TALLER'!$U$2:$V$10,2,FALSE)*AR$2 -> 0.04 | AS7: =VLOOKUP(AE7,'SCORE TALLER'!$Y$2:$Z$10,2,FALSE)*AS$2 -> 0.02 | AT7: =VLOOKUP(Z7,'SCORE TALLER'!$O$2:$P$10,2,TRUE)*AT$2 -> 0.02 | AU7: =VLOOKUP(S7,'SCORE TALLER'!$A$2:$B$10,2,FALSE)*AU$2 -> 0.15 | AV7: =VLOOKUP(AJ7,'SCORE TALLER'!$AI$2:$AJ$10,2,TRUE)*AV$2 -> 0.05 | AW7: =VLOOKUP(AK7,'SCORE TALLER'!$AK$2:$AL$10,2,TRUE)*AW$2 -> 0.15 | AX7: =VLOOKUP(T7,'SCORE TALLER'!$C$2:$D$10,2,FALSE)*AX$2 -> 0 | AY7: =VLOOKUP(W7,'SCORE TALLER'!$I$2:$J$10,2,TRUE)*AY$2 -> 0 | AZ7: =VLOOKUP(X7,'SCORE TALLER'!$K$2:$L$10,2,TRUE)*AZ$2 -> 0 | BA7: =VLOOKUP(U7,'SCORE TALLER'!$E$2:$F$10,2,FALSE)*BA$2 -> 0 | BB7: =VLOOKUP(Y7,'SCORE TALLER'!$M$2:$N$10,2,TRUE)*BB$2 -> 0.05 | BC7: =VLOOKUP(AA7,'SCORE TALLER'!$Q$2:$R$10,2,FALSE)*BC$2 -> 0.05 | BD7: =VLOOKUP(V7,'SCORE TALLER'!$G$2:$H$10,2,FALSE)*BD$2 -> 0 | BE7: =VLOOKUP(AF7,'SCORE TALLER'!$AA$2:$AB$10,2,FALSE)*BE$2 -> 0.5 | BF7: =VLOOKUP(AL7,'SCORE TALLER'!$AM$2:$AN$10,2,TRUE)*BF$2 -> 0.5 | BG7: =+SUM(AM7:BF7) -> 2.69 | BH7: =VLOOKUP(BG7,'SCORE TALLER'!$AP$2:$AQ$7,2,TRUE) -> 4. Alto | BI7: =+T7 -> LBZ | BJ7: B | BK7: =+AF7 -> D | BL7: =+H7 -> 3698991 | BM7: =+Q7 -> 58731000
A8: 26828484 | B8: ASOCIADO 4 | C8: 1. SI | D8: 5. >$2-$5 MM | F8: 3588806 | G8: =+IF(F8>M8+100000,F8-M8,0) -> 3479782 | H8: =IF(G8>L8+100000,G8-L8,0) -> 1560524 | I8: 3589000 | J8: 160246 | K8: 0 | L8: 1919258 | M8: 109024 | N8: =VLOOKUP(AD8,'tabla ingresos'!$A$3:$D$15,4,FALSE) -> 1000000 | O8: 626140.29 | P8: 54325000 | Q8: 54325000 | R8: 76130 | S8: 6- pignoración | T8: LBZ | U8: A | V8: 4 | W8: 0 | X8: 0 | Y8: 0.32328767 | Z8: 48.769863 | AA8: 2 | AB8: 2 | AC8: 2 | AD8: 2 | AE8: 1 | AF8: E | AG8: =+(O8+J8)/(N8*1.5) -> 0.52425752 | AH8: =+(P8+F8)/(N8*1.5) -> 38.609204 | AI8: =+(E8+M8)/(N8*1.5) -> 0.072682667 | AJ8: =+G8/(N8*1.5) -> 2.3198547 | AK8: =+H8/(N8*1.5) -> 1.0403493 | AL8: =+Q8/(N8*1.5) -> 36.216667 | AM8: =VLOOKUP(AG8,'SCORE TALLER'!$AC$2:$AD$10,2,TRUE)*AM$2 -> 0.08 | AN8: =VLOOKUP(AD8,'SCORE TALLER'!$W$2:$X$10,2,TRUE)*AN$2 -> 0.32 | AO8: =VLOOKUP(AB8,'SCORE TALLER'!$S$2:$T$10,2,FALSE)*AO$2 -> 0.04 | AP8: =VLOOKUP(AH8,'SCORE TALLER'!$AE$2:$AF$10,2,TRUE)*AP$2 -> 0.4 | AQ8: =VLOOKUP(AI8,'SCORE TALLER'!$AG$2:$AH$10,2,TRUE)*AQ$2 -> 0.4 | AR8: =VLOOKUP(AC8,'SCORE TALLER'!$U$2:$V$10,2,FALSE)*AR$2 -> 0.04 | AS8: =VLOOKUP(AE8,'SCORE TALLER'!$Y$2:$Z$10,2,FALSE)*AS$2 -> 0.03 | AT8: =VLOOKUP(Z8,'SCORE TALLER'!$O$2:$P$10,2,TRUE)*AT$2 -> 0.02 | AU8: =VLOOKUP(S8,'SCORE TALLER'!$A$2:$B$10,2,FALSE)*AU$2 -> 0.15 | AV8: =VLOOKUP(AJ8,'SCORE TALLER'!$AI$2:$AJ$10,2,TRUE)*AV$2 -> 0.15 | AW8: =VLOOKUP(AK8,'SCORE TALLER'!$AK$2:$AL$10,2,TRUE)*AW$2 -> 0.2 | AX8: =VLOOKUP(T8,'SCORE TALLER'!$C$2:$D$10,2,FALSE)*AX$2 -> 0 | AY8: =VLOOKUP(W8,'SCORE TALLER'!$I$2:$J$10,2,TRUE)*AY$2 -> 0 | AZ8: =VLOOKUP(X8,'SCORE TALLER'!$K$2:$L$10,2,TRUE)*AZ$2 -> 0 | BA8: =VLOOKUP(U8,'SCORE TALLER'!$E$2:$F$10,2,FALSE)*BA$2 -> 0 | BB8: =VLOOKUP(Y8,'SCORE TALLER'!$M$2:$N$10,2,TRUE)*BB$2 -> 0.05 | BC8: =VLOOKUP(AA8,'SCORE TALLER'!$Q$2:$R$10,2,FALSE)*BC$2 -> 0 | BD8: =VLOOKUP(V8,'SCORE TALLER'!$G$2:$H$10,2,FALSE)*BD$2 -> 0 | BE8: =VLOOKUP(AF8,'SCORE TALLER'!$AA$2:$AB$10,2,FALSE)*BE$2 -> 0.5 | BF8: =VLOOKUP(AL8,'SCORE TALLER'!$AM$2:$AN$10,2,TRUE)*BF$2 -> 0.5 | BG8: =+SUM(AM8:BF8) -> 2.88 | BH8: =VLOOKUP(BG8,'SCORE TALLER'!$AP$2:$AQ$7,2,TRUE) -> 4. Alto | BI8: =+T8 -> LBZ | BJ8: =+U8 -> A | BK8: =+AF8 -> E | BL8: =+H8 -> 1560524 | BM8: =+Q8 -> 54325000
A9: 88024488 | B9: ASOCIADO 5 | C9: 1. SI | D9: 5. >$2-$5 MM | F9: 8845406 | G9: =+IF(F9>M9+100000,F9-M9,0) -> 4839953 | H9: =IF(G9>L9+100000,G9-L9,0) -> 4839953 | I9: 8845000 | J9: 455453 | K9: 0 | L9: 0 | M9: 4005453 | N9: =VLOOKUP(AD9,'tabla ingresos'!$A$3:$D$15,4,FALSE) -> 2000000 | O9: 1536302.2 | P9: 59861000 | Q9: 59861000 | R9: 20001 | S9: 9- Otras garantías (no admisible) | T9: LBZ | U9: A | V9: 4 | W9: 0 | X9: 0 | Y9: 11.882192 | Z9: 54.739726 | AA9: 1 | AB9: 2 | AC9: 1 | AD9: 3 | AE9: 1 | AF9: E | AG9: =+(O9+J9)/(N9*1.5) -> 0.66391838 | AH9: =+(P9+F9)/(N9*1.5) -> 22.902135 | AI9: =+(E9+M9)/(N9*1.5) -> 1.335151 | AJ9: =+G9/(N9*1.5) -> 1.6133177 | AK9: =+H9/(N9*1.5) -> 1.6133177 | AL9: =+Q9/(N9*1.5) -> 19.953667 | AM9: =VLOOKUP(AG9,'SCORE TALLER'!$AC$2:$AD$10,2,TRUE)*AM$2 -> 0.16 | AN9: =VLOOKUP(AD9,'SCORE TALLER'!$W$2:$X$10,2,TRUE)*AN$2 -> 0.32 | AO9: =VLOOKUP(AB9,'SCORE TALLER'!$S$2:$T$10,2,FALSE)*AO$2 -> 0.04 | AP9: =VLOOKUP(AH9,'SCORE TALLER'!$AE$2:$AF$10,2,TRUE)*AP$2 -> 0.32 | AQ9: =VLOOKUP(AI9,'SCORE TALLER'!$AG$2:$AH$10,2,TRUE)*AQ$2 -> 0.32 | AR9: =VLOOKUP(AC9,'SCORE TALLER'!$U$2:$V$10,2,FALSE)*AR$2 -> 0.05 | AS9: =VLOOKUP(AE9,'SCORE TALLER'!$Y$2:$Z$10,2,FALSE)*AS$2 -> 0.03 | AT9: =VLOOKUP(Z9,'SCORE TALLER'!$O$2:$P$10,2,TRUE)*AT$2 -> 0.02 | AU9: =VLOOKUP(S9,'SCORE TALLER'!$A$2:$B$10,2,FALSE)*AU$2 -> 0.25 | AV9: =VLOOKUP(AJ9,'SCORE TALLER'!$AI$2:$AJ$10,2,TRUE)*AV$2 -> 0.2 | AW9: =VLOOKUP(AK9,'SCORE TALLER'!$AK$2:$AL$10,2,TRUE)*AW$2 -> 0.2 | AX9: =VLOOKUP(T9,'SCORE TALLER'!$C$2:$D$10,2,FALSE)*AX$2 -> 0 | AY9: =VLOOKUP(W9,'SCORE TALLER'!$I$2:$J$10,2,TRUE)*AY$2 -> 0 | AZ9: =VLOOKUP(X9,'SCORE TALLER'!$K$2:$L$10,2,TRUE)*AZ$2 -> 0 | BA9: =VLOOKUP(U9,'SCORE TALLER'!$E$2:$F$10,2,FALSE)*BA$2 -> 0 | BB9: =VLOOKUP(Y9,'SCORE TALLER'!$M$2:$N$10,2,TRUE)*BB$2 -> 0 | BC9: =VLOOKUP(AA9,'SCORE TALLER'!$Q$2:$R$10,2,FALSE)*BC$2 -> 0.05 | BD9: =VLOOKUP(V9,'SCORE TALLER'!$G$2:$H$10,2,FALSE)*BD$2 -> 0 | BE9: =VLOOKUP(AF9,'SCORE TALLER'!$AA$2:$AB$10,2,FALSE)*BE$2 -> 0.5 | BF9: =VLOOKUP(AL9,'SCORE TALLER'!$AM$2:$AN$10,2,TRUE)*BF$2 -> 0.5 | BG9: =+SUM(AM9:BF9) -> 2.96 | BH9: =VLOOKUP(BG9,'SCORE TALLER'!$AP$2:$AQ$7,2,TRUE) -> 4. Alto | BI9: =+T9 -> LBZ | BJ9: B | BK9: =+AF9 -> E | BL9: =+H9 -> 4839953 | BM9: =+Q9 -> 59861000
A10: 8608246 | B10: ASOCIADO 6 | C10: 1. SI | D10: 5. >$2-$5 MM | E10: 210450 | F10: 3773364 | G10: =+IF(F10>M10+100000,F10-M10,0) -> 2355244 | H10: =IF(G10>L10+100000,G10-L10,0) -> 0 | I10: 3773000 | J10: 184978 | K10: 0 | L10: 3000000 | M10: 1418120 | N10: =VLOOKUP(AD10,'tabla ingresos'!$A$3:$D$15,4,FALSE) -> 1000000 | O10: 1123411.8 | P10: 46757000 | Q10: 46757000 | R10: 68418 | S10: 6- pignoración | T10: LBZ | U10: A | V10: 4 | W10: 0 | X10: 0 | Y10: 3.3205479 | Z10: 46.687671 | AA10: 1 | AB10: 2 | AC10: 1 | AD10: 2 | AE10: 2 | AF10: E | AG10: =+(O10+J10)/(N10*1.5) -> 0.87225984 | AH10: =+(P10+F10)/(N10*1.5) -> 33.686909 | AI10: =+(E10+M10)/(N10*1.5) -> 1.0857133 | AJ10: =+G10/(N10*1.5) -> 1.5701627 | AK10: =+H10/(N10*1.5) -> 0 | AL10: =+Q10/(N10*1.5) -> 31.171333 | AM10: =VLOOKUP(AG10,'SCORE TALLER'!$AC$2:$AD$10,2,TRUE)*AM$2 -> 0.32 | AN10: =VLOOKUP(AD10,'SCORE TALLER'!$W$2:$X$10,2,TRUE)*AN$2 -> 0.32 | AO10: =VLOOKUP(AB10,'SCORE TALLER'!$S$2:$T$10,2,FALSE)*AO$2 -> 0.04 | AP10: =VLOOKUP(AH10,'SCORE TALLER'!$AE$2:$AF$10,2,TRUE)*AP$2 -> 0.4 | AQ10: =VLOOKUP(AI10,'SCORE TALLER'!$AG$2:$AH$10,2,TRUE)*AQ$2 -> 0.32 | AR10: =VLOOKUP(AC10,'SCORE TALLER'!$U$2:$V$10,2,FALSE)*AR$2 -> 0.05 | AS10: =VLOOKUP(AE10,'SCORE TALLER'!$Y$2:$Z$10,2,FALSE)*AS$2 -> 0.01 | AT10: =VLOOKUP(Z10,'SCORE TALLER'!$O$2:$P$10,2,TRUE)*AT$2 -> 0.02 | AU10: =VLOOKUP(S10,'SCORE TALLER'!$A$2:$B$10,2,FALSE)*AU$2 -> 0.15 | AV10: =VLOOKUP(AJ10,'SCORE TALLER'!$AI$2:$AJ$10,2,TRUE)*AV$2 -> 0.2 | AW10: =VLOOKUP(AK10,'SCORE TALLER'!$AK$2:$AL$10,2,TRUE)*AW$2 -> 0.25 | AX10: =VLOOKUP(T10,'SCORE TALLER'!$C$2:$D$10,2,FALSE)*AX$2 -> 0 | AY10: =VLOOKUP(W10,'SCORE TALLER'!$I$2:$J$10,2,TRUE)*AY$2 -> 0 | AZ10: =VLOOKUP(X10,'SCORE TALLER'!$K$2:$L$10,2,TRUE)*AZ$2 -> 0 | BA10: =VLOOKUP(U10,'SCORE TALLER'!$E$2:$F$10,2,FALSE)*BA$2 -> 0 | BB10: =VLOOKUP(Y10,'SCORE TALLER'!$M$2:$N$10,2,TRUE)*BB$2 -> 0.04 | BC10: =VLOOKUP(AA10,'SCORE TALLER'!$Q$2:$R$10,2,FALSE)*BC$2 -> 0.05 | BD10: =VLOOKUP(V10,'SCORE TALLER'!$G$2:$H$10,2,FALSE)*BD$2 -> 0 | BE10: =VLOOKUP(AF10,'SCORE TALLER'!$AA$2:$AB$10,2,FALSE)*BE$2 -> 0.5 | BF10: =VLOOKUP(AL10,'SCORE TALLER'!$AM$2:$AN$10,2,TRUE)*BF$2 -> 0.5 | BG10: =+SUM(AM10:BF10) -> 3.17 | BH10: =VLOOKUP(BG10,'SCORE TALLER'!$AP$2:$AQ$7,2,TRUE) -> 5. Crítico | BI10: =+T10 -> LBZ | BJ10: =+U10 -> A | BK10: =+AF10 -> E | BL10: =+H10 -> 0 | BM10: =+Q10 -> 46757000
A11: 26028084 | B11: ASOCIADO 7 | C11: 1. SI | D11: 6. >$5-$10 MM | E11: 975006 | F11: 8487882 | G11: =+IF(F11>M11+100000,F11-M11,0) -> 6958117 | H11: =IF(G11>L11+100000,G11-L11,0) -> 4058117 | I11: 8488000 | J11: 350785 | K11: 0 | L11: 2900000 | M11: 1529765 | N11: =VLOOKUP(AD11,'tabla ingresos'!$A$3:$D$15,4,FALSE) -> 2000000 | O11: 1789996.5 | P11: 79071000 | Q11: 79071000 | R11: 76001 | S11: 6- pignoración | T11: LBZ | U11: A | V11: 4 | W11: 0 | X11: 0 | Y11: 2.4328767 | Z11: 41.473973 | AA11: 1 | AB11: 4 | AC11: 2 | AD11: 3 | AE11: 3 | AF11: E | AG11: =+(O11+J11)/(N11*1.5) -> 0.71359383 | AH11: =+(P11+F11)/(N11*1.5) -> 29.186294 | AI11: =+(E11+M11)/(N11*1.5) -> 0.83492367 | AJ11: =+G11/(N11*1.5) -> 2.3193723 | AK11: =+H11/(N11*1.5) -> 1.3527057 | AL11: =+Q11/(N11*1.5) -> 26.357 | AM11: =VLOOKUP(AG11,'SCORE TALLER'!$AC$2:$AD$10,2,TRUE)*AM$2 -> 0.24 | AN11: =VLOOKUP(AD11,'SCORE TALLER'!$W$2:$X$10,2,TRUE)*AN$2 -> 0.32 | AO11: =VLOOKUP(AB11,'SCORE TALLER'!$S$2:$T$10,2,FALSE)*AO$2 -> 0.02 | AP11: =VLOOKUP(AH11,'SCORE TALLER'!$AE$2:$AF$10,2,TRUE)*AP$2 -> 0.4 | AQ11: =VLOOKUP(AI11,'SCORE TALLER'!$AG$2:$AH$10,2,TRUE)*AQ$2 -> 0.4 | AR11: =VLOOKUP(AC11,'SCORE TALLER'!$U$2:$V$10,2,FALSE)*AR$2 -> 0.04 | AS11: =VLOOKUP(AE11,'SCORE TALLER'!$Y$2:$Z$10,2,FALSE)*AS$2 -> 0.02 | AT11: =VLOOKUP(Z11,'SCORE TALLER'!$O$2:$P$10,2,TRUE)*AT$2 -> 0.03 | AU11: =VLOOKUP(S11,'SCORE TALLER'!$A$2:$B$10,2,FALSE)*AU$2 -> 0.15 | AV11: =VLOOKUP(AJ11,'SCORE TALLER'!$AI$2:$AJ$10,2,TRUE)*AV$2 -> 0.15 | AW11: =VLOOKUP(AK11,'SCORE TALLER'!$AK$2:$AL$10,2,TRUE)*AW$2 -> 0.2 | AX11: =VLOOKUP(T11,'SCORE TALLER'!$C$2:$D$10,2,FALSE)*AX$2 -> 0 | AY11: =VLOOKUP(W11,'SCORE TALLER'!$I$2:$J$10,2,TRUE)*AY$2 -> 0 | AZ11: =VLOOKUP(X11,'SCORE TALLER'!$K$2:$L$10,2,TRUE)*AZ$2 -> 0 | BA11: =VLOOKUP(U11,'SCORE TALLER'!$E$2:$F$10,2,FALSE)*BA$2 -> 0 | BB11: =VLOOKUP(Y11,'SCORE TALLER'!$M$2:$N$10,2,TRUE)*BB$2 -> 0.04 | BC11: =VLOOKUP(AA11,'SCORE TALLER'!$Q$2:$R$10,2,FALSE)*BC$2 -> 0.05 | BD11: =VLOOKUP(V11,'SCORE TALLER'!$G$2:$H$10,2,FALSE)*BD$2 -> 0 | BE11: =VLOOKUP(AF11,'SCORE TALLER'!$AA$2:$AB$10,2,FALSE)*BE$2 -> 0.5 | BF11: =VLOOKUP(AL11,'SCORE TALLER'!$AM$2:$AN$10,2,TRUE)*BF$2 -> 0.5 | BG11: =+SUM(AM11:BF11) -> 3.06 | BH11: =VLOOKUP(BG11,'SCORE TALLER'!$AP$2:$AQ$7,2,TRUE) -> 5. Crítico | BI11: =+T11 -> LBZ | BJ11: B | BK11: =+AF11 -> E | BL11: =+H11 -> 4058117 | BM11: =+Q11 -> 79071000
A12: 2224624604 | B12: ASOCIADO 8 | C12: 1. SI | D12: 6. >$5-$10 MM | E12: 302539 | F12: 11518438 | G12: =+IF(F12>M12+100000,F12-M12,0) -> 5982471 | H12: =IF(G12>L12+100000,G12-L12,0) -> 1034518 | I12: 11518000 | J12: 643196 | K12: 0 | L12: 4947953 | M12: 5535967 | N12: =VLOOKUP(AD12,'tabla ingresos'!$A$3:$D$15,4,FALSE) -> 1000000 | O12: 815562.05 | P12: 32522000 | Q12: 30549000 | R12: 76130 | S12: 6- pignoración | T12: LBZ | U12: A | V12: 4 | W12: 0 | X12: 0 | Y12: 1.9726027 | Z12: 34.887671 | AA12: 1 | AB12: 5 | AC12: 3 | AD12: 2 | AE12: 1 | AF12: E | AG12: =+(O12+J12)/(N12*1.5) -> 0.97250536 | AH12: =+(P12+F12)/(N12*1.5) -> 29.360292 | AI12: =+(E12+M12)/(N12*1.5) -> 3.8923373 | AJ12: =+G12/(N12*1.5) -> 3.988314 | AK12: =+H12/(N12*1.5) -> 0.68967867 | AL12: =+Q12/(N12*1.5) -> 20.366 | AM12: =VLOOKUP(AG12,'SCORE TALLER'!$AC$2:$AD$10,2,TRUE)*AM$2 -> 0.4 | AN12: =VLOOKUP(AD12,'SCORE TALLER'!$W$2:$X$10,2,TRUE)*AN$2 -> 0.32 | AO12: =VLOOKUP(AB12,'SCORE TALLER'!$S$2:$T$10,2,FALSE)*AO$2 -> 0.01 | AP12: =VLOOKUP(AH12,'SCORE TALLER'!$AE$2:$AF$10,2,TRUE)*AP$2 -> 0.4 | AQ12: =VLOOKUP(AI12,'SCORE TALLER'!$AG$2:$AH$10,2,TRUE)*AQ$2 -> 0.16 | AR12: =VLOOKUP(AC12,'SCORE TALLER'!$U$2:$V$10,2,FALSE)*AR$2 -> 0.03 | AS12: =VLOOKUP(AE12,'SCORE TALLER'!$Y$2:$Z$10,2,FALSE)*AS$2 -> 0.03 | AT12: =VLOOKUP(Z12,'SCORE TALLER'!$O$2:$P$10,2,TRUE)*AT$2 -> 0.04 | AU12: =VLOOKUP(S12,'SCORE TALLER'!$A$2:$B$10,2,FALSE)*AU$2 -> 0.15 | AV12: =VLOOKUP(AJ12,'SCORE TALLER'!$AI$2:$AJ$10,2,TRUE)*AV$2 -> 0.1 | AW12: =VLOOKUP(AK12,'SCORE TALLER'!$AK$2:$AL$10,2,TRUE)*AW$2 -> 0.25 | AX12: =VLOOKUP(T12,'SCORE TALLER'!$C$2:$D$10,2,FALSE)*AX$2 -> 0 | AY12: =VLOOKUP(W12,'SCORE TALLER'!$I$2:$J$10,2,TRUE)*AY$2 -> 0 | AZ12: =VLOOKUP(X12,'SCORE TALLER'!$K$2:$L$10,2,TRUE)*AZ$2 -> 0 | BA12: =VLOOKUP(U12,'SCORE TALLER'!$E$2:$F$10,2,FALSE)*BA$2 -> 0 | BB12: =VLOOKUP(Y12,'SCORE TALLER'!$M$2:$N$10,2,TRUE)*BB$2 -> 0.05 | BC12: =VLOOKUP(AA12,'SCORE TALLER'!$Q$2:$R$10,2,FALSE)*BC$2 -> 0.05 | BD12: =VLOOKUP(V12,'SCORE TALLER'!$G$2:$H$10,2,FALSE)*BD$2 -> 0 | BE12: =VLOOKUP(AF12,'SCORE TALLER'!$AA$2:$AB$10,2,FALSE)*BE$2 -> 0.5 | BF12: =VLOOKUP(AL12,'SCORE TALLER'!$AM$2:$AN$10,2,TRUE)*BF$2 -> 0.5 | BG12: =+SUM(AM12:BF12) -> 2.99 | BH12: =VLOOKUP(BG12,'SCORE TALLER'!$AP$2:$AQ$7,2,TRUE) -> 4. Alto | BI12: =+T12 -> LBZ | BJ12: =+U12 -> A | BK12: =+AF12 -> E | BL12: =+H12 -> 1034518 | BM12: =+Q12 -> 30549000
A13: 4288200 | B13: ASOCIADO 9 | C13: 1. SI | D13: 6. >$5-$10 MM | E13: 516139 | F13: 8272347 | G13: =+IF(F13>M13+100000,F13-M13,0) -> 5977100 | H13: =IF(G13>L13+100000,G13-L13,0) -> 5045100 | I13: 8273000 | J13: 352339 | K13: 0 | L13: 932000 | M13: 2295247 | N13: =VLOOKUP(AD13,'tabla ingresos'!$A$3:$D$15,4,FALSE) -> 1000000 | O13: 935568.42 | P13: 57219000 | Q13: 53536000 | R13: 76130 | S13: 6- pignoración | T13: LBZ | U13: A | V13: 4 | W13: 0 | X13: 0 | Y13: 3.8465753 | Z13: 52.123288 | AA13: 1 | AB13: 2 | AC13: 3 | AD13: 2 | AE13: 4 | AF13: E | AG13: =+(O13+J13)/(N13*1.5) -> 0.85860495 | AH13: =+(P13+F13)/(N13*1.5) -> 43.660898 | AI13: =+(E13+M13)/(N13*1.5) -> 1.8742573 | AJ13: =+G13/(N13*1.5) -> 3.9847333 | AK13: =+H13/(N13*1.5) -> 3.3634 | AL13: =+Q13/(N13*1.5) -> 35.690667 | AM13: =VLOOKUP(AG13,'SCORE TALLER'!$AC$2:$AD$10,2,TRUE)*AM$2 -> 0.32 | AN13: =VLOOKUP(AD13,'SCORE TALLER'!$W$2:$X$10,2,TRUE)*AN$2 -> 0.32 | AO13: =VLOOKUP(AB13,'SCORE TALLER'!$S$2:$T$10,2,FALSE)*AO$2 -> 0.04 | AP13: =VLOOKUP(AH13,'SCORE TALLER'!$AE$2:$AF$10,2,TRUE)*AP$2 -> 0.4 | AQ13: =VLOOKUP(AI13,'SCORE TALLER'!$AG$2:$AH$10,2,TRUE)*AQ$2 -> 0.32 | AR13: =VLOOKUP(AC13,'SCORE TALLER'!$U$2:$V$10,2,FALSE)*AR$2 -> 0.03 | AS13: =VLOOKUP(AE13,'SCORE TALLER'!$Y$2:$Z$10,2,FALSE)*AS$2 -> 0.05 | AT13: =VLOOKUP(Z13,'SCORE TALLER'!$O$2:$P$10,2,TRUE)*AT$2 -> 0.02 | AU13: =VLOOKUP(S13,'SCORE TALLER'!$A$2:$B$10,2,FALSE)*AU$2 -> 0.15 | AV13: =VLOOKUP(AJ13,'SCORE TALLER'!$AI$2:$AJ$10,2,TRUE)*AV$2 -> 0.1 | AW13: =VLOOKUP(AK13,'SCORE TALLER'!$AK$2:$AL$10,2,TRUE)*AW$2 -> 0.1 | AX13: =VLOOKUP(T13,'SCORE TALLER'!$C$2:$D$10,2,FALSE)*AX$2 -> 0 | AY13: =VLOOKUP(W13,'SCORE TALLER'!$I$2:$J$10,2,TRUE)*AY$2 -> 0 | AZ13: =VLOOKUP(X13,'SCORE TALLER'!$K$2:$L$10,2,TRUE)*AZ$2 -> 0 | BA13: =VLOOKUP(U13,'SCORE TALLER'!$E$2:$F$10,2,FALSE)*BA$2 -> 0 | BB13: =VLOOKUP(Y13,'SCORE TALLER'!$M$2:$N$10,2,TRUE)*BB$2 -> 0.04 | BC13: =VLOOKUP(AA13,'SCORE TALLER'!$Q$2:$R$10,2,FALSE)*BC$2 -> 0.05 | BD13: =VLOOKUP(V13,'SCORE TALLER'!$G$2:$H$10,2,FALSE)*BD$2 -> 0 | BE13: =VLOOKUP(AF13,'SCORE TALLER'!$AA$2:$AB$10,2,FALSE)*BE$2 -> 0.5 | BF13: =VLOOKUP(AL13,'SCORE TALLER'!$AM$2:$AN$10,2,TRUE)*BF$2 -> 0.5 | BG13: =+SUM(AM13:BF13) -> 2.94 | BH13: =VLOOKUP(BG13,'SCORE TALLER'!$AP$2:$AQ$7,2,TRUE) -> 4. Alto | BI13: =+T13 -> LBZ | BJ13: B | BK13: =+AF13 -> E | BL13: =+H13 -> 5045100 | BM13: =+Q13 -> 53536000
A14: 4420284 | B14: ASOCIADO 10 | C14: 1. SI | D14: 4. >$1-$2 MM | F14: 6710900 | G14: =+IF(F14>M14+100000,F14-M14,0) -> 1854383 | H14: =IF(G14>L14+100000,G14-L14,0) -> 0 | I14: 6711000 | J14: 211672 | K14: 0 | L14: 2600000 | M14: 4856517 | N14: =VLOOKUP(AD14,'tabla ingresos'!$A$3:$D$15,4,FALSE) -> 1000000 | O14: 694100.82 | P14: 28874000 | Q14: 28874000 | R14: 76130 | S14: 6- pignoración | T14: LBZ | U14: A | V14: 4 | W14: 0 | X14: 0 | Y14: 8.4191781 | Z14: 51 | AA14: 1 | AB14: 2 | AC14: 1 | AD14: 2 | AE14: 1 | AF14: E | AG14: =+(O14+J14)/(N14*1.5) -> 0.60384854 | AH14: =+(P14+F14)/(N14*1.5) -> 23.723267 | AI14: =+(E14+M14)/(N14*1.5) -> 3.237678 | AJ14: =+G14/(N14*1.5) -> 1.2362553 | AK14: =+H14/(N14*1.5) -> 0 | AL14: =+Q14/(N14*1.5) -> 19.249333 | AM14: =VLOOKUP(AG14,'SCORE TALLER'!$AC$2:$AD$10,2,TRUE)*AM$2 -> 0.16 | AN14: =VLOOKUP(AD14,'SCORE TALLER'!$W$2:$X$10,2,TRUE)*AN$2 -> 0.32 | AO14: =VLOOKUP(AB14,'SCORE TALLER'!$S$2:$T$10,2,FALSE)*AO$2 -> 0.04 | AP14: =VLOOKUP(AH14,'SCORE TALLER'!$AE$2:$AF$10,2,TRUE)*AP$2 -> 0.32 | AQ14: =VLOOKUP(AI14,'SCORE TALLER'!$AG$2:$AH$10,2,TRUE)*AQ$2 -> 0.16 | AR14: =VLOOKUP(AC14,'SCORE TALLER'!$U$2:$V$10,2,FALSE)*AR$2 -> 0.05 | AS14: =VLOOKUP(AE14,'SCORE TALLER'!$Y$2:$Z$10,2,FALSE)*AS$2 -> 0.03 | AT14: =VLOOKUP(Z14,'SCORE TALLER'!$O$2:$P$10,2,TRUE)*AT$2 -> 0.02 | AU14: =VLOOKUP(S14,'SCORE TALLER'!$A$2:$B$10,2,FALSE)*AU$2 -> 0.15 | AV14: =VLOOKUP(AJ14,'SCORE TALLER'!$AI$2:$AJ$10,2,TRUE)*AV$2 -> 0.2 | AW14: =VLOOKUP(AK14,'SCORE TALLER'!$AK$2:$AL$10,2,TRUE)*AW$2 -> 0.25 | AX14: =VLOOKUP(T14,'SCORE TALLER'!$C$2:$D$10,2,FALSE)*AX$2 -> 0 | AY14: =VLOOKUP(W14,'SCORE TALLER'!$I$2:$J$10,2,TRUE)*AY$2 -> 0 | AZ14: =VLOOKUP(X14,'SCORE TALLER'!$K$2:$L$10,2,TRUE)*AZ$2 -> 0 | BA14: =VLOOKUP(U14,'SCORE TALLER'!$E$2:$F$10,2,FALSE)*BA$2 -> 0 | BB14: =VLOOKUP(Y14,'SCORE TALLER'!$M$2:$N$10,2,TRUE)*BB$2 -> 0.01 | BC14: =VLOOKUP(AA14,'SCORE TALLER'!$Q$2:$R$10,2,FALSE)*BC$2 -> 0.05 | BD14: =VLOOKUP(V14,'SCORE TALLER'!$G$2:$H$10,2,FALSE)*BD$2 -> 0 | BE14: =VLOOKUP(AF14,'SCORE TALLER'!$AA$2:$AB$10,2,FALSE)*BE$2 -> 0.5 | BF14: =VLOOKUP(AL14,'SCORE TALLER'!$AM$2:$AN$10,2,TRUE)*BF$2 -> 0.5 | BG14: =+SUM(AM14:BF14) -> 2.76 | BH14: =VLOOKUP(BG14,'SCORE TALLER'!$AP$2:$AQ$7,2,TRUE) -> 4. Alto | BI14: =+T14 -> LBZ | BJ14: =+U14 -> A | BK14: =+AF14 -> E | BL14: =+H14 -> 0 | BM14: =+Q14 -> 28874000
A15: 2044424828 | B15: ASOCIADO 11 | C15: 1. SI | D15: 5. >$2-$5 MM | E15: 999897 | F15: 4361762 | G15: =+IF(F15>M15+100000,F15-M15,0) -> 3090448 | H15: =IF(G15>L15+100000,G15-L15,0) -> 589728 | I15: 4362000 | J15: 207987 | K15: 0 | L15: 2500720 | M15: 1271314 | N15: =VLOOKUP(AD15,'tabla ingresos'!$A$3:$D$15,4,FALSE) -> 1000000 | O15: 594416.13 | P15: 26722000 | Q15: 26722000 | R15: 8573 | S15: 6- pignoración | T15: LBZ | U15: A | V15: 4 | W15: 0 | X15: 0 | Y15: 4.2575342 | Z15: 32.69863 | AA15: 1 | AB15: 0 | AC15: 3 | AD15: 2 | AE15: 3 | AF15: E | AG15: =+(O15+J15)/(N15*1.5) -> 0.53493542 | AH15: =+(P15+F15)/(N15*1.5) -> 20.722508 | AI15: =+(E15+M15)/(N15*1.5) -> 1.5141407 | AJ15: =+G15/(N15*1.5) -> 2.0602987 | AK15: =+H15/(N15*1.5) -> 0.393152 | AL15: =+Q15/(N15*1.5) -> 17.814667 | AM15: =VLOOKUP(AG15,'SCORE TALLER'!$AC$2:$AD$10,2,TRUE)*AM$2 -> 0.08 | AN15: =VLOOKUP(AD15,'SCORE TALLER'!$W$2:$X$10,2,TRUE)*AN$2 -> 0.32 | AO15: =VLOOKUP(AB15,'SCORE TALLER'!$S$2:$T$10,2,FALSE)*AO$2 -> 0.05 | AP15: =VLOOKUP(AH15,'SCORE TALLER'!$AE$2:$AF$10,2,TRUE)*AP$2 -> 0.32 | AQ15: =VLOOKUP(AI15,'SCORE TALLER'!$AG$2:$AH$10,2,TRUE)*AQ$2 -> 0.32 | AR15: =VLOOKUP(AC15,'SCORE TALLER'!$U$2:$V$10,2,FALSE)*AR$2 -> 0.03 | AS15: =VLOOKUP(AE15,'SCORE TALLER'!$Y$2:$Z$10,2,FALSE)*AS$2 -> 0.02 | AT15: =VLOOKUP(Z15,'SCORE TALLER'!$O$2:$P$10,2,TRUE)*AT$2 -> 0.04 | AU15: =VLOOKUP(S15,'SCORE TALLER'!$A$2:$B$10,2,FALSE)*AU$2 -> 0.15 | AV15: =VLOOKUP(AJ15,'SCORE TALLER'!$AI$2:$AJ$10,2,TRUE)*AV$2 -> 0.15 | AW15: =VLOOKUP(AK15,'SCORE TALLER'!$AK$2:$AL$10,2,TRUE)*AW$2 -> 0.25 | AX15: =VLOOKUP(T15,'SCORE TALLER'!$C$2:$D$10,2,FALSE)*AX$2 -> 0 | AY15: =VLOOKUP(W15,'SCORE TALLER'!$I$2:$J$10,2,TRUE)*AY$2 -> 0 | AZ15: =VLOOKUP(X15,'SCORE TALLER'!$K$2:$L$10,2,TRUE)*AZ$2 -> 0 | BA15: =VLOOKUP(U15,'SCORE TALLER'!$E$2:$F$10,2,FALSE)*BA$2 -> 0 | BB15: =VLOOKUP(Y15,'SCORE TALLER'!$M$2:$N$10,2,TRUE)*BB$2 -> 0.03 | BC15: =VLOOKUP(AA15,'SCORE TALLER'!$Q$2:$R$10,2,FALSE)*BC$2 -> 0.05 | BD15: =VLOOKUP(V15,'SCORE TALLER'!$G$2:$H$10,2,FALSE)*BD$2 -> 0 | BE15: =VLOOKUP(AF15,'SCORE TALLER'!$AA$2:$AB$10,2,FALSE)*BE$2 -> 0.5 | BF15: =VLOOKUP(AL15,'SCORE TALLER'!$AM$2:$AN$10,2,TRUE)*BF$2 -> 0.5 | BG15: =+SUM(AM15:BF15) -> 2.81 | BH15: =VLOOKUP(BG15,'SCORE TALLER'!$AP$2:$AQ$7,2,TRUE) -> 4. Alto | BI15: =+T15 -> LBZ | BJ15: =+U15 -> A | BK15: =+AF15 -> E | BL15: =+H15 -> 589728 | BM15: =+Q15 -> 26722000
A16: 2228684286 | B16: ASOCIADO 12 | C16: 1. SI | D16: 5. >$2-$5 MM | F16: 8451806 | G16: =+IF(F16>M16+100000,F16-M16,0) -> 2729546 | H16: =IF(G16>L16+100000,G16-L16,0) -> 0 | I16: 8452000 | J16: 274463 | K16: 0 | L16: 2700000 | M16: 5722260 | N16: =VLOOKUP(AD16,'tabla ingresos'!$A$3:$D$15,4,FALSE) -> 1000000 | O16: 687700.37 | P16: 29880000 | Q16: 25556000 | R16: 68276 | S16: 6- pignoración | T16: LBZ | U16: A | V16: 4 | W16: 0 | X16: 0 | Y16: 6.7589041 | Z16: 36.306849 | AA16: 1 | AB16: 1 | AC16: 1 | AD16: 2 | AE16: 3 | AF16: E | AG16: =+(O16+J16)/(N16*1.5) -> 0.64144225 | AH16: =+(P16+F16)/(N16*1.5) -> 25.554537 | AI16: =+(E16+M16)/(N16*1.5) -> 3.81484 | AJ16: =+G16/(N16*1.5) -> 1.8196973 | AK16: =+H16/(N16*1.5) -> 0 | AL16: =+Q16/(N16*1.5) -> 17.037333 | AM16: =VLOOKUP(AG16,'SCORE TALLER'!$AC$2:$AD$10,2,TRUE)*AM$2 -> 0.16 | AN16: =VLOOKUP(AD16,'SCORE TALLER'!$W$2:$X$10,2,TRUE)*AN$2 -> 0.32 | AO16: =VLOOKUP(AB16,'SCORE TALLER'!$S$2:$T$10,2,FALSE)*AO$2 -> 0.05 | AP16: =VLOOKUP(AH16,'SCORE TALLER'!$AE$2:$AF$10,2,TRUE)*AP$2 -> 0.4 | AQ16: =VLOOKUP(AI16,'SCORE TALLER'!$AG$2:$AH$10,2,TRUE)*AQ$2 -> 0.16 | AR16: =VLOOKUP(AC16,'SCORE TALLER'!$U$2:$V$10,2,FALSE)*AR$2 -> 0.05 | AS16: =VLOOKUP(AE16,'SCORE TALLER'!$Y$2:$Z$10,2,FALSE)*AS$2 -> 0.02 | AT16: =VLOOKUP(Z16,'SCORE TALLER'!$O$2:$P$10,2,TRUE)*AT$2 -> 0.03 | AU16: =VLOOKUP(S16,'SCORE TALLER'!$A$2:$B$10,2,FALSE)*AU$2 -> 0.15 | AV16: =VLOOKUP(AJ16,'SCORE TALLER'!$AI$2:$AJ$10,2,TRUE)*AV$2 -> 0.2 | AW16: =VLOOKUP(AK16,'SCORE TALLER'!$AK$2:$AL$10,2,TRUE)*AW$2 -> 0.25 | AX16: =VLOOKUP(T16,'SCORE TALLER'!$C$2:$D$10,2,FALSE)*AX$2 -> 0 | AY16: =VLOOKUP(W16,'SCORE TALLER'!$I$2:$J$10,2,TRUE)*AY$2 -> 0 | AZ16: =VLOOKUP(X16,'SCORE TALLER'!$K$2:$L$10,2,TRUE)*AZ$2 -> 0 | BA16: =VLOOKUP(U16,'SCORE TALLER'!$E$2:$F$10,2,FALSE)*BA$2 -> 0 | BB16: =VLOOKUP(Y16,'SCORE TALLER'!$M$2:$N$10,2,TRUE)*BB$2 -> 0.02 | BC16: =VLOOKUP(AA16,'SCORE TALLER'!$Q$2:$R$10,2,FALSE)*BC$2 -> 0.05 | BD16: =VLOOKUP(V16,'SCORE TALLER'!$G$2:$H$10,2,FALSE)*BD$2 -> 0 | BE16: =VLOOKUP(AF16,'SCORE TALLER'!$AA$2:$AB$10,2,FALSE)*BE$2 -> 0.5 | BF16: =VLOOKUP(AL16,'SCORE TALLER'!$AM$2:$AN$10,2,TRUE)*BF$2 -> 0.5 | BG16: =+SUM(AM16:BF16) -> 2.86 | BH16: =VLOOKUP(BG16,'SCORE TALLER'!$AP$2:$AQ$7,2,TRUE) -> 4. Alto | BI16: =+T16 -> LBZ | BJ16: =+U16 -> A | BK16: =+AF16 -> E | BL16: =+H16 -> 0 | BM16: =+Q16 -> 25556000
A17: 2064668026 | B17: ASOCIADO 13 | C17: 1. SI | D17: 7. >$10 MM | E17: 212002 | F17: 22044801 | G17: =+IF(F17>M17+100000,F17-M17,0) -> 16260820 | H17: =IF(G17>L17+100000,G17-L17,0) -> 212376 | I17: 22045000 | J17: 555843 | K17: 0 | L17: 16048444 | M17: 5783981 | N17: =VLOOKUP(AD17,'tabla ingresos'!$A$3:$D$15,4,FALSE) -> 1000000 | O17: 529351.12 | P17: 23797000 | Q17: 23497000 | R17: 17380 | S17: 6- pignoración | T17: LBZ | U17: A | V17: 4 | W17: 0 | X17: 0 | Y17: 7.9150685 | Z17: 29.117808 | AA17: 1 | AB17: 2 | AC17: 1 | AD17: 2 | AE17: 1 | AF17: E | AG17: =+(O17+J17)/(N17*1.5) -> 0.72346275 | AH17: =+(P17+F17)/(N17*1.5) -> 30.561201 | AI17: =+(E17+M17)/(N17*1.5) -> 3.997322 | AJ17: =+G17/(N17*1.5) -> 10.840547 | AK17: =+H17/(N17*1.5) -> 0.141584 | AL17: =+Q17/(N17*1.5) -> 15.664667 | AM17: =VLOOKUP(AG17,'SCORE TALLER'!$AC$2:$AD$10,2,TRUE)*AM$2 -> 0.24 | AN17: =VLOOKUP(AD17,'SCORE TALLER'!$W$2:$X$10,2,TRUE)*AN$2 -> 0.32 | AO17: =VLOOKUP(AB17,'SCORE TALLER'!$S$2:$T$10,2,FALSE)*AO$2 -> 0.04 | AP17: =VLOOKUP(AH17,'SCORE TALLER'!$AE$2:$AF$10,2,TRUE)*AP$2 -> 0.4 | AQ17: =VLOOKUP(AI17,'SCORE TALLER'!$AG$2:$AH$10,2,TRUE)*AQ$2 -> 0.16 | AR17: =VLOOKUP(AC17,'SCORE TALLER'!$U$2:$V$10,2,FALSE)*AR$2 -> 0.05 | AS17: =VLOOKUP(AE17,'SCORE TALLER'!$Y$2:$Z$10,2,FALSE)*AS$2 -> 0.03 | AT17: =VLOOKUP(Z17,'SCORE TALLER'!$O$2:$P$10,2,TRUE)*AT$2 -> 0.04 | AU17: =VLOOKUP(S17,'SCORE TALLER'!$A$2:$B$10,2,FALSE)*AU$2 -> 0.15 | AV17: =VLOOKUP(AJ17,'SCORE TALLER'!$AI$2:$AJ$10,2,TRUE)*AV$2 -> 0 | AW17: =VLOOKUP(AK17,'SCORE TALLER'!$AK$2:$AL$10,2,TRUE)*AW$2 -> 0.25 | AX17: =VLOOKUP(T17,'SCORE TALLER'!$C$2:$D$10,2,FALSE)*AX$2 -> 0 | AY17: =VLOOKUP(W17,'SCORE TALLER'!$I$2:$J$10,2,TRUE)*AY$2 -> 0 | AZ17: =VLOOKUP(X17,'SCORE TALLER'!$K$2:$L$10,2,TRUE)*AZ$2 -> 0 | BA17: =VLOOKUP(U17,'SCORE TALLER'!$E$2:$F$10,2,FALSE)*BA$2 -> 0 | BB17: =VLOOKUP(Y17,'SCORE TALLER'!$M$2:$N$10,2,TRUE)*BB$2 -> 0.02 | BC17: =VLOOKUP(AA17,'SCORE TALLER'!$Q$2:$R$10,2,FALSE)*BC$2 -> 0.05 | BD17: =VLOOKUP(V17,'SCORE TALLER'!$G$2:$H$10,2,FALSE)*BD$2 -> 0 | BE17: =VLOOKUP(AF17,'SCORE TALLER'!$AA$2:$AB$10,2,FALSE)*BE$2 -> 0.5 | BF17: =VLOOKUP(AL17,'SCORE TALLER'!$AM$2:$AN$10,2,TRUE)*BF$2 -> 0.5 | BG17: =+SUM(AM17:BF17) -> 2.75 | BH17: =VLOOKUP(BG17,'SCORE TALLER'!$AP$2:$AQ$7,2,TRUE) -> 4. Alto | BI17: =+T17 -> LBZ | BJ17: =+U17 -> A | BK17: =+AF17 -> E | BL17: =+H17 -> 212376 | BM17: =+Q17 -> 23497000
A18: 68446648 | B18: ASOCIADO 14 | C18: 1. SI | D18: 6. >$5-$10 MM | E18: 2892197 | F18: 9864327 | G18: =+IF(F18>M18+100000,F18-M18,0) -> 8282063 | H18: =IF(G18>L18+100000,G18-L18,0) -> 5497467 | I18: 9864000 | J18: 296942 | K18: 0 | L18: 2784596 | M18: 1582264 | N18: =VLOOKUP(AD18,'tabla ingresos'!$A$3:$D$15,4,FALSE) -> 1000000 | O18: 466944.1 | P18: 20644000 | Q18: 20644000 | R18: 76130 | S18: 6- pignoración | T18: LBZ | U18: A | V18: 4 | W18: 0 | X18: 0 | Y18: 5.5013699 | Z18: 46.945205 | AA18: 1 | AB18: 0 | AC18: 1 | AD18: 2 | AE18: 1 | AF18: E | AG18: =+(O18+J18)/(N18*1.5) -> 0.5092574 | AH18: =+(P18+F18)/(N18*1.5) -> 20.338885 | AI18: =+(E18+M18)/(N18*1.5) -> 2.982974 | AJ18: =+G18/(N18*1.5) -> 5.5213753 | AK18: =+H18/(N18*1.5) -> 3.664978 | AL18: =+Q18/(N18*1.5) -> 13.762667 | AM18: =VLOOKUP(AG18,'SCORE TALLER'!$AC$2:$AD$10,2,TRUE)*AM$2 -> 0.08 | AN18: =VLOOKUP(AD18,'SCORE TALLER'!$W$2:$X$10,2,TRUE)*AN$2 -> 0.32 | AO18: =VLOOKUP(AB18,'SCORE TALLER'!$S$2:$T$10,2,FALSE)*AO$2 -> 0.05 | AP18: =VLOOKUP(AH18,'SCORE TALLER'!$AE$2:$AF$10,2,TRUE)*AP$2 -> 0.32 | AQ18: =VLOOKUP(AI18,'SCORE TALLER'!$AG$2:$AH$10,2,TRUE)*AQ$2 -> 0.24 | AR18: =VLOOKUP(AC18,'SCORE TALLER'!$U$2:$V$10,2,FALSE)*AR$2 -> 0.05 | AS18: =VLOOKUP(AE18,'SCORE TALLER'!$Y$2:$Z$10,2,FALSE)*AS$2 -> 0.03 | AT18: =VLOOKUP(Z18,'SCORE TALLER'!$O$2:$P$10,2,TRUE)*AT$2 -> 0.02 | AU18: =VLOOKUP(S18,'SCORE TALLER'!$A$2:$B$10,2,FALSE)*AU$2 -> 0.15 | AV18: =VLOOKUP(AJ18,'SCORE TALLER'!$AI$2:$AJ$10,2,TRUE)*AV$2 -> 0 | AW18: =VLOOKUP(AK18,'SCORE TALLER'!$AK$2:$AL$10,2,TRUE)*AW$2 -> 0.1 | AX18: =VLOOKUP(T18,'SCORE TALLER'!$C$2:$D$10,2,FALSE)*AX$2 -> 0 | AY18: =VLOOKUP(W18,'SCORE TALLER'!$I$2:$J$10,2,TRUE)*AY$2 -> 0 | AZ18: =VLOOKUP(X18,'SCORE TALLER'!$K$2:$L$10,2,TRUE)*AZ$2 -> 0 | BA18: =VLOOKUP(U18,'SCORE TALLER'!$E$2:$F$10,2,FALSE)*BA$2 -> 0 | BB18: =VLOOKUP(Y18,'SCORE TALLER'!$M$2:$N$10,2,TRUE)*BB$2 -> 0.03 | BC18: =VLOOKUP(AA18,'SCORE TALLER'!$Q$2:$R$10,2,FALSE)*BC$2 -> 0.05 | BD18: =VLOOKUP(V18,'SCORE TALLER'!$G$2:$H$10,2,FALSE)*BD$2 -> 0 | BE18: =VLOOKUP(AF18,'SCORE TALLER'!$AA$2:$AB$10,2,FALSE)*BE$2 -> 0.5 | BF18: =VLOOKUP(AL18,'SCORE TALLER'!$AM$2:$AN$10,2,TRUE)*BF$2 -> 0.5 | BG18: =+SUM(AM18:BF18) -> 2.44 | BH18: =VLOOKUP(BG18,'SCORE TALLER'!$AP$2:$AQ$7,2,TRUE) -> 3. Medio | BI18: =+T18 -> LBZ | BJ18: =+U18 -> A | BK18: =+AF18 -> E | BL18: =+H18 -> 5497467 | BM18: =+Q18 -> 20644000
A19: 26284460 | B19: ASOCIADO 15 | C19: 1. SI | D19: 6. >$5-$10 MM | E19: 765815 | F19: 6429591 | G19: =+IF(F19>M19+100000,F19-M19,0) -> 5173110 | H19: =IF(G19>L19+100000,G19-L19,0) -> 2273110 | I19: 6430000 | J19: 217854 | K19: 0 | L19: 2900000 | M19: 1256481 | N19: =VLOOKUP(AD19,'tabla ingresos'!$A$3:$D$15,4,FALSE) -> 2000000 | O19: 330892.68 | P19: 13787000 | Q19: 12362000 | R19: 76520 | S19: 6- pignoración | T19: LBZ | U19: A | V19: 4 | W19: 0 | X19: 0 | Y19: 1.969863 | Z19: 56.619178 | AA19: 1 | AB19: 4 | AC19: 1 | AD19: 3 | AE19: 3 | AF19: E | AG19: =+(O19+J19)/(N19*1.5) -> 0.18291556 | AH19: =+(P19+F19)/(N19*1.5) -> 6.7388637 | AI19: =+(E19+M19)/(N19*1.5) -> 0.67409867 | AJ19: =+G19/(N19*1.5) -> 1.72437 | AK19: =+H19/(N19*1.5) -> 0.75770333 | AL19: =+Q19/(N19*1.5) -> 4.1206667 | AM19: =VLOOKUP(AG19,'SCORE TALLER'!$AC$2:$AD$10,2,TRUE)*AM$2 -> 0 | AN19: =VLOOKUP(AD19,'SCORE TALLER'!$W$2:$X$10,2,TRUE)*AN$2 -> 0.32 | AO19: =VLOOKUP(AB19,'SCORE TALLER'!$S$2:$T$10,2,FALSE)*AO$2 -> 0.02 | AP19: =VLOOKUP(AH19,'SCORE TALLER'!$AE$2:$AF$10,2,TRUE)*AP$2 -> 0.08 | AQ19: =VLOOKUP(AI19,'SCORE TALLER'!$AG$2:$AH$10,2,TRUE)*AQ$2 -> 0.4 | AR19: =VLOOKUP(AC19,'SCORE TALLER'!$U$2:$V$10,2,FALSE)*AR$2 -> 0.05 | AS19: =VLOOKUP(AE19,'SCORE TALLER'!$Y$2:$Z$10,2,FALSE)*AS$2 -> 0.02 | AT19: =VLOOKUP(Z19,'SCORE TALLER'!$O$2:$P$10,2,TRUE)*AT$2 -> 0.01 | AU19: =VLOOKUP(S19,'SCORE TALLER'!$A$2:$B$10,2,FALSE)*AU$2 -> 0.15 | AV19: =VLOOKUP(AJ19,'SCORE TALLER'!$AI$2:$AJ$10,2,TRUE)*AV$2 -> 0.2 | AW19: =VLOOKUP(AK19,'SCORE TALLER'!$AK$2:$AL$10,2,TRUE)*AW$2 -> 0.25 | AX19: =VLOOKUP(T19,'SCORE TALLER'!$C$2:$D$10,2,FALSE)*AX$2 -> 0 | AY19: =VLOOKUP(W19,'SCORE TALLER'!$I$2:$J$10,2,TRUE)*AY$2 -> 0 | AZ19: =VLOOKUP(X19,'SCORE TALLER'!$K$2:$L$10,2,TRUE)*AZ$2 -> 0 | BA19: =VLOOKUP(U19,'SCORE TALLER'!$E$2:$F$10,2,FALSE)*BA$2 -> 0 | BB19: =VLOOKUP(Y19,'SCORE TALLER'!$M$2:$N$10,2,TRUE)*BB$2 -> 0.05 | BC19: =VLOOKUP(AA19,'SCORE TALLER'!$Q$2:$R$10,2,FALSE)*BC$2 -> 0.05 | BD19: =VLOOKUP(V19,'SCORE TALLER'!$G$2:$H$10,2,FALSE)*BD$2 -> 0 | BE19: =VLOOKUP(AF19,'SCORE TALLER'!$AA$2:$AB$10,2,FALSE)*BE$2 -> 0.5 | BF19: =VLOOKUP(AL19,'SCORE TALLER'!$AM$2:$AN$10,2,TRUE)*BF$2 -> 0.5 | BG19: =+SUM(AM19:BF19) -> 2.6 | BH19: =VLOOKUP(BG19,'SCORE TALLER'!$AP$2:$AQ$7,2,TRUE) -> 4. Alto | BI19: =+T19 -> LBZ | BJ19: B | BK19: =+AF19 -> E | BL19: =+H19 -> 2273110 | BM19: =+Q19 -> 12362000
A20: 44266406 | B20: ASOCIADO 16 | C20: 1. SI | D20: 5. >$2-$5 MM | E20: 368900 | F20: 5458200 | G20: =+IF(F20>M20+100000,F20-M20,0) -> 4120490 | H20: =IF(G20>L20+100000,G20-L20,0) -> 1120490 | I20: 5458000 | J20: 159282 | K20: 0 | L20: 3000000 | M20: 1337710 | N20: =VLOOKUP(AD20,'tabla ingresos'!$A$3:$D$15,4,FALSE) -> 1000000 | O20: 379846.19 | P20: 17076000 | Q20: 16279000 | R20: 5001 | S20: 6- pignoración | T20: LBZ | U20: A | V20: 4 | W20: 0 | X20: 0 | Y20: 4.5013699 | Z20: 40.720548 | AA20: 2 | AB20: 0 | AC20: 1 | AD20: 2 | AE20: 3 | AF20: E | AG20: =+(O20+J20)/(N20*1.5) -> 0.35941879 | AH20: =+(P20+F20)/(N20*1.5) -> 15.0228 | AI20: =+(E20+M20)/(N20*1.5) -> 1.13774 | AJ20: =+G20/(N20*1.5) -> 2.7469933 | AK20: =+H20/(N20*1.5) -> 0.74699333 | AL20: =+Q20/(N20*1.5) -> 10.852667 | AM20: =VLOOKUP(AG20,'SCORE TALLER'!$AC$2:$AD$10,2,TRUE)*AM$2 -> 0 | AN20: =VLOOKUP(AD20,'SCORE TALLER'!$W$2:$X$10,2,TRUE)*AN$2 -> 0.32 | AO20: =VLOOKUP(AB20,'SCORE TALLER'!$S$2:$T$10,2,FALSE)*AO$2 -> 0.05 | AP20: =VLOOKUP(AH20,'SCORE TALLER'!$AE$2:$AF$10,2,TRUE)*AP$2 -> 0.24 | AQ20: =VLOOKUP(AI20,'SCORE TALLER'!$AG$2:$AH$10,2,TRUE)*AQ$2 -> 0.32 | AR20: =VLOOKUP(AC20,'SCORE TALLER'!$U$2:$V$10,2,FALSE)*AR$2 -> 0.05 | AS20: =VLOOKUP(AE20,'SCORE TALLER'!$Y$2:$Z$10,2,FALSE)*AS$2 -> 0.02 | AT20: =VLOOKUP(Z20,'SCORE TALLER'!$O$2:$P$10,2,TRUE)*AT$2 -> 0.03 | AU20: =VLOOKUP(S20,'SCORE TALLER'!$A$2:$B$10,2,FALSE)*AU$2 -> 0.15 | AV20: =VLOOKUP(AJ20,'SCORE TALLER'!$AI$2:$AJ$10,2,TRUE)*AV$2 -> 0.15 | AW20: =VLOOKUP(AK20,'SCORE TALLER'!$AK$2:$AL$10,2,TRUE)*AW$2 -> 0.25 | AX20: =VLOOKUP(T20,'SCORE TALLER'!$C$2:$D$10,2,FALSE)*AX$2 -> 0 | AY20: =VLOOKUP(W20,'SCORE TALLER'!$I$2:$J$10,2,TRUE)*AY$2 -> 0 | AZ20: =VLOOKUP(X20,'SCORE TALLER'!$K$2:$L$10,2,TRUE)*AZ$2 -> 0 | BA20: =VLOOKUP(U20,'SCORE TALLER'!$E$2:$F$10,2,FALSE)*BA$2 -> 0 | BB20: =VLOOKUP(Y20,'SCORE TALLER'!$M$2:$N$10,2,TRUE)*BB$2 -> 0.03 | BC20: =VLOOKUP(AA20,'SCORE TALLER'!$Q$2:$R$10,2,FALSE)*BC$2 -> 0 | BD20: =VLOOKUP(V20,'SCORE TALLER'!$G$2:$H$10,2,FALSE)*BD$2 -> 0 | BE20: =VLOOKUP(AF20,'SCORE TALLER'!$AA$2:$AB$10,2,FALSE)*BE$2 -> 0.5 | BF20: =VLOOKUP(AL20,'SCORE TALLER'!$AM$2:$AN$10,2,TRUE)*BF$2 -> 0.5 | BG20: =+SUM(AM20:BF20) -> 2.61 | BH20: =VLOOKUP(BG20,'SCORE TALLER'!$AP$2:$AQ$7,2,TRUE) -> 4. Alto | BI20: =+T20 -> LBZ | BJ20: =+U20 -> A | BK20: =+AF20 -> E | BL20: =+H20 -> 1120490 | BM20: =+Q20 -> 16279000
A21: 88828202 | B21: ASOCIADO 17 | C21: 1. SI | D21: 6. >$5-$10 MM | F21: 11198759 | G21: =+IF(F21>M21+100000,F21-M21,0) -> 7703118 | H21: =IF(G21>L21+100000,G21-L21,0) -> 170260 | I21: 11199000 | J21: 296942 | K21: 0 | L21: 7532858 | M21: 3495641 | N21: =VLOOKUP(AD21,'tabla ingresos'!$A$3:$D$15,4,FALSE) -> 1000000 | O21: 395550.65 | P21: 16056000 | Q21: 16056000 | R21: 76130 | S21: 6- pignoración | T21: LBZ | U21: A | V21: 4 | W21: 0 | X21: 0 | Y21: 6.0520548 | Z21: 46.189041 | AA21: 1 | AB21: 2 | AC21: 2 | AD21: 2 | AE21: 3 | AF21: E | AG21: =+(O21+J21)/(N21*1.5) -> 0.46166176 | AH21: =+(P21+F21)/(N21*1.5) -> 18.169839 | AI21: =+(E21+M21)/(N21*1.5) -> 2.3304273 | AJ21: =+G21/(N21*1.5) -> 5.135412 | AK21: =+H21/(N21*1.5) -> 0.11350667 | AL21: =+Q21/(N21*1.5) -> 10.704 | AM21: =VLOOKUP(AG21,'SCORE TALLER'!$AC$2:$AD$10,2,TRUE)*AM$2 -> 0 | AN21: =VLOOKUP(AD21,'SCORE TALLER'!$W$2:$X$10,2,TRUE)*AN$2 -> 0.32 | AO21: =VLOOKUP(AB21,'SCORE TALLER'!$S$2:$T$10,2,FALSE)*AO$2 -> 0.04 | AP21: =VLOOKUP(AH21,'SCORE TALLER'!$AE$2:$AF$10,2,TRUE)*AP$2 -> 0.24 | AQ21: =VLOOKUP(AI21,'SCORE TALLER'!$AG$2:$AH$10,2,TRUE)*AQ$2 -> 0.24 | AR21: =VLOOKUP(AC21,'SCORE TALLER'!$U$2:$V$10,2,FALSE)*AR$2 -> 0.04 | AS21: =VLOOKUP(AE21,'SCORE TALLER'!$Y$2:$Z$10,2,FALSE)*AS$2 -> 0.02 | AT21: =VLOOKUP(Z21,'SCORE TALLER'!$O$2:$P$10,2,TRUE)*AT$2 -> 0.02 | AU21: =VLOOKUP(S21,'SCORE TALLER'!$A$2:$B$10,2,FALSE)*AU$2 -> 0.15 | AV21: =VLOOKUP(AJ21,'SCORE TALLER'!$AI$2:$AJ$10,2,TRUE)*AV$2 -> 0 | AW21: =VLOOKUP(AK21,'SCORE TALLER'!$AK$2:$AL$10,2,TRUE)*AW$2 -> 0.25 | AX21: =VLOOKUP(T21,'SCORE TALLER'!$C$2:$D$10,2,FALSE)*AX$2 -> 0 | AY21: =VLOOKUP(W21,'SCORE TALLER'!$I$2:$J$10,2,TRUE)*AY$2 -> 0 | AZ21: =VLOOKUP(X21,'SCORE TALLER'!$K$2:$L$10,2,TRUE)*AZ$2 -> 0 | BA21: =VLOOKUP(U21,'SCORE TALLER'!$E$2:$F$10,2,FALSE)*BA$2 -> 0 | BB21: =VLOOKUP(Y21,'SCORE TALLER'!$M$2:$N$10,2,TRUE)*BB$2 -> 0.02 | BC21: =VLOOKUP(AA21,'SCORE TALLER'!$Q$2:$R$10,2,FALSE)*BC$2 -> 0.05 | BD21: =VLOOKUP(V21,'SCORE TALLER'!$G$2:$H$10,2,FALSE)*BD$2 -> 0 | BE21: =VLOOKUP(AF21,'SCORE TALLER'!$AA$2:$AB$10,2,FALSE)*BE$2 -> 0.5 | BF21: =VLOOKUP(AL21,'SCORE TALLER'!$AM$2:$AN$10,2,TRUE)*BF$2 -> 0.5 | BG21: =+SUM(AM21:BF21) -> 2.39 | BH21: =VLOOKUP(BG21,'SCORE TALLER'!$AP$2:$AQ$7,2,TRUE) -> 3. Medio | BI21: =+T21 -> LBZ | BJ21: =+U21 -> A | BK21: =+AF21 -> E | BL21: =+H21 -> 170260 | BM21: =+Q21 -> 16056000
A22: 8264864 | B22: ASOCIADO 18 | C22: 1. SI | D22: 5. >$2-$5 MM | E22: 343417 | F22: 6484222 | G22: =+IF(F22>M22+100000,F22-M22,0) -> 4758685 | H22: =IF(G22>L22+100000,G22-L22,0) -> 0 | I22: 6484000 | J22: 198387 | K22: 0 | L22: 7000000 | M22: 1725537 | N22: =VLOOKUP(AD22,'tabla ingresos'!$A$3:$D$15,4,FALSE) -> 2000000 | O22: 708063.01 | P22: 31831000 | Q22: 31831000 | R22: 76130 | S22: 6- pignoración | T22: LBZ | U22: A | V22: 4 | W22: 0 | X22: 0 | Y22: 2.8410959 | Z22: 45.221918 | AA22: 1 | AB22: 2 | AC22: 2 | AD22: 3 | AE22: 1 | AF22: E | AG22: =+(O22+J22)/(N22*1.5) -> 0.30215 | AH22: =+(P22+F22)/(N22*1.5) -> 12.771741 | AI22: =+(E22+M22)/(N22*1.5) -> 0.68965133 | AJ22: =+G22/(N22*1.5) -> 1.5862283 | AK22: =+H22/(N22*1.5) -> 0 | AL22: =+Q22/(N22*1.5) -> 10.610333 | AM22: =VLOOKUP(AG22,'SCORE TALLER'!$AC$2:$AD$10,2,TRUE)*AM$2 -> 0 | AN22: =VLOOKUP(AD22,'SCORE TALLER'!$W$2:$X$10,2,TRUE)*AN$2 -> 0.32 | AO22: =VLOOKUP(AB22,'SCORE TALLER'!$S$2:$T$10,2,FALSE)*AO$2 -> 0.04 | AP22: =VLOOKUP(AH22,'SCORE TALLER'!$AE$2:$AF$10,2,TRUE)*AP$2 -> 0.16 | AQ22: =VLOOKUP(AI22,'SCORE TALLER'!$AG$2:$AH$10,2,TRUE)*AQ$2 -> 0.4 | AR22: =VLOOKUP(AC22,'SCORE TALLER'!$U$2:$V$10,2,FALSE)*AR$2 -> 0.04 | AS22: =VLOOKUP(AE22,'SCORE TALLER'!$Y$2:$Z$10,2,FALSE)*AS$2 -> 0.03 | AT22: =VLOOKUP(Z22,'SCORE TALLER'!$O$2:$P$10,2,TRUE)*AT$2 -> 0.02 | AU22: =VLOOKUP(S22,'SCORE TALLER'!$A$2:$B$10,2,FALSE)*AU$2 -> 0.15 | AV22: =VLOOKUP(AJ22,'SCORE TALLER'!$AI$2:$AJ$10,2,TRUE)*AV$2 -> 0.2 | AW22: =VLOOKUP(AK22,'SCORE TALLER'!$AK$2:$AL$10,2,TRUE)*AW$2 -> 0.25 | AX22: =VLOOKUP(T22,'SCORE TALLER'!$C$2:$D$10,2,FALSE)*AX$2 -> 0 | AY22: =VLOOKUP(W22,'SCORE TALLER'!$I$2:$J$10,2,TRUE)*AY$2 -> 0 | AZ22: =VLOOKUP(X22,'SCORE TALLER'!$K$2:$L$10,2,TRUE)*AZ$2 -> 0 | BA22: =VLOOKUP(U22,'SCORE TALLER'!$E$2:$F$10,2,FALSE)*BA$2 -> 0 | BB22: =VLOOKUP(Y22,'SCORE TALLER'!$M$2:$N$10,2,TRUE)*BB$2 -> 0.04 | BC22: =VLOOKUP(AA22,'SCORE TALLER'!$Q$2:$R$10,2,FALSE)*BC$2 -> 0.05 | BD22: =VLOOKUP(V22,'SCORE TALLER'!$G$2:$H$10,2,FALSE)*BD$2 -> 0 | BE22: =VLOOKUP(AF22,'SCORE TALLER'!$AA$2:$AB$10,2,FALSE)*BE$2 -> 0.5 | BF22: =VLOOKUP(AL22,'SCORE TALLER'!$AM$2:$AN$10,2,TRUE)*BF$2 -> 0.5 | BG22: =+SUM(AM22:BF22) -> 2.7 | BH22: =VLOOKUP(BG22,'SCORE TALLER'!$AP$2:$AQ$7,2,TRUE) -> 4. Alto | BI22: =+T22 -> LBZ | BJ22: =+U22 -> A | BK22: =+AF22 -> E | BL22: =+H22 -> 0 | BM22: =+Q22 -> 31831000
A23: 206640 | B23: ASOCIADO 19 | C23: 1. SI | D23: 5. >$2-$5 MM | F23: 4747575 | G23: =+IF(F23>M23+100000,F23-M23,0) -> 2738755 | H23: =IF(G23>L23+100000,G23-L23,0) -> 438755 | I23: 4748000 | J23: 172510 | K23: 0 | L23: 2300000 | M23: 2008820 | N23: =VLOOKUP(AD23,'tabla ingresos'!$A$3:$D$15,4,FALSE) -> 1000000 | O23: 666763.28 | P23: 26543000 | Q23: 15897000 | R23: 13836 | S23: 6- pignoración | T23: LBZ | U23: A | V23: 4 | W23: 0 | X23: 0 | Y23: 5.3232877 | Z23: 41.70411 | AA23: 1 | AB23: 2 | AC23: 1 | AD23: 2 | AE23: 2 | AF23: D | AG23: =+(O23+J23)/(N23*1.5) -> 0.55951552 | AH23: =+(P23+F23)/(N23*1.5) -> 20.860383 | AI23: =+(E23+M23)/(N23*1.5) -> 1.3392133 | AJ23: =+G23/(N23*1.5) -> 1.8258367 | AK23: =+H23/(N23*1.5) -> 0.29250333 | AL23: =+Q23/(N23*1.5) -> 10.598 | AM23: =VLOOKUP(AG23,'SCORE TALLER'!$AC$2:$AD$10,2,TRUE)*AM$2 -> 0.08 | AN23: =VLOOKUP(AD23,'SCORE TALLER'!$W$2:$X$10,2,TRUE)*AN$2 -> 0.32 | AO23: =VLOOKUP(AB23,'SCORE TALLER'!$S$2:$T$10,2,FALSE)*AO$2 -> 0.04 | AP23: =VLOOKUP(AH23,'SCORE TALLER'!$AE$2:$AF$10,2,TRUE)*AP$2 -> 0.32 | AQ23: =VLOOKUP(AI23,'SCORE TALLER'!$AG$2:$AH$10,2,TRUE)*AQ$2 -> 0.32 | AR23: =VLOOKUP(AC23,'SCORE TALLER'!$U$2:$V$10,2,FALSE)*AR$2 -> 0.05 | AS23: =VLOOKUP(AE23,'SCORE TALLER'!$Y$2:$Z$10,2,FALSE)*AS$2 -> 0.01 | AT23: =VLOOKUP(Z23,'SCORE TALLER'!$O$2:$P$10,2,TRUE)*AT$2 -> 0.03 | AU23: =VLOOKUP(S23,'SCORE TALLER'!$A$2:$B$10,2,FALSE)*AU$2 -> 0.15 | AV23: =VLOOKUP(AJ23,'SCORE TALLER'!$AI$2:$AJ$10,2,TRUE)*AV$2 -> 0.2 | AW23: =VLOOKUP(AK23,'SCORE TALLER'!$AK$2:$AL$10,2,TRUE)*AW$2 -> 0.25 | AX23: =VLOOKUP(T23,'SCORE TALLER'!$C$2:$D$10,2,FALSE)*AX$2 -> 0 | AY23: =VLOOKUP(W23,'SCORE TALLER'!$I$2:$J$10,2,TRUE)*AY$2 -> 0 | AZ23: =VLOOKUP(X23,'SCORE TALLER'!$K$2:$L$10,2,TRUE)*AZ$2 -> 0 | BA23: =VLOOKUP(U23,'SCORE TALLER'!$E$2:$F$10,2,FALSE)*BA$2 -> 0 | BB23: =VLOOKUP(Y23,'SCORE TALLER'!$M$2:$N$10,2,TRUE)*BB$2 -> 0.03 | BC23: =VLOOKUP(AA23,'SCORE TALLER'!$Q$2:$R$10,2,FALSE)*BC$2 -> 0.05 | BD23: =VLOOKUP(V23,'SCORE TALLER'!$G$2:$H$10,2,FALSE)*BD$2 -> 0 | BE23: =VLOOKUP(AF23,'SCORE TALLER'!$AA$2:$AB$10,2,FALSE)*BE$2 -> 0.5 | BF23: =VLOOKUP(AL23,'SCORE TALLER'!$AM$2:$AN$10,2,TRUE)*BF$2 -> 0.5 | BG23: =+SUM(AM23:BF23) -> 2.85 | BH23: =VLOOKUP(BG23,'SCORE TALLER'!$AP$2:$AQ$7,2,TRUE) -> 4. Alto | BI23: =+T23 -> LBZ | BJ23: =+U23 -> A | BK23: =+AF23 -> D | BL23: =+H23 -> 438755 | BM23: =+Q23 -> 15897000
A24: 4288040 | B24: ASOCIADO 20 | C24: 1. SI | D24: 6. >$5-$10 MM | E24: 382400 | F24: 9987753 | G24: =+IF(F24>M24+100000,F24-M24,0) -> 7423004 | H24: =IF(G24>L24+100000,G24-L24,0) -> 0 | I24: 9988000 | J24: 350452 | K24: 0 | L24: 7723143 | M24: 2564749 | N24: =VLOOKUP(AD24,'tabla ingresos'!$A$3:$D$15,4,FALSE) -> 2000000 | O24: 697652.61 | P24: 31363000 | Q24: 31363000 | R24: 76130 | S24: 6- pignoración | T24: LBZ | U24: A | V24: 4 | W24: 0 | X24: 0 | Y24: 4.3068493 | Z24: 53.389041 | AA24: 1 | AB24: 0 | AC24: 2 | AD24: 3 | AE24: 3 | AF24: E | AG24: =+(O24+J24)/(N24*1.5) -> 0.3493682 | AH24: =+(P24+F24)/(N24*1.5) -> 13.783584 | AI24: =+(E24+M24)/(N24*1.5) -> 0.982383 | AJ24: =+G24/(N24*1.5) -> 2.4743347 | AK24: =+H24/(N24*1.5) -> 0 | AL24: =+Q24/(N24*1.5) -> 10.454333 | AM24: =VLOOKUP(AG24,'SCORE TALLER'!$AC$2:$AD$10,2,TRUE)*AM$2 -> 0 | AN24: =VLOOKUP(AD24,'SCORE TALLER'!$W$2:$X$10,2,TRUE)*AN$2 -> 0.32 | AO24: =VLOOKUP(AB24,'SCORE TALLER'!$S$2:$T$10,2,FALSE)*AO$2 -> 0.05 | AP24: =VLOOKUP(AH24,'SCORE TALLER'!$AE$2:$AF$10,2,TRUE)*AP$2 -> 0.16 | AQ24: =VLOOKUP(AI24,'SCORE TALLER'!$AG$2:$AH$10,2,TRUE)*AQ$2 -> 0.4 | AR24: =VLOOKUP(AC24,'SCORE TALLER'!$U$2:$V$10,2,FALSE)*AR$2 -> 0.04 | AS24: =VLOOKUP(AE24,'SCORE TALLER'!$Y$2:$Z$10,2,FALSE)*AS$2 -> 0.02 | AT24: =VLOOKUP(Z24,'SCORE TALLER'!$O$2:$P$10,2,TRUE)*AT$2 -> 0.02 | AU24: =VLOOKUP(S24,'SCORE TALLER'!$A$2:$B$10,2,FALSE)*AU$2 -> 0.15 | AV24: =VLOOKUP(AJ24,'SCORE TALLER'!$AI$2:$AJ$10,2,TRUE)*AV$2 -> 0.15 | AW24: =VLOOKUP(AK24,'SCORE TALLER'!$AK$2:$AL$10,2,TRUE)*AW$2 -> 0.25 | AX24: =VLOOKUP(T24,'SCORE TALLER'!$C$2:$D$10,2,FALSE)*AX$2 -> 0 | AY24: =VLOOKUP(W24,'SCORE TALLER'!$I$2:$J$10,2,TRUE)*AY$2 -> 0 | AZ24: =VLOOKUP(X24,'SCORE TALLER'!$K$2:$L$10,2,TRUE)*AZ$2 -> 0 | BA24: =VLOOKUP(U24,'SCORE TALLER'!$E$2:$F$10,2,FALSE)*BA$2 -> 0 | BB24: =VLOOKUP(Y24,'SCORE TALLER'!$M$2:$N$10,2,TRUE)*BB$2 -> 0.03 | BC24: =VLOOKUP(AA24,'SCORE TALLER'!$Q$2:$R$10,2,FALSE)*BC$2 -> 0.05 | BD24: =VLOOKUP(V24,'SCORE TALLER'!$G$2:$H$10,2,FALSE)*BD$2 -> 0 | BE24: =VLOOKUP(AF24,'SCORE TALLER'!$AA$2:$AB$10,2,FALSE)*BE$2 -> 0.5 | BF24: =VLOOKUP(AL24,'SCORE TALLER'!$AM$2:$AN$10,2,TRUE)*BF$2 -> 0.5 | BG24: =+SUM(AM24:BF24) -> 2.64 | BH24: =VLOOKUP(BG24,'SCORE TALLER'!$AP$2:$AQ$7,2,TRUE) -> 4. Alto | BI24: =+T24 -> LBZ | BJ24: =+U24 -> A | BK24: =+AF24 -> E | BL24: =+H24 -> 0 | BM24: =+Q24 -> 31363000
A25: 2048408468 | B25: ASOCIADO 21 | C25: 1. SI | D25: 4. >$1-$2 MM | F25: 2266671 | G25: =+IF(F25>M25+100000,F25-M25,0) -> 1046051 | H25: =IF(G25>L25+100000,G25-L25,0) -> 1046051 | I25: 2417000 | J25: 111852 | K25: 0 | L25: 0 | M25: 1220620 | N25: =VLOOKUP(AD25,'tabla ingresos'!$A$3:$D$15,4,FALSE) -> 1000000 | O25: 332532.25 | P25: 14949000 | Q25: 14949000 | R25: 13001 | S25: 9- Otras garantías (no admisible) | T25: LBZ | U25: A | V25: 4 | W25: 0 | X25: 0 | Y25: 2.860274 | Z25: 33.739726 | AA25: 2 | AB25: 2 | AC25: 3 | AD25: 2 | AE25: 3 | AF25: E | AG25: =+(O25+J25)/(N25*1.5) -> 0.29625617 | AH25: =+(P25+F25)/(N25*1.5) -> 11.477114 | AI25: =+(E25+M25)/(N25*1.5) -> 0.81374667 | AJ25: =+G25/(N25*1.5) -> 0.69736733 | AK25: =+H25/(N25*1.5) -> 0.69736733 | AL25: =+Q25/(N25*1.5) -> 9.966 | AM25: =VLOOKUP(AG25,'SCORE TALLER'!$AC$2:$AD$10,2,TRUE)*AM$2 -> 0 | AN25: =VLOOKUP(AD25,'SCORE TALLER'!$W$2:$X$10,2,TRUE)*AN$2 -> 0.32 | AO25: =VLOOKUP(AB25,'SCORE TALLER'!$S$2:$T$10,2,FALSE)*AO$2 -> 0.04 | AP25: =VLOOKUP(AH25,'SCORE TALLER'!$AE$2:$AF$10,2,TRUE)*AP$2 -> 0.16 | AQ25: =VLOOKUP(AI25,'SCORE TALLER'!$AG$2:$AH$10,2,TRUE)*AQ$2 -> 0.4 | AR25: =VLOOKUP(AC25,'SCORE TALLER'!$U$2:$V$10,2,FALSE)*AR$2 -> 0.03 | AS25: =VLOOKUP(AE25,'SCORE TALLER'!$Y$2:$Z$10,2,FALSE)*AS$2 -> 0.02 | AT25: =VLOOKUP(Z25,'SCORE TALLER'!$O$2:$P$10,2,TRUE)*AT$2 -> 0.04 | AU25: =VLOOKUP(S25,'SCORE TALLER'!$A$2:$B$10,2,FALSE)*AU$2 -> 0.25 | AV25: =VLOOKUP(AJ25,'SCORE TALLER'!$AI$2:$AJ$10,2,TRUE)*AV$2 -> 0.25 | AW25: =VLOOKUP(AK25,'SCORE TALLER'!$AK$2:$AL$10,2,TRUE)*AW$2 -> 0.25 | AX25: =VLOOKUP(T25,'SCORE TALLER'!$C$2:$D$10,2,FALSE)*AX$2 -> 0 | AY25: =VLOOKUP(W25,'SCORE TALLER'!$I$2:$J$10,2,TRUE)*AY$2 -> 0 | AZ25: =VLOOKUP(X25,'SCORE TALLER'!$K$2:$L$10,2,TRUE)*AZ$2 -> 0 | BA25: =VLOOKUP(U25,'SCORE TALLER'!$E$2:$F$10,2,FALSE)*BA$2 -> 0 | BB25: =VLOOKUP(Y25,'SCORE TALLER'!$M$2:$N$10,2,TRUE)*BB$2 -> 0.04 | BC25: =VLOOKUP(AA25,'SCORE TALLER'!$Q$2:$R$10,2,FALSE)*BC$2 -> 0 | BD25: =VLOOKUP(V25,'SCORE TALLER'!$G$2:$H$10,2,FALSE)*BD$2 -> 0 | BE25: =VLOOKUP(AF25,'SCORE TALLER'!$AA$2:$AB$10,2,FALSE)*BE$2 -> 0.5 | BF25: =VLOOKUP(AL25,'SCORE TALLER'!$AM$2:$AN$10,2,TRUE)*BF$2 -> 0.5 | BG25: =+SUM(AM25:BF25) -> 2.8 | BH25: =VLOOKUP(BG25,'SCORE TALLER'!$AP$2:$AQ$7,2,TRUE) -> 4. Alto | BI25: =+T25 -> LBZ | BJ25: =+U25 -> A | BK25: =+AF25 -> E | BL25: =+H25 -> 1046051 | BM25: =+Q25 -> 14949000
A26: 2042466284 | B26: ASOCIADO 22 | C26: 1. SI | D26: 5. >$2-$5 MM | F26: 3476835 | G26: =+IF(F26>M26+100000,F26-M26,0) -> 2204015 | H26: =IF(G26>L26+100000,G26-L26,0) -> 804015 | I26: 3477000 | J26: 199098 | K26: 0 | L26: 1400000 | M26: 1272820 | N26: =VLOOKUP(AD26,'tabla ingresos'!$A$3:$D$15,4,FALSE) -> 1000000 | O26: 384287.77 | P26: 14621000 | Q26: 14621000 | R26: 15001 | S26: 6- pignoración | T26: LBZ | U26: A | V26: 4 | W26: 0 | X26: 0 | Y26: 5.1561644 | Z26: 35.956164 | AA26: 2 | AB26: 2 | AC26: 2 | AD26: 2 | AE26: 3 | AF26: E | AG26: =+(O26+J26)/(N26*1.5) -> 0.38892384 | AH26: =+(P26+F26)/(N26*1.5) -> 12.065223 | AI26: =+(E26+M26)/(N26*1.5) -> 0.84854667 | AJ26: =+G26/(N26*1.5) -> 1.4693433 | AK26: =+H26/(N26*1.5) -> 0.53601 | AL26: =+Q26/(N26*1.5) -> 9.7473333 | AM26: =VLOOKUP(AG26,'SCORE TALLER'!$AC$2:$AD$10,2,TRUE)*AM$2 -> 0 | AN26: =VLOOKUP(AD26,'SCORE TALLER'!$W$2:$X$10,2,TRUE)*AN$2 -> 0.32 | AO26: =VLOOKUP(AB26,'SCORE TALLER'!$S$2:$T$10,2,FALSE)*AO$2 -> 0.04 | AP26: =VLOOKUP(AH26,'SCORE TALLER'!$AE$2:$AF$10,2,TRUE)*AP$2 -> 0.16 | AQ26: =VLOOKUP(AI26,'SCORE TALLER'!$AG$2:$AH$10,2,TRUE)*AQ$2 -> 0.4 | AR26: =VLOOKUP(AC26,'SCORE TALLER'!$U$2:$V$10,2,FALSE)*AR$2 -> 0.04 | AS26: =VLOOKUP(AE26,'SCORE TALLER'!$Y$2:$Z$10,2,FALSE)*AS$2 -> 0.02 | AT26: =VLOOKUP(Z26,'SCORE TALLER'!$O$2:$P$10,2,TRUE)*AT$2 -> 0.03 | AU26: =VLOOKUP(S26,'SCORE TALLER'!$A$2:$B$10,2,FALSE)*AU$2 -> 0.15 | AV26: =VLOOKUP(AJ26,'SCORE TALLER'!$AI$2:$AJ$10,2,TRUE)*AV$2 -> 0.2 | AW26: =VLOOKUP(AK26,'SCORE TALLER'!$AK$2:$AL$10,2,TRUE)*AW$2 -> 0.25 | AX26: =VLOOKUP(T26,'SCORE TALLER'!$C$2:$D$10,2,FALSE)*AX$2 -> 0 | AY26: =VLOOKUP(W26,'SCORE TALLER'!$I$2:$J$10,2,TRUE)*AY$2 -> 0 | AZ26: =VLOOKUP(X26,'SCORE TALLER'!$K$2:$L$10,2,TRUE)*AZ$2 -> 0 | BA26: =VLOOKUP(U26,'SCORE TALLER'!$E$2:$F$10,2,FALSE)*BA$2 -> 0 | BB26: =VLOOKUP(Y26,'SCORE TALLER'!$M$2:$N$10,2,TRUE)*BB$2 -> 0.03 | BC26: =VLOOKUP(AA26,'SCORE TALLER'!$Q$2:$R$10,2,FALSE)*BC$2 -> 0 | BD26: =VLOOKUP(V26,'SCORE TALLER'!$G$2:$H$10,2,FALSE)*BD$2 -> 0 | BE26: =VLOOKUP(AF26,'SCORE TALLER'!$AA$2:$AB$10,2,FALSE)*BE$2 -> 0.5 | BF26: =VLOOKUP(AL26,'SCORE TALLER'!$AM$2:$AN$10,2,TRUE)*BF$2 -> 0.5 | BG26: =+SUM(AM26:BF26) -> 2.64 | BH26: =VLOOKUP(BG26,'SCORE TALLER'!$AP$2:$AQ$7,2,TRUE) -> 4. Alto | BI26: =+T26 -> LBZ | BJ26: =+U26 -> A | BK26: =+AF26 -> E | BL26: =+H26 -> 804015 | BM26: =+Q26 -> 14621000
A27: 8048420 | B27: ASOCIADO 23 | C27: 1. SI | D27: 4. >$1-$2 MM | F27: 3713227 | G27: =+IF(F27>M27+100000,F27-M27,0) -> 1521747 | H27: =IF(G27>L27+100000,G27-L27,0) -> 1521747 | I27: 3713000 | J27: 138008 | K27: 0 | L27: 0 | M27: 2191480 | N27: =VLOOKUP(AD27,'tabla ingresos'!$A$3:$D$15,4,FALSE) -> 2000000 | O27: 633343.91 | P27: 28472000 | Q27: 28402000 | R27: 13052 | S27: 9- Otras garantías (no admisible) | T27: LBZ | U27: A | V27: 4 | W27: 0 | X27: 0 | Y27: 4.6575342 | Z27: 38.342466 | AA27: 1 | AB27: 3 | AC27: 2 | AD27: 3 | AE27: 3 | AF27: E | AG27: =+(O27+J27)/(N27*1.5) -> 0.2571173 | AH27: =+(P27+F27)/(N27*1.5) -> 10.728409 | AI27: =+(E27+M27)/(N27*1.5) -> 0.73049333 | AJ27: =+G27/(N27*1.5) -> 0.507249 | AK27: =+H27/(N27*1.5) -> 0.507249 | AL27: =+Q27/(N27*1.5) -> 9.4673333 | AM27: =VLOOKUP(AG27,'SCORE TALLER'!$AC$2:$AD$10,2,TRUE)*AM$2 -> 0 | AN27: =VLOOKUP(AD27,'SCORE TALLER'!$W$2:$X$10,2,TRUE)*AN$2 -> 0.32 | AO27: =VLOOKUP(AB27,'SCORE TALLER'!$S$2:$T$10,2,FALSE)*AO$2 -> 0.03 | AP27: =VLOOKUP(AH27,'SCORE TALLER'!$AE$2:$AF$10,2,TRUE)*AP$2 -> 0.16 | AQ27: =VLOOKUP(AI27,'SCORE TALLER'!$AG$2:$AH$10,2,TRUE)*AQ$2 -> 0.4 | AR27: =VLOOKUP(AC27,'SCORE TALLER'!$U$2:$V$10,2,FALSE)*AR$2 -> 0.04 | AS27: =VLOOKUP(AE27,'SCORE TALLER'!$Y$2:$Z$10,2,FALSE)*AS$2 -> 0.02 | AT27: =VLOOKUP(Z27,'SCORE TALLER'!$O$2:$P$10,2,TRUE)*AT$2 -> 0.03 | AU27: =VLOOKUP(S27,'SCORE TALLER'!$A$2:$B$10,2,FALSE)*AU$2 -> 0.25 | AV27: =VLOOKUP(AJ27,'SCORE TALLER'!$AI$2:$AJ$10,2,TRUE)*AV$2 -> 0.25 | AW27: =VLOOKUP(AK27,'SCORE TALLER'!$AK$2:$AL$10,2,TRUE)*AW$2 -> 0.25 | AX27: =VLOOKUP(T27,'SCORE TALLER'!$C$2:$D$10,2,FALSE)*AX$2 -> 0 | AY27: =VLOOKUP(W27,'SCORE TALLER'!$I$2:$J$10,2,TRUE)*AY$2 -> 0 | AZ27: =VLOOKUP(X27,'SCORE TALLER'!$K$2:$L$10,2,TRUE)*AZ$2 -> 0 | BA27: =VLOOKUP(U27,'SCORE TALLER'!$E$2:$F$10,2,FALSE)*BA$2 -> 0 | BB27: =VLOOKUP(Y27,'SCORE TALLER'!$M$2:$N$10,2,TRUE)*BB$2 -> 0.03 | BC27: =VLOOKUP(AA27,'SCORE TALLER'!$Q$2:$R$10,2,FALSE)*BC$2 -> 0.05 | BD27: =VLOOKUP(V27,'SCORE TALLER'!$G$2:$H$10,2,FALSE)*BD$2 -> 0 | BE27: =VLOOKUP(AF27,'SCORE TALLER'!$AA$2:$AB$10,2,FALSE)*BE$2 -> 0.5 | BF27: =VLOOKUP(AL27,'SCORE TALLER'!$AM$2:$AN$10,2,TRUE)*BF$2 -> 0.5 | BG27: =+SUM(AM27:BF27) -> 2.83 | BH27: =VLOOKUP(BG27,'SCORE TALLER'!$AP$2:$AQ$7,2,TRUE) -> 4. Alto | BI27: =+T27 -> LBZ | BJ27: =+U27 -> A | BK27: =+AF27 -> E | BL27: =+H27 -> 1521747 | BM27: =+Q27 -> 28402000
A28: 24846280 | B28: ASOCIADO 24 | C28: 1. SI | D28: 5. >$2-$5 MM | F28: 5637299 | G28: =+IF(F28>M28+100000,F28-M28,0) -> 3893679 | H28: =IF(G28>L28+100000,G28-L28,0) -> 3893679 | I28: 5637000 | J28: 175385 | K28: 0 | L28: 0 | M28: 1743620 | N28: =VLOOKUP(AD28,'tabla ingresos'!$A$3:$D$15,4,FALSE) -> 1000000 | O28: 1349125.8 | P28: 60650000 | Q28: 60650000 | R28: 68307 | S28: 9- Otras garantías (no admisible) | T28: LBZ | U28: A | V28: 4 | W28: 0 | X28: 0 | Y28: 4.5753425 | Z28: 41.364384 | AA28: 1 | AB28: 2 | AC28: 3 | AD28: 2 | AE28: 2 | AF28: E | AG28: =+(O28+J28)/(N28*1.5) -> 1.0163405 | AH28: =+(P28+F28)/(N28*1.5) -> 44.191533 | AI28: =+(E28+M28)/(N28*1.5) -> 1.1624133 | AJ28: =+G28/(N28*1.5) -> 2.595786 | AK28: =+H28/(N28*1.5) -> 2.595786 | AL28: =+Q28/(N28*1.5) -> 40.433333 | AM28: =VLOOKUP(AG28,'SCORE TALLER'!$AC$2:$AD$10,2,TRUE)*AM$2 -> 0.4 | AN28: =VLOOKUP(AD28,'SCORE TALLER'!$W$2:$X$10,2,TRUE)*AN$2 -> 0.32 | AO28: =VLOOKUP(AB28,'SCORE TALLER'!$S$2:$T$10,2,FALSE)*AO$2 -> 0.04 | AP28: =VLOOKUP(AH28,'SCORE TALLER'!$AE$2:$AF$10,2,TRUE)*AP$2 -> 0.4 | AQ28: =VLOOKUP(AI28,'SCORE TALLER'!$AG$2:$AH$10,2,TRUE)*AQ$2 -> 0.32 | AR28: =VLOOKUP(AC28,'SCORE TALLER'!$U$2:$V$10,2,FALSE)*AR$2 -> 0.03 | AS28: =VLOOKUP(AE28,'SCORE TALLER'!$Y$2:$Z$10,2,FALSE)*AS$2 -> 0.01 | AT28: =VLOOKUP(Z28,'SCORE TALLER'!$O$2:$P$10,2,TRUE)*AT$2 -> 0.03 | AU28: =VLOOKUP(S28,'SCORE TALLER'!$A$2:$B$10,2,FALSE)*AU$2 -> 0.25 | AV28: =VLOOKUP(AJ28,'SCORE TALLER'!$AI$2:$AJ$10,2,TRUE)*AV$2 -> 0.15 | AW28: =VLOOKUP(AK28,'SCORE TALLER'!$AK$2:$AL$10,2,TRUE)*AW$2 -> 0.15 | AX28: =VLOOKUP(T28,'SCORE TALLER'!$C$2:$D$10,2,FALSE)*AX$2 -> 0 | AY28: =VLOOKUP(W28,'SCORE TALLER'!$I$2:$J$10,2,TRUE)*AY$2 -> 0 | AZ28: =VLOOKUP(X28,'SCORE TALLER'!$K$2:$L$10,2,TRUE)*AZ$2 -> 0 | BA28: =VLOOKUP(U28,'SCORE TALLER'!$E$2:$F$10,2,FALSE)*BA$2 -> 0 | BB28: =VLOOKUP(Y28,'SCORE TALLER'!$M$2:$N$10,2,TRUE)*BB$2 -> 0.03 | BC28: =VLOOKUP(AA28,'SCORE TALLER'!$Q$2:$R$10,2,FALSE)*BC$2 -> 0.05 | BD28: =VLOOKUP(V28,'SCORE TALLER'!$G$2:$H$10,2,FALSE)*BD$2 -> 0 | BE28: =VLOOKUP(AF28,'SCORE TALLER'!$AA$2:$AB$10,2,FALSE)*BE$2 -> 0.5 | BF28: =VLOOKUP(AL28,'SCORE TALLER'!$AM$2:$AN$10,2,TRUE)*BF$2 -> 0.5 | BG28: =+SUM(AM28:BF28) -> 3.18 | BH28: =VLOOKUP(BG28,'SCORE TALLER'!$AP$2:$AQ$7,2,TRUE) -> 5. Crítico | BI28: =+T28 -> LBZ | BJ28: B | BK28: =+AF28 -> E | BL28: =+H28 -> 3893679 | BM28: =+Q28 -> 60650000
A29: 8246288 | B29: ASOCIADO 25 | C29: 1. SI | D29: 4. >$1-$2 MM | F29: 6551074 | G29: =+IF(F29>M29+100000,F29-M29,0) -> 1355515 | H29: =IF(G29>L29+100000,G29-L29,0) -> 0 | I29: 6551000 | J29: 284426 | K29: 0 | L29: 2995487 | M29: 5195559 | N29: =VLOOKUP(AD29,'tabla ingresos'!$A$3:$D$15,4,FALSE) -> 2000000 | O29: 590990.49 | P29: 26568000 | Q29: 26568000 | R29: 76130 | S29: 6- pignoración | T29: LBZ | U29: A | V29: 4 | W29: 0 | X29: 0 | Y29: 6.309589 | Z29: 46.257534 | AA29: 1 | AB29: 0 | AC29: 2 | AD29: 3 | AE29: 1 | AF29: E | AG29: =+(O29+J29)/(N29*1.5) -> 0.2918055 | AH29: =+(P29+F29)/(N29*1.5) -> 11.039691 | AI29: =+(E29+M29)/(N29*1.5) -> 1.731853 | AJ29: =+G29/(N29*1.5) -> 0.45183833 | AK29: =+H29/(N29*1.5) -> 0 | AL29: =+Q29/(N29*1.5) -> 8.856 | AM29: =VLOOKUP(AG29,'SCORE TALLER'!$AC$2:$AD$10,2,TRUE)*AM$2 -> 0 | AN29: =VLOOKUP(AD29,'SCORE TALLER'!$W$2:$X$10,2,TRUE)*AN$2 -> 0.32 | AO29: =VLOOKUP(AB29,'SCORE TALLER'!$S$2:$T$10,2,FALSE)*AO$2 -> 0.05 | AP29: =VLOOKUP(AH29,'SCORE TALLER'!$AE$2:$AF$10,2,TRUE)*AP$2 -> 0.16 | AQ29: =VLOOKUP(AI29,'SCORE TALLER'!$AG$2:$AH$10,2,TRUE)*AQ$2 -> 0.32 | AR29: =VLOOKUP(AC29,'SCORE TALLER'!$U$2:$V$10,2,FALSE)*AR$2 -> 0.04 | AS29: =VLOOKUP(AE29,'SCORE TALLER'!$Y$2:$Z$10,2,FALSE)*AS$2 -> 0.03 | AT29: =VLOOKUP(Z29,'SCORE TALLER'!$O$2:$P$10,2,TRUE)*AT$2 -> 0.02 | AU29: =VLOOKUP(S29,'SCORE TALLER'!$A$2:$B$10,2,FALSE)*AU$2 -> 0.15 | AV29: =VLOOKUP(AJ29,'SCORE TALLER'!$AI$2:$AJ$10,2,TRUE)*AV$2 -> 0.25 | AW29: =VLOOKUP(AK29,'SCORE TALLER'!$AK$2:$AL$10,2,TRUE)*AW$2 -> 0.25 | AX29: =VLOOKUP(T29,'SCORE TALLER'!$C$2:$D$10,2,FALSE)*AX$2 -> 0 | AY29: =VLOOKUP(W29,'SCORE TALLER'!$I$2:$J$10,2,TRUE)*AY$2 -> 0 | AZ29: =VLOOKUP(X29,'SCORE TALLER'!$K$2:$L$10,2,TRUE)*AZ$2 -> 0 | BA29: =VLOOKUP(U29,'SCORE TALLER'!$E$2:$F$10,2,FALSE)*BA$2 -> 0 | BB29: =VLOOKUP(Y29,'SCORE TALLER'!$M$2:$N$10,2,TRUE)*BB$2 -> 0.02 | BC29: =VLOOKUP(AA29,'SCORE TALLER'!$Q$2:$R$10,2,FALSE)*BC$2 -> 0.05 | BD29: =VLOOKUP(V29,'SCORE TALLER'!$G$2:$H$10,2,FALSE)*BD$2 -> 0 | BE29: =VLOOKUP(AF29,'SCORE TALLER'!$AA$2:$AB$10,2,FALSE)*BE$2 -> 0.5 | BF29: =VLOOKUP(AL29,'SCORE TALLER'!$AM$2:$AN$10,2,TRUE)*BF$2 -> 0.5 | BG29: =+SUM(AM29:BF29) -> 2.66 | BH29: =VLOOKUP(BG29,'SCORE TALLER'!$AP$2:$AQ$7,2,TRUE) -> 4. Alto | BI29: =+T29 -> LBZ | BJ29: =+U29 -> A | BK29: =+AF29 -> E | BL29: =+H29 -> 0 | BM29: =+Q29 -> 26568000
A30: 2046628466 | B30: ASOCIADO 26 | C30: 1. SI | D30: 6. >$5-$10 MM | E30: 893606 | F30: 7238727 | G30: =+IF(F30>M30+100000,F30-M30,0) -> 5977776 | H30: =IF(G30>L30+100000,G30-L30,0) -> 1580962 | I30: 7239000 | J30: 277717 | K30: 0 | L30: 4396814 | M30: 1260951 | N30: =VLOOKUP(AD30,'tabla ingresos'!$A$3:$D$15,4,FALSE) -> 1000000 | O30: 393421.39 | P30: 13230000 | Q30: 13230000 | R30: 5001 | S30: 6- pignoración | T30: LBZ | U30: A | V30: 4 | W30: 0 | X30: 0 | Y30: 4.2219178 | Z30: 31.821918 | AA30: 2 | AB30: 0 | AC30: 1 | AD30: 2 | AE30: 3 | AF30: E | AG30: =+(O30+J30)/(N30*1.5) -> 0.44742559 | AH30: =+(P30+F30)/(N30*1.5) -> 13.645818 | AI30: =+(E30+M30)/(N30*1.5) -> 1.4363713 | AJ30: =+G30/(N30*1.5) -> 3.985184 | AK30: =+H30/(N30*1.5) -> 1.0539747 | AL30: =+Q30/(N30*1.5) -> 8.82 | AM30: =VLOOKUP(AG30,'SCORE TALLER'!$AC$2:$AD$10,2,TRUE)*AM$2 -> 0 | AN30: =VLOOKUP(AD30,'SCORE TALLER'!$W$2:$X$10,2,TRUE)*AN$2 -> 0.32 | AO30: =VLOOKUP(AB30,'SCORE TALLER'!$S$2:$T$10,2,FALSE)*AO$2 -> 0.05 | AP30: =VLOOKUP(AH30,'SCORE TALLER'!$AE$2:$AF$10,2,TRUE)*AP$2 -> 0.16 | AQ30: =VLOOKUP(AI30,'SCORE TALLER'!$AG$2:$AH$10,2,TRUE)*AQ$2 -> 0.32 | AR30: =VLOOKUP(AC30,'SCORE TALLER'!$U$2:$V$10,2,FALSE)*AR$2 -> 0.05 | AS30: =VLOOKUP(AE30,'SCORE TALLER'!$Y$2:$Z$10,2,FALSE)*AS$2 -> 0.02 | AT30: =VLOOKUP(Z30,'SCORE TALLER'!$O$2:$P$10,2,TRUE)*AT$2 -> 0.04 | AU30: =VLOOKUP(S30,'SCORE TALLER'!$A$2:$B$10,2,FALSE)*AU$2 -> 0.15 | AV30: =VLOOKUP(AJ30,'SCORE TALLER'!$AI$2:$AJ$10,2,TRUE)*AV$2 -> 0.1 | AW30: =VLOOKUP(AK30,'SCORE TALLER'!$AK$2:$AL$10,2,TRUE)*AW$2 -> 0.2 | AX30: =VLOOKUP(T30,'SCORE TALLER'!$C$2:$D$10,2,FALSE)*AX$2 -> 0 | AY30: =VLOOKUP(W30,'SCORE TALLER'!$I$2:$J$10,2,TRUE)*AY$2 -> 0 | AZ30: =VLOOKUP(X30,'SCORE TALLER'!$K$2:$L$10,2,TRUE)*AZ$2 -> 0 | BA30: =VLOOKUP(U30,'SCORE TALLER'!$E$2:$F$10,2,FALSE)*BA$2 -> 0 | BB30: =VLOOKUP(Y30,'SCORE TALLER'!$M$2:$N$10,2,TRUE)*BB$2 -> 0.03 | BC30: =VLOOKUP(AA30,'SCORE TALLER'!$Q$2:$R$10,2,FALSE)*BC$2 -> 0 | BD30: =VLOOKUP(V30,'SCORE TALLER'!$G$2:$H$10,2,FALSE)*BD$2 -> 0 | BE30: =VLOOKUP(AF30,'SCORE TALLER'!$AA$2:$AB$10,2,FALSE)*BE$2 -> 0.5 | BF30: =VLOOKUP(AL30,'SCORE TALLER'!$AM$2:$AN$10,2,TRUE)*BF$2 -> 0.5 | BG30: =+SUM(AM30:BF30) -> 2.44 | BH30: =VLOOKUP(BG30,'SCORE TALLER'!$AP$2:$AQ$7,2,TRUE) -> 3. Medio | BI30: =+T30 -> LBZ | BJ30: =+U30 -> A | BK30: =+AF30 -> E | BL30: =+H30 -> 1580962 | BM30: =+Q30 -> 13230000
A31: 66864422 | B31: ASOCIADO 27 | C31: 1. SI | D31: 5. >$2-$5 MM | E31: 55267 | F31: 3843729 | G31: =+IF(F31>M31+100000,F31-M31,0) -> 2483184 | H31: =IF(G31>L31+100000,G31-L31,0) -> 483184 | I31: 3844000 | J31: 140883 | K31: 0 | L31: 2000000 | M31: 1360545 | N31: =VLOOKUP(AD31,'tabla ingresos'!$A$3:$D$15,4,FALSE) -> 1000000 | O31: 276743.17 | P31: 12441000 | Q31: 12441000 | R31: 76130 | S31: 6- pignoración | T31: LBZ | U31: A | V31: 4 | W31: 0 | X31: 0 | Y31: 4.5835616 | Z31: 51.019178 | AA31: 2 | AB31: 0 | AC31: 1 | AD31: 2 | AE31: 1 | AF31: E | AG31: =+(O31+J31)/(N31*1.5) -> 0.27841745 | AH31: =+(P31+F31)/(N31*1.5) -> 10.856486 | AI31: =+(E31+M31)/(N31*1.5) -> 0.94387467 | AJ31: =+G31/(N31*1.5) -> 1.655456 | AK31: =+H31/(N31*1.5) -> 0.32212267 | AL31: =+Q31/(N31*1.5) -> 8.294 | AM31: =VLOOKUP(AG31,'SCORE TALLER'!$AC$2:$AD$10,2,TRUE)*AM$2 -> 0 | AN31: =VLOOKUP(AD31,'SCORE TALLER'!$W$2:$X$10,2,TRUE)*AN$2 -> 0.32 | AO31: =VLOOKUP(AB31,'SCORE TALLER'!$S$2:$T$10,2,FALSE)*AO$2 -> 0.05 | AP31: =VLOOKUP(AH31,'SCORE TALLER'!$AE$2:$AF$10,2,TRUE)*AP$2 -> 0.16 | AQ31: =VLOOKUP(AI31,'SCORE TALLER'!$AG$2:$AH$10,2,TRUE)*AQ$2 -> 0.4 | AR31: =VLOOKUP(AC31,'SCORE TALLER'!$U$2:$V$10,2,FALSE)*AR$2 -> 0.05 | AS31: =VLOOKUP(AE31,'SCORE TALLER'!$Y$2:$Z$10,2,FALSE)*AS$2 -> 0.03 | AT31: =VLOOKUP(Z31,'SCORE TALLER'!$O$2:$P$10,2,TRUE)*AT$2 -> 0.02 | AU31: =VLOOKUP(S31,'SCORE TALLER'!$A$2:$B$10,2,FALSE)*AU$2 -> 0.15 | AV31: =VLOOKUP(AJ31,'SCORE TALLER'!$AI$2:$AJ$10,2,TRUE)*AV$2 -> 0.2 | AW31: =VLOOKUP(AK31,'SCORE TALLER'!$AK$2:$AL$10,2,TRUE)*AW$2 -> 0.25 | AX31: =VLOOKUP(T31,'SCORE TALLER'!$C$2:$D$10,2,FALSE)*AX$2 -> 0 | AY31: =VLOOKUP(W31,'SCORE TALLER'!$I$2:$J$10,2,TRUE)*AY$2 -> 0 | AZ31: =VLOOKUP(X31,'SCORE TALLER'!$K$2:$L$10,2,TRUE)*AZ$2 -> 0 | BA31: =VLOOKUP(U31,'SCORE TALLER'!$E$2:$F$10,2,FALSE)*BA$2 -> 0 | BB31: =VLOOKUP(Y31,'SCORE TALLER'!$M$2:$N$10,2,TRUE)*BB$2 -> 0.03 | BC31: =VLOOKUP(AA31,'SCORE TALLER'!$Q$2:$R$10,2,FALSE)*BC$2 -> 0 | BD31: =VLOOKUP(V31,'SCORE TALLER'!$G$2:$H$10,2,FALSE)*BD$2 -> 0 | BE31: =VLOOKUP(AF31,'SCORE TALLER'!$AA$2:$AB$10,2,FALSE)*BE$2 -> 0.5 | BF31: =VLOOKUP(AL31,'SCORE TALLER'!$AM$2:$AN$10,2,TRUE)*BF$2 -> 0.5 | BG31: =+SUM(AM31:BF31) -> 2.66 | BH31: =VLOOKUP(BG31,'SCORE TALLER'!$AP$2:$AQ$7,2,TRUE) -> 4. Alto | BI31: =+T31 -> LBZ | BJ31: =+U31 -> A | BK31: =+AF31 -> E | BL31: =+H31 -> 483184 | BM31: =+Q31 -> 12441000
A32: 4044442 | B32: ASOCIADO 28 | C32: 1. SI | D32: 5. >$2-$5 MM | F32: 10676433 | G32: =+IF(F32>M32+100000,F32-M32,0) -> 4365683 | H32: =IF(G32>L32+100000,G32-L32,0) -> 1509739 | I32: 10677000 | J32: 407961 | K32: 0 | L32: 2855944 | M32: 6310750 | N32: =VLOOKUP(AD32,'tabla ingresos'!$A$3:$D$15,4,FALSE) -> 1000000 | O32: 272561.22 | P32: 12253000 | Q32: 12253000 | R32: 76130 | S32: 6- pignoración | T32: LBZ | U32: A | V32: 4 | W32: 0 | X32: 0 | Y32: 11.789041 | Z32: 37.191781 | AA32: 1 | AB32: 2 | AC32: 1 | AD32: 2 | AE32: 3 | AF32: E | AG32: =+(O32+J32)/(N32*1.5) -> 0.45368148 | AH32: =+(P32+F32)/(N32*1.5) -> 15.286289 | AI32: =+(E32+M32)/(N32*1.5) -> 4.2071667 | AJ32: =+G32/(N32*1.5) -> 2.9104553 | AK32: =+H32/(N32*1.5) -> 1.0064927 | AL32: =+Q32/(N32*1.5) -> 8.1686667 | AM32: =VLOOKUP(AG32,'SCORE TALLER'!$AC$2:$AD$10,2,TRUE)*AM$2 -> 0 | AN32: =VLOOKUP(AD32,'SCORE TALLER'!$W$2:$X$10,2,TRUE)*AN$2 -> 0.32 | AO32: =VLOOKUP(AB32,'SCORE TALLER'!$S$2:$T$10,2,FALSE)*AO$2 -> 0.04 | AP32: =VLOOKUP(AH32,'SCORE TALLER'!$AE$2:$AF$10,2,TRUE)*AP$2 -> 0.24 | AQ32: =VLOOKUP(AI32,'SCORE TALLER'!$AG$2:$AH$10,2,TRUE)*AQ$2 -> 0.08 | AR32: =VLOOKUP(AC32,'SCORE TALLER'!$U$2:$V$10,2,FALSE)*AR$2 -> 0.05 | AS32: =VLOOKUP(AE32,'SCORE TALLER'!$Y$2:$Z$10,2,FALSE)*AS$2 -> 0.02 | AT32: =VLOOKUP(Z32,'SCORE TALLER'!$O$2:$P$10,2,TRUE)*AT$2 -> 0.03 | AU32: =VLOOKUP(S32,'SCORE TALLER'!$A$2:$B$10,2,FALSE)*AU$2 -> 0.15 | AV32: =VLOOKUP(AJ32,'SCORE TALLER'!$AI$2:$AJ$10,2,TRUE)*AV$2 -> 0.15 | AW32: =VLOOKUP(AK32,'SCORE TALLER'!$AK$2:$AL$10,2,TRUE)*AW$2 -> 0.2 | AX32: =VLOOKUP(T32,'SCORE TALLER'!$C$2:$D$10,2,FALSE)*AX$2 -> 0 | AY32: =VLOOKUP(W32,'SCORE TALLER'!$I$2:$J$10,2,TRUE)*AY$2 -> 0 | AZ32: =VLOOKUP(X32,'SCORE TALLER'!$K$2:$L$10,2,TRUE)*AZ$2 -> 0 | BA32: =VLOOKUP(U32,'SCORE TALLER'!$E$2:$F$10,2,FALSE)*BA$2 -> 0 | BB32: =VLOOKUP(Y32,'SCORE TALLER'!$M$2:$N$10,2,TRUE)*BB$2 -> 0 | BC32: =VLOOKUP(AA32,'SCORE TALLER'!$Q$2:$R$10,2,FALSE)*BC$2 -> 0.05 | BD32: =VLOOKUP(V32,'SCORE TALLER'!$G$2:$H$10,2,FALSE)*BD$2 -> 0 | BE32: =VLOOKUP(AF32,'SCORE TALLER'!$AA$2:$AB$10,2,FALSE)*BE$2 -> 0.5 | BF32: =VLOOKUP(AL32,'SCORE TALLER'!$AM$2:$AN$10,2,TRUE)*BF$2 -> 0.5 | BG32: =+SUM(AM32:BF32) -> 2.33 | BH32: =VLOOKUP(BG32,'SCORE TALLER'!$AP$2:$AQ$7,2,TRUE) -> 3. Medio | BI32: =+T32 -> LBZ | BJ32: =+U32 -> A | BK32: =+AF32 -> E | BL32: =+H32 -> 1509739 | BM32: =+Q32 -> 12253000
A33: 2222224820 | B33: ASOCIADO 29 | C33: 1. SI | D33: 5. >$2-$5 MM | E33: 253400 | F33: 4193802 | G33: =+IF(F33>M33+100000,F33-M33,0) -> 2785679 | H33: =IF(G33>L33+100000,G33-L33,0) -> 1485679 | I33: 4194000 | J33: 135133 | K33: 0 | L33: 1300000 | M33: 1408123 | N33: =VLOOKUP(AD33,'tabla ingresos'!$A$3:$D$15,4,FALSE) -> 1000000 | O33: 270336.77 | P33: 12153000 | Q33: 12153000 | R33: 76130 | S33: 6- pignoración | T33: LBZ | U33: A | V33: 4 | W33: 0 | X33: 0 | Y33: 4.830137 | Z33: 24.293151 | AA33: 1 | AB33: 0 | AC33: 1 | AD33: 2 | AE33: 1 | AF33: E | AG33: =+(O33+J33)/(N33*1.5) -> 0.27031318 | AH33: =+(P33+F33)/(N33*1.5) -> 10.897868 | AI33: =+(E33+M33)/(N33*1.5) -> 1.107682 | AJ33: =+G33/(N33*1.5) -> 1.8571193 | AK33: =+H33/(N33*1.5) -> 0.99045267 | AL33: =+Q33/(N33*1.5) -> 8.102 | AM33: =VLOOKUP(AG33,'SCORE TALLER'!$AC$2:$AD$10,2,TRUE)*AM$2 -> 0 | AN33: =VLOOKUP(AD33,'SCORE TALLER'!$W$2:$X$10,2,TRUE)*AN$2 -> 0.32 | AO33: =VLOOKUP(AB33,'SCORE TALLER'!$S$2:$T$10,2,FALSE)*AO$2 -> 0.05 | AP33: =VLOOKUP(AH33,'SCORE TALLER'!$AE$2:$AF$10,2,TRUE)*AP$2 -> 0.16 | AQ33: =VLOOKUP(AI33,'SCORE TALLER'!$AG$2:$AH$10,2,TRUE)*AQ$2 -> 0.32 | AR33: =VLOOKUP(AC33,'SCORE TALLER'!$U$2:$V$10,2,FALSE)*AR$2 -> 0.05 | AS33: =VLOOKUP(AE33,'SCORE TALLER'!$Y$2:$Z$10,2,FALSE)*AS$2 -> 0.03 | AT33: =VLOOKUP(Z33,'SCORE TALLER'!$O$2:$P$10,2,TRUE)*AT$2 -> 0.05 | AU33: =VLOOKUP(S33,'SCORE TALLER'!$A$2:$B$10,2,FALSE)*AU$2 -> 0.15 | AV33: =VLOOKUP(AJ33,'SCORE TALLER'!$AI$2:$AJ$10,2,TRUE)*AV$2 -> 0.2 | AW33: =VLOOKUP(AK33,'SCORE TALLER'!$AK$2:$AL$10,2,TRUE)*AW$2 -> 0.25 | AX33: =VLOOKUP(T33,'SCORE TALLER'!$C$2:$D$10,2,FALSE)*AX$2 -> 0 | AY33: =VLOOKUP(W33,'SCORE TALLER'!$I$2:$J$10,2,TRUE)*AY$2 -> 0 | AZ33: =VLOOKUP(X33,'SCORE TALLER'!$K$2:$L$10,2,TRUE)*AZ$2 -> 0 | BA33: =VLOOKUP(U33,'SCORE TALLER'!$E$2:$F$10,2,FALSE)*BA$2 -> 0 | BB33: =VLOOKUP(Y33,'SCORE TALLER'!$M$2:$N$10,2,TRUE)*BB$2 -> 0.03 | BC33: =VLOOKUP(AA33,'SCORE TALLER'!$Q$2:$R$10,2,FALSE)*BC$2 -> 0.05 | BD33: =VLOOKUP(V33,'SCORE TALLER'!$G$2:$H$10,2,FALSE)*BD$2 -> 0 | BE33: =VLOOKUP(AF33,'SCORE TALLER'!$AA$2:$AB$10,2,FALSE)*BE$2 -> 0.5 | BF33: =VLOOKUP(AL33,'SCORE TALLER'!$AM$2:$AN$10,2,TRUE)*BF$2 -> 0.5 | BG33: =+SUM(AM33:BF33) -> 2.66 | BH33: =VLOOKUP(BG33,'SCORE TALLER'!$AP$2:$AQ$7,2,TRUE) -> 4. Alto | BI33: =+T33 -> LBZ | BJ33: =+U33 -> A | BK33: =+AF33 -> E | BL33: =+H33 -> 1485679 | BM33: =+Q33 -> 12153000
A34: 2226246062 | B34: ASOCIADO 30 | C34: 1. SI | D34: 5. >$2-$5 MM | E34: 1057697 | F34: 3464276 | G34: =+IF(F34>M34+100000,F34-M34,0) -> 2247589 | H34: =IF(G34>L34+100000,G34-L34,0) -> 0 | I34: 3464000 | J34: 142213 | K34: 0 | L34: 2800000 | M34: 1216687 | N34: =VLOOKUP(AD34,'tabla ingresos'!$A$3:$D$15,4,FALSE) -> 1000000 | O34: 258302.53 | P34: 11612000 | Q34: 11612000 | R34: 76130 | S34: 6- pignoración | T34: LBZ | U34: A | V34: 4 | W34: 0 | X34: 0 | Y34: 4.0630137 | Z34: 35.230137 | AA34: 1 | AB34: 0 | AC34: 2 | AD34: 2 | AE34: 3 | AF34: E | AG34: =+(O34+J34)/(N34*1.5) -> 0.26701035 | AH34: =+(P34+F34)/(N34*1.5) -> 10.050851 | AI34: =+(E34+M34)/(N34*1.5) -> 1.516256 | AJ34: =+G34/(N34*1.5) -> 1.4983927 | AK34: =+H34/(N34*1.5) -> 0 | AL34: =+Q34/(N34*1.5) -> 7.7413333 | AM34: =VLOOKUP(AG34,'SCORE TALLER'!$AC$2:$AD$10,2,TRUE)*AM$2 -> 0 | AN34: =VLOOKUP(AD34,'SCORE TALLER'!$W$2:$X$10,2,TRUE)*AN$2 -> 0.32 | AO34: =VLOOKUP(AB34,'SCORE TALLER'!$S$2:$T$10,2,FALSE)*AO$2 -> 0.05 | AP34: =VLOOKUP(AH34,'SCORE TALLER'!$AE$2:$AF$10,2,TRUE)*AP$2 -> 0.16 | AQ34: =VLOOKUP(AI34,'SCORE TALLER'!$AG$2:$AH$10,2,TRUE)*AQ$2 -> 0.32 | AR34: =VLOOKUP(AC34,'SCORE TALLER'!$U$2:$V$10,2,FALSE)*AR$2 -> 0.04 | AS34: =VLOOKUP(AE34,'SCORE TALLER'!$Y$2:$Z$10,2,FALSE)*AS$2 -> 0.02 | AT34: =VLOOKUP(Z34,'SCORE TALLER'!$O$2:$P$10,2,TRUE)*AT$2 -> 0.03 | AU34: =VLOOKUP(S34,'SCORE TALLER'!$A$2:$B$10,2,FALSE)*AU$2 -> 0.15 | AV34: =VLOOKUP(AJ34,'SCORE TALLER'!$AI$2:$AJ$10,2,TRUE)*AV$2 -> 0.2 | AW34: =VLOOKUP(AK34,'SCORE TALLER'!$AK$2:$AL$10,2,TRUE)*AW$2 -> 0.25 | AX34: =VLOOKUP(T34,'SCORE TALLER'!$C$2:$D$10,2,FALSE)*AX$2 -> 0 | AY34: =VLOOKUP(W34,'SCORE TALLER'!$I$2:$J$10,2,TRUE)*AY$2 -> 0 | AZ34: =VLOOKUP(X34,'SCORE TALLER'!$K$2:$L$10,2,TRUE)*AZ$2 -> 0 | BA34: =VLOOKUP(U34,'SCORE TALLER'!$E$2:$F$10,2,FALSE)*BA$2 -> 0 | BB34: =VLOOKUP(Y34,'SCORE TALLER'!$M$2:$N$10,2,TRUE)*BB$2 -> 0.03 | BC34: =VLOOKUP(AA34,'SCORE TALLER'!$Q$2:$R$10,2,FALSE)*BC$2 -> 0.05 | BD34: =VLOOKUP(V34,'SCORE TALLER'!$G$2:$H$10,2,FALSE)*BD$2 -> 0 | BE34: =VLOOKUP(AF34,'SCORE TALLER'!$AA$2:$AB$10,2,FALSE)*BE$2 -> 0.5 | BF34: =VLOOKUP(AL34,'SCORE TALLER'!$AM$2:$AN$10,2,TRUE)*BF$2 -> 0.5 | BG34: =+SUM(AM34:BF34) -> 2.62 | BH34: =VLOOKUP(BG34,'SCORE TALLER'!$AP$2:$AQ$7,2,TRUE) -> 4. Alto | BI34: =+T34 -> LBZ | BJ34: =+U34 -> A | BK34: =+AF34 -> E | BL34: =+H34 -> 0 | BM34: =+Q34 -> 11612000
A35: 2044020422 | B35: ASOCIADO 31 | C35: 1. SI | D35: 5. >$2-$5 MM | E35: 91600 | F35: 5280527 | G35: =+IF(F35>M35+100000,F35-M35,0) -> 3314598 | H35: =IF(G35>L35+100000,G35-L35,0) -> 3314598 | I35: 5280000 | J35: 248473 | K35: 0 | L35: 0 | M35: 1965929 | N35: =VLOOKUP(AD35,'tabla ingresos'!$A$3:$D$15,4,FALSE) -> 2000000 | O35: 503102.67 | P35: 22617000 | Q35: 22305000 | R35: 13052 | S35: 9- Otras garantías (no admisible) | T35: LBZ | U35: A | V35: 4 | W35: 0 | X35: 0 | Y35: 3.9041096 | Z35: 30.068493 | AA35: 1 | AB35: 4 | AC35: 1 | AD35: 3 | AE35: 1 | AF35: E | AG35: =+(O35+J35)/(N35*1.5) -> 0.25052522 | AH35: =+(P35+F35)/(N35*1.5) -> 9.2991757 | AI35: =+(E35+M35)/(N35*1.5) -> 0.685843 | AJ35: =+G35/(N35*1.5) -> 1.104866 | AK35: =+H35/(N35*1.5) -> 1.104866 | AL35: =+Q35/(N35*1.5) -> 7.435 | AM35: =VLOOKUP(AG35,'SCORE TALLER'!$AC$2:$AD$10,2,TRUE)*AM$2 -> 0 | AN35: =VLOOKUP(AD35,'SCORE TALLER'!$W$2:$X$10,2,TRUE)*AN$2 -> 0.32 | AO35: =VLOOKUP(AB35,'SCORE TALLER'!$S$2:$T$10,2,FALSE)*AO$2 -> 0.02 | AP35: =VLOOKUP(AH35,'SCORE TALLER'!$AE$2:$AF$10,2,TRUE)*AP$2 -> 0.08 | AQ35: =VLOOKUP(AI35,'SCORE TALLER'!$AG$2:$AH$10,2,TRUE)*AQ$2 -> 0.4 | AR35: =VLOOKUP(AC35,'SCORE TALLER'!$U$2:$V$10,2,FALSE)*AR$2 -> 0.05 | AS35: =VLOOKUP(AE35,'SCORE TALLER'!$Y$2:$Z$10,2,FALSE)*AS$2 -> 0.03 | AT35: =VLOOKUP(Z35,'SCORE TALLER'!$O$2:$P$10,2,TRUE)*AT$2 -> 0.04 | AU35: =VLOOKUP(S35,'SCORE TALLER'!$A$2:$B$10,2,FALSE)*AU$2 -> 0.25 | AV35: =VLOOKUP(AJ35,'SCORE TALLER'!$AI$2:$AJ$10,2,TRUE)*AV$2 -> 0.2 | AW35: =VLOOKUP(AK35,'SCORE TALLER'!$AK$2:$AL$10,2,TRUE)*AW$2 -> 0.2 | AX35: =VLOOKUP(T35,'SCORE TALLER'!$C$2:$D$10,2,FALSE)*AX$2 -> 0 | AY35: =VLOOKUP(W35,'SCORE TALLER'!$I$2:$J$10,2,TRUE)*AY$2 -> 0 | AZ35: =VLOOKUP(X35,'SCORE TALLER'!$K$2:$L$10,2,TRUE)*AZ$2 -> 0 | BA35: =VLOOKUP(U35,'SCORE TALLER'!$E$2:$F$10,2,FALSE)*BA$2 -> 0 | BB35: =VLOOKUP(Y35,'SCORE TALLER'!$M$2:$N$10,2,TRUE)*BB$2 -> 0.04 | BC35: =VLOOKUP(AA35,'SCORE TALLER'!$Q$2:$R$10,2,FALSE)*BC$2 -> 0.05 | BD35: =VLOOKUP(V35,'SCORE TALLER'!$G$2:$H$10,2,FALSE)*BD$2 -> 0 | BE35: =VLOOKUP(AF35,'SCORE TALLER'!$AA$2:$AB$10,2,FALSE)*BE$2 -> 0.5 | BF35: =VLOOKUP(AL35,'SCORE TALLER'!$AM$2:$AN$10,2,TRUE)*BF$2 -> 0.5 | BG35: =+SUM(AM35:BF35) -> 2.68 | BH35: =VLOOKUP(BG35,'SCORE TALLER'!$AP$2:$AQ$7,2,TRUE) -> 4. Alto | BI35: =+T35 -> LBZ | BJ35: B | BK35: =+AF35 -> E | BL35: =+H35 -> 3314598 | BM35: =+Q35 -> 22305000
A36: 42482604 | B36: ASOCIADO 32 | C36: 1. SI | D36: 6. >$5-$10 MM | F36: 8183308 | G36: =+IF(F36>M36+100000,F36-M36,0) -> 5046791 | H36: =IF(G36>L36+100000,G36-L36,0) -> 4146791 | I36: 8183000 | J36: 243335 | K36: 0 | L36: 900000 | M36: 3136517 | N36: =VLOOKUP(AD36,'tabla ingresos'!$A$3:$D$15,4,FALSE) -> 1000000 | O36: 240907.37 | P36: 10830000 | Q36: 10830000 | R36: 76001 | S36: 6- pignoración | T36: LBZ | U36: A | V36: 4 | W36: 0 | X36: 0 | Y36: 5.7534247 | Z36: 43.517808 | AA36: 2 | AB36: 0 | AC36: 1 | AD36: 2 | AE36: 1 | AF36: E | AG36: =+(O36+J36)/(N36*1.5) -> 0.32282825 | AH36: =+(P36+F36)/(N36*1.5) -> 12.675539 | AI36: =+(E36+M36)/(N36*1.5) -> 2.0910113 | AJ36: =+G36/(N36*1.5) -> 3.3645273 | AK36: =+H36/(N36*1.5) -> 2.7645273 | AL36: =+Q36/(N36*1.5) -> 7.22 | AM36: =VLOOKUP(AG36,'SCORE TALLER'!$AC$2:$AD$10,2,TRUE)*AM$2 -> 0 | AN36: =VLOOKUP(AD36,'SCORE TALLER'!$W$2:$X$10,2,TRUE)*AN$2 -> 0.32 | AO36: =VLOOKUP(AB36,'SCORE TALLER'!$S$2:$T$10,2,FALSE)*AO$2 -> 0.05 | AP36: =VLOOKUP(AH36,'SCORE TALLER'!$AE$2:$AF$10,2,TRUE)*AP$2 -> 0.16 | AQ36: =VLOOKUP(AI36,'SCORE TALLER'!$AG$2:$AH$10,2,TRUE)*AQ$2 -> 0.24 | AR36: =VLOOKUP(AC36,'SCORE TALLER'!$U$2:$V$10,2,FALSE)*AR$2 -> 0.05 | AS36: =VLOOKUP(AE36,'SCORE TALLER'!$Y$2:$Z$10,2,FALSE)*AS$2 -> 0.03 | AT36: =VLOOKUP(Z36,'SCORE TALLER'!$O$2:$P$10,2,TRUE)*AT$2 -> 0.03 | AU36: =VLOOKUP(S36,'SCORE TALLER'!$A$2:$B$10,2,FALSE)*AU$2 -> 0.15 | AV36: =VLOOKUP(AJ36,'SCORE TALLER'!$AI$2:$AJ$10,2,TRUE)*AV$2 -> 0.1 | AW36: =VLOOKUP(AK36,'SCORE TALLER'!$AK$2:$AL$10,2,TRUE)*AW$2 -> 0.15 | AX36: =VLOOKUP(T36,'SCORE TALLER'!$C$2:$D$10,2,FALSE)*AX$2 -> 0 | AY36: =VLOOKUP(W36,'SCORE TALLER'!$I$2:$J$10,2,TRUE)*AY$2 -> 0 | AZ36: =VLOOKUP(X36,'SCORE TALLER'!$K$2:$L$10,2,TRUE)*AZ$2 -> 0 | BA36: =VLOOKUP(U36,'SCORE TALLER'!$E$2:$F$10,2,FALSE)*BA$2 -> 0 | BB36: =VLOOKUP(Y36,'SCORE TALLER'!$M$2:$N$10,2,TRUE)*BB$2 -> 0.03 | BC36: =VLOOKUP(AA36,'SCORE TALLER'!$Q$2:$R$10,2,FALSE)*BC$2 -> 0 | BD36: =VLOOKUP(V36,'SCORE TALLER'!$G$2:$H$10,2,FALSE)*BD$2 -> 0 | BE36: =VLOOKUP(AF36,'SCORE TALLER'!$AA$2:$AB$10,2,FALSE)*BE$2 -> 0.5 | BF36: =VLOOKUP(AL36,'SCORE TALLER'!$AM$2:$AN$10,2,TRUE)*BF$2 -> 0.5 | BG36: =+SUM(AM36:BF36) -> 2.31 | BH36: =VLOOKUP(BG36,'SCORE TALLER'!$AP$2:$AQ$7,2,TRUE) -> 3. Medio | BI36: =+T36 -> LBZ | BJ36: =+U36 -> A | BK36: =+AF36 -> E | BL36: =+H36 -> 4146791 | BM36: =+Q36 -> 10830000
A37: 8644206 | B37: ASOCIADO 33 | C37: 1. SI | D37: 7. >$10 MM | E37: 1762192 | F37: 17613677 | G37: =+IF(F37>M37+100000,F37-M37,0) -> 12449342 | H37: =IF(G37>L37+100000,G37-L37,0) -> 0 | I37: 2867000 | J37: 732801 | K37: 0 | L37: 34500000 | M37: 5164335 | N37: =VLOOKUP(AD37,'tabla ingresos'!$A$3:$D$15,4,FALSE) -> 3000000 | O37: 745920.05 | P37: 31480000 | Q37: 31480000 | R37: 8001 | S37: 2- prendaria | T37: LBZ | U37: A | V37: 4 | W37: 0 | X37: 0 | Y37: 6.309589 | Z37: 53.024658 | AA37: 1 | AB37: 5 | AC37: 2 | AD37: 4 | AE37: 3 | AF37: E | AG37: =+(O37+J37)/(N37*1.5) -> 0.32860468 | AH37: =+(P37+F37)/(N37*1.5) -> 10.909706 | AI37: =+(E37+M37)/(N37*1.5) -> 1.5392282 | AJ37: =+G37/(N37*1.5) -> 2.7665204 | AK37: =+H37/(N37*1.5) -> 0 | AL37: =+Q37/(N37*1.5) -> 6.9955556 | AM37: =VLOOKUP(AG37,'SCORE TALLER'!$AC$2:$AD$10,2,TRUE)*AM$2 -> 0 | AN37: =VLOOKUP(AD37,'SCORE TALLER'!$W$2:$X$10,2,TRUE)*AN$2 -> 0.24 | AO37: =VLOOKUP(AB37,'SCORE TALLER'!$S$2:$T$10,2,FALSE)*AO$2 -> 0.01 | AP37: =VLOOKUP(AH37,'SCORE TALLER'!$AE$2:$AF$10,2,TRUE)*AP$2 -> 0.16 | AQ37: =VLOOKUP(AI37,'SCORE TALLER'!$AG$2:$AH$10,2,TRUE)*AQ$2 -> 0.32 | AR37: =VLOOKUP(AC37,'SCORE TALLER'!$U$2:$V$10,2,FALSE)*AR$2 -> 0.04 | AS37: =VLOOKUP(AE37,'SCORE TALLER'!$Y$2:$Z$10,2,FALSE)*AS$2 -> 0.02 | AT37: =VLOOKUP(Z37,'SCORE TALLER'!$O$2:$P$10,2,TRUE)*AT$2 -> 0.02 | AU37: =VLOOKUP(S37,'SCORE TALLER'!$A$2:$B$10,2,FALSE)*AU$2 -> 0.05 | AV37: =VLOOKUP(AJ37,'SCORE TALLER'!$AI$2:$AJ$10,2,TRUE)*AV$2 -> 0.15 | AW37: =VLOOKUP(AK37,'SCORE TALLER'!$AK$2:$AL$10,2,TRUE)*AW$2 -> 0.25 | AX37: =VLOOKUP(T37,'SCORE TALLER'!$C$2:$D$10,2,FALSE)*AX$2 -> 0 | AY37: =VLOOKUP(W37,'SCORE TALLER'!$I$2:$J$10,2,TRUE)*AY$2 -> 0 | AZ37: =VLOOKUP(X37,'SCORE TALLER'!$K$2:$L$10,2,TRUE)*AZ$2 -> 0 | BA37: =VLOOKUP(U37,'SCORE TALLER'!$E$2:$F$10,2,FALSE)*BA$2 -> 0 | BB37: =VLOOKUP(Y37,'SCORE TALLER'!$M$2:$N$10,2,TRUE)*BB$2 -> 0.02 | BC37: =VLOOKUP(AA37,'SCORE TALLER'!$Q$2:$R$10,2,FALSE)*BC$2 -> 0.05 | BD37: =VLOOKUP(V37,'SCORE TALLER'!$G$2:$H$10,2,FALSE)*BD$2 -> 0 | BE37: =VLOOKUP(AF37,'SCORE TALLER'!$AA$2:$AB$10,2,FALSE)*BE$2 -> 0.5 | BF37: =VLOOKUP(AL37,'SCORE TALLER'!$AM$2:$AN$10,2,TRUE)*BF$2 -> 0.5 | BG37: =+SUM(AM37:BF37) -> 2.33 | BH37: =VLOOKUP(BG37,'SCORE TALLER'!$AP$2:$AQ$7,2,TRUE) -> 3. Medio | BI37: =+T37 -> LBZ | BJ37: =+U37 -> A | BK37: =+AF37 -> E | BL37: =+H37 -> 0 | BM37: =+Q37 -> 31480000
A38: 2008882004 | B38: ASOCIADO 34 | C38: 1. SI | D38: 6. >$5-$10 MM | E38: 1510000 | F38: 5890597 | G38: =+IF(F38>M38+100000,F38-M38,0) -> 5590781 | H38: =IF(G38>L38+100000,G38-L38,0) -> 5590781 | I38: 5891000 | J38: 193403 | K38: 0 | L38: 0 | M38: 299816 | N38: =VLOOKUP(AD38,'tabla ingresos'!$A$3:$D$15,4,FALSE) -> 1000000 | O38: 226515.21 | P38: 10183000 | Q38: 10183000 | R38: 68001 | S38: 9- Otras garantías (no admisible) | T38: LBZ | U38: A | V38: 4 | W38: 0 | X38: 0 | Y38: 0.90136986 | Z38: 25.649315 | AA38: 2 | AB38: 2 | AC38: 2 | AD38: 2 | AE38: 1 | AF38: E | AG38: =+(O38+J38)/(N38*1.5) -> 0.27994547 | AH38: =+(P38+F38)/(N38*1.5) -> 10.715731 | AI38: =+(E38+M38)/(N38*1.5) -> 1.206544 | AJ38: =+G38/(N38*1.5) -> 3.7271873 | AK38: =+H38/(N38*1.5) -> 3.7271873 | AL38: =+Q38/(N38*1.5) -> 6.7886667 | AM38: =VLOOKUP(AG38,'SCORE TALLER'!$AC$2:$AD$10,2,TRUE)*AM$2 -> 0 | AN38: =VLOOKUP(AD38,'SCORE TALLER'!$W$2:$X$10,2,TRUE)*AN$2 -> 0.32 | AO38: =VLOOKUP(AB38,'SCORE TALLER'!$S$2:$T$10,2,FALSE)*AO$2 -> 0.04 | AP38: =VLOOKUP(AH38,'SCORE TALLER'!$AE$2:$AF$10,2,TRUE)*AP$2 -> 0.16 | AQ38: =VLOOKUP(AI38,'SCORE TALLER'!$AG$2:$AH$10,2,TRUE)*AQ$2 -> 0.32 | AR38: =VLOOKUP(AC38,'SCORE TALLER'!$U$2:$V$10,2,FALSE)*AR$2 -> 0.04 | AS38: =VLOOKUP(AE38,'SCORE TALLER'!$Y$2:$Z$10,2,FALSE)*AS$2 -> 0.03 | AT38: =VLOOKUP(Z38,'SCORE TALLER'!$O$2:$P$10,2,TRUE)*AT$2 -> 0.04 | AU38: =VLOOKUP(S38,'SCORE TALLER'!$A$2:$B$10,2,FALSE)*AU$2 -> 0.25 | AV38: =VLOOKUP(AJ38,'SCORE TALLER'!$AI$2:$AJ$10,2,TRUE)*AV$2 -> 0.1 | AW38: =VLOOKUP(AK38,'SCORE TALLER'!$AK$2:$AL$10,2,TRUE)*AW$2 -> 0.1 | AX38: =VLOOKUP(T38,'SCORE TALLER'!$C$2:$D$10,2,FALSE)*AX$2 -> 0 | AY38: =VLOOKUP(W38,'SCORE TALLER'!$I$2:$J$10,2,TRUE)*AY$2 -> 0 | AZ38: =VLOOKUP(X38,'SCORE TALLER'!$K$2:$L$10,2,TRUE)*AZ$2 -> 0 | BA38: =VLOOKUP(U38,'SCORE TALLER'!$E$2:$F$10,2,FALSE)*BA$2 -> 0 | BB38: =VLOOKUP(Y38,'SCORE TALLER'!$M$2:$N$10,2,TRUE)*BB$2 -> 0.05 | BC38: =VLOOKUP(AA38,'SCORE TALLER'!$Q$2:$R$10,2,FALSE)*BC$2 -> 0 | BD38: =VLOOKUP(V38,'SCORE TALLER'!$G$2:$H$10,2,FALSE)*BD$2 -> 0 | BE38: =VLOOKUP(AF38,'SCORE TALLER'!$AA$2:$AB$10,2,FALSE)*BE$2 -> 0.5 | BF38: =VLOOKUP(AL38,'SCORE TALLER'!$AM$2:$AN$10,2,TRUE)*BF$2 -> 0.5 | BG38: =+SUM(AM38:BF38) -> 2.45 | BH38: =VLOOKUP(BG38,'SCORE TALLER'!$AP$2:$AQ$7,2,TRUE) -> 3. Medio | BI38: =+T38 -> LBZ | BJ38: =+U38 -> A | BK38: =+AF38 -> E | BL38: =+H38 -> 5590781 | BM38: =+Q38 -> 10183000
A39: 20662440 | B39: ASOCIADO 35 | C39: 1. SI | D39: 5. >$2-$5 MM | E39: 626669 | F39: 5931627 | G39: =+IF(F39>M39+100000,F39-M39,0) -> 2913110 | H39: =IF(G39>L39+100000,G39-L39,0) -> 1351843 | I39: 5932000 | J39: 184774 | K39: 0 | L39: 1561267 | M39: 3018517 | N39: =VLOOKUP(AD39,'tabla ingresos'!$A$3:$D$15,4,FALSE) -> 1000000 | O39: 237170.3 | P39: 10662000 | Q39: 10163000 | R39: 8001 | S39: 6- pignoración | T39: LBZ | U39: A | V39: 4 | W39: 0 | X39: 0 | Y39: 5.1342466 | Z39: 47.638356 | AA39: 1 | AB39: 0 | AC39: 1 | AD39: 2 | AE39: 1 | AF39: E | AG39: =+(O39+J39)/(N39*1.5) -> 0.2812962 | AH39: =+(P39+F39)/(N39*1.5) -> 11.062418 | AI39: =+(E39+M39)/(N39*1.5) -> 2.430124 | AJ39: =+G39/(N39*1.5) -> 1.9420733 | AK39: =+H39/(N39*1.5) -> 0.90122867 | AL39: =+Q39/(N39*1.5) -> 6.7753333 | AM39: =VLOOKUP(AG39,'SCORE TALLER'!$AC$2:$AD$10,2,TRUE)*AM$2 -> 0 | AN39: =VLOOKUP(AD39,'SCORE TALLER'!$W$2:$X$10,2,TRUE)*AN$2 -> 0.32 | AO39: =VLOOKUP(AB39,'SCORE TALLER'!$S$2:$T$10,2,FALSE)*AO$2 -> 0.05 | AP39: =VLOOKUP(AH39,'SCORE TALLER'!$AE$2:$AF$10,2,TRUE)*AP$2 -> 0.16 | AQ39: =VLOOKUP(AI39,'SCORE TALLER'!$AG$2:$AH$10,2,TRUE)*AQ$2 -> 0.24 | AR39: =VLOOKUP(AC39,'SCORE TALLER'!$U$2:$V$10,2,FALSE)*AR$2 -> 0.05 | AS39: =VLOOKUP(AE39,'SCORE TALLER'!$Y$2:$Z$10,2,FALSE)*AS$2 -> 0.03 | AT39: =VLOOKUP(Z39,'SCORE TALLER'!$O$2:$P$10,2,TRUE)*AT$2 -> 0.02 | AU39: =VLOOKUP(S39,'SCORE TALLER'!$A$2:$B$10,2,FALSE)*AU$2 -> 0.15 | AV39: =VLOOKUP(AJ39,'SCORE TALLER'!$AI$2:$AJ$10,2,TRUE)*AV$2 -> 0.2 | AW39: =VLOOKUP(AK39,'SCORE TALLER'!$AK$2:$AL$10,2,TRUE)*AW$2 -> 0.25 | AX39: =VLOOKUP(T39,'SCORE TALLER'!$C$2:$D$10,2,FALSE)*AX$2 -> 0 | AY39: =VLOOKUP(W39,'SCORE TALLER'!$I$2:$J$10,2,TRUE)*AY$2 -> 0 | AZ39: =VLOOKUP(X39,'SCORE TALLER'!$K$2:$L$10,2,TRUE)*AZ$2 -> 0 | BA39: =VLOOKUP(U39,'SCORE TALLER'!$E$2:$F$10,2,FALSE)*BA$2 -> 0 | BB39: =VLOOKUP(Y39,'SCORE TALLER'!$M$2:$N$10,2,TRUE)*BB$2 -> 0.03 | BC39: =VLOOKUP(AA39,'SCORE TALLER'!$Q$2:$R$10,2,FALSE)*BC$2 -> 0.05 | BD39: =VLOOKUP(V39,'SCORE TALLER'!$G$2:$H$10,2,FALSE)*BD$2 -> 0 | BE39: =VLOOKUP(AF39,'SCORE TALLER'!$AA$2:$AB$10,2,FALSE)*BE$2 -> 0.5 | BF39: =VLOOKUP(AL39,'SCORE TALLER'!$AM$2:$AN$10,2,TRUE)*BF$2 -> 0.5 | BG39: =+SUM(AM39:BF39) -> 2.55 | BH39: =VLOOKUP(BG39,'SCORE TALLER'!$AP$2:$AQ$7,2,TRUE) -> 4. Alto | BI39: =+T39 -> LBZ | BJ39: =+U39 -> A | BK39: =+AF39 -> E | BL39: =+H39 -> 1351843 | BM39: =+Q39 -> 10163000
A40: 4208806 | B40: ASOCIADO 36 | C40: 1. SI | D40: 6. >$5-$10 MM | F40: 9261187 | G40: =+IF(F40>M40+100000,F40-M40,0) -> 5666670 | H40: =IF(G40>L40+100000,G40-L40,0) -> 3166670 | I40: 9261000 | J40: 242503 | K40: 0 | L40: 2500000 | M40: 3594517 | N40: =VLOOKUP(AD40,'tabla ingresos'!$A$3:$D$15,4,FALSE) -> 1000000 | O40: 259168.71 | P40: 10109000 | Q40: 10109000 | R40: 76130 | S40: 6- pignoración | T40: LBZ | U40: A | V40: 4 | W40: 0 | X40: 0 | Y40: 6.1452055 | Z40: 47.816438 | AA40: 1 | AB40: 2 | AC40: 2 | AD40: 2 | AE40: 3 | AF40: E | AG40: =+(O40+J40)/(N40*1.5) -> 0.33444781 | AH40: =+(P40+F40)/(N40*1.5) -> 12.913458 | AI40: =+(E40+M40)/(N40*1.5) -> 2.3963447 | AJ40: =+G40/(N40*1.5) -> 3.77778 | AK40: =+H40/(N40*1.5) -> 2.1111133 | AL40: =+Q40/(N40*1.5) -> 6.7393333 | AM40: =VLOOKUP(AG40,'SCORE TALLER'!$AC$2:$AD$10,2,TRUE)*AM$2 -> 0 | AN40: =VLOOKUP(AD40,'SCORE TALLER'!$W$2:$X$10,2,TRUE)*AN$2 -> 0.32 | AO40: =VLOOKUP(AB40,'SCORE TALLER'!$S$2:$T$10,2,FALSE)*AO$2 -> 0.04 | AP40: =VLOOKUP(AH40,'SCORE TALLER'!$AE$2:$AF$10,2,TRUE)*AP$2 -> 0.16 | AQ40: =VLOOKUP(AI40,'SCORE TALLER'!$AG$2:$AH$10,2,TRUE)*AQ$2 -> 0.24 | AR40: =VLOOKUP(AC40,'SCORE TALLER'!$U$2:$V$10,2,FALSE)*AR$2 -> 0.04 | AS40: =VLOOKUP(AE40,'SCORE TALLER'!$Y$2:$Z$10,2,FALSE)*AS$2 -> 0.02 | AT40: =VLOOKUP(Z40,'SCORE TALLER'!$O$2:$P$10,2,TRUE)*AT$2 -> 0.02 | AU40: =VLOOKUP(S40,'SCORE TALLER'!$A$2:$B$10,2,FALSE)*AU$2 -> 0.15 | AV40: =VLOOKUP(AJ40,'SCORE TALLER'!$AI$2:$AJ$10,2,TRUE)*AV$2 -> 0.1 | AW40: =VLOOKUP(AK40,'SCORE TALLER'!$AK$2:$AL$10,2,TRUE)*AW$2 -> 0.15 | AX40: =VLOOKUP(T40,'SCORE TALLER'!$C$2:$D$10,2,FALSE)*AX$2 -> 0 | AY40: =VLOOKUP(W40,'SCORE TALLER'!$I$2:$J$10,2,TRUE)*AY$2 -> 0 | AZ40: =VLOOKUP(X40,'SCORE TALLER'!$K$2:$L$10,2,TRUE)*AZ$2 -> 0 | BA40: =VLOOKUP(U40,'SCORE TALLER'!$E$2:$F$10,2,FALSE)*BA$2 -> 0 | BB40: =VLOOKUP(Y40,'SCORE TALLER'!$M$2:$N$10,2,TRUE)*BB$2 -> 0.02 | BC40: =VLOOKUP(AA40,'SCORE TALLER'!$Q$2:$R$10,2,FALSE)*BC$2 -> 0.05 | BD40: =VLOOKUP(V40,'SCORE TALLER'!$G$2:$H$10,2,FALSE)*BD$2 -> 0 | BE40: =VLOOKUP(AF40,'SCORE TALLER'!$AA$2:$AB$10,2,FALSE)*BE$2 -> 0.5 | BF40: =VLOOKUP(AL40,'SCORE TALLER'!$AM$2:$AN$10,2,TRUE)*BF$2 -> 0.5 | BG40: =+SUM(AM40:BF40) -> 2.31 | BH40: =VLOOKUP(BG40,'SCORE TALLER'!$AP$2:$AQ$7,2,TRUE) -> 3. Medio | BI40: =+T40 -> LBZ | BJ40: =+U40 -> A | BK40: =+AF40 -> E | BL40: =+H40 -> 3166670 | BM40: =+Q40 -> 10109000
A41: 2224644628 | B41: ASOCIADO 37 | C41: 1. SI | D41: 5. >$2-$5 MM | E41: 122664 | F41: 8074994 | G41: =+IF(F41>M41+100000,F41-M41,0) -> 4346477 | H41: =IF(G41>L41+100000,G41-L41,0) -> 686443 | I41: 8075000 | J41: 259248 | K41: 0 | L41: 3660034 | M41: 3728517 | N41: =VLOOKUP(AD41,'tabla ingresos'!$A$3:$D$15,4,FALSE) -> 1000000 | O41: 266764.74 | P41: 11092000 | Q41: 9913000 | R41: 76130 | S41: 6- pignoración | T41: LBZ | U41: A | V41: 4 | W41: 0 | X41: 0 | Y41: 6.9150685 | Z41: 26.191781 | AA41: 2 | AB41: 3 | AC41: 2 | AD41: 2 | AE41: 1 | AF41: E | AG41: =+(O41+J41)/(N41*1.5) -> 0.35067516 | AH41: =+(P41+F41)/(N41*1.5) -> 12.777996 | AI41: =+(E41+M41)/(N41*1.5) -> 2.567454 | AJ41: =+G41/(N41*1.5) -> 2.8976513 | AK41: =+H41/(N41*1.5) -> 0.45762867 | AL41: =+Q41/(N41*1.5) -> 6.6086667 | AM41: =VLOOKUP(AG41,'SCORE TALLER'!$AC$2:$AD$10,2,TRUE)*AM$2 -> 0 | AN41: =VLOOKUP(AD41,'SCORE TALLER'!$W$2:$X$10,2,TRUE)*AN$2 -> 0.32 | AO41: =VLOOKUP(AB41,'SCORE TALLER'!$S$2:$T$10,2,FALSE)*AO$2 -> 0.03 | AP41: =VLOOKUP(AH41,'SCORE TALLER'!$AE$2:$AF$10,2,TRUE)*AP$2 -> 0.16 | AQ41: =VLOOKUP(AI41,'SCORE TALLER'!$AG$2:$AH$10,2,TRUE)*AQ$2 -> 0.24 | AR41: =VLOOKUP(AC41,'SCORE TALLER'!$U$2:$V$10,2,FALSE)*AR$2 -> 0.04 | AS41: =VLOOKUP(AE41,'SCORE TALLER'!$Y$2:$Z$10,2,FALSE)*AS$2 -> 0.03 | AT41: =VLOOKUP(Z41,'SCORE TALLER'!$O$2:$P$10,2,TRUE)*AT$2 -> 0.04 | AU41: =VLOOKUP(S41,'SCORE TALLER'!$A$2:$B$10,2,FALSE)*AU$2 -> 0.15 | AV41: =VLOOKUP(AJ41,'SCORE TALLER'!$AI$2:$AJ$10,2,TRUE)*AV$2 -> 0.15 | AW41: =VLOOKUP(AK41,'SCORE TALLER'!$AK$2:$AL$10,2,TRUE)*AW$2 -> 0.25 | AX41: =VLOOKUP(T41,'SCORE TALLER'!$C$2:$D$10,2,FALSE)*AX$2 -> 0 | AY41: =VLOOKUP(W41,'SCORE TALLER'!$I$2:$J$10,2,TRUE)*AY$2 -> 0 | AZ41: =VLOOKUP(X41,'SCORE TALLER'!$K$2:$L$10,2,TRUE)*AZ$2 -> 0 | BA41: =VLOOKUP(U41,'SCORE TALLER'!$E$2:$F$10,2,FALSE)*BA$2 -> 0 | BB41: =VLOOKUP(Y41,'SCORE TALLER'!$M$2:$N$10,2,TRUE)*BB$2 -> 0.02 | BC41: =VLOOKUP(AA41,'SCORE TALLER'!$Q$2:$R$10,2,FALSE)*BC$2 -> 0 | BD41: =VLOOKUP(V41,'SCORE TALLER'!$G$2:$H$10,2,FALSE)*BD$2 -> 0 | BE41: =VLOOKUP(AF41,'SCORE TALLER'!$AA$2:$AB$10,2,FALSE)*BE$2 -> 0.5 | BF41: =VLOOKUP(AL41,'SCORE TALLER'!$AM$2:$AN$10,2,TRUE)*BF$2 -> 0.5 | BG41: =+SUM(AM41:BF41) -> 2.43 | BH41: =VLOOKUP(BG41,'SCORE TALLER'!$AP$2:$AQ$7,2,TRUE) -> 3. Medio | BI41: =+T41 -> LBZ | BJ41: =+U41 -> A | BK41: =+AF41 -> E | BL41: =+H41 -> 686443 | BM41: =+Q41 -> 9913000
A42: 2060062606 | B42: ASOCIADO 38 | C42: 1. SI | D42: 4. >$1-$2 MM | F42: 2858927 | G42: =+IF(F42>M42+100000,F42-M42,0) -> 1460498 | H42: =IF(G42>L42+100000,G42-L42,0) -> 0 | I42: 2859000 | J42: 151890 | K42: 0 | L42: 1689247 | M42: 1398429 | N42: =VLOOKUP(AD42,'tabla ingresos'!$A$3:$D$15,4,FALSE) -> 2000000 | O42: 434878.95 | P42: 19550000 | Q42: 19550000 | R42: 13836 | S42: 6- pignoración | T42: LBZ | U42: A | V42: 4 | W42: 0 | X42: 0 | Y42: 2.1506849 | Z42: 33.027397 | AA42: 1 | AB42: 4 | AC42: 1 | AD42: 3 | AE42: 2 | AF42: E | AG42: =+(O42+J42)/(N42*1.5) -> 0.19558965 | AH42: =+(P42+F42)/(N42*1.5) -> 7.4696423 | AI42: =+(E42+M42)/(N42*1.5) -> 0.466143 | AJ42: =+G42/(N42*1.5) -> 0.48683267 | AK42: =+H42/(N42*1.5) -> 0 | AL42: =+Q42/(N42*1.5) -> 6.5166667 | AM42: =VLOOKUP(AG42,'SCORE TALLER'!$AC$2:$AD$10,2,TRUE)*AM$2 -> 0 | AN42: =VLOOKUP(AD42,'SCORE TALLER'!$W$2:$X$10,2,TRUE)*AN$2 -> 0.32 | AO42: =VLOOKUP(AB42,'SCORE TALLER'!$S$2:$T$10,2,FALSE)*AO$2 -> 0.02 | AP42: =VLOOKUP(AH42,'SCORE TALLER'!$AE$2:$AF$10,2,TRUE)*AP$2 -> 0.08 | AQ42: =VLOOKUP(AI42,'SCORE TALLER'!$AG$2:$AH$10,2,TRUE)*AQ$2 -> 0.4 | AR42: =VLOOKUP(AC42,'SCORE TALLER'!$U$2:$V$10,2,FALSE)*AR$2 -> 0.05 | AS42: =VLOOKUP(AE42,'SCORE TALLER'!$Y$2:$Z$10,2,FALSE)*AS$2 -> 0.01 | AT42: =VLOOKUP(Z42,'SCORE TALLER'!$O$2:$P$10,2,TRUE)*AT$2 -> 0.04 | AU42: =VLOOKUP(S42,'SCORE TALLER'!$A$2:$B$10,2,FALSE)*AU$2 -> 0.15 | AV42: =VLOOKUP(AJ42,'SCORE TALLER'!$AI$2:$AJ$10,2,TRUE)*AV$2 -> 0.25 | AW42: =VLOOKUP(AK42,'SCORE TALLER'!$AK$2:$AL$10,2,TRUE)*AW$2 -> 0.25 | AX42: =VLOOKUP(T42,'SCORE TALLER'!$C$2:$D$10,2,FALSE)*AX$2 -> 0 | AY42: =VLOOKUP(W42,'SCORE TALLER'!$I$2:$J$10,2,TRUE)*AY$2 -> 0 | AZ42: =VLOOKUP(X42,'SCORE TALLER'!$K$2:$L$10,2,TRUE)*AZ$2 -> 0 | BA42: =VLOOKUP(U42,'SCORE TALLER'!$E$2:$F$10,2,FALSE)*BA$2 -> 0 | BB42: =VLOOKUP(Y42,'SCORE TALLER'!$M$2:$N$10,2,TRUE)*BB$2 -> 0.04 | BC42: =VLOOKUP(AA42,'SCORE TALLER'!$Q$2:$R$10,2,FALSE)*BC$2 -> 0.05 | BD42: =VLOOKUP(V42,'SCORE TALLER'!$G$2:$H$10,2,FALSE)*BD$2 -> 0 | BE42: =VLOOKUP(AF42,'SCORE TALLER'!$AA$2:$AB$10,2,FALSE)*BE$2 -> 0.5 | BF42: =VLOOKUP(AL42,'SCORE TALLER'!$AM$2:$AN$10,2,TRUE)*BF$2 -> 0.5 | BG42: =+SUM(AM42:BF42) -> 2.66 | BH42: =VLOOKUP(BG42,'SCORE TALLER'!$AP$2:$AQ$7,2,TRUE) -> 4. Alto | BI42: =+T42 -> LBZ | BJ42: =+U42 -> A | BK42: =+AF42 -> E | BL42: =+H42 -> 0 | BM42: =+Q42 -> 19550000
A43: 26806006 | B43: ASOCIADO 39 | C43: 1. SI | D43: 5. >$2-$5 MM | E43: 133 | F43: 5990072 | G43: =+IF(F43>M43+100000,F43-M43,0) -> 2348799 | H43: =IF(G43>L43+100000,G43-L43,0) -> 0 | I43: 5990000 | J43: 160844 | K43: 0 | L43: 4906648 | M43: 3641273 | N43: =VLOOKUP(AD43,'tabla ingresos'!$A$3:$D$15,4,FALSE) -> 1000000 | O43: 222797.01 | P43: 9899000 | Q43: 9746000 | R43: 76275 | S43: 6- pignoración | T43: LBZ | U43: A | V43: 4 | W43: 0 | X43: 0 | Y43: 6.8821918 | Z43: 38.605479 | AA43: 1 | AB43: 0 | AC43: 1 | AD43: 2 | AE43: 1 | AF43: E | AG43: =+(O43+J43)/(N43*1.5) -> 0.25576068 | AH43: =+(P43+F43)/(N43*1.5) -> 10.592715 | AI43: =+(E43+M43)/(N43*1.5) -> 2.427604 | AJ43: =+G43/(N43*1.5) -> 1.565866 | AK43: =+H43/(N43*1.5) -> 0 | AL43: =+Q43/(N43*1.5) -> 6.4973333 | AM43: =VLOOKUP(AG43,'SCORE TALLER'!$AC$2:$AD$10,2,TRUE)*AM$2 -> 0 | AN43: =VLOOKUP(AD43,'SCORE TALLER'!$W$2:$X$10,2,TRUE)*AN$2 -> 0.32 | AO43: =VLOOKUP(AB43,'SCORE TALLER'!$S$2:$T$10,2,FALSE)*AO$2 -> 0.05 | AP43: =VLOOKUP(AH43,'SCORE TALLER'!$AE$2:$AF$10,2,TRUE)*AP$2 -> 0.16 | AQ43: =VLOOKUP(AI43,'SCORE TALLER'!$AG$2:$AH$10,2,TRUE)*AQ$2 -> 0.24 | AR43: =VLOOKUP(AC43,'SCORE TALLER'!$U$2:$V$10,2,FALSE)*AR$2 -> 0.05 | AS43: =VLOOKUP(AE43,'SCORE TALLER'!$Y$2:$Z$10,2,FALSE)*AS$2 -> 0.03 | AT43: =VLOOKUP(Z43,'SCORE TALLER'!$O$2:$P$10,2,TRUE)*AT$2 -> 0.03 | AU43: =VLOOKUP(S43,'SCORE TALLER'!$A$2:$B$10,2,FALSE)*AU$2 -> 0.15 | AV43: =VLOOKUP(AJ43,'SCORE TALLER'!$AI$2:$AJ$10,2,TRUE)*AV$2 -> 0.2 | AW43: =VLOOKUP(AK43,'SCORE TALLER'!$AK$2:$AL$10,2,TRUE)*AW$2 -> 0.25 | AX43: =VLOOKUP(T43,'SCORE TALLER'!$C$2:$D$10,2,FALSE)*AX$2 -> 0 | AY43: =VLOOKUP(W43,'SCORE TALLER'!$I$2:$J$10,2,TRUE)*AY$2 -> 0 | AZ43: =VLOOKUP(X43,'SCORE TALLER'!$K$2:$L$10,2,TRUE)*AZ$2 -> 0 | BA43: =VLOOKUP(U43,'SCORE TALLER'!$E$2:$F$10,2,FALSE)*BA$2 -> 0 | BB43: =VLOOKUP(Y43,'SCORE TALLER'!$M$2:$N$10,2,TRUE)*BB$2 -> 0.02 | BC43: =VLOOKUP(AA43,'SCORE TALLER'!$Q$2:$R$10,2,FALSE)*BC$2 -> 0.05 | BD43: =VLOOKUP(V43,'SCORE TALLER'!$G$2:$H$10,2,FALSE)*BD$2 -> 0 | BE43: =VLOOKUP(AF43,'SCORE TALLER'!$AA$2:$AB$10,2,FALSE)*BE$2 -> 0.5 | BF43: =VLOOKUP(AL43,'SCORE TALLER'!$AM$2:$AN$10,2,TRUE)*BF$2 -> 0.5 | BG43: =+SUM(AM43:BF43) -> 2.55 | BH43: =VLOOKUP(BG43,'SCORE TALLER'!$AP$2:$AQ$7,2,TRUE) -> 4. Alto | BI43: =+T43 -> LBZ | BJ43: =+U43 -> A | BK43: =+AF43 -> E | BL43: =+H43 -> 0 | BM43: =+Q43 -> 9746000
A44: 2028286006 | B44: ASOCIADO 40 | C44: 1. SI | D44: 5. >$2-$5 MM | E44: 826727 | F44: 5719768 | G44: =+IF(F44>M44+100000,F44-M44,0) -> 4677610 | H44: =IF(G44>L44+100000,G44-L44,0) -> 1877610 | I44: 5720000 | J44: 273485 | K44: 0 | L44: 2800000 | M44: 1042158 | N44: =VLOOKUP(AD44,'tabla ingresos'!$A$3:$D$15,4,FALSE) -> 1000000 | O44: 297802.06 | P44: 9534000 | Q44: 9534000 | R44: 76130 | S44: 6- pignoración | T44: LBZ | U44: A | V44: 4 | W44: 0 | X44: 0 | Y44: 3.4328767 | Z44: 32.635616 | AA44: 1 | AB44: 0 | AC44: 1 | AD44: 2 | AE44: 1 | AF44: E | AG44: =+(O44+J44)/(N44*1.5) -> 0.38085804 | AH44: =+(P44+F44)/(N44*1.5) -> 10.169179 | AI44: =+(E44+M44)/(N44*1.5) -> 1.2459233 | AJ44: =+G44/(N44*1.5) -> 3.1184067 | AK44: =+H44/(N44*1.5) -> 1.25174 | AL44: =+Q44/(N44*1.5) -> 6.356 | AM44: =VLOOKUP(AG44,'SCORE TALLER'!$AC$2:$AD$10,2,TRUE)*AM$2 -> 0 | AN44: =VLOOKUP(AD44,'SCORE TALLER'!$W$2:$X$10,2,TRUE)*AN$2 -> 0.32 | AO44: =VLOOKUP(AB44,'SCORE TALLER'!$S$2:$T$10,2,FALSE)*AO$2 -> 0.05 | AP44: =VLOOKUP(AH44,'SCORE TALLER'!$AE$2:$AF$10,2,TRUE)*AP$2 -> 0.16 | AQ44: =VLOOKUP(AI44,'SCORE TALLER'!$AG$2:$AH$10,2,TRUE)*AQ$2 -> 0.32 | AR44: =VLOOKUP(AC44,'SCORE TALLER'!$U$2:$V$10,2,FALSE)*AR$2 -> 0.05 | AS44: =VLOOKUP(AE44,'SCORE TALLER'!$Y$2:$Z$10,2,FALSE)*AS$2 -> 0.03 | AT44: =VLOOKUP(Z44,'SCORE TALLER'!$O$2:$P$10,2,TRUE)*AT$2 -> 0.04 | AU44: =VLOOKUP(S44,'SCORE TALLER'!$A$2:$B$10,2,FALSE)*AU$2 -> 0.15 | AV44: =VLOOKUP(AJ44,'SCORE TALLER'!$AI$2:$AJ$10,2,TRUE)*AV$2 -> 0.1 | AW44: =VLOOKUP(AK44,'SCORE TALLER'!$AK$2:$AL$10,2,TRUE)*AW$2 -> 0.2 | AX44: =VLOOKUP(T44,'SCORE TALLER'!$C$2:$D$10,2,FALSE)*AX$2 -> 0 | AY44: =VLOOKUP(W44,'SCORE TALLER'!$I$2:$J$10,2,TRUE)*AY$2 -> 0 | AZ44: =VLOOKUP(X44,'SCORE TALLER'!$K$2:$L$10,2,TRUE)*AZ$2 -> 0 | BA44: =VLOOKUP(U44,'SCORE TALLER'!$E$2:$F$10,2,FALSE)*BA$2 -> 0 | BB44: =VLOOKUP(Y44,'SCORE TALLER'!$M$2:$N$10,2,TRUE)*BB$2 -> 0.04 | BC44: =VLOOKUP(AA44,'SCORE TALLER'!$Q$2:$R$10,2,FALSE)*BC$2 -> 0.05 | BD44: =VLOOKUP(V44,'SCORE TALLER'!$G$2:$H$10,2,FALSE)*BD$2 -> 0 | BE44: =VLOOKUP(AF44,'SCORE TALLER'!$AA$2:$AB$10,2,FALSE)*BE$2 -> 0.5 | BF44: =VLOOKUP(AL44,'SCORE TALLER'!$AM$2:$AN$10,2,TRUE)*BF$2 -> 0.5 | BG44: =+SUM(AM44:BF44) -> 2.51 | BH44: =VLOOKUP(BG44,'SCORE TALLER'!$AP$2:$AQ$7,2,TRUE) -> 4. Alto | BI44: =+T44 -> LBZ | BJ44: =+U44 -> A | BK44: =+AF44 -> E | BL44: =+H44 -> 1877610 | BM44: =+Q44 -> 9534000
A45: 2006024802 | B45: ASOCIADO 41 | C45: 1. SI | D45: 5. >$2-$5 MM | F45: 4862353 | G45: =+IF(F45>M45+100000,F45-M45,0) -> 2638733 | H45: =IF(G45>L45+100000,G45-L45,0) -> 2638733 | I45: 4862000 | J45: 158134 | K45: 0 | L45: 0 | M45: 2223620 | N45: =VLOOKUP(AD45,'tabla ingresos'!$A$3:$D$15,4,FALSE) -> 2000000 | O45: 824104.78 | P45: 59923000 | Q45: 9537000 | R45: 68307 | S45: 9- Otras garantías (no admisible) | T45: LBZ | U45: A | V45: 4 | W45: 0 | X45: 0 | Y45: 4.4082192 | Z45: 34.758904 | AA45: 1 | AB45: 2 | AC45: 2 | AD45: 3 | AE45: 2 | AF45: D | AG45: =+(O45+J45)/(N45*1.5) -> 0.32741293 | AH45: =+(P45+F45)/(N45*1.5) -> 21.595118 | AI45: =+(E45+M45)/(N45*1.5) -> 0.74120667 | AJ45: =+G45/(N45*1.5) -> 0.87957767 | AK45: =+H45/(N45*1.5) -> 0.87957767 | AL45: =+Q45/(N45*1.5) -> 3.179 | AM45: =VLOOKUP(AG45,'SCORE TALLER'!$AC$2:$AD$10,2,TRUE)*AM$2 -> 0 | AN45: =VLOOKUP(AD45,'SCORE TALLER'!$W$2:$X$10,2,TRUE)*AN$2 -> 0.32 | AO45: =VLOOKUP(AB45,'SCORE TALLER'!$S$2:$T$10,2,FALSE)*AO$2 -> 0.04 | AP45: =VLOOKUP(AH45,'SCORE TALLER'!$AE$2:$AF$10,2,TRUE)*AP$2 -> 0.32 | AQ45: =VLOOKUP(AI45,'SCORE TALLER'!$AG$2:$AH$10,2,TRUE)*AQ$2 -> 0.4 | AR45: =VLOOKUP(AC45,'SCORE TALLER'!$U$2:$V$10,2,FALSE)*AR$2 -> 0.04 | AS45: =VLOOKUP(AE45,'SCORE TALLER'!$Y$2:$Z$10,2,FALSE)*AS$2 -> 0.01 | AT45: =VLOOKUP(Z45,'SCORE TALLER'!$O$2:$P$10,2,TRUE)*AT$2 -> 0.04 | AU45: =VLOOKUP(S45,'SCORE TALLER'!$A$2:$B$10,2,FALSE)*AU$2 -> 0.25 | AV45: =VLOOKUP(AJ45,'SCORE TALLER'!$AI$2:$AJ$10,2,TRUE)*AV$2 -> 0.25 | AW45: =VLOOKUP(AK45,'SCORE TALLER'!$AK$2:$AL$10,2,TRUE)*AW$2 -> 0.25 | AX45: =VLOOKUP(T45,'SCORE TALLER'!$C$2:$D$10,2,FALSE)*AX$2 -> 0 | AY45: =VLOOKUP(W45,'SCORE TALLER'!$I$2:$J$10,2,TRUE)*AY$2 -> 0 | AZ45: =VLOOKUP(X45,'SCORE TALLER'!$K$2:$L$10,2,TRUE)*AZ$2 -> 0 | BA45: =VLOOKUP(U45,'SCORE TALLER'!$E$2:$F$10,2,FALSE)*BA$2 -> 0 | BB45: =VLOOKUP(Y45,'SCORE TALLER'!$M$2:$N$10,2,TRUE)*BB$2 -> 0.03 | BC45: =VLOOKUP(AA45,'SCORE TALLER'!$Q$2:$R$10,2,FALSE)*BC$2 -> 0.05 | BD45: =VLOOKUP(V45,'SCORE TALLER'!$G$2:$H$10,2,FALSE)*BD$2 -> 0 | BE45: =VLOOKUP(AF45,'SCORE TALLER'!$AA$2:$AB$10,2,FALSE)*BE$2 -> 0.5 | BF45: =VLOOKUP(AL45,'SCORE TALLER'!$AM$2:$AN$10,2,TRUE)*BF$2 -> 0.5 | BG45: =+SUM(AM45:BF45) -> 3 | BH45: =VLOOKUP(BG45,'SCORE TALLER'!$AP$2:$AQ$7,2,TRUE) -> 5. Crítico | BI45: =+T45 -> LBZ | BJ45: B | BK45: =+AF45 -> D | BL45: =+H45 -> 2638733 | BM45: =+Q45 -> 9537000
A46: 2062642822 | B46: ASOCIADO 42 | C46: 1. SI | D46: 4. >$1-$2 MM | F46: 1957735 | G46: =+IF(F46>M46+100000,F46-M46,0) -> 1254957 | H46: =IF(G46>L46+100000,G46-L46,0) -> 838177 | I46: 1958000 | J46: 150237 | K46: 0 | L46: 416780 | M46: 702778 | N46: =VLOOKUP(AD46,'tabla ingresos'!$A$3:$D$15,4,FALSE) -> 1000000 | O46: 260103.58 | P46: 9175000 | Q46: 9173000 | R46: 76001 | S46: 6- pignoración | T46: LBZ | U46: A | V46: 4 | W46: 0 | X46: 0 | Y46: 2.2246575 | Z46: 24.306849 | AA46: 2 | AB46: 4 | AC46: 3 | AD46: 2 | AE46: 1 | AF46: E | AG46: =+(O46+J46)/(N46*1.5) -> 0.27356039 | AH46: =+(P46+F46)/(N46*1.5) -> 7.4218233 | AI46: =+(E46+M46)/(N46*1.5) -> 0.46851867 | AJ46: =+G46/(N46*1.5) -> 0.836638 | AK46: =+H46/(N46*1.5) -> 0.55878467 | AL46: =+Q46/(N46*1.5) -> 6.1153333 | AM46: =VLOOKUP(AG46,'SCORE TALLER'!$AC$2:$AD$10,2,TRUE)*AM$2 -> 0 | AN46: =VLOOKUP(AD46,'SCORE TALLER'!$W$2:$X$10,2,TRUE)*AN$2 -> 0.32 | AO46: =VLOOKUP(AB46,'SCORE TALLER'!$S$2:$T$10,2,FALSE)*AO$2 -> 0.02 | AP46: =VLOOKUP(AH46,'SCORE TALLER'!$AE$2:$AF$10,2,TRUE)*AP$2 -> 0.08 | AQ46: =VLOOKUP(AI46,'SCORE TALLER'!$AG$2:$AH$10,2,TRUE)*AQ$2 -> 0.4 | AR46: =VLOOKUP(AC46,'SCORE TALLER'!$U$2:$V$10,2,FALSE)*AR$2 -> 0.03 | AS46: =VLOOKUP(AE46,'SCORE TALLER'!$Y$2:$Z$10,2,FALSE)*AS$2 -> 0.03 | AT46: =VLOOKUP(Z46,'SCORE TALLER'!$O$2:$P$10,2,TRUE)*AT$2 -> 0.05 | AU46: =VLOOKUP(S46,'SCORE TALLER'!$A$2:$B$10,2,FALSE)*AU$2 -> 0.15 | AV46: =VLOOKUP(AJ46,'SCORE TALLER'!$AI$2:$AJ$10,2,TRUE)*AV$2 -> 0.25 | AW46: =VLOOKUP(AK46,'SCORE TALLER'!$AK$2:$AL$10,2,TRUE)*AW$2 -> 0.25 | AX46: =VLOOKUP(T46,'SCORE TALLER'!$C$2:$D$10,2,FALSE)*AX$2 -> 0 | AY46: =VLOOKUP(W46,'SCORE TALLER'!$I$2:$J$10,2,TRUE)*AY$2 -> 0 | AZ46: =VLOOKUP(X46,'SCORE TALLER'!$K$2:$L$10,2,TRUE)*AZ$2 -> 0 | BA46: =VLOOKUP(U46,'SCORE TALLER'!$E$2:$F$10,2,FALSE)*BA$2 -> 0 | BB46: =VLOOKUP(Y46,'SCORE TALLER'!$M$2:$N$10,2,TRUE)*BB$2 -> 0.04 | BC46: =VLOOKUP(AA46,'SCORE TALLER'!$Q$2:$R$10,2,FALSE)*BC$2 -> 0 | BD46: =VLOOKUP(V46,'SCORE TALLER'!$G$2:$H$10,2,FALSE)*BD$2 -> 0 | BE46: =VLOOKUP(AF46,'SCORE TALLER'!$AA$2:$AB$10,2,FALSE)*BE$2 -> 0.5 | BF46: =VLOOKUP(AL46,'SCORE TALLER'!$AM$2:$AN$10,2,TRUE)*BF$2 -> 0.5 | BG46: =+SUM(AM46:BF46) -> 2.62 | BH46: =VLOOKUP(BG46,'SCORE TALLER'!$AP$2:$AQ$7,2,TRUE) -> 4. Alto | BI46: =+T46 -> LBZ | BJ46: =+U46 -> A | BK46: =+AF46 -> E | BL46: =+H46 -> 838177 | BM46: =+Q46 -> 9173000
A47: 2002806220 | B47: ASOCIADO 43 | C47: 1. SI | D47: 6. >$5-$10 MM | F47: 8659904 | G47: =+IF(F47>M47+100000,F47-M47,0) -> 6093784 | H47: =IF(G47>L47+100000,G47-L47,0) -> 4299908 | I47: 8660000 | J47: 394791 | K47: 0 | L47: 1793876 | M47: 2566120 | N47: =VLOOKUP(AD47,'tabla ingresos'!$A$3:$D$15,4,FALSE) -> 1000000 | O47: 198687.41 | P47: 8932000 | Q47: 8932000 | R47: 23001 | S47: 6- pignoración | T47: LBZ | U47: A | V47: 4 | W47: 0 | X47: 0 | Y47: 3.8575342 | Z47: 34.610959 | AA47: 1 | AB47: 2 | AC47: 2 | AD47: 2 | AE47: 3 | AF47: E | AG47: =+(O47+J47)/(N47*1.5) -> 0.39565227 | AH47: =+(P47+F47)/(N47*1.5) -> 11.727936 | AI47: =+(E47+M47)/(N47*1.5) -> 1.7107467 | AJ47: =+G47/(N47*1.5) -> 4.0625227 | AK47: =+H47/(N47*1.5) -> 2.8666053 | AL47: =+Q47/(N47*1.5) -> 5.9546667 | AM47: =VLOOKUP(AG47,'SCORE TALLER'!$AC$2:$AD$10,2,TRUE)*AM$2 -> 0 | AN47: =VLOOKUP(AD47,'SCORE TALLER'!$W$2:$X$10,2,TRUE)*AN$2 -> 0.32 | AO47: =VLOOKUP(AB47,'SCORE TALLER'!$S$2:$T$10,2,FALSE)*AO$2 -> 0.04 | AP47: =VLOOKUP(AH47,'SCORE TALLER'!$AE$2:$AF$10,2,TRUE)*AP$2 -> 0.16 | AQ47: =VLOOKUP(AI47,'SCORE TALLER'!$AG$2:$AH$10,2,TRUE)*AQ$2 -> 0.32 | AR47: =VLOOKUP(AC47,'SCORE TALLER'!$U$2:$V$10,2,FALSE)*AR$2 -> 0.04 | AS47: =VLOOKUP(AE47,'SCORE TALLER'!$Y$2:$Z$10,2,FALSE)*AS$2 -> 0.02 | AT47: =VLOOKUP(Z47,'SCORE TALLER'!$O$2:$P$10,2,TRUE)*AT$2 -> 0.04 | AU47: =VLOOKUP(S47,'SCORE TALLER'!$A$2:$B$10,2,FALSE)*AU$2 -> 0.15 | AV47: =VLOOKUP(AJ47,'SCORE TALLER'!$AI$2:$AJ$10,2,TRUE)*AV$2 -> 0.05 | AW47: =VLOOKUP(AK47,'SCORE TALLER'!$AK$2:$AL$10,2,TRUE)*AW$2 -> 0.15 | AX47: =VLOOKUP(T47,'SCORE TALLER'!$C$2:$D$10,2,FALSE)*AX$2 -> 0 | AY47: =VLOOKUP(W47,'SCORE TALLER'!$I$2:$J$10,2,TRUE)*AY$2 -> 0 | AZ47: =VLOOKUP(X47,'SCORE TALLER'!$K$2:$L$10,2,TRUE)*AZ$2 -> 0 | BA47: =VLOOKUP(U47,'SCORE TALLER'!$E$2:$F$10,2,FALSE)*BA$2 -> 0 | BB47: =VLOOKUP(Y47,'SCORE TALLER'!$M$2:$N$10,2,TRUE)*BB$2 -> 0.04 | BC47: =VLOOKUP(AA47,'SCORE TALLER'!$Q$2:$R$10,2,FALSE)*BC$2 -> 0.05 | BD47: =VLOOKUP(V47,'SCORE TALLER'!$G$2:$H$10,2,FALSE)*BD$2 -> 0 | BE47: =VLOOKUP(AF47,'SCORE TALLER'!$AA$2:$AB$10,2,FALSE)*BE$2 -> 0.5 | BF47: =VLOOKUP(AL47,'SCORE TALLER'!$AM$2:$AN$10,2,TRUE)*BF$2 -> 0.5 | BG47: =+SUM(AM47:BF47) -> 2.38 | BH47: =VLOOKUP(BG47,'SCORE TALLER'!$AP$2:$AQ$7,2,TRUE) -> 3. Medio | BI47: =+T47 -> LBZ | BJ47: =+U47 -> A | BK47: =+AF47 -> E | BL47: =+H47 -> 4299908 | BM47: =+Q47 -> 8932000
A48: 2224622888 | B48: ASOCIADO 44 | C48: 1. SI | D48: 5. >$2-$5 MM | E48: 44696 | F48: 8087901 | G48: =+IF(F48>M48+100000,F48-M48,0) -> 4407516 | H48: =IF(G48>L48+100000,G48-L48,0) -> 0 | I48: 8088000 | J48: 247452 | K48: 0 | L48: 5519278 | M48: 3680385 | N48: =VLOOKUP(AD48,'tabla ingresos'!$A$3:$D$15,4,FALSE) -> 1000000 | O48: 209980.01 | P48: 8679000 | Q48: 8679000 | R48: 76130 | S48: 6- pignoración | T48: LBZ | U48: A | V48: 4 | W48: 0 | X48: 0 | Y48: 6.7150685 | Z48: 31.641096 | AA48: 2 | AB48: 0 | AC48: 1 | AD48: 2 | AE48: 1 | AF48: D | AG48: =+(O48+J48)/(N48*1.5) -> 0.30495468 | AH48: =+(P48+F48)/(N48*1.5) -> 11.177934 | AI48: =+(E48+M48)/(N48*1.5) -> 2.4833873 | AJ48: =+G48/(N48*1.5) -> 2.938344 | AK48: =+H48/(N48*1.5) -> 0 | AL48: =+Q48/(N48*1.5) -> 5.786 | AM48: =VLOOKUP(AG48,'SCORE TALLER'!$AC$2:$AD$10,2,TRUE)*AM$2 -> 0 | AN48: =VLOOKUP(AD48,'SCORE TALLER'!$W$2:$X$10,2,TRUE)*AN$2 -> 0.32 | AO48: =VLOOKUP(AB48,'SCORE TALLER'!$S$2:$T$10,2,FALSE)*AO$2 -> 0.05 | AP48: =VLOOKUP(AH48,'SCORE TALLER'!$AE$2:$AF$10,2,TRUE)*AP$2 -> 0.16 | AQ48: =VLOOKUP(AI48,'SCORE TALLER'!$AG$2:$AH$10,2,TRUE)*AQ$2 -> 0.24 | AR48: =VLOOKUP(AC48,'SCORE TALLER'!$U$2:$V$10,2,FALSE)*AR$2 -> 0.05 | AS48: =VLOOKUP(AE48,'SCORE TALLER'!$Y$2:$Z$10,2,FALSE)*AS$2 -> 0.03 | AT48: =VLOOKUP(Z48,'SCORE TALLER'!$O$2:$P$10,2,TRUE)*AT$2 -> 0.04 | AU48: =VLOOKUP(S48,'SCORE TALLER'!$A$2:$B$10,2,FALSE)*AU$2 -> 0.15 | AV48: =VLOOKUP(AJ48,'SCORE TALLER'!$AI$2:$AJ$10,2,TRUE)*AV$2 -> 0.15 | AW48: =VLOOKUP(AK48,'SCORE TALLER'!$AK$2:$AL$10,2,TRUE)*AW$2 -> 0.25 | AX48: =VLOOKUP(T48,'SCORE TALLER'!$C$2:$D$10,2,FALSE)*AX$2 -> 0 | AY48: =VLOOKUP(W48,'SCORE TALLER'!$I$2:$J$10,2,TRUE)*AY$2 -> 0 | AZ48: =VLOOKUP(X48,'SCORE TALLER'!$K$2:$L$10,2,TRUE)*AZ$2 -> 0 | BA48: =VLOOKUP(U48,'SCORE TALLER'!$E$2:$F$10,2,FALSE)*BA$2 -> 0 | BB48: =VLOOKUP(Y48,'SCORE TALLER'!$M$2:$N$10,2,TRUE)*BB$2 -> 0.02 | BC48: =VLOOKUP(AA48,'SCORE TALLER'!$Q$2:$R$10,2,FALSE)*BC$2 -> 0 | BD48: =VLOOKUP(V48,'SCORE TALLER'!$G$2:$H$10,2,FALSE)*BD$2 -> 0 | BE48: =VLOOKUP(AF48,'SCORE TALLER'!$AA$2:$AB$10,2,FALSE)*BE$2 -> 0.5 | BF48: =VLOOKUP(AL48,'SCORE TALLER'!$AM$2:$AN$10,2,TRUE)*BF$2 -> 0.5 | BG48: =+SUM(AM48:BF48) -> 2.46 | BH48: =VLOOKUP(BG48,'SCORE TALLER'!$AP$2:$AQ$7,2,TRUE) -> 3. Medio | BI48: =+T48 -> LBZ | BJ48: =+U48 -> A | BK48: =+AF48 -> D | BL48: =+H48 -> 0 | BM48: =+Q48 -> 8679000
A49: 4820422 | B49: ASOCIADO 45 | C49: 1. SI | D49: 4. >$1-$2 MM | F49: 3386115 | G49: =+IF(F49>M49+100000,F49-M49,0) -> 1331295 | H49: =IF(G49>L49+100000,G49-L49,0) -> 0 | I49: 3386000 | J49: 117882 | K49: 0 | L49: 1300000 | M49: 2054820 | N49: =VLOOKUP(AD49,'tabla ingresos'!$A$3:$D$15,4,FALSE) -> 1000000 | O49: 192636.92 | P49: 8660000 | Q49: 8590000 | R49: 13052 | S49: 6- pignoración | T49: LBZ | U49: A | V49: 4 | W49: 0 | X49: 0 | Y49: 5.4849315 | Z49: 42.824658 | AA49: 1 | AB49: 1 | AC49: 1 | AD49: 2 | AE49: 3 | AF49: E | AG49: =+(O49+J49)/(N49*1.5) -> 0.20701261 | AH49: =+(P49+F49)/(N49*1.5) -> 8.0307433 | AI49: =+(E49+M49)/(N49*1.5) -> 1.36988 | AJ49: =+G49/(N49*1.5) -> 0.88753 | AK49: =+H49/(N49*1.5) -> 0 | AL49: =+Q49/(N49*1.5) -> 5.7266667 | AM49: =VLOOKUP(AG49,'SCORE TALLER'!$AC$2:$AD$10,2,TRUE)*AM$2 -> 0 | AN49: =VLOOKUP(AD49,'SCORE TALLER'!$W$2:$X$10,2,TRUE)*AN$2 -> 0.32 | AO49: =VLOOKUP(AB49,'SCORE TALLER'!$S$2:$T$10,2,FALSE)*AO$2 -> 0.05 | AP49: =VLOOKUP(AH49,'SCORE TALLER'!$AE$2:$AF$10,2,TRUE)*AP$2 -> 0.08 | AQ49: =VLOOKUP(AI49,'SCORE TALLER'!$AG$2:$AH$10,2,TRUE)*AQ$2 -> 0.32 | AR49: =VLOOKUP(AC49,'SCORE TALLER'!$U$2:$V$10,2,FALSE)*AR$2 -> 0.05 | AS49: =VLOOKUP(AE49,'SCORE TALLER'!$Y$2:$Z$10,2,FALSE)*AS$2 -> 0.02 | AT49: =VLOOKUP(Z49,'SCORE TALLER'!$O$2:$P$10,2,TRUE)*AT$2 -> 0.03 | AU49: =VLOOKUP(S49,'SCORE TALLER'!$A$2:$B$10,2,FALSE)*AU$2 -> 0.15 | AV49: =VLOOKUP(AJ49,'SCORE TALLER'!$AI$2:$AJ$10,2,TRUE)*AV$2 -> 0.25 | AW49: =VLOOKUP(AK49,'SCORE TALLER'!$AK$2:$AL$10,2,TRUE)*AW$2 -> 0.25 | AX49: =VLOOKUP(T49,'SCORE TALLER'!$C$2:$D$10,2,FALSE)*AX$2 -> 0 | AY49: =VLOOKUP(W49,'SCORE TALLER'!$I$2:$J$10,2,TRUE)*AY$2 -> 0 | AZ49: =VLOOKUP(X49,'SCORE TALLER'!$K$2:$L$10,2,TRUE)*AZ$2 -> 0 | BA49: =VLOOKUP(U49,'SCORE TALLER'!$E$2:$F$10,2,FALSE)*BA$2 -> 0 | BB49: =VLOOKUP(Y49,'SCORE TALLER'!$M$2:$N$10,2,TRUE)*BB$2 -> 0.03 | BC49: =VLOOKUP(AA49,'SCORE TALLER'!$Q$2:$R$10,2,FALSE)*BC$2 -> 0.05 | BD49: =VLOOKUP(V49,'SCORE TALLER'!$G$2:$H$10,2,FALSE)*BD$2 -> 0 | BE49: =VLOOKUP(AF49,'SCORE TALLER'!$AA$2:$AB$10,2,FALSE)*BE$2 -> 0.5 | BF49: =VLOOKUP(AL49,'SCORE TALLER'!$AM$2:$AN$10,2,TRUE)*BF$2 -> 0.5 | BG49: =+SUM(AM49:BF49) -> 2.6 | BH49: =VLOOKUP(BG49,'SCORE TALLER'!$AP$2:$AQ$7,2,TRUE) -> 4. Alto | BI49: =+T49 -> LBZ | BJ49: =+U49 -> A | BK49: =+AF49 -> E | BL49: =+H49 -> 0 | BM49: =+Q49 -> 8590000
A50: 2262048008 | B50: ASOCIADO 46 | C50: 1. SI | D50: 5. >$2-$5 MM | E50: 1312 | F50: 3755033 | G50: =+IF(F50>M50+100000,F50-M50,0) -> 2539049 | H50: =IF(G50>L50+100000,G50-L50,0) -> 339049 | I50: 3755000 | J50: 190880 | K50: 0 | L50: 2200000 | M50: 1215984 | N50: =VLOOKUP(AD50,'tabla ingresos'!$A$3:$D$15,4,FALSE) -> 1000000 | O50: 189722.89 | P50: 8529000 | Q50: 8529000 | R50: 76001 | S50: 6- pignoración | T50: LBZ | U50: A | V50: 4 | W50: 0 | X50: 0 | Y50: 4.0575342 | Z50: 28.89863 | AA50: 2 | AB50: 2 | AC50: 1 | AD50: 2 | AE50: 4 | AF50: E | AG50: =+(O50+J50)/(N50*1.5) -> 0.25373526 | AH50: =+(P50+F50)/(N50*1.5) -> 8.1893553 | AI50: =+(E50+M50)/(N50*1.5) -> 0.81153067 | AJ50: =+G50/(N50*1.5) -> 1.6926993 | AK50: =+H50/(N50*1.5) -> 0.22603267 | AL50: =+Q50/(N50*1.5) -> 5.686 | AM50: =VLOOKUP(AG50,'SCORE TALLER'!$AC$2:$AD$10,2,TRUE)*AM$2 -> 0 | AN50: =VLOOKUP(AD50,'SCORE TALLER'!$W$2:$X$10,2,TRUE)*AN$2 -> 0.32 | AO50: =VLOOKUP(AB50,'SCORE TALLER'!$S$2:$T$10,2,FALSE)*AO$2 -> 0.04 | AP50: =VLOOKUP(AH50,'SCORE TALLER'!$AE$2:$AF$10,2,TRUE)*AP$2 -> 0.08 | AQ50: =VLOOKUP(AI50,'SCORE TALLER'!$AG$2:$AH$10,2,TRUE)*AQ$2 -> 0.4 | AR50: =VLOOKUP(AC50,'SCORE TALLER'!$U$2:$V$10,2,FALSE)*AR$2 -> 0.05 | AS50: =VLOOKUP(AE50,'SCORE TALLER'!$Y$2:$Z$10,2,FALSE)*AS$2 -> 0.05 | AT50: =VLOOKUP(Z50,'SCORE TALLER'!$O$2:$P$10,2,TRUE)*AT$2 -> 0.04 | AU50: =VLOOKUP(S50,'SCORE TALLER'!$A$2:$B$10,2,FALSE)*AU$2 -> 0.15 | AV50: =VLOOKUP(AJ50,'SCORE TALLER'!$AI$2:$AJ$10,2,TRUE)*AV$2 -> 0.2 | AW50: =VLOOKUP(AK50,'SCORE TALLER'!$AK$2:$AL$10,2,TRUE)*AW$2 -> 0.25 | AX50: =VLOOKUP(T50,'SCORE TALLER'!$C$2:$D$10,2,FALSE)*AX$2 -> 0 | AY50: =VLOOKUP(W50,'SCORE TALLER'!$I$2:$J$10,2,TRUE)*AY$2 -> 0 | AZ50: =VLOOKUP(X50,'SCORE TALLER'!$K$2:$L$10,2,TRUE)*AZ$2 -> 0 | BA50: =VLOOKUP(U50,'SCORE TALLER'!$E$2:$F$10,2,FALSE)*BA$2 -> 0 | BB50: =VLOOKUP(Y50,'SCORE TALLER'!$M$2:$N$10,2,TRUE)*BB$2 -> 0.03 | BC50: =VLOOKUP(AA50,'SCORE TALLER'!$Q$2:$R$10,2,FALSE)*BC$2 -> 0 | BD50: =VLOOKUP(V50,'SCORE TALLER'!$G$2:$H$10,2,FALSE)*BD$2 -> 0 | BE50: =VLOOKUP(AF50,'SCORE TALLER'!$AA$2:$AB$10,2,FALSE)*BE$2 -> 0.5 | BF50: =VLOOKUP(AL50,'SCORE TALLER'!$AM$2:$AN$10,2,TRUE)*BF$2 -> 0.5 | BG50: =+SUM(AM50:BF50) -> 2.61 | BH50: =VLOOKUP(BG50,'SCORE TALLER'!$AP$2:$AQ$7,2,TRUE) -> 4. Alto | BI50: =+T50 -> LBZ | BJ50: =+U50 -> A | BK50: =+AF50 -> E | BL50: =+H50 -> 339049 | BM50: =+Q50 -> 8529000
A51: 28462664 | B51: ASOCIADO 47 | C51: 1. SI | D51: 2. Sin desc | E51: 40200 | F51: 2978642 | G51: =+IF(F51>M51+100000,F51-M51,0) -> 0 | H51: =IF(G51>L51+100000,G51-L51,0) -> 0 | I51: 2979000 | J51: 161398 | K51: 0 | L51: 0 | M51: 4213849 | N51: =VLOOKUP(AD51,'tabla ingresos'!$A$3:$D$15,4,FALSE) -> 1000000 | O51: 188210.27 | P51: 8461000 | Q51: 8461000 | R51: 68615 | S51: 9- Otras garantías (no admisible) | T51: LBZ | U51: A | V51: 4 | W51: 0 | X51: 0 | Y51: 4.4082192 | Z51: 40.293151 | AA51: 2 | AB51: 2 | AC51: 1 | AD51: 2 | AE51: 3 | AF51: E | AG51: =+(O51+J51)/(N51*1.5) -> 0.23307218 | AH51: =+(P51+F51)/(N51*1.5) -> 7.626428 | AI51: =+(E51+M51)/(N51*1.5) -> 2.8360327 | AJ51: =+G51/(N51*1.5) -> 0 | AK51: =+H51/(N51*1.5) -> 0 | AL51: =+Q51/(N51*1.5) -> 5.6406667 | AM51: =VLOOKUP(AG51,'SCORE TALLER'!$AC$2:$AD$10,2,TRUE)*AM$2 -> 0 | AN51: =VLOOKUP(AD51,'SCORE TALLER'!$W$2:$X$10,2,TRUE)*AN$2 -> 0.32 | AO51: =VLOOKUP(AB51,'SCORE TALLER'!$S$2:$T$10,2,FALSE)*AO$2 -> 0.04 | AP51: =VLOOKUP(AH51,'SCORE TALLER'!$AE$2:$AF$10,2,TRUE)*AP$2 -> 0.08 | AQ51: =VLOOKUP(AI51,'SCORE TALLER'!$AG$2:$AH$10,2,TRUE)*AQ$2 -> 0.24 | AR51: =VLOOKUP(AC51,'SCORE TALLER'!$U$2:$V$10,2,FALSE)*AR$2 -> 0.05 | AS51: =VLOOKUP(AE51,'SCORE TALLER'!$Y$2:$Z$10,2,FALSE)*AS$2 -> 0.02 | AT51: =VLOOKUP(Z51,'SCORE TALLER'!$O$2:$P$10,2,TRUE)*AT$2 -> 0.03 | AU51: =VLOOKUP(S51,'SCORE TALLER'!$A$2:$B$10,2,FALSE)*AU$2 -> 0.25 | AV51: =VLOOKUP(AJ51,'SCORE TALLER'!$AI$2:$AJ$10,2,TRUE)*AV$2 -> 0.25 | AW51: =VLOOKUP(AK51,'SCORE TALLER'!$AK$2:$AL$10,2,TRUE)*AW$2 -> 0.25 | AX51: =VLOOKUP(T51,'SCORE TALLER'!$C$2:$D$10,2,FALSE)*AX$2 -> 0 | AY51: =VLOOKUP(W51,'SCORE TALLER'!$I$2:$J$10,2,TRUE)*AY$2 -> 0 | AZ51: =VLOOKUP(X51,'SCORE TALLER'!$K$2:$L$10,2,TRUE)*AZ$2 -> 0 | BA51: =VLOOKUP(U51,'SCORE TALLER'!$E$2:$F$10,2,FALSE)*BA$2 -> 0 | BB51: =VLOOKUP(Y51,'SCORE TALLER'!$M$2:$N$10,2,TRUE)*BB$2 -> 0.03 | BC51: =VLOOKUP(AA51,'SCORE TALLER'!$Q$2:$R$10,2,FALSE)*BC$2 -> 0 | BD51: =VLOOKUP(V51,'SCORE TALLER'!$G$2:$H$10,2,FALSE)*BD$2 -> 0 | BE51: =VLOOKUP(AF51,'SCORE TALLER'!$AA$2:$AB$10,2,FALSE)*BE$2 -> 0.5 | BF51: =VLOOKUP(AL51,'SCORE TALLER'!$AM$2:$AN$10,2,TRUE)*BF$2 -> 0.5 | BG51: =+SUM(AM51:BF51) -> 2.56 | BH51: =VLOOKUP(BG51,'SCORE TALLER'!$AP$2:$AQ$7,2,TRUE) -> 4. Alto | BI51: =+T51 -> LBZ | BJ51: =+U51 -> A | BK51: =+AF51 -> E | BL51: =+H51 -> 0 | BM51: =+Q51 -> 8461000
A52: 2622846 | B52: ASOCIADO 48 | C52: 1. SI | D52: 4. >$1-$2 MM | F52: 3303526 | G52: =+IF(F52>M52+100000,F52-M52,0) -> 1589906 | H52: =IF(G52>L52+100000,G52-L52,0) -> 1589906 | I52: 3304000 | J52: 115007 | K52: 0 | L52: 0 | M52: 1713620 | N52: =VLOOKUP(AD52,'tabla ingresos'!$A$3:$D$15,4,FALSE) -> 2000000 | O52: 369102.12 | P52: 16593000 | Q52: 16593000 | R52: 68406 | S52: 9- Otras garantías (no admisible) | T52: LBZ | U52: A | V52: 4 | W52: 0 | X52: 0 | Y52: 4.490411 | Z52: 39.164384 | AA52: 1 | AB52: 2 | AC52: 2 | AD52: 3 | AE52: 3 | AF52: E | AG52: =+(O52+J52)/(N52*1.5) -> 0.16136971 | AH52: =+(P52+F52)/(N52*1.5) -> 6.6321753 | AI52: =+(E52+M52)/(N52*1.5) -> 0.57120667 | AJ52: =+G52/(N52*1.5) -> 0.52996867 | AK52: =+H52/(N52*1.5) -> 0.52996867 | AL52: =+Q52/(N52*1.5) -> 5.531 | AM52: =VLOOKUP(AG52,'SCORE TALLER'!$AC$2:$AD$10,2,TRUE)*AM$2 -> 0 | AN52: =VLOOKUP(AD52,'SCORE TALLER'!$W$2:$X$10,2,TRUE)*AN$2 -> 0.32 | AO52: =VLOOKUP(AB52,'SCORE TALLER'!$S$2:$T$10,2,FALSE)*AO$2 -> 0.04 | AP52: =VLOOKUP(AH52,'SCORE TALLER'!$AE$2:$AF$10,2,TRUE)*AP$2 -> 0.08 | AQ52: =VLOOKUP(AI52,'SCORE TALLER'!$AG$2:$AH$10,2,TRUE)*AQ$2 -> 0.4 | AR52: =VLOOKUP(AC52,'SCORE TALLER'!$U$2:$V$10,2,FALSE)*AR$2 -> 0.04 | AS52: =VLOOKUP(AE52,'SCORE TALLER'!$Y$2:$Z$10,2,FALSE)*AS$2 -> 0.02 | AT52: =VLOOKUP(Z52,'SCORE TALLER'!$O$2:$P$10,2,TRUE)*AT$2 -> 0.03 | AU52: =VLOOKUP(S52,'SCORE TALLER'!$A$2:$B$10,2,FALSE)*AU$2 -> 0.25 | AV52: =VLOOKUP(AJ52,'SCORE TALLER'!$AI$2:$AJ$10,2,TRUE)*AV$2 -> 0.25 | AW52: =VLOOKUP(AK52,'SCORE TALLER'!$AK$2:$AL$10,2,TRUE)*AW$2 -> 0.25 | AX52: =VLOOKUP(T52,'SCORE TALLER'!$C$2:$D$10,2,FALSE)*AX$2 -> 0 | AY52: =VLOOKUP(W52,'SCORE TALLER'!$I$2:$J$10,2,TRUE)*AY$2 -> 0 | AZ52: =VLOOKUP(X52,'SCORE TALLER'!$K$2:$L$10,2,TRUE)*AZ$2 -> 0 | BA52: =VLOOKUP(U52,'SCORE TALLER'!$E$2:$F$10,2,FALSE)*BA$2 -> 0 | BB52: =VLOOKUP(Y52,'SCORE TALLER'!$M$2:$N$10,2,TRUE)*BB$2 -> 0.03 | BC52: =VLOOKUP(AA52,'SCORE TALLER'!$Q$2:$R$10,2,FALSE)*BC$2 -> 0.05 | BD52: =VLOOKUP(V52,'SCORE TALLER'!$G$2:$H$10,2,FALSE)*BD$2 -> 0 | BE52: =VLOOKUP(AF52,'SCORE TALLER'!$AA$2:$AB$10,2,FALSE)*BE$2 -> 0.5 | BF52: =VLOOKUP(AL52,'SCORE TALLER'!$AM$2:$AN$10,2,TRUE)*BF$2 -> 0.5 | BG52: =+SUM(AM52:BF52) -> 2.76 | BH52: =VLOOKUP(BG52,'SCORE TALLER'!$AP$2:$AQ$7,2,TRUE) -> 4. Alto | BI52: =+T52 -> LBZ | BJ52: =+U52 -> A | BK52: =+AF52 -> E | BL52: =+H52 -> 1589906 | BM52: =+Q52 -> 16593000
A53: 44684824 | B53: ASOCIADO 49 | C53: 1. SI | D53: 6. >$5-$10 MM | E53: 519541 | F53: 10041483 | G53: =+IF(F53>M53+100000,F53-M53,0) -> 6235098 | H53: =IF(G53>L53+100000,G53-L53,0) -> 2735098 | I53: 10041000 | J53: 284569 | K53: 0 | L53: 3500000 | M53: 3806385 | N53: =VLOOKUP(AD53,'tabla ingresos'!$A$3:$D$15,4,FALSE) -> 1000000 | O53: 183049.56 | P53: 8229000 | Q53: 8229000 | R53: 5001 | S53: 6- pignoración | T53: LBZ | U53: A | V53: 4 | W53: 0 | X53: 0 | Y53: 7.3369863 | Z53: 47.742466 | AA53: 1 | AB53: 0 | AC53: 1 | AD53: 2 | AE53: 1 | AF53: E | AG53: =+(O53+J53)/(N53*1.5) -> 0.31174571 | AH53: =+(P53+F53)/(N53*1.5) -> 12.180322 | AI53: =+(E53+M53)/(N53*1.5) -> 2.8839507 | AJ53: =+G53/(N53*1.5) -> 4.156732 | AK53: =+H53/(N53*1.5) -> 1.8233987 | AL53: =+Q53/(N53*1.5) -> 5.486 | AM53: =VLOOKUP(AG53,'SCORE TALLER'!$AC$2:$AD$10,2,TRUE)*AM$2 -> 0 | AN53: =VLOOKUP(AD53,'SCORE TALLER'!$W$2:$X$10,2,TRUE)*AN$2 -> 0.32 | AO53: =VLOOKUP(AB53,'SCORE TALLER'!$S$2:$T$10,2,FALSE)*AO$2 -> 0.05 | AP53: =VLOOKUP(AH53,'SCORE TALLER'!$AE$2:$AF$10,2,TRUE)*AP$2 -> 0.16 | AQ53: =VLOOKUP(AI53,'SCORE TALLER'!$AG$2:$AH$10,2,TRUE)*AQ$2 -> 0.24 | AR53: =VLOOKUP(AC53,'SCORE TALLER'!$U$2:$V$10,2,FALSE)*AR$2 -> 0.05 | AS53: =VLOOKUP(AE53,'SCORE TALLER'!$Y$2:$Z$10,2,FALSE)*AS$2 -> 0.03 | AT53: =VLOOKUP(Z53,'SCORE TALLER'!$O$2:$P$10,2,TRUE)*AT$2 -> 0.02 | AU53: =VLOOKUP(S53,'SCORE TALLER'!$A$2:$B$10,2,FALSE)*AU$2 -> 0.15 | AV53: =VLOOKUP(AJ53,'SCORE TALLER'!$AI$2:$AJ$10,2,TRUE)*AV$2 -> 0.05 | AW53: =VLOOKUP(AK53,'SCORE TALLER'!$AK$2:$AL$10,2,TRUE)*AW$2 -> 0.2 | AX53: =VLOOKUP(T53,'SCORE TALLER'!$C$2:$D$10,2,FALSE)*AX$2 -> 0 | AY53: =VLOOKUP(W53,'SCORE TALLER'!$I$2:$J$10,2,TRUE)*AY$2 -> 0 | AZ53: =VLOOKUP(X53,'SCORE TALLER'!$K$2:$L$10,2,TRUE)*AZ$2 -> 0 | BA53: =VLOOKUP(U53,'SCORE TALLER'!$E$2:$F$10,2,FALSE)*BA$2 -> 0 | BB53: =VLOOKUP(Y53,'SCORE TALLER'!$M$2:$N$10,2,TRUE)*BB$2 -> 0.02 | BC53: =VLOOKUP(AA53,'SCORE TALLER'!$Q$2:$R$10,2,FALSE)*BC$2 -> 0.05 | BD53: =VLOOKUP(V53,'SCORE TALLER'!$G$2:$H$10,2,FALSE)*BD$2 -> 0 | BE53: =VLOOKUP(AF53,'SCORE TALLER'!$AA$2:$AB$10,2,FALSE)*BE$2 -> 0.5 | BF53: =VLOOKUP(AL53,'SCORE TALLER'!$AM$2:$AN$10,2,TRUE)*BF$2 -> 0.5 | BG53: =+SUM(AM53:BF53) -> 2.34 | BH53: =VLOOKUP(BG53,'SCORE TALLER'!$AP$2:$AQ$7,2,TRUE) -> 3. Medio | BI53: =+T53 -> LBZ | BJ53: =+U53 -> A | BK53: =+AF53 -> E | BL53: =+H53 -> 2735098 | BM53: =+Q53 -> 8229000
A54: 4460484 | B54: ASOCIADO 50 | C54: 1. SI | D54: 6. >$5-$10 MM | F54: 8389940 | G54: =+IF(F54>M54+100000,F54-M54,0) -> 5329757 | H54: =IF(G54>L54+100000,G54-L54,0) -> 593503 | I54: 8390000 | J54: 279404 | K54: 0 | L54: 4736254 | M54: 3060183 | N54: =VLOOKUP(AD54,'tabla ingresos'!$A$3:$D$15,4,FALSE) -> 1000000 | O54: 178711.89 | P54: 8034000 | Q54: 8034000 | R54: 76130 | S54: 6- pignoración | T54: LBZ | U54: A | V54: 4 | W54: 0 | X54: 0 | Y54: 5.5534247 | Z54: 46.342466 | AA54: 1 | AB54: 0 | AC54: 1 | AD54: 2 | AE54: 1 | AF54: E | AG54: =+(O54+J54)/(N54*1.5) -> 0.3054106 | AH54: =+(P54+F54)/(N54*1.5) -> 10.949293 | AI54: =+(E54+M54)/(N54*1.5) -> 2.040122 | AJ54: =+G54/(N54*1.5) -> 3.5531713 | AK54: =+H54/(N54*1.5) -> 0.39566867 | AL54: =+Q54/(N54*1.5) -> 5.356 | AM54: =VLOOKUP(AG54,'SCORE TALLER'!$AC$2:$AD$10,2,TRUE)*AM$2 -> 0 | AN54: =VLOOKUP(AD54,'SCORE TALLER'!$W$2:$X$10,2,TRUE)*AN$2 -> 0.32 | AO54: =VLOOKUP(AB54,'SCORE TALLER'!$S$2:$T$10,2,FALSE)*AO$2 -> 0.05 | AP54: =VLOOKUP(AH54,'SCORE TALLER'!$AE$2:$AF$10,2,TRUE)*AP$2 -> 0.16 | AQ54: =VLOOKUP(AI54,'SCORE TALLER'!$AG$2:$AH$10,2,TRUE)*AQ$2 -> 0.24 | AR54: =VLOOKUP(AC54,'SCORE TALLER'!$U$2:$V$10,2,FALSE)*AR$2 -> 0.05 | AS54: =VLOOKUP(AE54,'SCORE TALLER'!$Y$2:$Z$10,2,FALSE)*AS$2 -> 0.03 | AT54: =VLOOKUP(Z54,'SCORE TALLER'!$O$2:$P$10,2,TRUE)*AT$2 -> 0.02 | AU54: =VLOOKUP(S54,'SCORE TALLER'!$A$2:$B$10,2,FALSE)*AU$2 -> 0.15 | AV54: =VLOOKUP(AJ54,'SCORE TALLER'!$AI$2:$AJ$10,2,TRUE)*AV$2 -> 0.1 | AW54: =VLOOKUP(AK54,'SCORE TALLER'!$AK$2:$AL$10,2,TRUE)*AW$2 -> 0.25 | AX54: =VLOOKUP(T54,'SCORE TALLER'!$C$2:$D$10,2,FALSE)*AX$2 -> 0 | AY54: =VLOOKUP(W54,'SCORE TALLER'!$I$2:$J$10,2,TRUE)*AY$2 -> 0 | AZ54: =VLOOKUP(X54,'SCORE TALLER'!$K$2:$L$10,2,TRUE)*AZ$2 -> 0 | BA54: =VLOOKUP(U54,'SCORE TALLER'!$E$2:$F$10,2,FALSE)*BA$2 -> 0 | BB54: =VLOOKUP(Y54,'SCORE TALLER'!$M$2:$N$10,2,TRUE)*BB$2 -> 0.03 | BC54: =VLOOKUP(AA54,'SCORE TALLER'!$Q$2:$R$10,2,FALSE)*BC$2 -> 0.05 | BD54: =VLOOKUP(V54,'SCORE TALLER'!$G$2:$H$10,2,FALSE)*BD$2 -> 0 | BE54: =VLOOKUP(AF54,'SCORE TALLER'!$AA$2:$AB$10,2,FALSE)*BE$2 -> 0.5 | BF54: =VLOOKUP(AL54,'SCORE TALLER'!$AM$2:$AN$10,2,TRUE)*BF$2 -> 0.5 | BG54: =+SUM(AM54:BF54) -> 2.45 | BH54: =VLOOKUP(BG54,'SCORE TALLER'!$AP$2:$AQ$7,2,TRUE) -> 3. Medio | BI54: =+T54 -> LBZ | BJ54: =+U54 -> A | BK54: =+AF54 -> E | BL54: =+H54 -> 593503 | BM54: =+Q54 -> 8034000
A55: 2224626806 | B55: ASOCIADO 51 | C55: 1. SI | D55: 4. >$1-$2 MM | E55: 192559 | F55: 4111496 | G55: =+IF(F55>M55+100000,F55-M55,0) -> 1085393 | H55: =IF(G55>L55+100000,G55-L55,0) -> 0 | I55: 4111000 | J55: 156434 | K55: 0 | L55: 1800000 | M55: 3026103 | N55: =VLOOKUP(AD55,'tabla ingresos'!$A$3:$D$15,4,FALSE) -> 1000000 | O55: 176309.49 | P55: 7926000 | Q55: 7926000 | R55: 76001 | S55: 6- pignoración | T55: LBZ | U55: A | V55: 4 | W55: 0 | X55: 0 | Y55: 5.5835616 | Z55: 34.158904 | AA55: 2 | AB55: 0 | AC55: 1 | AD55: 2 | AE55: 1 | AF55: E | AG55: =+(O55+J55)/(N55*1.5) -> 0.22182899 | AH55: =+(P55+F55)/(N55*1.5) -> 8.0249973 | AI55: =+(E55+M55)/(N55*1.5) -> 2.1457747 | AJ55: =+G55/(N55*1.5) -> 0.72359533 | AK55: =+H55/(N55*1.5) -> 0 | AL55: =+Q55/(N55*1.5) -> 5.284 | AM55: =VLOOKUP(AG55,'SCORE TALLER'!$AC$2:$AD$10,2,TRUE)*AM$2 -> 0 | AN55: =VLOOKUP(AD55,'SCORE TALLER'!$W$2:$X$10,2,TRUE)*AN$2 -> 0.32 | AO55: =VLOOKUP(AB55,'SCORE TALLER'!$S$2:$T$10,2,FALSE)*AO$2 -> 0.05 | AP55: =VLOOKUP(AH55,'SCORE TALLER'!$AE$2:$AF$10,2,TRUE)*AP$2 -> 0.08 | AQ55: =VLOOKUP(AI55,'SCORE TALLER'!$AG$2:$AH$10,2,TRUE)*AQ$2 -> 0.24 | AR55: =VLOOKUP(AC55,'SCORE TALLER'!$U$2:$V$10,2,FALSE)*AR$2 -> 0.05 | AS55: =VLOOKUP(AE55,'SCORE TALLER'!$Y$2:$Z$10,2,FALSE)*AS$2 -> 0.03 | AT55: =VLOOKUP(Z55,'SCORE TALLER'!$O$2:$P$10,2,TRUE)*AT$2 -> 0.04 | AU55: =VLOOKUP(S55,'SCORE TALLER'!$A$2:$B$10,2,FALSE)*AU$2 -> 0.15 | AV55: =VLOOKUP(AJ55,'SCORE TALLER'!$AI$2:$AJ$10,2,TRUE)*AV$2 -> 0.25 | AW55: =VLOOKUP(AK55,'SCORE TALLER'!$AK$2:$AL$10,2,TRUE)*AW$2 -> 0.25 | AX55: =VLOOKUP(T55,'SCORE TALLER'!$C$2:$D$10,2,FALSE)*AX$2 -> 0 | AY55: =VLOOKUP(W55,'SCORE TALLER'!$I$2:$J$10,2,TRUE)*AY$2 -> 0 | AZ55: =VLOOKUP(X55,'SCORE TALLER'!$K$2:$L$10,2,TRUE)*AZ$2 -> 0 | BA55: =VLOOKUP(U55,'SCORE TALLER'!$E$2:$F$10,2,FALSE)*BA$2 -> 0 | BB55: =VLOOKUP(Y55,'SCORE TALLER'!$M$2:$N$10,2,TRUE)*BB$2 -> 0.03 | BC55: =VLOOKUP(AA55,'SCORE TALLER'!$Q$2:$R$10,2,FALSE)*BC$2 -> 0 | BD55: =VLOOKUP(V55,'SCORE TALLER'!$G$2:$H$10,2,FALSE)*BD$2 -> 0 | BE55: =VLOOKUP(AF55,'SCORE TALLER'!$AA$2:$AB$10,2,FALSE)*BE$2 -> 0.5 | BF55: =VLOOKUP(AL55,'SCORE TALLER'!$AM$2:$AN$10,2,TRUE)*BF$2 -> 0.5 | BG55: =+SUM(AM55:BF55) -> 2.49 | BH55: =VLOOKUP(BG55,'SCORE TALLER'!$AP$2:$AQ$7,2,TRUE) -> 3. Medio | BI55: =+T55 -> LBZ | BJ55: =+U55 -> A | BK55: =+AF55 -> E | BL55: =+H55 -> 0 | BM55: =+Q55 -> 7926000
A56: 2224640268 | B56: ASOCIADO 52 | C56: 1. SI | D56: 5. >$2-$5 MM | E56: 299040 | F56: 2900000 | G56: =+IF(F56>M56+100000,F56-M56,0) -> 2442180 | H56: =IF(G56>L56+100000,G56-L56,0) -> 1142190 | I56: 2900000 | J56: 125909 | K56: 0 | L56: 1299990 | M56: 457820 | N56: =VLOOKUP(AD56,'tabla ingresos'!$A$3:$D$15,4,FALSE) -> 1000000 | O56: 171838.36 | P56: 7725000 | Q56: 7725000 | R56: 76130 | S56: 6- pignoración | T56: LBZ | U56: A | V56: 4 | W56: 0 | X56: 0 | Y56: 1.3972603 | Z56: 27.580822 | AA56: 1 | AB56: 2 | AC56: 1 | AD56: 2 | AE56: 3 | AF56: E | AG56: =+(O56+J56)/(N56*1.5) -> 0.19849824 | AH56: =+(P56+F56)/(N56*1.5) -> 7.0833333 | AI56: =+(E56+M56)/(N56*1.5) -> 0.50457333 | AJ56: =+G56/(N56*1.5) -> 1.62812 | AK56: =+H56/(N56*1.5) -> 0.76146 | AL56: =+Q56/(N56*1.5) -> 5.15 | AM56: =VLOOKUP(AG56,'SCORE TALLER'!$AC$2:$AD$10,2,TRUE)*AM$2 -> 0 | AN56: =VLOOKUP(AD56,'SCORE TALLER'!$W$2:$X$10,2,TRUE)*AN$2 -> 0.32 | AO56: =VLOOKUP(AB56,'SCORE TALLER'!$S$2:$T$10,2,FALSE)*AO$2 -> 0.04 | AP56: =VLOOKUP(AH56,'SCORE TALLER'!$AE$2:$AF$10,2,TRUE)*AP$2 -> 0.08 | AQ56: =VLOOKUP(AI56,'SCORE TALLER'!$AG$2:$AH$10,2,TRUE)*AQ$2 -> 0.4 | AR56: =VLOOKUP(AC56,'SCORE TALLER'!$U$2:$V$10,2,FALSE)*AR$2 -> 0.05 | AS56: =VLOOKUP(AE56,'SCORE TALLER'!$Y$2:$Z$10,2,FALSE)*AS$2 -> 0.02 | AT56: =VLOOKUP(Z56,'SCORE TALLER'!$O$2:$P$10,2,TRUE)*AT$2 -> 0.04 | AU56: =VLOOKUP(S56,'SCORE TALLER'!$A$2:$B$10,2,FALSE)*AU$2 -> 0.15 | AV56: =VLOOKUP(AJ56,'SCORE TALLER'!$AI$2:$AJ$10,2,TRUE)*AV$2 -> 0.2 | AW56: =VLOOKUP(AK56,'SCORE TALLER'!$AK$2:$AL$10,2,TRUE)*AW$2 -> 0.25 | AX56: =VLOOKUP(T56,'SCORE TALLER'!$C$2:$D$10,2,FALSE)*AX$2 -> 0 | AY56: =VLOOKUP(W56,'SCORE TALLER'!$I$2:$J$10,2,TRUE)*AY$2 -> 0 | AZ56: =VLOOKUP(X56,'SCORE TALLER'!$K$2:$L$10,2,TRUE)*AZ$2 -> 0 | BA56: =VLOOKUP(U56,'SCORE TALLER'!$E$2:$F$10,2,FALSE)*BA$2 -> 0 | BB56: =VLOOKUP(Y56,'SCORE TALLER'!$M$2:$N$10,2,TRUE)*BB$2 -> 0.05 | BC56: =VLOOKUP(AA56,'SCORE TALLER'!$Q$2:$R$10,2,FALSE)*BC$2 -> 0.05 | BD56: =VLOOKUP(V56,'SCORE TALLER'!$G$2:$H$10,2,FALSE)*BD$2 -> 0 | BE56: =VLOOKUP(AF56,'SCORE TALLER'!$AA$2:$AB$10,2,FALSE)*BE$2 -> 0.5 | BF56: =VLOOKUP(AL56,'SCORE TALLER'!$AM$2:$AN$10,2,TRUE)*BF$2 -> 0.5 | BG56: =+SUM(AM56:BF56) -> 2.65 | BH56: =VLOOKUP(BG56,'SCORE TALLER'!$AP$2:$AQ$7,2,TRUE) -> 4. Alto | BI56: =+T56 -> LBZ | BJ56: =+U56 -> A | BK56: =+AF56 -> E | BL56: =+H56 -> 1142190 | BM56: =+Q56 -> 7725000
A57: 6440404 | B57: ASOCIADO 53 | C57: 1. SI | D57: 5. >$2-$5 MM | F57: 3628831 | G57: =+IF(F57>M57+100000,F57-M57,0) -> 2401078 | H57: =IF(G57>L57+100000,G57-L57,0) -> 0 | I57: 3629000 | J57: 148968 | K57: 0 | L57: 4895620 | M57: 1227753 | N57: =VLOOKUP(AD57,'tabla ingresos'!$A$3:$D$15,4,FALSE) -> 1000000 | O57: 169969.82 | P57: 7641000 | Q57: 7641000 | R57: 76130 | S57: 6- pignoración | T57: LBZ | U57: A | V57: 4 | W57: 0 | X57: 0 | Y57: 4.1013699 | Z57: 38.186301 | AA57: 1 | AB57: 0 | AC57: 1 | AD57: 2 | AE57: 1 | AF57: E | AG57: =+(O57+J57)/(N57*1.5) -> 0.21262522 | AH57: =+(P57+F57)/(N57*1.5) -> 7.5132207 | AI57: =+(E57+M57)/(N57*1.5) -> 0.818502 | AJ57: =+G57/(N57*1.5) -> 1.6007187 | AK57: =+H57/(N57*1.5) -> 0 | AL57: =+Q57/(N57*1.5) -> 5.094 | AM57: =VLOOKUP(AG57,'SCORE TALLER'!$AC$2:$AD$10,2,TRUE)*AM$2 -> 0 | AN57: =VLOOKUP(AD57,'SCORE TALLER'!$W$2:$X$10,2,TRUE)*AN$2 -> 0.32 | AO57: =VLOOKUP(AB57,'SCORE TALLER'!$S$2:$T$10,2,FALSE)*AO$2 -> 0.05 | AP57: =VLOOKUP(AH57,'SCORE TALLER'!$AE$2:$AF$10,2,TRUE)*AP$2 -> 0.08 | AQ57: =VLOOKUP(AI57,'SCORE TALLER'!$AG$2:$AH$10,2,TRUE)*AQ$2 -> 0.4 | AR57: =VLOOKUP(AC57,'SCORE TALLER'!$U$2:$V$10,2,FALSE)*AR$2 -> 0.05 | AS57: =VLOOKUP(AE57,'SCORE TALLER'!$Y$2:$Z$10,2,FALSE)*AS$2 -> 0.03 | AT57: =VLOOKUP(Z57,'SCORE TALLER'!$O$2:$P$10,2,TRUE)*AT$2 -> 0.03 | AU57: =VLOOKUP(S57,'SCORE TALLER'!$A$2:$B$10,2,FALSE)*AU$2 -> 0.15 | AV57: =VLOOKUP(AJ57,'SCORE TALLER'!$AI$2:$AJ$10,2,TRUE)*AV$2 -> 0.2 | AW57: =VLOOKUP(AK57,'SCORE TALLER'!$AK$2:$AL$10,2,TRUE)*AW$2 -> 0.25 | AX57: =VLOOKUP(T57,'SCORE TALLER'!$C$2:$D$10,2,FALSE)*AX$2 -> 0 | AY57: =VLOOKUP(W57,'SCORE TALLER'!$I$2:$J$10,2,TRUE)*AY$2 -> 0 | AZ57: =VLOOKUP(X57,'SCORE TALLER'!$K$2:$L$10,2,TRUE)*AZ$2 -> 0 | BA57: =VLOOKUP(U57,'SCORE TALLER'!$E$2:$F$10,2,FALSE)*BA$2 -> 0 | BB57: =VLOOKUP(Y57,'SCORE TALLER'!$M$2:$N$10,2,TRUE)*BB$2 -> 0.03 | BC57: =VLOOKUP(AA57,'SCORE TALLER'!$Q$2:$R$10,2,FALSE)*BC$2 -> 0.05 | BD57: =VLOOKUP(V57,'SCORE TALLER'!$G$2:$H$10,2,FALSE)*BD$2 -> 0 | BE57: =VLOOKUP(AF57,'SCORE TALLER'!$AA$2:$AB$10,2,FALSE)*BE$2 -> 0.5 | BF57: =VLOOKUP(AL57,'SCORE TALLER'!$AM$2:$AN$10,2,TRUE)*BF$2 -> 0.5 | BG57: =+SUM(AM57:BF57) -> 2.64 | BH57: =VLOOKUP(BG57,'SCORE TALLER'!$AP$2:$AQ$7,2,TRUE) -> 4. Alto | BI57: =+T57 -> LBZ | BJ57: =+U57 -> A | BK57: =+AF57 -> E | BL57: =+H57 -> 0 | BM57: =+Q57 -> 7641000
A58: 46400066 | B58: ASOCIADO 54 | C58: 1. SI | D58: 6. >$5-$10 MM | E58: 1163879 | F58: 11939478 | G58: =+IF(F58>M58+100000,F58-M58,0) -> 8766399 | H58: =IF(G58>L58+100000,G58-L58,0) -> 2916399 | I58: 11939000 | J58: 310135 | K58: 0 | L58: 5850000 | M58: 3173079 | N58: =VLOOKUP(AD58,'tabla ingresos'!$A$3:$D$15,4,FALSE) -> 1000000 | O58: 169235.76 | P58: 7608000 | Q58: 7608000 | R58: 41001 | S58: 6- pignoración | T58: LBZ | U58: A | V58: 4 | W58: 0 | X58: 0 | Y58: 6 | Z58: 39.336986 | AA58: 2 | AB58: 0 | AC58: 1 | AD58: 2 | AE58: 1 | AF58: E | AG58: =+(O58+J58)/(N58*1.5) -> 0.31958051 | AH58: =+(P58+F58)/(N58*1.5) -> 13.031652 | AI58: =+(E58+M58)/(N58*1.5) -> 2.8913053 | AJ58: =+G58/(N58*1.5) -> 5.844266 | AK58: =+H58/(N58*1.5) -> 1.944266 | AL58: =+Q58/(N58*1.5) -> 5.072 | AM58: =VLOOKUP(AG58,'SCORE TALLER'!$AC$2:$AD$10,2,TRUE)*AM$2 -> 0 | AN58: =VLOOKUP(AD58,'SCORE TALLER'!$W$2:$X$10,2,TRUE)*AN$2 -> 0.32 | AO58: =VLOOKUP(AB58,'SCORE TALLER'!$S$2:$T$10,2,FALSE)*AO$2 -> 0.05 | AP58: =VLOOKUP(AH58,'SCORE TALLER'!$AE$2:$AF$10,2,TRUE)*AP$2 -> 0.16 | AQ58: =VLOOKUP(AI58,'SCORE TALLER'!$AG$2:$AH$10,2,TRUE)*AQ$2 -> 0.24 | AR58: =VLOOKUP(AC58,'SCORE TALLER'!$U$2:$V$10,2,FALSE)*AR$2 -> 0.05 | AS58: =VLOOKUP(AE58,'SCORE TALLER'!$Y$2:$Z$10,2,FALSE)*AS$2 -> 0.03 | AT58: =VLOOKUP(Z58,'SCORE TALLER'!$O$2:$P$10,2,TRUE)*AT$2 -> 0.03 | AU58: =VLOOKUP(S58,'SCORE TALLER'!$A$2:$B$10,2,FALSE)*AU$2 -> 0.15 | AV58: =VLOOKUP(AJ58,'SCORE TALLER'!$AI$2:$AJ$10,2,TRUE)*AV$2 -> 0 | AW58: =VLOOKUP(AK58,'SCORE TALLER'!$AK$2:$AL$10,2,TRUE)*AW$2 -> 0.2 | AX58: =VLOOKUP(T58,'SCORE TALLER'!$C$2:$D$10,2,FALSE)*AX$2 -> 0 | AY58: =VLOOKUP(W58,'SCORE TALLER'!$I$2:$J$10,2,TRUE)*AY$2 -> 0 | AZ58: =VLOOKUP(X58,'SCORE TALLER'!$K$2:$L$10,2,TRUE)*AZ$2 -> 0 | BA58: =VLOOKUP(U58,'SCORE TALLER'!$E$2:$F$10,2,FALSE)*BA$2 -> 0 | BB58: =VLOOKUP(Y58,'SCORE TALLER'!$M$2:$N$10,2,TRUE)*BB$2 -> 0.02 | BC58: =VLOOKUP(AA58,'SCORE TALLER'!$Q$2:$R$10,2,FALSE)*BC$2 -> 0 | BD58: =VLOOKUP(V58,'SCORE TALLER'!$G$2:$H$10,2,FALSE)*BD$2 -> 0 | BE58: =VLOOKUP(AF58,'SCORE TALLER'!$AA$2:$AB$10,2,FALSE)*BE$2 -> 0.5 | BF58: =VLOOKUP(AL58,'SCORE TALLER'!$AM$2:$AN$10,2,TRUE)*BF$2 -> 0.5 | BG58: =+SUM(AM58:BF58) -> 2.25 | BH58: =VLOOKUP(BG58,'SCORE TALLER'!$AP$2:$AQ$7,2,TRUE) -> 3. Medio | BI58: =+T58 -> LBZ | BJ58: =+U58 -> A | BK58: =+AF58 -> E | BL58: =+H58 -> 2916399 | BM58: =+Q58 -> 7608000
A59: 22248884 | B59: ASOCIADO 55 | C59: 1. SI | D59: 5. >$2-$5 MM | F59: 7398253 | G59: =+IF(F59>M59+100000,F59-M59,0) -> 2145496 | H59: =IF(G59>L59+100000,G59-L59,0) -> 0 | I59: 7398000 | J59: 222706 | K59: 0 | L59: 2600000 | M59: 5252757 | N59: =VLOOKUP(AD59,'tabla ingresos'!$A$3:$D$15,4,FALSE) -> 2000000 | O59: 820873.8 | P59: 59507000 | Q59: 15039000 | R59: 76130 | S59: 6- pignoración | T59: LBZ | U59: A | V59: 4 | W59: 0 | X59: 0 | Y59: 6.2821918 | Z59: 48.430137 | AA59: 1 | AB59: 3 | AC59: 2 | AD59: 3 | AE59: 3 | AF59: E | AG59: =+(O59+J59)/(N59*1.5) -> 0.34785993 | AH59: =+(P59+F59)/(N59*1.5) -> 22.301751 | AI59: =+(E59+M59)/(N59*1.5) -> 1.750919 | AJ59: =+G59/(N59*1.5) -> 0.71516533 | AK59: =+H59/(N59*1.5) -> 0 | AL59: =+Q59/(N59*1.5) -> 5.013 | AM59: =VLOOKUP(AG59,'SCORE TALLER'!$AC$2:$AD$10,2,TRUE)*AM$2 -> 0 | AN59: =VLOOKUP(AD59,'SCORE TALLER'!$W$2:$X$10,2,TRUE)*AN$2 -> 0.32 | AO59: =VLOOKUP(AB59,'SCORE TALLER'!$S$2:$T$10,2,FALSE)*AO$2 -> 0.03 | AP59: =VLOOKUP(AH59,'SCORE TALLER'!$AE$2:$AF$10,2,TRUE)*AP$2 -> 0.32 | AQ59: =VLOOKUP(AI59,'SCORE TALLER'!$AG$2:$AH$10,2,TRUE)*AQ$2 -> 0.32 | AR59: =VLOOKUP(AC59,'SCORE TALLER'!$U$2:$V$10,2,FALSE)*AR$2 -> 0.04 | AS59: =VLOOKUP(AE59,'SCORE TALLER'!$Y$2:$Z$10,2,FALSE)*AS$2 -> 0.02 | AT59: =VLOOKUP(Z59,'SCORE TALLER'!$O$2:$P$10,2,TRUE)*AT$2 -> 0.02 | AU59: =VLOOKUP(S59,'SCORE TALLER'!$A$2:$B$10,2,FALSE)*AU$2 -> 0.15 | AV59: =VLOOKUP(AJ59,'SCORE TALLER'!$AI$2:$AJ$10,2,TRUE)*AV$2 -> 0.25 | AW59: =VLOOKUP(AK59,'SCORE TALLER'!$AK$2:$AL$10,2,TRUE)*AW$2 -> 0.25 | AX59: =VLOOKUP(T59,'SCORE TALLER'!$C$2:$D$10,2,FALSE)*AX$2 -> 0 | AY59: =VLOOKUP(W59,'SCORE TALLER'!$I$2:$J$10,2,TRUE)*AY$2 -> 0 | AZ59: =VLOOKUP(X59,'SCORE TALLER'!$K$2:$L$10,2,TRUE)*AZ$2 -> 0 | BA59: =VLOOKUP(U59,'SCORE TALLER'!$E$2:$F$10,2,FALSE)*BA$2 -> 0 | BB59: =VLOOKUP(Y59,'SCORE TALLER'!$M$2:$N$10,2,TRUE)*BB$2 -> 0.02 | BC59: =VLOOKUP(AA59,'SCORE TALLER'!$Q$2:$R$10,2,FALSE)*BC$2 -> 0.05 | BD59: =VLOOKUP(V59,'SCORE TALLER'!$G$2:$H$10,2,FALSE)*BD$2 -> 0 | BE59: =VLOOKUP(AF59,'SCORE TALLER'!$AA$2:$AB$10,2,FALSE)*BE$2 -> 0.5 | BF59: =VLOOKUP(AL59,'SCORE TALLER'!$AM$2:$AN$10,2,TRUE)*BF$2 -> 0.5 | BG59: =+SUM(AM59:BF59) -> 2.79 | BH59: =VLOOKUP(BG59,'SCORE TALLER'!$AP$2:$AQ$7,2,TRUE) -> 4. Alto | BI59: =+T59 -> LBZ | BJ59: =+U59 -> A | BK59: =+AF59 -> E | BL59: =+H59 -> 0 | BM59: =+Q59 -> 15039000
A60: 82206006 | B60: ASOCIADO 56 | C60: 1. SI | D60: 5. >$2-$5 MM | E60: 205946 | F60: 5000000 | G60: =+IF(F60>M60+100000,F60-M60,0) -> 3743519 | H60: =IF(G60>L60+100000,G60-L60,0) -> 0 | I60: 5000000 | J60: 177766 | K60: 0 | L60: 3700000 | M60: 1256481 | N60: =VLOOKUP(AD60,'tabla ingresos'!$A$3:$D$15,4,FALSE) -> 2000000 | O60: 411277.3 | P60: 16304000 | Q60: 14834000 | R60: 8001 | S60: 6- pignoración | T60: LBZ | U60: A | V60: 4 | W60: 0 | X60: 0 | Y60: 2.0082192 | Z60: 48.046575 | AA60: 1 | AB60: 4 | AC60: 3 | AD60: 3 | AE60: 3 | AF60: E | AG60: =+(O60+J60)/(N60*1.5) -> 0.19634777 | AH60: =+(P60+F60)/(N60*1.5) -> 7.1013333 | AI60: =+(E60+M60)/(N60*1.5) -> 0.48747567 | AJ60: =+G60/(N60*1.5) -> 1.2478397 | AK60: =+H60/(N60*1.5) -> 0 | AL60: =+Q60/(N60*1.5) -> 4.9446667 | AM60: =VLOOKUP(AG60,'SCORE TALLER'!$AC$2:$AD$10,2,TRUE)*AM$2 -> 0 | AN60: =VLOOKUP(AD60,'SCORE TALLER'!$W$2:$X$10,2,TRUE)*AN$2 -> 0.32 | AO60: =VLOOKUP(AB60,'SCORE TALLER'!$S$2:$T$10,2,FALSE)*AO$2 -> 0.02 | AP60: =VLOOKUP(AH60,'SCORE TALLER'!$AE$2:$AF$10,2,TRUE)*AP$2 -> 0.08 | AQ60: =VLOOKUP(AI60,'SCORE TALLER'!$AG$2:$AH$10,2,TRUE)*AQ$2 -> 0.4 | AR60: =VLOOKUP(AC60,'SCORE TALLER'!$U$2:$V$10,2,FALSE)*AR$2 -> 0.03 | AS60: =VLOOKUP(AE60,'SCORE TALLER'!$Y$2:$Z$10,2,FALSE)*AS$2 -> 0.02 | AT60: =VLOOKUP(Z60,'SCORE TALLER'!$O$2:$P$10,2,TRUE)*AT$2 -> 0.02 | AU60: =VLOOKUP(S60,'SCORE TALLER'!$A$2:$B$10,2,FALSE)*AU$2 -> 0.15 | AV60: =VLOOKUP(AJ60,'SCORE TALLER'!$AI$2:$AJ$10,2,TRUE)*AV$2 -> 0.2 | AW60: =VLOOKUP(AK60,'SCORE TALLER'!$AK$2:$AL$10,2,TRUE)*AW$2 -> 0.25 | AX60: =VLOOKUP(T60,'SCORE TALLER'!$C$2:$D$10,2,FALSE)*AX$2 -> 0 | AY60: =VLOOKUP(W60,'SCORE TALLER'!$I$2:$J$10,2,TRUE)*AY$2 -> 0 | AZ60: =VLOOKUP(X60,'SCORE TALLER'!$K$2:$L$10,2,TRUE)*AZ$2 -> 0 | BA60: =VLOOKUP(U60,'SCORE TALLER'!$E$2:$F$10,2,FALSE)*BA$2 -> 0 | BB60: =VLOOKUP(Y60,'SCORE TALLER'!$M$2:$N$10,2,TRUE)*BB$2 -> 0.04 | BC60: =VLOOKUP(AA60,'SCORE TALLER'!$Q$2:$R$10,2,FALSE)*BC$2 -> 0.05 | BD60: =VLOOKUP(V60,'SCORE TALLER'!$G$2:$H$10,2,FALSE)*BD$2 -> 0 | BE60: =VLOOKUP(AF60,'SCORE TALLER'!$AA$2:$AB$10,2,FALSE)*BE$2 -> 0.5 | BF60: =VLOOKUP(AL60,'SCORE TALLER'!$AM$2:$AN$10,2,TRUE)*BF$2 -> 0.5 | BG60: =+SUM(AM60:BF60) -> 2.58 | BH60: =VLOOKUP(BG60,'SCORE TALLER'!$AP$2:$AQ$7,2,TRUE) -> 4. Alto | BI60: =+T60 -> LBZ | BJ60: =+U60 -> A | BK60: =+AF60 -> E | BL60: =+H60 -> 0 | BM60: =+Q60 -> 14834000
A61: 4468066 | B61: ASOCIADO 57 | C61: 1. SI | D61: 5. >$2-$5 MM | F61: 7196898 | G61: =+IF(F61>M61+100000,F61-M61,0) -> 3268513 | H61: =IF(G61>L61+100000,G61-L61,0) -> 268513 | I61: 7197000 | J61: 266103 | K61: 0 | L61: 3000000 | M61: 3928385 | N61: =VLOOKUP(AD61,'tabla ingresos'!$A$3:$D$15,4,FALSE) -> 1000000 | O61: 438242.58 | P61: 14065000 | Q61: 7346000 | R61: 76130 | S61: 6- pignoración | T61: LBZ | U61: A | V61: 4 | W61: 0 | X61: 0 | Y61: 7.7260274 | Z61: 43.589041 | AA61: 1 | AB61: 2 | AC61: 2 | AD61: 2 | AE61: 3 | AF61: E | AG61: =+(O61+J61)/(N61*1.5) -> 0.46956372 | AH61: =+(P61+F61)/(N61*1.5) -> 14.174599 | AI61: =+(E61+M61)/(N61*1.5) -> 2.6189233 | AJ61: =+G61/(N61*1.5) -> 2.1790087 | AK61: =+H61/(N61*1.5) -> 0.17900867 | AL61: =+Q61/(N61*1.5) -> 4.8973333 | AM61: =VLOOKUP(AG61,'SCORE TALLER'!$AC$2:$AD$10,2,TRUE)*AM$2 -> 0 | AN61: =VLOOKUP(AD61,'SCORE TALLER'!$W$2:$X$10,2,TRUE)*AN$2 -> 0.32 | AO61: =VLOOKUP(AB61,'SCORE TALLER'!$S$2:$T$10,2,FALSE)*AO$2 -> 0.04 | AP61: =VLOOKUP(AH61,'SCORE TALLER'!$AE$2:$AF$10,2,TRUE)*AP$2 -> 0.16 | AQ61: =VLOOKUP(AI61,'SCORE TALLER'!$AG$2:$AH$10,2,TRUE)*AQ$2 -> 0.24 | AR61: =VLOOKUP(AC61,'SCORE TALLER'!$U$2:$V$10,2,FALSE)*AR$2 -> 0.04 | AS61: =VLOOKUP(AE61,'SCORE TALLER'!$Y$2:$Z$10,2,FALSE)*AS$2 -> 0.02 | AT61: =VLOOKUP(Z61,'SCORE TALLER'!$O$2:$P$10,2,TRUE)*AT$2 -> 0.03 | AU61: =VLOOKUP(S61,'SCORE TALLER'!$A$2:$B$10,2,FALSE)*AU$2 -> 0.15 | AV61: =VLOOKUP(AJ61,'SCORE TALLER'!$AI$2:$AJ$10,2,TRUE)*AV$2 -> 0.15 | AW61: =VLOOKUP(AK61,'SCORE TALLER'!$AK$2:$AL$10,2,TRUE)*AW$2 -> 0.25 | AX61: =VLOOKUP(T61,'SCORE TALLER'!$C$2:$D$10,2,FALSE)*AX$2 -> 0 | AY61: =VLOOKUP(W61,'SCORE TALLER'!$I$2:$J$10,2,TRUE)*AY$2 -> 0 | AZ61: =VLOOKUP(X61,'SCORE TALLER'!$K$2:$L$10,2,TRUE)*AZ$2 -> 0 | BA61: =VLOOKUP(U61,'SCORE TALLER'!$E$2:$F$10,2,FALSE)*BA$2 -> 0 | BB61: =VLOOKUP(Y61,'SCORE TALLER'!$M$2:$N$10,2,TRUE)*BB$2 -> 0.02 | BC61: =VLOOKUP(AA61,'SCORE TALLER'!$Q$2:$R$10,2,FALSE)*BC$2 -> 0.05 | BD61: =VLOOKUP(V61,'SCORE TALLER'!$G$2:$H$10,2,FALSE)*BD$2 -> 0 | BE61: =VLOOKUP(AF61,'SCORE TALLER'!$AA$2:$AB$10,2,FALSE)*BE$2 -> 0.5 | BF61: =VLOOKUP(AL61,'SCORE TALLER'!$AM$2:$AN$10,2,TRUE)*BF$2 -> 0.5 | BG61: =+SUM(AM61:BF61) -> 2.47 | BH61: =VLOOKUP(BG61,'SCORE TALLER'!$AP$2:$AQ$7,2,TRUE) -> 3. Medio | BI61: =+T61 -> LBZ | BJ61: =+U61 -> A | BK61: =+AF61 -> E | BL61: =+H61 -> 268513 | BM61: =+Q61 -> 7346000
A62: 2224624020 | B62: ASOCIADO 58 | C62: 1. SI | D62: 5. >$2-$5 MM | E62: 508097 | F62: 4593733 | G62: =+IF(F62>M62+100000,F62-M62,0) -> 3647701 | H62: =IF(G62>L62+100000,G62-L62,0) -> 2447701 | I62: 4594000 | J62: 223852 | K62: 0 | L62: 1200000 | M62: 946032 | N62: =VLOOKUP(AD62,'tabla ingresos'!$A$3:$D$15,4,FALSE) -> 1000000 | O62: 155644.4 | P62: 6997000 | Q62: 6997000 | R62: 76130 | S62: 6- pignoración | T62: LBZ | U62: A | V62: 4 | W62: 0 | X62: 0 | Y62: 0.2630137 | Z62: 30.780822 | AA62: 2 | AB62: 2 | AC62: 2 | AD62: 2 | AE62: 3 | AF62: E | AG62: =+(O62+J62)/(N62*1.5) -> 0.2529976 | AH62: =+(P62+F62)/(N62*1.5) -> 7.7271553 | AI62: =+(E62+M62)/(N62*1.5) -> 0.96941933 | AJ62: =+G62/(N62*1.5) -> 2.4318007 | AK62: =+H62/(N62*1.5) -> 1.6318007 | AL62: =+Q62/(N62*1.5) -> 4.6646667 | AM62: =VLOOKUP(AG62,'SCORE TALLER'!$AC$2:$AD$10,2,TRUE)*AM$2 -> 0 | AN62: =VLOOKUP(AD62,'SCORE TALLER'!$W$2:$X$10,2,TRUE)*AN$2 -> 0.32 | AO62: =VLOOKUP(AB62,'SCORE TALLER'!$S$2:$T$10,2,FALSE)*AO$2 -> 0.04 | AP62: =VLOOKUP(AH62,'SCORE TALLER'!$AE$2:$AF$10,2,TRUE)*AP$2 -> 0.08 | AQ62: =VLOOKUP(AI62,'SCORE TALLER'!$AG$2:$AH$10,2,TRUE)*AQ$2 -> 0.4 | AR62: =VLOOKUP(AC62,'SCORE TALLER'!$U$2:$V$10,2,FALSE)*AR$2 -> 0.04 | AS62: =VLOOKUP(AE62,'SCORE TALLER'!$Y$2:$Z$10,2,FALSE)*AS$2 -> 0.02 | AT62: =VLOOKUP(Z62,'SCORE TALLER'!$O$2:$P$10,2,TRUE)*AT$2 -> 0.04 | AU62: =VLOOKUP(S62,'SCORE TALLER'!$A$2:$B$10,2,FALSE)*AU$2 -> 0.15 | AV62: =VLOOKUP(AJ62,'SCORE TALLER'!$AI$2:$AJ$10,2,TRUE)*AV$2 -> 0.15 | AW62: =VLOOKUP(AK62,'SCORE TALLER'!$AK$2:$AL$10,2,TRUE)*AW$2 -> 0.2 | AX62: =VLOOKUP(T62,'SCORE TALLER'!$C$2:$D$10,2,FALSE)*AX$2 -> 0 | AY62: =VLOOKUP(W62,'SCORE TALLER'!$I$2:$J$10,2,TRUE)*AY$2 -> 0 | AZ62: =VLOOKUP(X62,'SCORE TALLER'!$K$2:$L$10,2,TRUE)*AZ$2 -> 0 | BA62: =VLOOKUP(U62,'SCORE TALLER'!$E$2:$F$10,2,FALSE)*BA$2 -> 0 | BB62: =VLOOKUP(Y62,'SCORE TALLER'!$M$2:$N$10,2,TRUE)*BB$2 -> 0.05 | BC62: =VLOOKUP(AA62,'SCORE TALLER'!$Q$2:$R$10,2,FALSE)*BC$2 -> 0 | BD62: =VLOOKUP(V62,'SCORE TALLER'!$G$2:$H$10,2,FALSE)*BD$2 -> 0 | BE62: =VLOOKUP(AF62,'SCORE TALLER'!$AA$2:$AB$10,2,FALSE)*BE$2 -> 0.5 | BF62: =VLOOKUP(AL62,'SCORE TALLER'!$AM$2:$AN$10,2,TRUE)*BF$2 -> 0.5 | BG62: =+SUM(AM62:BF62) -> 2.49 | BH62: =VLOOKUP(BG62,'SCORE TALLER'!$AP$2:$AQ$7,2,TRUE) -> 3. Medio | BI62: =+T62 -> LBZ | BJ62: =+U62 -> A | BK62: =+AF62 -> E | BL62: =+H62 -> 2447701 | BM62: =+Q62 -> 6997000
A63: 2284862 | B63: ASOCIADO 59 | C63: 1. SI | D63: 4. >$1-$2 MM | F63: 2596142 | G63: =+IF(F63>M63+100000,F63-M63,0) -> 1171882 | H63: =IF(G63>L63+100000,G63-L63,0) -> 0 | I63: 2596000 | J63: 174752 | K63: 0 | L63: 1300000 | M63: 1424260 | N63: =VLOOKUP(AD63,'tabla ingresos'!$A$3:$D$15,4,FALSE) -> 1000000 | O63: 386380.71 | P63: 9935000 | Q63: 6989000 | R63: 68001 | S63: 6- pignoración | T63: LBZ | U63: A | V63: 4 | W63: 0 | X63: 0 | Y63: 6.6328767 | Z63: 38.378082 | AA63: 1 | AB63: 2 | AC63: 1 | AD63: 2 | AE63: 3 | AF63: E | AG63: =+(O63+J63)/(N63*1.5) -> 0.37408847 | AH63: =+(P63+F63)/(N63*1.5) -> 8.3540947 | AI63: =+(E63+M63)/(N63*1.5) -> 0.94950667 | AJ63: =+G63/(N63*1.5) -> 0.78125467 | AK63: =+H63/(N63*1.5) -> 0 | AL63: =+Q63/(N63*1.5) -> 4.6593333 | AM63: =VLOOKUP(AG63,'SCORE TALLER'!$AC$2:$AD$10,2,TRUE)*AM$2 -> 0 | AN63: =VLOOKUP(AD63,'SCORE TALLER'!$W$2:$X$10,2,TRUE)*AN$2 -> 0.32 | AO63: =VLOOKUP(AB63,'SCORE TALLER'!$S$2:$T$10,2,FALSE)*AO$2 -> 0.04 | AP63: =VLOOKUP(AH63,'SCORE TALLER'!$AE$2:$AF$10,2,TRUE)*AP$2 -> 0.08 | AQ63: =VLOOKUP(AI63,'SCORE TALLER'!$AG$2:$AH$10,2,TRUE)*AQ$2 -> 0.4 | AR63: =VLOOKUP(AC63,'SCORE TALLER'!$U$2:$V$10,2,FALSE)*AR$2 -> 0.05 | AS63: =VLOOKUP(AE63,'SCORE TALLER'!$Y$2:$Z$10,2,FALSE)*AS$2 -> 0.02 | AT63: =VLOOKUP(Z63,'SCORE TALLER'!$O$2:$P$10,2,TRUE)*AT$2 -> 0.03 | AU63: =VLOOKUP(S63,'SCORE TALLER'!$A$2:$B$10,2,FALSE)*AU$2 -> 0.15 | AV63: =VLOOKUP(AJ63,'SCORE TALLER'!$AI$2:$AJ$10,2,TRUE)*AV$2 -> 0.25 | AW63: =VLOOKUP(AK63,'SCORE TALLER'!$AK$2:$AL$10,2,TRUE)*AW$2 -> 0.25 | AX63: =VLOOKUP(T63,'SCORE TALLER'!$C$2:$D$10,2,FALSE)*AX$2 -> 0 | AY63: =VLOOKUP(W63,'SCORE TALLER'!$I$2:$J$10,2,TRUE)*AY$2 -> 0 | AZ63: =VLOOKUP(X63,'SCORE TALLER'!$K$2:$L$10,2,TRUE)*AZ$2 -> 0 | BA63: =VLOOKUP(U63,'SCORE TALLER'!$E$2:$F$10,2,FALSE)*BA$2 -> 0 | BB63: =VLOOKUP(Y63,'SCORE TALLER'!$M$2:$N$10,2,TRUE)*BB$2 -> 0.02 | BC63: =VLOOKUP(AA63,'SCORE TALLER'!$Q$2:$R$10,2,FALSE)*BC$2 -> 0.05 | BD63: =VLOOKUP(V63,'SCORE TALLER'!$G$2:$H$10,2,FALSE)*BD$2 -> 0 | BE63: =VLOOKUP(AF63,'SCORE TALLER'!$AA$2:$AB$10,2,FALSE)*BE$2 -> 0.5 | BF63: =VLOOKUP(AL63,'SCORE TALLER'!$AM$2:$AN$10,2,TRUE)*BF$2 -> 0.5 | BG63: =+SUM(AM63:BF63) -> 2.66 | BH63: =VLOOKUP(BG63,'SCORE TALLER'!$AP$2:$AQ$7,2,TRUE) -> 4. Alto | BI63: =+T63 -> LBZ | BJ63: =+U63 -> A | BK63: =+AF63 -> E | BL63: =+H63 -> 0 | BM63: =+Q63 -> 6989000
A64: 66880040 | B64: ASOCIADO 60 | C64: 1. SI | D64: 6. >$5-$10 MM | E64: 422268 | F64: 8220269 | G64: =+IF(F64>M64+100000,F64-M64,0) -> 5089322 | H64: =IF(G64>L64+100000,G64-L64,0) -> 3184077 | I64: 8220000 | J64: 247452 | K64: 0 | L64: 1905245 | M64: 3130947 | N64: =VLOOKUP(AD64,'tabla ingresos'!$A$3:$D$15,4,FALSE) -> 1000000 | O64: 154665.64 | P64: 6953000 | Q64: 6953000 | R64: 76130 | S64: 6- pignoración | T64: LBZ | U64: A | V64: 4 | W64: 0 | X64: 0 | Y64: 5.909589 | Z64: 45.778082 | AA64: 2 | AB64: 2 | AC64: 2 | AD64: 2 | AE64: 3 | AF64: E | AG64: =+(O64+J64)/(N64*1.5) -> 0.26807843 | AH64: =+(P64+F64)/(N64*1.5) -> 10.115513 | AI64: =+(E64+M64)/(N64*1.5) -> 2.36881 | AJ64: =+G64/(N64*1.5) -> 3.3928813 | AK64: =+H64/(N64*1.5) -> 2.122718 | AL64: =+Q64/(N64*1.5) -> 4.6353333 | AM64: =VLOOKUP(AG64,'SCORE TALLER'!$AC$2:$AD$10,2,TRUE)*AM$2 -> 0 | AN64: =VLOOKUP(AD64,'SCORE TALLER'!$W$2:$X$10,2,TRUE)*AN$2 -> 0.32 | AO64: =VLOOKUP(AB64,'SCORE TALLER'!$S$2:$T$10,2,FALSE)*AO$2 -> 0.04 | AP64: =VLOOKUP(AH64,'SCORE TALLER'!$AE$2:$AF$10,2,TRUE)*AP$2 -> 0.16 | AQ64: =VLOOKUP(AI64,'SCORE TALLER'!$AG$2:$AH$10,2,TRUE)*AQ$2 -> 0.24 | AR64: =VLOOKUP(AC64,'SCORE TALLER'!$U$2:$V$10,2,FALSE)*AR$2 -> 0.04 | AS64: =VLOOKUP(AE64,'SCORE TALLER'!$Y$2:$Z$10,2,FALSE)*AS$2 -> 0.02 | AT64: =VLOOKUP(Z64,'SCORE TALLER'!$O$2:$P$10,2,TRUE)*AT$2 -> 0.02 | AU64: =VLOOKUP(S64,'SCORE TALLER'!$A$2:$B$10,2,FALSE)*AU$2 -> 0.15 | AV64: =VLOOKUP(AJ64,'SCORE TALLER'!$AI$2:$AJ$10,2,TRUE)*AV$2 -> 0.1 | AW64: =VLOOKUP(AK64,'SCORE TALLER'!$AK$2:$AL$10,2,TRUE)*AW$2 -> 0.15 | AX64: =VLOOKUP(T64,'SCORE TALLER'!$C$2:$D$10,2,FALSE)*AX$2 -> 0 | AY64: =VLOOKUP(W64,'SCORE TALLER'!$I$2:$J$10,2,TRUE)*AY$2 -> 0 | AZ64: =VLOOKUP(X64,'SCORE TALLER'!$K$2:$L$10,2,TRUE)*AZ$2 -> 0 | BA64: =VLOOKUP(U64,'SCORE TALLER'!$E$2:$F$10,2,FALSE)*BA$2 -> 0 | BB64: =VLOOKUP(Y64,'SCORE TALLER'!$M$2:$N$10,2,TRUE)*BB$2 -> 0.03 | BC64: =VLOOKUP(AA64,'SCORE TALLER'!$Q$2:$R$10,2,FALSE)*BC$2 -> 0 | BD64: =VLOOKUP(V64,'SCORE TALLER'!$G$2:$H$10,2,FALSE)*BD$2 -> 0 | BE64: =VLOOKUP(AF64,'SCORE TALLER'!$AA$2:$AB$10,2,FALSE)*BE$2 -> 0.5 | BF64: =VLOOKUP(AL64,'SCORE TALLER'!$AM$2:$AN$10,2,TRUE)*BF$2 -> 0.5 | BG64: =+SUM(AM64:BF64) -> 2.27 | BH64: =VLOOKUP(BG64,'SCORE TALLER'!$AP$2:$AQ$7,2,TRUE) -> 3. Medio | BI64: =+T64 -> LBZ | BJ64: =+U64 -> A | BK64: =+AF64 -> E | BL64: =+H64 -> 3184077 | BM64: =+Q64 -> 6953000
A65: 2084242224 | B65: ASOCIADO 61 | C65: 1. SI | D65: 6. >$5-$10 MM | E65: 1224417 | F65: 8760391 | G65: =+IF(F65>M65+100000,F65-M65,0) -> 7230632 | H65: =IF(G65>L65+100000,G65-L65,0) -> 639637 | I65: 8760000 | J65: 287517 | K65: 0 | L65: 6590995 | M65: 1529759 | N65: =VLOOKUP(AD65,'tabla ingresos'!$A$3:$D$15,4,FALSE) -> 3000000 | O65: 667567.65 | P65: 28923000 | Q65: 20692000 | R65: 25286 | S65: 6- pignoración | T65: LBZ | U65: A | V65: 4 | W65: 0 | X65: 0 | Y65: 2.4356164 | Z65: 33.830137 | AA65: 1 | AB65: 5 | AC65: 2 | AD65: 4 | AE65: 1 | AF65: E | AG65: =+(O65+J65)/(N65*1.5) -> 0.21224103 | AH65: =+(P65+F65)/(N65*1.5) -> 8.3740869 | AI65: =+(E65+M65)/(N65*1.5) -> 0.61203911 | AJ65: =+G65/(N65*1.5) -> 1.6068071 | AK65: =+H65/(N65*1.5) -> 0.14214156 | AL65: =+Q65/(N65*1.5) -> 4.5982222 | AM65: =VLOOKUP(AG65,'SCORE TALLER'!$AC$2:$AD$10,2,TRUE)*AM$2 -> 0 | AN65: =VLOOKUP(AD65,'SCORE TALLER'!$W$2:$X$10,2,TRUE)*AN$2 -> 0.24 | AO65: =VLOOKUP(AB65,'SCORE TALLER'!$S$2:$T$10,2,FALSE)*AO$2 -> 0.01 | AP65: =VLOOKUP(AH65,'SCORE TALLER'!$AE$2:$AF$10,2,TRUE)*AP$2 -> 0.08 | AQ65: =VLOOKUP(AI65,'SCORE TALLER'!$AG$2:$AH$10,2,TRUE)*AQ$2 -> 0.4 | AR65: =VLOOKUP(AC65,'SCORE TALLER'!$U$2:$V$10,2,FALSE)*AR$2 -> 0.04 | AS65: =VLOOKUP(AE65,'SCORE TALLER'!$Y$2:$Z$10,2,FALSE)*AS$2 -> 0.03 | AT65: =VLOOKUP(Z65,'SCORE TALLER'!$O$2:$P$10,2,TRUE)*AT$2 -> 0.04 | AU65: =VLOOKUP(S65,'SCORE TALLER'!$A$2:$B$10,2,FALSE)*AU$2 -> 0.15 | AV65: =VLOOKUP(AJ65,'SCORE TALLER'!$AI$2:$AJ$10,2,TRUE)*AV$2 -> 0.2 | AW65: =VLOOKUP(AK65,'SCORE TALLER'!$AK$2:$AL$10,2,TRUE)*AW$2 -> 0.25 | AX65: =VLOOKUP(T65,'SCORE TALLER'!$C$2:$D$10,2,FALSE)*AX$2 -> 0 | AY65: =VLOOKUP(W65,'SCORE TALLER'!$I$2:$J$10,2,TRUE)*AY$2 -> 0 | AZ65: =VLOOKUP(X65,'SCORE TALLER'!$K$2:$L$10,2,TRUE)*AZ$2 -> 0 | BA65: =VLOOKUP(U65,'SCORE TALLER'!$E$2:$F$10,2,FALSE)*BA$2 -> 0 | BB65: =VLOOKUP(Y65,'SCORE TALLER'!$M$2:$N$10,2,TRUE)*BB$2 -> 0.04 | BC65: =VLOOKUP(AA65,'SCORE TALLER'!$Q$2:$R$10,2,FALSE)*BC$2 -> 0.05 | BD65: =VLOOKUP(V65,'SCORE TALLER'!$G$2:$H$10,2,FALSE)*BD$2 -> 0 | BE65: =VLOOKUP(AF65,'SCORE TALLER'!$AA$2:$AB$10,2,FALSE)*BE$2 -> 0.5 | BF65: =VLOOKUP(AL65,'SCORE TALLER'!$AM$2:$AN$10,2,TRUE)*BF$2 -> 0.5 | BG65: =+SUM(AM65:BF65) -> 2.53 | BH65: =VLOOKUP(BG65,'SCORE TALLER'!$AP$2:$AQ$7,2,TRUE) -> 4. Alto | BI65: =+T65 -> LBZ | BJ65: =+U65 -> A | BK65: =+AF65 -> E | BL65: =+H65 -> 639637 | BM65: =+Q65 -> 20692000
A66: 2062820668 | B66: ASOCIADO 62 | C66: 1. SI | D66: 5. >$2-$5 MM | E66: 1140660 | F66: 4644809 | G66: =+IF(F66>M66+100000,F66-M66,0) -> 4055319 | H66: =IF(G66>L66+100000,G66-L66,0) -> 2855319 | I66: 4645000 | J66: 201620 | K66: 0 | L66: 1200000 | M66: 589490 | N66: =VLOOKUP(AD66,'tabla ingresos'!$A$3:$D$15,4,FALSE) -> 1000000 | O66: 380128.81 | P66: 14279000 | Q66: 6799000 | R66: 19001 | S66: 6- pignoración | T66: LBZ | U66: A | V66: 4 | W66: 0 | X66: 0 | Y66: 1.8356164 | Z66: 31.427397 | AA66: 1 | AB66: 2 | AC66: 1 | AD66: 2 | AE66: 3 | AF66: E | AG66: =+(O66+J66)/(N66*1.5) -> 0.38783254 | AH66: =+(P66+F66)/(N66*1.5) -> 12.615873 | AI66: =+(E66+M66)/(N66*1.5) -> 1.1534333 | AJ66: =+G66/(N66*1.5) -> 2.703546 | AK66: =+H66/(N66*1.5) -> 1.903546 | AL66: =+Q66/(N66*1.5) -> 4.5326667 | AM66: =VLOOKUP(AG66,'SCORE TALLER'!$AC$2:$AD$10,2,TRUE)*AM$2 -> 0 | AN66: =VLOOKUP(AD66,'SCORE TALLER'!$W$2:$X$10,2,TRUE)*AN$2 -> 0.32 | AO66: =VLOOKUP(AB66,'SCORE TALLER'!$S$2:$T$10,2,FALSE)*AO$2 -> 0.04 | AP66: =VLOOKUP(AH66,'SCORE TALLER'!$AE$2:$AF$10,2,TRUE)*AP$2 -> 0.16 | AQ66: =VLOOKUP(AI66,'SCORE TALLER'!$AG$2:$AH$10,2,TRUE)*AQ$2 -> 0.32 | AR66: =VLOOKUP(AC66,'SCORE TALLER'!$U$2:$V$10,2,FALSE)*AR$2 -> 0.05 | AS66: =VLOOKUP(AE66,'SCORE TALLER'!$Y$2:$Z$10,2,FALSE)*AS$2 -> 0.02 | AT66: =VLOOKUP(Z66,'SCORE TALLER'!$O$2:$P$10,2,TRUE)*AT$2 -> 0.04 | AU66: =VLOOKUP(S66,'SCORE TALLER'!$A$2:$B$10,2,FALSE)*AU$2 -> 0.15 | AV66: =VLOOKUP(AJ66,'SCORE TALLER'!$AI$2:$AJ$10,2,TRUE)*AV$2 -> 0.15 | AW66: =VLOOKUP(AK66,'SCORE TALLER'!$AK$2:$AL$10,2,TRUE)*AW$2 -> 0.2 | AX66: =VLOOKUP(T66,'SCORE TALLER'!$C$2:$D$10,2,FALSE)*AX$2 -> 0 | AY66: =VLOOKUP(W66,'SCORE TALLER'!$I$2:$J$10,2,TRUE)*AY$2 -> 0 | AZ66: =VLOOKUP(X66,'SCORE TALLER'!$K$2:$L$10,2,TRUE)*AZ$2 -> 0 | BA66: =VLOOKUP(U66,'SCORE TALLER'!$E$2:$F$10,2,FALSE)*BA$2 -> 0 | BB66: =VLOOKUP(Y66,'SCORE TALLER'!$M$2:$N$10,2,TRUE)*BB$2 -> 0.05 | BC66: =VLOOKUP(AA66,'SCORE TALLER'!$Q$2:$R$10,2,FALSE)*BC$2 -> 0.05 | BD66: =VLOOKUP(V66,'SCORE TALLER'!$G$2:$H$10,2,FALSE)*BD$2 -> 0 | BE66: =VLOOKUP(AF66,'SCORE TALLER'!$AA$2:$AB$10,2,FALSE)*BE$2 -> 0.5 | BF66: =VLOOKUP(AL66,'SCORE TALLER'!$AM$2:$AN$10,2,TRUE)*BF$2 -> 0.5 | BG66: =+SUM(AM66:BF66) -> 2.55 | BH66: =VLOOKUP(BG66,'SCORE TALLER'!$AP$2:$AQ$7,2,TRUE) -> 4. Alto | BI66: =+T66 -> LBZ | BJ66: B | BK66: =+AF66 -> E | BL66: =+H66 -> 2855319 | BM66: =+Q66 -> 6799000
A67: 2086280604 | B67: ASOCIADO 63 | C67: 1. SI | D67: 7. >$10 MM | E67: 1447846 | F67: 14414761 | G67: =+IF(F67>M67+100000,F67-M67,0) -> 10522854 | H67: =IF(G67>L67+100000,G67-L67,0) -> 2644835 | I67: 14415000 | J67: 506741 | K67: 0 | L67: 7878019 | M67: 3891907 | N67: =VLOOKUP(AD67,'tabla ingresos'!$A$3:$D$15,4,FALSE) -> 1000000 | O67: 309132.26 | P67: 12669000 | Q67: 6623000 | R67: 52001 | S67: 6- pignoración | T67: LBZ | U67: A | V67: 4 | W67: 0 | X67: 0 | Y67: 3.0109589 | Z67: 30.654795 | AA67: 1 | AB67: 0 | AC67: 2 | AD67: 2 | AE67: 1 | AF67: E | AG67: =+(O67+J67)/(N67*1.5) -> 0.54391551 | AH67: =+(P67+F67)/(N67*1.5) -> 18.055841 | AI67: =+(E67+M67)/(N67*1.5) -> 3.5598353 | AJ67: =+G67/(N67*1.5) -> 7.015236 | AK67: =+H67/(N67*1.5) -> 1.7632233 | AL67: =+Q67/(N67*1.5) -> 4.4153333 | AM67: =VLOOKUP(AG67,'SCORE TALLER'!$AC$2:$AD$10,2,TRUE)*AM$2 -> 0.08 | AN67: =VLOOKUP(AD67,'SCORE TALLER'!$W$2:$X$10,2,TRUE)*AN$2 -> 0.32 | AO67: =VLOOKUP(AB67,'SCORE TALLER'!$S$2:$T$10,2,FALSE)*AO$2 -> 0.05 | AP67: =VLOOKUP(AH67,'SCORE TALLER'!$AE$2:$AF$10,2,TRUE)*AP$2 -> 0.24 | AQ67: =VLOOKUP(AI67,'SCORE TALLER'!$AG$2:$AH$10,2,TRUE)*AQ$2 -> 0.16 | AR67: =VLOOKUP(AC67,'SCORE TALLER'!$U$2:$V$10,2,FALSE)*AR$2 -> 0.04 | AS67: =VLOOKUP(AE67,'SCORE TALLER'!$Y$2:$Z$10,2,FALSE)*AS$2 -> 0.03 | AT67: =VLOOKUP(Z67,'SCORE TALLER'!$O$2:$P$10,2,TRUE)*AT$2 -> 0.04 | AU67: =VLOOKUP(S67,'SCORE TALLER'!$A$2:$B$10,2,FALSE)*AU$2 -> 0.15 | AV67: =VLOOKUP(AJ67,'SCORE TALLER'!$AI$2:$AJ$10,2,TRUE)*AV$2 -> 0 | AW67: =VLOOKUP(AK67,'SCORE TALLER'!$AK$2:$AL$10,2,TRUE)*AW$2 -> 0.2 | AX67: =VLOOKUP(T67,'SCORE TALLER'!$C$2:$D$10,2,FALSE)*AX$2 -> 0 | AY67: =VLOOKUP(W67,'SCORE TALLER'!$I$2:$J$10,2,TRUE)*AY$2 -> 0 | AZ67: =VLOOKUP(X67,'SCORE TALLER'!$K$2:$L$10,2,TRUE)*AZ$2 -> 0 | BA67: =VLOOKUP(U67,'SCORE TALLER'!$E$2:$F$10,2,FALSE)*BA$2 -> 0 | BB67: =VLOOKUP(Y67,'SCORE TALLER'!$M$2:$N$10,2,TRUE)*BB$2 -> 0.04 | BC67: =VLOOKUP(AA67,'SCORE TALLER'!$Q$2:$R$10,2,FALSE)*BC$2 -> 0.05 | BD67: =VLOOKUP(V67,'SCORE TALLER'!$G$2:$H$10,2,FALSE)*BD$2 -> 0 | BE67: =VLOOKUP(AF67,'SCORE TALLER'!$AA$2:$AB$10,2,FALSE)*BE$2 -> 0.5 | BF67: =VLOOKUP(AL67,'SCORE TALLER'!$AM$2:$AN$10,2,TRUE)*BF$2 -> 0.5 | BG67: =+SUM(AM67:BF67) -> 2.4 | BH67: =VLOOKUP(BG67,'SCORE TALLER'!$AP$2:$AQ$7,2,TRUE) -> 3. Medio | BI67: =+T67 -> LBZ | BJ67: =+U67 -> A | BK67: =+AF67 -> E | BL67: =+H67 -> 2644835 | BM67: =+Q67 -> 6623000
A68: 2068848440 | B68: ASOCIADO 64 | C68: 1. SI | D68: 4. >$1-$2 MM | F68: 3782262 | G68: =+IF(F68>M68+100000,F68-M68,0) -> 1896142 | H68: =IF(G68>L68+100000,G68-L68,0) -> 1896142 | I68: 3782000 | J68: 215920 | K68: 0 | L68: 0 | M68: 1886120 | N68: =VLOOKUP(AD68,'tabla ingresos'!$A$3:$D$15,4,FALSE) -> 2000000 | O68: 289133.33 | P68: 12998000 | Q68: 12998000 | R68: 23001 | S68: 9- Otras garantías (no admisible) | T68: LBZ | U68: A | V68: 4 | W68: 0 | X68: 0 | Y68: 3.7013699 | Z68: 36.221918 | AA68: 1 | AB68: 3 | AC68: 1 | AD68: 3 | AE68: 3 | AF68: E | AG68: =+(O68+J68)/(N68*1.5) -> 0.16835111 | AH68: =+(P68+F68)/(N68*1.5) -> 5.5934207 | AI68: =+(E68+M68)/(N68*1.5) -> 0.62870667 | AJ68: =+G68/(N68*1.5) -> 0.63204733 | AK68: =+H68/(N68*1.5) -> 0.63204733 | AL68: =+Q68/(N68*1.5) -> 4.3326667 | AM68: =VLOOKUP(AG68,'SCORE TALLER'!$AC$2:$AD$10,2,TRUE)*AM$2 -> 0 | AN68: =VLOOKUP(AD68,'SCORE TALLER'!$W$2:$X$10,2,TRUE)*AN$2 -> 0.32 | AO68: =VLOOKUP(AB68,'SCORE TALLER'!$S$2:$T$10,2,FALSE)*AO$2 -> 0.03 | AP68: =VLOOKUP(AH68,'SCORE TALLER'!$AE$2:$AF$10,2,TRUE)*AP$2 -> 0.08 | AQ68: =VLOOKUP(AI68,'SCORE TALLER'!$AG$2:$AH$10,2,TRUE)*AQ$2 -> 0.4 | AR68: =VLOOKUP(AC68,'SCORE TALLER'!$U$2:$V$10,2,FALSE)*AR$2 -> 0.05 | AS68: =VLOOKUP(AE68,'SCORE TALLER'!$Y$2:$Z$10,2,FALSE)*AS$2 -> 0.02 | AT68: =VLOOKUP(Z68,'SCORE TALLER'!$O$2:$P$10,2,TRUE)*AT$2 -> 0.03 | AU68: =VLOOKUP(S68,'SCORE TALLER'!$A$2:$B$10,2,FALSE)*AU$2 -> 0.25 | AV68: =VLOOKUP(AJ68,'SCORE TALLER'!$AI$2:$AJ$10,2,TRUE)*AV$2 -> 0.25 | AW68: =VLOOKUP(AK68,'SCORE TALLER'!$AK$2:$AL$10,2,TRUE)*AW$2 -> 0.25 | AX68: =VLOOKUP(T68,'SCORE TALLER'!$C$2:$D$10,2,FALSE)*AX$2 -> 0 | AY68: =VLOOKUP(W68,'SCORE TALLER'!$I$2:$J$10,2,TRUE)*AY$2 -> 0 | AZ68: =VLOOKUP(X68,'SCORE TALLER'!$K$2:$L$10,2,TRUE)*AZ$2 -> 0 | BA68: =VLOOKUP(U68,'SCORE TALLER'!$E$2:$F$10,2,FALSE)*BA$2 -> 0 | BB68: =VLOOKUP(Y68,'SCORE TALLER'!$M$2:$N$10,2,TRUE)*BB$2 -> 0.04 | BC68: =VLOOKUP(AA68,'SCORE TALLER'!$Q$2:$R$10,2,FALSE)*BC$2 -> 0.05 | BD68: =VLOOKUP(V68,'SCORE TALLER'!$G$2:$H$10,2,FALSE)*BD$2 -> 0 | BE68: =VLOOKUP(AF68,'SCORE TALLER'!$AA$2:$AB$10,2,FALSE)*BE$2 -> 0.5 | BF68: =VLOOKUP(AL68,'SCORE TALLER'!$AM$2:$AN$10,2,TRUE)*BF$2 -> 0.5 | BG68: =+SUM(AM68:BF68) -> 2.77 | BH68: =VLOOKUP(BG68,'SCORE TALLER'!$AP$2:$AQ$7,2,TRUE) -> 4. Alto | BI68: =+T68 -> LBZ | BJ68: =+U68 -> A | BK68: =+AF68 -> E | BL68: =+H68 -> 1896142 | BM68: =+Q68 -> 12998000
A69: 26424440 | B69: ASOCIADO 65 | C69: 1. SI | D69: 5. >$2-$5 MM | E69: 1376902 | F69: 4343592 | G69: =+IF(F69>M69+100000,F69-M69,0) -> 3793603 | H69: =IF(G69>L69+100000,G69-L69,0) -> 2873603 | I69: 4344000 | J69: 236240 | K69: 0 | L69: 920000 | M69: 549989 | N69: =VLOOKUP(AD69,'tabla ingresos'!$A$3:$D$15,4,FALSE) -> 1000000 | O69: 406317.08 | P69: 18266000 | Q69: 18266000 | R69: 25754 | S69: 6- pignoración | T69: LBZ | U69: A | V69: 4 | W69: 0 | X69: 0 | Y69: 1.7232877 | Z69: 43.657534 | AA69: 2 | AB69: 2 | AC69: 2 | AD69: 2 | AE69: 3 | AF69: E | AG69: =+(O69+J69)/(N69*1.5) -> 0.42837139 | AH69: =+(P69+F69)/(N69*1.5) -> 15.073061 | AI69: =+(E69+M69)/(N69*1.5) -> 1.284594 | AJ69: =+G69/(N69*1.5) -> 2.5290687 | AK69: =+H69/(N69*1.5) -> 1.9157353 | AL69: =+Q69/(N69*1.5) -> 12.177333 | AM69: =VLOOKUP(AG69,'SCORE TALLER'!$AC$2:$AD$10,2,TRUE)*AM$2 -> 0 | AN69: =VLOOKUP(AD69,'SCORE TALLER'!$W$2:$X$10,2,TRUE)*AN$2 -> 0.32 | AO69: =VLOOKUP(AB69,'SCORE TALLER'!$S$2:$T$10,2,FALSE)*AO$2 -> 0.04 | AP69: =VLOOKUP(AH69,'SCORE TALLER'!$AE$2:$AF$10,2,TRUE)*AP$2 -> 0.24 | AQ69: =VLOOKUP(AI69,'SCORE TALLER'!$AG$2:$AH$10,2,TRUE)*AQ$2 -> 0.32 | AR69: =VLOOKUP(AC69,'SCORE TALLER'!$U$2:$V$10,2,FALSE)*AR$2 -> 0.04 | AS69: =VLOOKUP(AE69,'SCORE TALLER'!$Y$2:$Z$10,2,FALSE)*AS$2 -> 0.02 | AT69: =VLOOKUP(Z69,'SCORE TALLER'!$O$2:$P$10,2,TRUE)*AT$2 -> 0.03 | AU69: =VLOOKUP(S69,'SCORE TALLER'!$A$2:$B$10,2,FALSE)*AU$2 -> 0.15 | AV69: =VLOOKUP(AJ69,'SCORE TALLER'!$AI$2:$AJ$10,2,TRUE)*AV$2 -> 0.15 | AW69: =VLOOKUP(AK69,'SCORE TALLER'!$AK$2:$AL$10,2,TRUE)*AW$2 -> 0.2 | AX69: =VLOOKUP(T69,'SCORE TALLER'!$C$2:$D$10,2,FALSE)*AX$2 -> 0 | AY69: =VLOOKUP(W69,'SCORE TALLER'!$I$2:$J$10,2,TRUE)*AY$2 -> 0 | AZ69: =VLOOKUP(X69,'SCORE TALLER'!$K$2:$L$10,2,TRUE)*AZ$2 -> 0 | BA69: =VLOOKUP(U69,'SCORE TALLER'!$E$2:$F$10,2,FALSE)*BA$2 -> 0 | BB69: =VLOOKUP(Y69,'SCORE TALLER'!$M$2:$N$10,2,TRUE)*BB$2 -> 0.05 | BC69: =VLOOKUP(AA69,'SCORE TALLER'!$Q$2:$R$10,2,FALSE)*BC$2 -> 0 | BD69: =VLOOKUP(V69,'SCORE TALLER'!$G$2:$H$10,2,FALSE)*BD$2 -> 0 | BE69: =VLOOKUP(AF69,'SCORE TALLER'!$AA$2:$AB$10,2,FALSE)*BE$2 -> 0.5 | BF69: =VLOOKUP(AL69,'SCORE TALLER'!$AM$2:$AN$10,2,TRUE)*BF$2 -> 0.5 | BG69: =+SUM(AM69:BF69) -> 2.56 | BH69: =VLOOKUP(BG69,'SCORE TALLER'!$AP$2:$AQ$7,2,TRUE) -> 4. Alto | BI69: =+T69 -> LBZ | BJ69: B | BK69: =+AF69 -> E | BL69: =+H69 -> 2873603 | BM69: =+Q69 -> 18266000
A70: 80046002 | B70: ASOCIADO 66 | C70: 1. SI | D70: 6. >$5-$10 MM | E70: 129688 | F70: 11174933 | G70: =+IF(F70>M70+100000,F70-M70,0) -> 5388176 | H70: =IF(G70>L70+100000,G70-L70,0) -> 0 | I70: 11175000 | J70: 336395 | K70: 0 | L70: 5860077 | M70: 5786757 | N70: =VLOOKUP(AD70,'tabla ingresos'!$A$3:$D$15,4,FALSE) -> 1000000 | O70: 134556.66 | P70: 6049000 | Q70: 6049000 | R70: 73001 | S70: 6- pignoración | T70: LBZ | U70: A | V70: 4 | W70: 0 | X70: 0 | Y70: 7.4712329 | Z70: 44.545205 | AA70: 1 | AB70: 0 | AC70: 4 | AD70: 2 | AE70: 2 | AF70: E | AG70: =+(O70+J70)/(N70*1.5) -> 0.31396778 | AH70: =+(P70+F70)/(N70*1.5) -> 11.482622 | AI70: =+(E70+M70)/(N70*1.5) -> 3.9442967 | AJ70: =+G70/(N70*1.5) -> 3.5921173 | AK70: =+H70/(N70*1.5) -> 0 | AL70: =+Q70/(N70*1.5) -> 4.0326667 | AM70: =VLOOKUP(AG70,'SCORE TALLER'!$AC$2:$AD$10,2,TRUE)*AM$2 -> 0 | AN70: =VLOOKUP(AD70,'SCORE TALLER'!$W$2:$X$10,2,TRUE)*AN$2 -> 0.32 | AO70: =VLOOKUP(AB70,'SCORE TALLER'!$S$2:$T$10,2,FALSE)*AO$2 -> 0.05 | AP70: =VLOOKUP(AH70,'SCORE TALLER'!$AE$2:$AF$10,2,TRUE)*AP$2 -> 0.16 | AQ70: =VLOOKUP(AI70,'SCORE TALLER'!$AG$2:$AH$10,2,TRUE)*AQ$2 -> 0.16 | AR70: =VLOOKUP(AC70,'SCORE TALLER'!$U$2:$V$10,2,FALSE)*AR$2 -> 0.02 | AS70: =VLOOKUP(AE70,'SCORE TALLER'!$Y$2:$Z$10,2,FALSE)*AS$2 -> 0.01 | AT70: =VLOOKUP(Z70,'SCORE TALLER'!$O$2:$P$10,2,TRUE)*AT$2 -> 0.03 | AU70: =VLOOKUP(S70,'SCORE TALLER'!$A$2:$B$10,2,FALSE)*AU$2 -> 0.15 | AV70: =VLOOKUP(AJ70,'SCORE TALLER'!$AI$2:$AJ$10,2,TRUE)*AV$2 -> 0.1 | AW70: =VLOOKUP(AK70,'SCORE TALLER'!$AK$2:$AL$10,2,TRUE)*AW$2 -> 0.25 | AX70: =VLOOKUP(T70,'SCORE TALLER'!$C$2:$D$10,2,FALSE)*AX$2 -> 0 | AY70: =VLOOKUP(W70,'SCORE TALLER'!$I$2:$J$10,2,TRUE)*AY$2 -> 0 | AZ70: =VLOOKUP(X70,'SCORE TALLER'!$K$2:$L$10,2,TRUE)*AZ$2 -> 0 | BA70: =VLOOKUP(U70,'SCORE TALLER'!$E$2:$F$10,2,FALSE)*BA$2 -> 0 | BB70: =VLOOKUP(Y70,'SCORE TALLER'!$M$2:$N$10,2,TRUE)*BB$2 -> 0.02 | BC70: =VLOOKUP(AA70,'SCORE TALLER'!$Q$2:$R$10,2,FALSE)*BC$2 -> 0.05 | BD70: =VLOOKUP(V70,'SCORE TALLER'!$G$2:$H$10,2,FALSE)*BD$2 -> 0 | BE70: =VLOOKUP(AF70,'SCORE TALLER'!$AA$2:$AB$10,2,FALSE)*BE$2 -> 0.5 | BF70: =VLOOKUP(AL70,'SCORE TALLER'!$AM$2:$AN$10,2,TRUE)*BF$2 -> 0.5 | BG70: =+SUM(AM70:BF70) -> 2.32 | BH70: =VLOOKUP(BG70,'SCORE TALLER'!$AP$2:$AQ$7,2,TRUE) -> 3. Medio | BI70: =+T70 -> LBZ | BJ70: =+U70 -> A | BK70: =+AF70 -> E | BL70: =+H70 -> 0 | BM70: =+Q70 -> 6049000
A71: 2224622286 | B71: ASOCIADO 67 | C71: 1. SI | D71: 5. >$2-$5 MM | E71: 376580 | F71: 3647838 | G71: =+IF(F71>M71+100000,F71-M71,0) -> 2096209 | H71: =IF(G71>L71+100000,G71-L71,0) -> 556209 | I71: 3648000 | J71: 142213 | K71: 0 | L71: 1540000 | M71: 1551629 | N71: =VLOOKUP(AD71,'tabla ingresos'!$A$3:$D$15,4,FALSE) -> 2000000 | O71: 354204.57 | P71: 14961000 | Q71: 12067000 | R71: 76130 | S71: 6- pignoración | T71: LBZ | U71: A | V71: 4 | W71: 0 | X71: 0 | Y71: 2.5616438 | Z71: 37.972603 | AA71: 1 | AB71: 2 | AC71: 2 | AD71: 3 | AE71: 3 | AF71: E | AG71: =+(O71+J71)/(N71*1.5) -> 0.16547252 | AH71: =+(P71+F71)/(N71*1.5) -> 6.202946 | AI71: =+(E71+M71)/(N71*1.5) -> 0.64273633 | AJ71: =+G71/(N71*1.5) -> 0.69873633 | AK71: =+H71/(N71*1.5) -> 0.185403 | AL71: =+Q71/(N71*1.5) -> 4.0223333 | AM71: =VLOOKUP(AG71,'SCORE TALLER'!$AC$2:$AD$10,2,TRUE)*AM$2 -> 0 | AN71: =VLOOKUP(AD71,'SCORE TALLER'!$W$2:$X$10,2,TRUE)*AN$2 -> 0.32 | AO71: =VLOOKUP(AB71,'SCORE TALLER'!$S$2:$T$10,2,FALSE)*AO$2 -> 0.04 | AP71: =VLOOKUP(AH71,'SCORE TALLER'!$AE$2:$AF$10,2,TRUE)*AP$2 -> 0.08 | AQ71: =VLOOKUP(AI71,'SCORE TALLER'!$AG$2:$AH$10,2,TRUE)*AQ$2 -> 0.4 | AR71: =VLOOKUP(AC71,'SCORE TALLER'!$U$2:$V$10,2,FALSE)*AR$2 -> 0.04 | AS71: =VLOOKUP(AE71,'SCORE TALLER'!$Y$2:$Z$10,2,FALSE)*AS$2 -> 0.02 | AT71: =VLOOKUP(Z71,'SCORE TALLER'!$O$2:$P$10,2,TRUE)*AT$2 -> 0.03 | AU71: =VLOOKUP(S71,'SCORE TALLER'!$A$2:$B$10,2,FALSE)*AU$2 -> 0.15 | AV71: =VLOOKUP(AJ71,'SCORE TALLER'!$AI$2:$AJ$10,2,TRUE)*AV$2 -> 0.25 | AW71: =VLOOKUP(AK71,'SCORE TALLER'!$AK$2:$AL$10,2,TRUE)*AW$2 -> 0.25 | AX71: =VLOOKUP(T71,'SCORE TALLER'!$C$2:$D$10,2,FALSE)*AX$2 -> 0 | AY71: =VLOOKUP(W71,'SCORE TALLER'!$I$2:$J$10,2,TRUE)*AY$2 -> 0 | AZ71: =VLOOKUP(X71,'SCORE TALLER'!$K$2:$L$10,2,TRUE)*AZ$2 -> 0 | BA71: =VLOOKUP(U71,'SCORE TALLER'!$E$2:$F$10,2,FALSE)*BA$2 -> 0 | BB71: =VLOOKUP(Y71,'SCORE TALLER'!$M$2:$N$10,2,TRUE)*BB$2 -> 0.04 | BC71: =VLOOKUP(AA71,'SCORE TALLER'!$Q$2:$R$10,2,FALSE)*BC$2 -> 0.05 | BD71: =VLOOKUP(V71,'SCORE TALLER'!$G$2:$H$10,2,FALSE)*BD$2 -> 0 | BE71: =VLOOKUP(AF71,'SCORE TALLER'!$AA$2:$AB$10,2,FALSE)*BE$2 -> 0.5 | BF71: =VLOOKUP(AL71,'SCORE TALLER'!$AM$2:$AN$10,2,TRUE)*BF$2 -> 0.5 | BG71: =+SUM(AM71:BF71) -> 2.67 | BH71: =VLOOKUP(BG71,'SCORE TALLER'!$AP$2:$AQ$7,2,TRUE) -> 4. Alto | BI71: =+T71 -> LBZ | BJ71: =+U71 -> A | BK71: =+AF71 -> E | BL71: =+H71 -> 556209 | BM71: =+Q71 -> 12067000
A72: 6406602 | B72: ASOCIADO 68 | C72: 1. SI | D72: 6. >$5-$10 MM | F72: 13035123 | G72: =+IF(F72>M72+100000,F72-M72,0) -> 8186378 | H72: =IF(G72>L72+100000,G72-L72,0) -> 1326378 | I72: 13035000 | J72: 317718 | K72: 0 | L72: 6860000 | M72: 4848745 | N72: =VLOOKUP(AD72,'tabla ingresos'!$A$3:$D$15,4,FALSE) -> 1000000 | O72: 682828.44 | P72: 50022000 | Q72: 6032000 | R72: 76130 | S72: 6- pignoración | T72: LBZ | U72: A | V72: 4 | W72: 0 | X72: 0 | Y72: 8.3835616 | Z72: 41.265753 | AA72: 1 | AB72: 2 | AC72: 1 | AD72: 2 | AE72: 2 | AF72: E | AG72: =+(O72+J72)/(N72*1.5) -> 0.66703096 | AH72: =+(P72+F72)/(N72*1.5) -> 42.038082 | AI72: =+(E72+M72)/(N72*1.5) -> 3.2324967 | AJ72: =+G72/(N72*1.5) -> 5.4575853 | AK72: =+H72/(N72*1.5) -> 0.884252 | AL72: =+Q72/(N72*1.5) -> 4.0213333 | AM72: =VLOOKUP(AG72,'SCORE TALLER'!$AC$2:$AD$10,2,TRUE)*AM$2 -> 0.16 | AN72: =VLOOKUP(AD72,'SCORE TALLER'!$W$2:$X$10,2,TRUE)*AN$2 -> 0.32 | AO72: =VLOOKUP(AB72,'SCORE TALLER'!$S$2:$T$10,2,FALSE)*AO$2 -> 0.04 | AP72: =VLOOKUP(AH72,'SCORE TALLER'!$AE$2:$AF$10,2,TRUE)*AP$2 -> 0.4 | AQ72: =VLOOKUP(AI72,'SCORE TALLER'!$AG$2:$AH$10,2,TRUE)*AQ$2 -> 0.16 | AR72: =VLOOKUP(AC72,'SCORE TALLER'!$U$2:$V$10,2,FALSE)*AR$2 -> 0.05 | AS72: =VLOOKUP(AE72,'SCORE TALLER'!$Y$2:$Z$10,2,FALSE)*AS$2 -> 0.01 | AT72: =VLOOKUP(Z72,'SCORE TALLER'!$O$2:$P$10,2,TRUE)*AT$2 -> 0.03 | AU72: =VLOOKUP(S72,'SCORE TALLER'!$A$2:$B$10,2,FALSE)*AU$2 -> 0.15 | AV72: =VLOOKUP(AJ72,'SCORE TALLER'!$AI$2:$AJ$10,2,TRUE)*AV$2 -> 0 | AW72: =VLOOKUP(AK72,'SCORE TALLER'!$AK$2:$AL$10,2,TRUE)*AW$2 -> 0.25 | AX72: =VLOOKUP(T72,'SCORE TALLER'!$C$2:$D$10,2,FALSE)*AX$2 -> 0 | AY72: =VLOOKUP(W72,'SCORE TALLER'!$I$2:$J$10,2,TRUE)*AY$2 -> 0 | AZ72: =VLOOKUP(X72,'SCORE TALLER'!$K$2:$L$10,2,TRUE)*AZ$2 -> 0 | BA72: =VLOOKUP(U72,'SCORE TALLER'!$E$2:$F$10,2,FALSE)*BA$2 -> 0 | BB72: =VLOOKUP(Y72,'SCORE TALLER'!$M$2:$N$10,2,TRUE)*BB$2 -> 0.01 | BC72: =VLOOKUP(AA72,'SCORE TALLER'!$Q$2:$R$10,2,FALSE)*BC$2 -> 0.05 | BD72: =VLOOKUP(V72,'SCORE TALLER'!$G$2:$H$10,2,FALSE)*BD$2 -> 0 | BE72: =VLOOKUP(AF72,'SCORE TALLER'!$AA$2:$AB$10,2,FALSE)*BE$2 -> 0.5 | BF72: =VLOOKUP(AL72,'SCORE TALLER'!$AM$2:$AN$10,2,TRUE)*BF$2 -> 0.5 | BG72: =+SUM(AM72:BF72) -> 2.63 | BH72: =VLOOKUP(BG72,'SCORE TALLER'!$AP$2:$AQ$7,2,TRUE) -> 4. Alto | BI72: =+T72 -> LBZ | BJ72: =+U72 -> A | BK72: =+AF72 -> E | BL72: =+H72 -> 1326378 | BM72: =+Q72 -> 6032000
A73: 42666600 | B73: ASOCIADO 69 | C73: 1. SI | D73: 5. >$2-$5 MM | F73: 5848041 | G73: =+IF(F73>M73+100000,F73-M73,0) -> 3553196 | H73: =IF(G73>L73+100000,G73-L73,0) -> 0 | I73: 5849000 | J73: 300567 | K73: 0 | L73: 4409924 | M73: 2294845 | N73: =VLOOKUP(AD73,'tabla ingresos'!$A$3:$D$15,4,FALSE) -> 1000000 | O73: 128506.17 | P73: 5777000 | Q73: 5777000 | R73: 76111 | S73: 6- pignoración | T73: LBZ | U73: A | V73: 4 | W73: 0 | X73: 0 | Y73: 5.2493151 | Z73: 38.449315 | AA73: 2 | AB73: 0 | AC73: 1 | AD73: 2 | AE73: 1 | AF73: E | AG73: =+(O73+J73)/(N73*1.5) -> 0.28604878 | AH73: =+(P73+F73)/(N73*1.5) -> 7.7500273 | AI73: =+(E73+M73)/(N73*1.5) -> 1.5298967 | AJ73: =+G73/(N73*1.5) -> 2.3687973 | AK73: =+H73/(N73*1.5) -> 0 | AL73: =+Q73/(N73*1.5) -> 3.8513333 | AM73: =VLOOKUP(AG73,'SCORE TALLER'!$AC$2:$AD$10,2,TRUE)*AM$2 -> 0 | AN73: =VLOOKUP(AD73,'SCORE TALLER'!$W$2:$X$10,2,TRUE)*AN$2 -> 0.32 | AO73: =VLOOKUP(AB73,'SCORE TALLER'!$S$2:$T$10,2,FALSE)*AO$2 -> 0.05 | AP73: =VLOOKUP(AH73,'SCORE TALLER'!$AE$2:$AF$10,2,TRUE)*AP$2 -> 0.08 | AQ73: =VLOOKUP(AI73,'SCORE TALLER'!$AG$2:$AH$10,2,TRUE)*AQ$2 -> 0.32 | AR73: =VLOOKUP(AC73,'SCORE TALLER'!$U$2:$V$10,2,FALSE)*AR$2 -> 0.05 | AS73: =VLOOKUP(AE73,'SCORE TALLER'!$Y$2:$Z$10,2,FALSE)*AS$2 -> 0.03 | AT73: =VLOOKUP(Z73,'SCORE TALLER'!$O$2:$P$10,2,TRUE)*AT$2 -> 0.03 | AU73: =VLOOKUP(S73,'SCORE TALLER'!$A$2:$B$10,2,FALSE)*AU$2 -> 0.15 | AV73: =VLOOKUP(AJ73,'SCORE TALLER'!$AI$2:$AJ$10,2,TRUE)*AV$2 -> 0.15 | AW73: =VLOOKUP(AK73,'SCORE TALLER'!$AK$2:$AL$10,2,TRUE)*AW$2 -> 0.25 | AX73: =VLOOKUP(T73,'SCORE TALLER'!$C$2:$D$10,2,FALSE)*AX$2 -> 0 | AY73: =VLOOKUP(W73,'SCORE TALLER'!$I$2:$J$10,2,TRUE)*AY$2 -> 0 | AZ73: =VLOOKUP(X73,'SCORE TALLER'!$K$2:$L$10,2,TRUE)*AZ$2 -> 0 | BA73: =VLOOKUP(U73,'SCORE TALLER'!$E$2:$F$10,2,FALSE)*BA$2 -> 0 | BB73: =VLOOKUP(Y73,'SCORE TALLER'!$M$2:$N$10,2,TRUE)*BB$2 -> 0.03 | BC73: =VLOOKUP(AA73,'SCORE TALLER'!$Q$2:$R$10,2,FALSE)*BC$2 -> 0 | BD73: =VLOOKUP(V73,'SCORE TALLER'!$G$2:$H$10,2,FALSE)*BD$2 -> 0 | BE73: =VLOOKUP(AF73,'SCORE TALLER'!$AA$2:$AB$10,2,FALSE)*BE$2 -> 0.5 | BF73: =VLOOKUP(AL73,'SCORE TALLER'!$AM$2:$AN$10,2,TRUE)*BF$2 -> 0.5 | BG73: =+SUM(AM73:BF73) -> 2.46 | BH73: =VLOOKUP(BG73,'SCORE TALLER'!$AP$2:$AQ$7,2,TRUE) -> 3. Medio | BI73: =+T73 -> LBZ | BJ73: =+U73 -> A | BK73: =+AF73 -> E | BL73: =+H73 -> 0 | BM73: =+Q73 -> 5777000
A74: 2006288846 | B74: ASOCIADO 70 | C74: 1. SI | D74: 5. >$2-$5 MM | F74: 5528980 | G74: =+IF(F74>M74+100000,F74-M74,0) -> 2502160 | H74: =IF(G74>L74+100000,G74-L74,0) -> 1302160 | I74: 5529000 | J74: 199311 | K74: 0 | L74: 1200000 | M74: 3026820 | N74: =VLOOKUP(AD74,'tabla ingresos'!$A$3:$D$15,4,FALSE) -> 1000000 | O74: 181131.23 | P74: 7098000 | Q74: 5730000 | R74: 68255 | S74: 6- pignoración | T74: LBZ | U74: A | V74: 4 | W74: 0 | X74: 0 | Y74: 5.3643836 | Z74: 27.734247 | AA74: 2 | AB74: 2 | AC74: 2 | AD74: 2 | AE74: 3 | AF74: D | AG74: =+(O74+J74)/(N74*1.5) -> 0.25362815 | AH74: =+(P74+F74)/(N74*1.5) -> 8.4179867 | AI74: =+(E74+M74)/(N74*1.5) -> 2.01788 | AJ74: =+G74/(N74*1.5) -> 1.6681067 | AK74: =+H74/(N74*1.5) -> 0.86810667 | AL74: =+Q74/(N74*1.5) -> 3.82 | AM74: =VLOOKUP(AG74,'SCORE TALLER'!$AC$2:$AD$10,2,TRUE)*AM$2 -> 0 | AN74: =VLOOKUP(AD74,'SCORE TALLER'!$W$2:$X$10,2,TRUE)*AN$2 -> 0.32 | AO74: =VLOOKUP(AB74,'SCORE TALLER'!$S$2:$T$10,2,FALSE)*AO$2 -> 0.04 | AP74: =VLOOKUP(AH74,'SCORE TALLER'!$AE$2:$AF$10,2,TRUE)*AP$2 -> 0.08 | AQ74: =VLOOKUP(AI74,'SCORE TALLER'!$AG$2:$AH$10,2,TRUE)*AQ$2 -> 0.24 | AR74: =VLOOKUP(AC74,'SCORE TALLER'!$U$2:$V$10,2,FALSE)*AR$2 -> 0.04 | AS74: =VLOOKUP(AE74,'SCORE TALLER'!$Y$2:$Z$10,2,FALSE)*AS$2 -> 0.02 | AT74: =VLOOKUP(Z74,'SCORE TALLER'!$O$2:$P$10,2,TRUE)*AT$2 -> 0.04 | AU74: =VLOOKUP(S74,'SCORE TALLER'!$A$2:$B$10,2,FALSE)*AU$2 -> 0.15 | AV74: =VLOOKUP(AJ74,'SCORE TALLER'!$AI$2:$AJ$10,2,TRUE)*AV$2 -> 0.2 | AW74: =VLOOKUP(AK74,'SCORE TALLER'!$AK$2:$AL$10,2,TRUE)*AW$2 -> 0.25 | AX74: =VLOOKUP(T74,'SCORE TALLER'!$C$2:$D$10,2,FALSE)*AX$2 -> 0 | AY74: =VLOOKUP(W74,'SCORE TALLER'!$I$2:$J$10,2,TRUE)*AY$2 -> 0 | AZ74: =VLOOKUP(X74,'SCORE TALLER'!$K$2:$L$10,2,TRUE)*AZ$2 -> 0 | BA74: =VLOOKUP(U74,'SCORE TALLER'!$E$2:$F$10,2,FALSE)*BA$2 -> 0 | BB74: =VLOOKUP(Y74,'SCORE TALLER'!$M$2:$N$10,2,TRUE)*BB$2 -> 0.03 | BC74: =VLOOKUP(AA74,'SCORE TALLER'!$Q$2:$R$10,2,FALSE)*BC$2 -> 0 | BD74: =VLOOKUP(V74,'SCORE TALLER'!$G$2:$H$10,2,FALSE)*BD$2 -> 0 | BE74: =VLOOKUP(AF74,'SCORE TALLER'!$AA$2:$AB$10,2,FALSE)*BE$2 -> 0.5 | BF74: =VLOOKUP(AL74,'SCORE TALLER'!$AM$2:$AN$10,2,TRUE)*BF$2 -> 0.5 | BG74: =+SUM(AM74:BF74) -> 2.41 | BH74: =VLOOKUP(BG74,'SCORE TALLER'!$AP$2:$AQ$7,2,TRUE) -> 3. Medio | BI74: =+T74 -> LBZ | BJ74: =+U74 -> A | BK74: =+AF74 -> D | BL74: =+H74 -> 1302160 | BM74: =+Q74 -> 5730000
A75: 2262044204 | B75: ASOCIADO 71 | C75: 1. SI | D75: 6. >$5-$10 MM | E75: 336110 | F75: 12757334 | G75: =+IF(F75>M75+100000,F75-M75,0) -> 9579231 | H75: =IF(G75>L75+100000,G75-L75,0) -> 3877919 | I75: 1538000 | J75: 549480 | K75: 0 | L75: 5701312 | M75: 3178103 | N75: =VLOOKUP(AD75,'tabla ingresos'!$A$3:$D$15,4,FALSE) -> 2000000 | O75: 583509.28 | P75: 19734000 | Q75: 11226000 | R75: 76001 | S75: 6- pignoración | T75: LBZ | U75: A | V75: 4 | W75: 0 | X75: 0 | Y75: 5.3342466 | Z75: 31.890411 | AA75: 1 | AB75: 4 | AC75: 3 | AD75: 3 | AE75: 1 | AF75: E | AG75: =+(O75+J75)/(N75*1.5) -> 0.37766309 | AH75: =+(P75+F75)/(N75*1.5) -> 10.830445 | AI75: =+(E75+M75)/(N75*1.5) -> 1.1714043 | AJ75: =+G75/(N75*1.5) -> 3.193077 | AK75: =+H75/(N75*1.5) -> 1.2926397 | AL75: =+Q75/(N75*1.5) -> 3.742 | AM75: =VLOOKUP(AG75,'SCORE TALLER'!$AC$2:$AD$10,2,TRUE)*AM$2 -> 0 | AN75: =VLOOKUP(AD75,'SCORE TALLER'!$W$2:$X$10,2,TRUE)*AN$2 -> 0.32 | AO75: =VLOOKUP(AB75,'SCORE TALLER'!$S$2:$T$10,2,FALSE)*AO$2 -> 0.02 | AP75: =VLOOKUP(AH75,'SCORE TALLER'!$AE$2:$AF$10,2,TRUE)*AP$2 -> 0.16 | AQ75: =VLOOKUP(AI75,'SCORE TALLER'!$AG$2:$AH$10,2,TRUE)*AQ$2 -> 0.32 | AR75: =VLOOKUP(AC75,'SCORE TALLER'!$U$2:$V$10,2,FALSE)*AR$2 -> 0.03 | AS75: =VLOOKUP(AE75,'SCORE TALLER'!$Y$2:$Z$10,2,FALSE)*AS$2 -> 0.03 | AT75: =VLOOKUP(Z75,'SCORE TALLER'!$O$2:$P$10,2,TRUE)*AT$2 -> 0.04 | AU75: =VLOOKUP(S75,'SCORE TALLER'!$A$2:$B$10,2,FALSE)*AU$2 -> 0.15 | AV75: =VLOOKUP(AJ75,'SCORE TALLER'!$AI$2:$AJ$10,2,TRUE)*AV$2 -> 0.1 | AW75: =VLOOKUP(AK75,'SCORE TALLER'!$AK$2:$AL$10,2,TRUE)*AW$2 -> 0.2 | AX75: =VLOOKUP(T75,'SCORE TALLER'!$C$2:$D$10,2,FALSE)*AX$2 -> 0 | AY75: =VLOOKUP(W75,'SCORE TALLER'!$I$2:$J$10,2,TRUE)*AY$2 -> 0 | AZ75: =VLOOKUP(X75,'SCORE TALLER'!$K$2:$L$10,2,TRUE)*AZ$2 -> 0 | BA75: =VLOOKUP(U75,'SCORE TALLER'!$E$2:$F$10,2,FALSE)*BA$2 -> 0 | BB75: =VLOOKUP(Y75,'SCORE TALLER'!$M$2:$N$10,2,TRUE)*BB$2 -> 0.03 | BC75: =VLOOKUP(AA75,'SCORE TALLER'!$Q$2:$R$10,2,FALSE)*BC$2 -> 0.05 | BD75: =VLOOKUP(V75,'SCORE TALLER'!$G$2:$H$10,2,FALSE)*BD$2 -> 0 | BE75: =VLOOKUP(AF75,'SCORE TALLER'!$AA$2:$AB$10,2,FALSE)*BE$2 -> 0.5 | BF75: =VLOOKUP(AL75,'SCORE TALLER'!$AM$2:$AN$10,2,TRUE)*BF$2 -> 0.5 | BG75: =+SUM(AM75:BF75) -> 2.45 | BH75: =VLOOKUP(BG75,'SCORE TALLER'!$AP$2:$AQ$7,2,TRUE) -> 3. Medio | BI75: =+T75 -> LBZ | BJ75: =+U75 -> A | BK75: =+AF75 -> E | BL75: =+H75 -> 3877919 | BM75: =+Q75 -> 11226000
A76: 82408020 | B76: ASOCIADO 72 | C76: 1. SI | D76: 5. >$2-$5 MM | F76: 5946352 | G76: =+IF(F76>M76+100000,F76-M76,0) -> 3757532 | H76: =IF(G76>L76+100000,G76-L76,0) -> 2007532 | I76: 5946000 | J76: 207012 | K76: 0 | L76: 1750000 | M76: 2188820 | N76: =VLOOKUP(AD76,'tabla ingresos'!$A$3:$D$15,4,FALSE) -> 1000000 | O76: 336618.52 | P76: 13813000 | Q76: 5611000 | R76: 8558 | S76: 6- pignoración | T76: LBZ | U76: A | V76: 4 | W76: 0 | X76: 0 | Y76: 5.7945205 | Z76: 41.613699 | AA76: 1 | AB76: 2 | AC76: 1 | AD76: 2 | AE76: 3 | AF76: C | AG76: =+(O76+J76)/(N76*1.5) -> 0.36242035 | AH76: =+(P76+F76)/(N76*1.5) -> 13.172901 | AI76: =+(E76+M76)/(N76*1.5) -> 1.4592133 | AJ76: =+G76/(N76*1.5) -> 2.5050213 | AK76: =+H76/(N76*1.5) -> 1.3383547 | AL76: =+Q76/(N76*1.5) -> 3.7406667 | AM76: =VLOOKUP(AG76,'SCORE TALLER'!$AC$2:$AD$10,2,TRUE)*AM$2 -> 0 | AN76: =VLOOKUP(AD76,'SCORE TALLER'!$W$2:$X$10,2,TRUE)*AN$2 -> 0.32 | AO76: =VLOOKUP(AB76,'SCORE TALLER'!$S$2:$T$10,2,FALSE)*AO$2 -> 0.04 | AP76: =VLOOKUP(AH76,'SCORE TALLER'!$AE$2:$AF$10,2,TRUE)*AP$2 -> 0.16 | AQ76: =VLOOKUP(AI76,'SCORE TALLER'!$AG$2:$AH$10,2,TRUE)*AQ$2 -> 0.32 | AR76: =VLOOKUP(AC76,'SCORE TALLER'!$U$2:$V$10,2,FALSE)*AR$2 -> 0.05 | AS76: =VLOOKUP(AE76,'SCORE TALLER'!$Y$2:$Z$10,2,FALSE)*AS$2 -> 0.02 | AT76: =VLOOKUP(Z76,'SCORE TALLER'!$O$2:$P$10,2,TRUE)*AT$2 -> 0.03 | AU76: =VLOOKUP(S76,'SCORE TALLER'!$A$2:$B$10,2,FALSE)*AU$2 -> 0.15 | AV76: =VLOOKUP(AJ76,'SCORE TALLER'!$AI$2:$AJ$10,2,TRUE)*AV$2 -> 0.15 | AW76: =VLOOKUP(AK76,'SCORE TALLER'!$AK$2:$AL$10,2,TRUE)*AW$2 -> 0.2 | AX76: =VLOOKUP(T76,'SCORE TALLER'!$C$2:$D$10,2,FALSE)*AX$2 -> 0 | AY76: =VLOOKUP(W76,'SCORE TALLER'!$I$2:$J$10,2,TRUE)*AY$2 -> 0 | AZ76: =VLOOKUP(X76,'SCORE TALLER'!$K$2:$L$10,2,TRUE)*AZ$2 -> 0 | BA76: =VLOOKUP(U76,'SCORE TALLER'!$E$2:$F$10,2,FALSE)*BA$2 -> 0 | BB76: =VLOOKUP(Y76,'SCORE TALLER'!$M$2:$N$10,2,TRUE)*BB$2 -> 0.03 | BC76: =VLOOKUP(AA76,'SCORE TALLER'!$Q$2:$R$10,2,FALSE)*BC$2 -> 0.05 | BD76: =VLOOKUP(V76,'SCORE TALLER'!$G$2:$H$10,2,FALSE)*BD$2 -> 0 | BE76: =VLOOKUP(AF76,'SCORE TALLER'!$AA$2:$AB$10,2,FALSE)*BE$2 -> 0.3 | BF76: =VLOOKUP(AL76,'SCORE TALLER'!$AM$2:$AN$10,2,TRUE)*BF$2 -> 0.5 | BG76: =+SUM(AM76:BF76) -> 2.32 | BH76: =VLOOKUP(BG76,'SCORE TALLER'!$AP$2:$AQ$7,2,TRUE) -> 3. Medio | BI76: =+T76 -> LBZ | BJ76: =+U76 -> A | BK76: =+AF76 -> C | BL76: =+H76 -> 2007532 | BM76: =+Q76 -> 5611000
A77: 2224626462 | B77: ASOCIADO 73 | C77: 1. SI | D77: 5. >$2-$5 MM | E77: 63757 | F77: 6168601 | G77: =+IF(F77>M77+100000,F77-M77,0) -> 2446832 | H77: =IF(G77>L77+100000,G77-L77,0) -> 0 | I77: 6169000 | J77: 178165 | K77: 0 | L77: 2736822 | M77: 3721769 | N77: =VLOOKUP(AD77,'tabla ingresos'!$A$3:$D$15,4,FALSE) -> 1000000 | O77: 120587.15 | P77: 5421000 | Q77: 5421000 | R77: 76001 | S77: 6- pignoración | T77: LBZ | U77: A | V77: 4 | W77: 0 | X77: 0 | Y77: 7.3369863 | Z77: 29.830137 | AA77: 1 | AB77: 0 | AC77: 1 | AD77: 2 | AE77: 6 | AF77: E | AG77: =+(O77+J77)/(N77*1.5) -> 0.1991681 | AH77: =+(P77+F77)/(N77*1.5) -> 7.7264007 | AI77: =+(E77+M77)/(N77*1.5) -> 2.523684 | AJ77: =+G77/(N77*1.5) -> 1.6312213 | AK77: =+H77/(N77*1.5) -> 0 | AL77: =+Q77/(N77*1.5) -> 3.614 | AM77: =VLOOKUP(AG77,'SCORE TALLER'!$AC$2:$AD$10,2,TRUE)*AM$2 -> 0 | AN77: =VLOOKUP(AD77,'SCORE TALLER'!$W$2:$X$10,2,TRUE)*AN$2 -> 0.32 | AO77: =VLOOKUP(AB77,'SCORE TALLER'!$S$2:$T$10,2,FALSE)*AO$2 -> 0.05 | AP77: =VLOOKUP(AH77,'SCORE TALLER'!$AE$2:$AF$10,2,TRUE)*AP$2 -> 0.08 | AQ77: =VLOOKUP(AI77,'SCORE TALLER'!$AG$2:$AH$10,2,TRUE)*AQ$2 -> 0.24 | AR77: =VLOOKUP(AC77,'SCORE TALLER'!$U$2:$V$10,2,FALSE)*AR$2 -> 0.05 | AS77: =VLOOKUP(AE77,'SCORE TALLER'!$Y$2:$Z$10,2,FALSE)*AS$2 -> 0 | AT77: =VLOOKUP(Z77,'SCORE TALLER'!$O$2:$P$10,2,TRUE)*AT$2 -> 0.04 | AU77: =VLOOKUP(S77,'SCORE TALLER'!$A$2:$B$10,2,FALSE)*AU$2 -> 0.15 | AV77: =VLOOKUP(AJ77,'SCORE TALLER'!$AI$2:$AJ$10,2,TRUE)*AV$2 -> 0.2 | AW77: =VLOOKUP(AK77,'SCORE TALLER'!$AK$2:$AL$10,2,TRUE)*AW$2 -> 0.25 | AX77: =VLOOKUP(T77,'SCORE TALLER'!$C$2:$D$10,2,FALSE)*AX$2 -> 0 | AY77: =VLOOKUP(W77,'SCORE TALLER'!$I$2:$J$10,2,TRUE)*AY$2 -> 0 | AZ77: =VLOOKUP(X77,'SCORE TALLER'!$K$2:$L$10,2,TRUE)*AZ$2 -> 0 | BA77: =VLOOKUP(U77,'SCORE TALLER'!$E$2:$F$10,2,FALSE)*BA$2 -> 0 | BB77: =VLOOKUP(Y77,'SCORE TALLER'!$M$2:$N$10,2,TRUE)*BB$2 -> 0.02 | BC77: =VLOOKUP(AA77,'SCORE TALLER'!$Q$2:$R$10,2,FALSE)*BC$2 -> 0.05 | BD77: =VLOOKUP(V77,'SCORE TALLER'!$G$2:$H$10,2,FALSE)*BD$2 -> 0 | BE77: =VLOOKUP(AF77,'SCORE TALLER'!$AA$2:$AB$10,2,FALSE)*BE$2 -> 0.5 | BF77: =VLOOKUP(AL77,'SCORE TALLER'!$AM$2:$AN$10,2,TRUE)*BF$2 -> 0.5 | BG77: =+SUM(AM77:BF77) -> 2.45 | BH77: =VLOOKUP(BG77,'SCORE TALLER'!$AP$2:$AQ$7,2,TRUE) -> 3. Medio | BI77: =+T77 -> LBZ | BJ77: =+U77 -> A | BK77: =+AF77 -> E | BL77: =+H77 -> 0 | BM77: =+Q77 -> 5421000
A78: 2046600402 | B78: ASOCIADO 74 | C78: 1. SI | D78: 5. >$2-$5 MM | F78: 3770983 | G78: =+IF(F78>M78+100000,F78-M78,0) -> 2262863 | H78: =IF(G78>L78+100000,G78-L78,0) -> 2262863 | I78: 3771000 | J78: 131280 | K78: 0 | L78: 0 | M78: 1508120 | N78: =VLOOKUP(AD78,'tabla ingresos'!$A$3:$D$15,4,FALSE) -> 1000000 | O78: 987914.3 | P78: 70038000 | Q78: 70038000 | R78: 11001 | S78: 9- Otras garantías (no admisible) | T78: LBZ | U78: A | V78: 4 | W78: 0 | X78: 0 | Y78: 3.8575342 | Z78: 35.657534 | AA78: 1 | AB78: 2 | AC78: 1 | AD78: 2 | AE78: 3 | AF78: E | AG78: =+(O78+J78)/(N78*1.5) -> 0.74612953 | AH78: =+(P78+F78)/(N78*1.5) -> 49.205989 | AI78: =+(E78+M78)/(N78*1.5) -> 1.0054133 | AJ78: =+G78/(N78*1.5) -> 1.5085753 | AK78: =+H78/(N78*1.5) -> 1.5085753 | AL78: =+Q78/(N78*1.5) -> 46.692 | AM78: =VLOOKUP(AG78,'SCORE TALLER'!$AC$2:$AD$10,2,TRUE)*AM$2 -> 0.24 | AN78: =VLOOKUP(AD78,'SCORE TALLER'!$W$2:$X$10,2,TRUE)*AN$2 -> 0.32 | AO78: =VLOOKUP(AB78,'SCORE TALLER'!$S$2:$T$10,2,FALSE)*AO$2 -> 0.04 | AP78: =VLOOKUP(AH78,'SCORE TALLER'!$AE$2:$AF$10,2,TRUE)*AP$2 -> 0.4 | AQ78: =VLOOKUP(AI78,'SCORE TALLER'!$AG$2:$AH$10,2,TRUE)*AQ$2 -> 0.32 | AR78: =VLOOKUP(AC78,'SCORE TALLER'!$U$2:$V$10,2,FALSE)*AR$2 -> 0.05 | AS78: =VLOOKUP(AE78,'SCORE TALLER'!$Y$2:$Z$10,2,FALSE)*AS$2 -> 0.02 | AT78: =VLOOKUP(Z78,'SCORE TALLER'!$O$2:$P$10,2,TRUE)*AT$2 -> 0.03 | AU78: =VLOOKUP(S78,'SCORE TALLER'!$A$2:$B$10,2,FALSE)*AU$2 -> 0.25 | AV78: =VLOOKUP(AJ78,'SCORE TALLER'!$AI$2:$AJ$10,2,TRUE)*AV$2 -> 0.2 | AW78: =VLOOKUP(AK78,'SCORE TALLER'!$AK$2:$AL$10,2,TRUE)*AW$2 -> 0.2 | AX78: =VLOOKUP(T78,'SCORE TALLER'!$C$2:$D$10,2,FALSE)*AX$2 -> 0 | AY78: =VLOOKUP(W78,'SCORE TALLER'!$I$2:$J$10,2,TRUE)*AY$2 -> 0 | AZ78: =VLOOKUP(X78,'SCORE TALLER'!$K$2:$L$10,2,TRUE)*AZ$2 -> 0 | BA78: =VLOOKUP(U78,'SCORE TALLER'!$E$2:$F$10,2,FALSE)*BA$2 -> 0 | BB78: =VLOOKUP(Y78,'SCORE TALLER'!$M$2:$N$10,2,TRUE)*BB$2 -> 0.04 | BC78: =VLOOKUP(AA78,'SCORE TALLER'!$Q$2:$R$10,2,FALSE)*BC$2 -> 0.05 | BD78: =VLOOKUP(V78,'SCORE TALLER'!$G$2:$H$10,2,FALSE)*BD$2 -> 0 | BE78: =VLOOKUP(AF78,'SCORE TALLER'!$AA$2:$AB$10,2,FALSE)*BE$2 -> 0.5 | BF78: =VLOOKUP(AL78,'SCORE TALLER'!$AM$2:$AN$10,2,TRUE)*BF$2 -> 0.5 | BG78: =+SUM(AM78:BF78) -> 3.16 | BH78: =VLOOKUP(BG78,'SCORE TALLER'!$AP$2:$AQ$7,2,TRUE) -> 5. Crítico | BI78: =+T78 -> LBZ | BJ78: B | BK78: =+AF78 -> E | BL78: =+H78 -> 2262863 | BM78: =+Q78 -> 70038000
A79: 2224620600 | B79: ASOCIADO 75 | C79: 1. SI | D79: 6. >$5-$10 MM | E79: 1050 | F79: 7912094 | G79: =+IF(F79>M79+100000,F79-M79,0) -> 5165549 | H79: =IF(G79>L79+100000,G79-L79,0) -> 2095549 | I79: 4420000 | J79: 415996 | K79: 0 | L79: 3070000 | M79: 2746545 | N79: =VLOOKUP(AD79,'tabla ingresos'!$A$3:$D$15,4,FALSE) -> 1000000 | O79: 118807.6 | P79: 5341000 | Q79: 5341000 | R79: 76563 | S79: 6- pignoración | T79: LBZ | U79: A | V79: 4 | W79: 0 | X79: 0 | Y79: 0.59726027 | Z79: 32.087671 | AA79: 1 | AB79: 1 | AC79: 2 | AD79: 2 | AE79: 1 | AF79: E | AG79: =+(O79+J79)/(N79*1.5) -> 0.35653573 | AH79: =+(P79+F79)/(N79*1.5) -> 8.835396 | AI79: =+(E79+M79)/(N79*1.5) -> 1.83173 | AJ79: =+G79/(N79*1.5) -> 3.4436993 | AK79: =+H79/(N79*1.5) -> 1.3970327 | AL79: =+Q79/(N79*1.5) -> 3.5606667 | AM79: =VLOOKUP(AG79,'SCORE TALLER'!$AC$2:$AD$10,2,TRUE)*AM$2 -> 0 | AN79: =VLOOKUP(AD79,'SCORE TALLER'!$W$2:$X$10,2,TRUE)*AN$2 -> 0.32 | AO79: =VLOOKUP(AB79,'SCORE TALLER'!$S$2:$T$10,2,FALSE)*AO$2 -> 0.05 | AP79: =VLOOKUP(AH79,'SCORE TALLER'!$AE$2:$AF$10,2,TRUE)*AP$2 -> 0.08 | AQ79: =VLOOKUP(AI79,'SCORE TALLER'!$AG$2:$AH$10,2,TRUE)*AQ$2 -> 0.32 | AR79: =VLOOKUP(AC79,'SCORE TALLER'!$U$2:$V$10,2,FALSE)*AR$2 -> 0.04 | AS79: =VLOOKUP(AE79,'SCORE TALLER'!$Y$2:$Z$10,2,FALSE)*AS$2 -> 0.03 | AT79: =VLOOKUP(Z79,'SCORE TALLER'!$O$2:$P$10,2,TRUE)*AT$2 -> 0.04 | AU79: =VLOOKUP(S79,'SCORE TALLER'!$A$2:$B$10,2,FALSE)*AU$2 -> 0.15 | AV79: =VLOOKUP(AJ79,'SCORE TALLER'!$AI$2:$AJ$10,2,TRUE)*AV$2 -> 0.1 | AW79: =VLOOKUP(AK79,'SCORE TALLER'!$AK$2:$AL$10,2,TRUE)*AW$2 -> 0.2 | AX79: =VLOOKUP(T79,'SCORE TALLER'!$C$2:$D$10,2,FALSE)*AX$2 -> 0 | AY79: =VLOOKUP(W79,'SCORE TALLER'!$I$2:$J$10,2,TRUE)*AY$2 -> 0 | AZ79: =VLOOKUP(X79,'SCORE TALLER'!$K$2:$L$10,2,TRUE)*AZ$2 -> 0 | BA79: =VLOOKUP(U79,'SCORE TALLER'!$E$2:$F$10,2,FALSE)*BA$2 -> 0 | BB79: =VLOOKUP(Y79,'SCORE TALLER'!$M$2:$N$10,2,TRUE)*BB$2 -> 0.05 | BC79: =VLOOKUP(AA79,'SCORE TALLER'!$Q$2:$R$10,2,FALSE)*BC$2 -> 0.05 | BD79: =VLOOKUP(V79,'SCORE TALLER'!$G$2:$H$10,2,FALSE)*BD$2 -> 0 | BE79: =VLOOKUP(AF79,'SCORE TALLER'!$AA$2:$AB$10,2,FALSE)*BE$2 -> 0.5 | BF79: =VLOOKUP(AL79,'SCORE TALLER'!$AM$2:$AN$10,2,TRUE)*BF$2 -> 0.5 | BG79: =+SUM(AM79:BF79) -> 2.43 | BH79: =VLOOKUP(BG79,'SCORE TALLER'!$AP$2:$AQ$7,2,TRUE) -> 3. Medio | BI79: =+T79 -> LBZ | BJ79: =+U79 -> A | BK79: =+AF79 -> E | BL79: =+H79 -> 2095549 | BM79: =+Q79 -> 5341000
A80: 44084642 | B80: ASOCIADO 76 | C80: 1. SI | D80: 6. >$5-$10 MM | E80: 770000 | F80: 8458985 | G80: =+IF(F80>M80+100000,F80-M80,0) -> 7112865 | H80: =IF(G80>L80+100000,G80-L80,0) -> 3063443 | I80: 8459000 | J80: 303837 | K80: 0 | L80: 4049422 | M80: 1346120 | N80: =VLOOKUP(AD80,'tabla ingresos'!$A$3:$D$15,4,FALSE) -> 2000000 | O80: 477846.81 | P80: 18064000 | Q80: 10394000 | R80: 5001 | S80: 6- pignoración | T80: LBZ | U80: A | V80: 4 | W80: 0 | X80: 0 | Y80: 3.3671233 | Z80: 37.70137 | AA80: 2 | AB80: 4 | AC80: 2 | AD80: 3 | AE80: 2 | AF80: E | AG80: =+(O80+J80)/(N80*1.5) -> 0.26056127 | AH80: =+(P80+F80)/(N80*1.5) -> 8.840995 | AI80: =+(E80+M80)/(N80*1.5) -> 0.70537333 | AJ80: =+G80/(N80*1.5) -> 2.370955 | AK80: =+H80/(N80*1.5) -> 1.0211477 | AL80: =+Q80/(N80*1.5) -> 3.4646667 | AM80: =VLOOKUP(AG80,'SCORE TALLER'!$AC$2:$AD$10,2,TRUE)*AM$2 -> 0 | AN80: =VLOOKUP(AD80,'SCORE TALLER'!$W$2:$X$10,2,TRUE)*AN$2 -> 0.32 | AO80: =VLOOKUP(AB80,'SCORE TALLER'!$S$2:$T$10,2,FALSE)*AO$2 -> 0.02 | AP80: =VLOOKUP(AH80,'SCORE TALLER'!$AE$2:$AF$10,2,TRUE)*AP$2 -> 0.08 | AQ80: =VLOOKUP(AI80,'SCORE TALLER'!$AG$2:$AH$10,2,TRUE)*AQ$2 -> 0.4 | AR80: =VLOOKUP(AC80,'SCORE TALLER'!$U$2:$V$10,2,FALSE)*AR$2 -> 0.04 | AS80: =VLOOKUP(AE80,'SCORE TALLER'!$Y$2:$Z$10,2,FALSE)*AS$2 -> 0.01 | AT80: =VLOOKUP(Z80,'SCORE TALLER'!$O$2:$P$10,2,TRUE)*AT$2 -> 0.03 | AU80: =VLOOKUP(S80,'SCORE TALLER'!$A$2:$B$10,2,FALSE)*AU$2 -> 0.15 | AV80: =VLOOKUP(AJ80,'SCORE TALLER'!$AI$2:$AJ$10,2,TRUE)*AV$2 -> 0.15 | AW80: =VLOOKUP(AK80,'SCORE TALLER'!$AK$2:$AL$10,2,TRUE)*AW$2 -> 0.2 | AX80: =VLOOKUP(T80,'SCORE TALLER'!$C$2:$D$10,2,FALSE)*AX$2 -> 0 | AY80: =VLOOKUP(W80,'SCORE TALLER'!$I$2:$J$10,2,TRUE)*AY$2 -> 0 | AZ80: =VLOOKUP(X80,'SCORE TALLER'!$K$2:$L$10,2,TRUE)*AZ$2 -> 0 | BA80: =VLOOKUP(U80,'SCORE TALLER'!$E$2:$F$10,2,FALSE)*BA$2 -> 0 | BB80: =VLOOKUP(Y80,'SCORE TALLER'!$M$2:$N$10,2,TRUE)*BB$2 -> 0.04 | BC80: =VLOOKUP(AA80,'SCORE TALLER'!$Q$2:$R$10,2,FALSE)*BC$2 -> 0 | BD80: =VLOOKUP(V80,'SCORE TALLER'!$G$2:$H$10,2,FALSE)*BD$2 -> 0 | BE80: =VLOOKUP(AF80,'SCORE TALLER'!$AA$2:$AB$10,2,FALSE)*BE$2 -> 0.5 | BF80: =VLOOKUP(AL80,'SCORE TALLER'!$AM$2:$AN$10,2,TRUE)*BF$2 -> 0.5 | BG80: =+SUM(AM80:BF80) -> 2.44 | BH80: =VLOOKUP(BG80,'SCORE TALLER'!$AP$2:$AQ$7,2,TRUE) -> 3. Medio | BI80: =+T80 -> LBZ | BJ80: =+U80 -> A | BK80: =+AF80 -> E | BL80: =+H80 -> 3063443 | BM80: =+Q80 -> 10394000
A81: 2228202422 | B81: ASOCIADO 77 | C81: 1. SI | D81: 6. >$5-$10 MM | E81: 960217 | F81: 8400000 | G81: =+IF(F81>M81+100000,F81-M81,0) -> 7193726 | H81: =IF(G81>L81+100000,G81-L81,0) -> 2726583 | I81: 8400000 | J81: 207859 | K81: 0 | L81: 4467143 | M81: 1206274 | N81: =VLOOKUP(AD81,'tabla ingresos'!$A$3:$D$15,4,FALSE) -> 1000000 | O81: 315748.73 | P81: 10227000 | Q81: 5195000 | R81: 76892 | S81: 6- pignoración | T81: LBZ | U81: A | V81: 4 | W81: 0 | X81: 0 | Y81: 3.9643836 | Z81: 32.509589 | AA81: 2 | AB81: 2 | AC81: 2 | AD81: 2 | AE81: 3 | AF81: E | AG81: =+(O81+J81)/(N81*1.5) -> 0.34907182 | AH81: =+(P81+F81)/(N81*1.5) -> 12.418 | AI81: =+(E81+M81)/(N81*1.5) -> 1.4443273 | AJ81: =+G81/(N81*1.5) -> 4.7958173 | AK81: =+H81/(N81*1.5) -> 1.817722 | AL81: =+Q81/(N81*1.5) -> 3.4633333 | AM81: =VLOOKUP(AG81,'SCORE TALLER'!$AC$2:$AD$10,2,TRUE)*AM$2 -> 0 | AN81: =VLOOKUP(AD81,'SCORE TALLER'!$W$2:$X$10,2,TRUE)*AN$2 -> 0.32 | AO81: =VLOOKUP(AB81,'SCORE TALLER'!$S$2:$T$10,2,FALSE)*AO$2 -> 0.04 | AP81: =VLOOKUP(AH81,'SCORE TALLER'!$AE$2:$AF$10,2,TRUE)*AP$2 -> 0.16 | AQ81: =VLOOKUP(AI81,'SCORE TALLER'!$AG$2:$AH$10,2,TRUE)*AQ$2 -> 0.32 | AR81: =VLOOKUP(AC81,'SCORE TALLER'!$U$2:$V$10,2,FALSE)*AR$2 -> 0.04 | AS81: =VLOOKUP(AE81,'SCORE TALLER'!$Y$2:$Z$10,2,FALSE)*AS$2 -> 0.02 | AT81: =VLOOKUP(Z81,'SCORE TALLER'!$O$2:$P$10,2,TRUE)*AT$2 -> 0.04 | AU81: =VLOOKUP(S81,'SCORE TALLER'!$A$2:$B$10,2,FALSE)*AU$2 -> 0.15 | AV81: =VLOOKUP(AJ81,'SCORE TALLER'!$AI$2:$AJ$10,2,TRUE)*AV$2 -> 0.05 | AW81: =VLOOKUP(AK81,'SCORE TALLER'!$AK$2:$AL$10,2,TRUE)*AW$2 -> 0.2 | AX81: =VLOOKUP(T81,'SCORE TALLER'!$C$2:$D$10,2,FALSE)*AX$2 -> 0 | AY81: =VLOOKUP(W81,'SCORE TALLER'!$I$2:$J$10,2,TRUE)*AY$2 -> 0 | AZ81: =VLOOKUP(X81,'SCORE TALLER'!$K$2:$L$10,2,TRUE)*AZ$2 -> 0 | BA81: =VLOOKUP(U81,'SCORE TALLER'!$E$2:$F$10,2,FALSE)*BA$2 -> 0 | BB81: =VLOOKUP(Y81,'SCORE TALLER'!$M$2:$N$10,2,TRUE)*BB$2 -> 0.04 | BC81: =VLOOKUP(AA81,'SCORE TALLER'!$Q$2:$R$10,2,FALSE)*BC$2 -> 0 | BD81: =VLOOKUP(V81,'SCORE TALLER'!$G$2:$H$10,2,FALSE)*BD$2 -> 0 | BE81: =VLOOKUP(AF81,'SCORE TALLER'!$AA$2:$AB$10,2,FALSE)*BE$2 -> 0.5 | BF81: =VLOOKUP(AL81,'SCORE TALLER'!$AM$2:$AN$10,2,TRUE)*BF$2 -> 0.5 | BG81: =+SUM(AM81:BF81) -> 2.38 | BH81: =VLOOKUP(BG81,'SCORE TALLER'!$AP$2:$AQ$7,2,TRUE) -> 3. Medio | BI81: =+T81 -> LBZ | BJ81: =+U81 -> A | BK81: =+AF81 -> E | BL81: =+H81 -> 2726583 | BM81: =+Q81 -> 5195000
A82: 2244028820 | B82: ASOCIADO 78 | C82: 1. SI | D82: 4. >$1-$2 MM | E82: 243270 | F82: 2474222 | G82: =+IF(F82>M82+100000,F82-M82,0) -> 1202205 | H82: =IF(G82>L82+100000,G82-L82,0) -> 0 | I82: 2474000 | J82: 91198 | K82: 0 | L82: 1500000 | M82: 1272017 | N82: =VLOOKUP(AD82,'tabla ingresos'!$A$3:$D$15,4,FALSE) -> 1000000 | O82: 114180.75 | P82: 5133000 | Q82: 5133000 | R82: 76130 | S82: 6- pignoración | T82: LBZ | U82: A | V82: 4 | W82: 0 | X82: 0 | Y82: 4.2575342 | Z82: 32.186301 | AA82: 2 | AB82: 0 | AC82: 1 | AD82: 2 | AE82: 3 | AF82: E | AG82: =+(O82+J82)/(N82*1.5) -> 0.13691917 | AH82: =+(P82+F82)/(N82*1.5) -> 5.0714813 | AI82: =+(E82+M82)/(N82*1.5) -> 1.0101913 | AJ82: =+G82/(N82*1.5) -> 0.80147 | AK82: =+H82/(N82*1.5) -> 0 | AL82: =+Q82/(N82*1.5) -> 3.422 | AM82: =VLOOKUP(AG82,'SCORE TALLER'!$AC$2:$AD$10,2,TRUE)*AM$2 -> 0 | AN82: =VLOOKUP(AD82,'SCORE TALLER'!$W$2:$X$10,2,TRUE)*AN$2 -> 0.32 | AO82: =VLOOKUP(AB82,'SCORE TALLER'!$S$2:$T$10,2,FALSE)*AO$2 -> 0.05 | AP82: =VLOOKUP(AH82,'SCORE TALLER'!$AE$2:$AF$10,2,TRUE)*AP$2 -> 0.08 | AQ82: =VLOOKUP(AI82,'SCORE TALLER'!$AG$2:$AH$10,2,TRUE)*AQ$2 -> 0.32 | AR82: =VLOOKUP(AC82,'SCORE TALLER'!$U$2:$V$10,2,FALSE)*AR$2 -> 0.05 | AS82: =VLOOKUP(AE82,'SCORE TALLER'!$Y$2:$Z$10,2,FALSE)*AS$2 -> 0.02 | AT82: =VLOOKUP(Z82,'SCORE TALLER'!$O$2:$P$10,2,TRUE)*AT$2 -> 0.04 | AU82: =VLOOKUP(S82,'SCORE TALLER'!$A$2:$B$10,2,FALSE)*AU$2 -> 0.15 | AV82: =VLOOKUP(AJ82,'SCORE TALLER'!$AI$2:$AJ$10,2,TRUE)*AV$2 -> 0.25 | AW82: =VLOOKUP(AK82,'SCORE TALLER'!$AK$2:$AL$10,2,TRUE)*AW$2 -> 0.25 | AX82: =VLOOKUP(T82,'SCORE TALLER'!$C$2:$D$10,2,FALSE)*AX$2 -> 0 | AY82: =VLOOKUP(W82,'SCORE TALLER'!$I$2:$J$10,2,TRUE)*AY$2 -> 0 | AZ82: =VLOOKUP(X82,'SCORE TALLER'!$K$2:$L$10,2,TRUE)*AZ$2 -> 0 | BA82: =VLOOKUP(U82,'SCORE TALLER'!$E$2:$F$10,2,FALSE)*BA$2 -> 0 | BB82: =VLOOKUP(Y82,'SCORE TALLER'!$M$2:$N$10,2,TRUE)*BB$2 -> 0.03 | BC82: =VLOOKUP(AA82,'SCORE TALLER'!$Q$2:$R$10,2,FALSE)*BC$2 -> 0 | BD82: =VLOOKUP(V82,'SCORE TALLER'!$G$2:$H$10,2,FALSE)*BD$2 -> 0 | BE82: =VLOOKUP(AF82,'SCORE TALLER'!$AA$2:$AB$10,2,FALSE)*BE$2 -> 0.5 | BF82: =VLOOKUP(AL82,'SCORE TALLER'!$AM$2:$AN$10,2,TRUE)*BF$2 -> 0.5 | BG82: =+SUM(AM82:BF82) -> 2.56 | BH82: =VLOOKUP(BG82,'SCORE TALLER'!$AP$2:$AQ$7,2,TRUE) -> 4. Alto | BI82: =+T82 -> LBZ | BJ82: =+U82 -> A | BK82: =+AF82 -> E | BL82: =+H82 -> 0 | BM82: =+Q82 -> 5133000
A83: 2044028042 | B83: ASOCIADO 79 | C83: 1. SI | D83: 5. >$2-$5 MM | F83: 3716464 | G83: =+IF(F83>M83+100000,F83-M83,0) -> 2182844 | H83: =IF(G83>L83+100000,G83-L83,0) -> 2182844 | I83: 3716000 | J83: 129383 | K83: 0 | L83: 0 | M83: 1533620 | N83: =VLOOKUP(AD83,'tabla ingresos'!$A$3:$D$15,4,FALSE) -> 1000000 | O83: 121632.64 | P83: 5468000 | Q83: 5398000 | R83: 68276 | S83: 9- Otras garantías (no admisible) | T83: LBZ | U83: A | V83: 4 | W83: 0 | X83: 0 | Y83: 3.9890411 | Z83: 26.928767 | AA83: 1 | AB83: 1 | AC83: 1 | AD83: 2 | AE83: 1 | AF83: E | AG83: =+(O83+J83)/(N83*1.5) -> 0.16734376 | AH83: =+(P83+F83)/(N83*1.5) -> 6.122976 | AI83: =+(E83+M83)/(N83*1.5) -> 1.0224133 | AJ83: =+G83/(N83*1.5) -> 1.4552293 | AK83: =+H83/(N83*1.5) -> 1.4552293 | AL83: =+Q83/(N83*1.5) -> 3.5986667 | AM83: =VLOOKUP(AG83,'SCORE TALLER'!$AC$2:$AD$10,2,TRUE)*AM$2 -> 0 | AN83: =VLOOKUP(AD83,'SCORE TALLER'!$W$2:$X$10,2,TRUE)*AN$2 -> 0.32 | AO83: =VLOOKUP(AB83,'SCORE TALLER'!$S$2:$T$10,2,FALSE)*AO$2 -> 0.05 | AP83: =VLOOKUP(AH83,'SCORE TALLER'!$AE$2:$AF$10,2,TRUE)*AP$2 -> 0.08 | AQ83: =VLOOKUP(AI83,'SCORE TALLER'!$AG$2:$AH$10,2,TRUE)*AQ$2 -> 0.32 | AR83: =VLOOKUP(AC83,'SCORE TALLER'!$U$2:$V$10,2,FALSE)*AR$2 -> 0.05 | AS83: =VLOOKUP(AE83,'SCORE TALLER'!$Y$2:$Z$10,2,FALSE)*AS$2 -> 0.03 | AT83: =VLOOKUP(Z83,'SCORE TALLER'!$O$2:$P$10,2,TRUE)*AT$2 -> 0.04 | AU83: =VLOOKUP(S83,'SCORE TALLER'!$A$2:$B$10,2,FALSE)*AU$2 -> 0.25 | AV83: =VLOOKUP(AJ83,'SCORE TALLER'!$AI$2:$AJ$10,2,TRUE)*AV$2 -> 0.2 | AW83: =VLOOKUP(AK83,'SCORE TALLER'!$AK$2:$AL$10,2,TRUE)*AW$2 -> 0.2 | AX83: =VLOOKUP(T83,'SCORE TALLER'!$C$2:$D$10,2,FALSE)*AX$2 -> 0 | AY83: =VLOOKUP(W83,'SCORE TALLER'!$I$2:$J$10,2,TRUE)*AY$2 -> 0 | AZ83: =VLOOKUP(X83,'SCORE TALLER'!$K$2:$L$10,2,TRUE)*AZ$2 -> 0 | BA83: =VLOOKUP(U83,'SCORE TALLER'!$E$2:$F$10,2,FALSE)*BA$2 -> 0 | BB83: =VLOOKUP(Y83,'SCORE TALLER'!$M$2:$N$10,2,TRUE)*BB$2 -> 0.04 | BC83: =VLOOKUP(AA83,'SCORE TALLER'!$Q$2:$R$10,2,FALSE)*BC$2 -> 0.05 | BD83: =VLOOKUP(V83,'SCORE TALLER'!$G$2:$H$10,2,FALSE)*BD$2 -> 0 | BE83: =VLOOKUP(AF83,'SCORE TALLER'!$AA$2:$AB$10,2,FALSE)*BE$2 -> 0.5 | BF83: =VLOOKUP(AL83,'SCORE TALLER'!$AM$2:$AN$10,2,TRUE)*BF$2 -> 0.5 | BG83: =+SUM(AM83:BF83) -> 2.63 | BH83: =VLOOKUP(BG83,'SCORE TALLER'!$AP$2:$AQ$7,2,TRUE) -> 4. Alto | BI83: =+T83 -> LBZ | BJ83: B | BK83: =+AF83 -> E | BL83: =+H83 -> 2182844 | BM83: =+Q83 -> 5398000
A84: 44202044 | B84: ASOCIADO 80 | C84: 1. SI | D84: 6. >$5-$10 MM | E84: 1157217 | F84: 7763302 | G84: =+IF(F84>M84+100000,F84-M84,0) -> 6457434 | H84: =IF(G84>L84+100000,G84-L84,0) -> 3202001 | I84: 3311000 | J84: 258537 | K84: 0 | L84: 3255433 | M84: 1305868 | N84: =VLOOKUP(AD84,'tabla ingresos'!$A$3:$D$15,4,FALSE) -> 1000000 | O84: 132362.86 | P84: 4927000 | Q84: 4927000 | R84: 5631 | S84: 6- pignoración | T84: LBZ | U84: A | V84: 4 | W84: 0 | X84: 0 | Y84: 4.3452055 | Z84: 43.824658 | AA84: 2 | AB84: 2 | AC84: 3 | AD84: 2 | AE84: 1 | AF84: E | AG84: =+(O84+J84)/(N84*1.5) -> 0.2605999 | AH84: =+(P84+F84)/(N84*1.5) -> 8.4602013 | AI84: =+(E84+M84)/(N84*1.5) -> 1.6420567 | AJ84: =+G84/(N84*1.5) -> 4.304956 | AK84: =+H84/(N84*1.5) -> 2.1346673 | AL84: =+Q84/(N84*1.5) -> 3.2846667 | AM84: =VLOOKUP(AG84,'SCORE TALLER'!$AC$2:$AD$10,2,TRUE)*AM$2 -> 0 | AN84: =VLOOKUP(AD84,'SCORE TALLER'!$W$2:$X$10,2,TRUE)*AN$2 -> 0.32 | AO84: =VLOOKUP(AB84,'SCORE TALLER'!$S$2:$T$10,2,FALSE)*AO$2 -> 0.04 | AP84: =VLOOKUP(AH84,'SCORE TALLER'!$AE$2:$AF$10,2,TRUE)*AP$2 -> 0.08 | AQ84: =VLOOKUP(AI84,'SCORE TALLER'!$AG$2:$AH$10,2,TRUE)*AQ$2 -> 0.32 | AR84: =VLOOKUP(AC84,'SCORE TALLER'!$U$2:$V$10,2,FALSE)*AR$2 -> 0.03 | AS84: =VLOOKUP(AE84,'SCORE TALLER'!$Y$2:$Z$10,2,FALSE)*AS$2 -> 0.03 | AT84: =VLOOKUP(Z84,'SCORE TALLER'!$O$2:$P$10,2,TRUE)*AT$2 -> 0.03 | AU84: =VLOOKUP(S84,'SCORE TALLER'!$A$2:$B$10,2,FALSE)*AU$2 -> 0.15 | AV84: =VLOOKUP(AJ84,'SCORE TALLER'!$AI$2:$AJ$10,2,TRUE)*AV$2 -> 0.05 | AW84: =VLOOKUP(AK84,'SCORE TALLER'!$AK$2:$AL$10,2,TRUE)*AW$2 -> 0.15 | AX84: =VLOOKUP(T84,'SCORE TALLER'!$C$2:$D$10,2,FALSE)*AX$2 -> 0 | AY84: =VLOOKUP(W84,'SCORE TALLER'!$I$2:$J$10,2,TRUE)*AY$2 -> 0 | AZ84: =VLOOKUP(X84,'SCORE TALLER'!$K$2:$L$10,2,TRUE)*AZ$2 -> 0 | BA84: =VLOOKUP(U84,'SCORE TALLER'!$E$2:$F$10,2,FALSE)*BA$2 -> 0 | BB84: =VLOOKUP(Y84,'SCORE TALLER'!$M$2:$N$10,2,TRUE)*BB$2 -> 0.03 | BC84: =VLOOKUP(AA84,'SCORE TALLER'!$Q$2:$R$10,2,FALSE)*BC$2 -> 0 | BD84: =VLOOKUP(V84,'SCORE TALLER'!$G$2:$H$10,2,FALSE)*BD$2 -> 0 | BE84: =VLOOKUP(AF84,'SCORE TALLER'!$AA$2:$AB$10,2,FALSE)*BE$2 -> 0.5 | BF84: =VLOOKUP(AL84,'SCORE TALLER'!$AM$2:$AN$10,2,TRUE)*BF$2 -> 0.5 | BG84: =+SUM(AM84:BF84) -> 2.23 | BH84: =VLOOKUP(BG84,'SCORE TALLER'!$AP$2:$AQ$7,2,TRUE) -> 3. Medio | BI84: =+T84 -> LBZ | BJ84: =+U84 -> A | BK84: =+AF84 -> E | BL84: =+H84 -> 3202001 | BM84: =+Q84 -> 4927000
A85: 2048222280 | B85: ASOCIADO 81 | C85: 1. SI | D85: 5. >$2-$5 MM | E85: 602439 | F85: 5072155 | G85: =+IF(F85>M85+100000,F85-M85,0) -> 2114816 | H85: =IF(G85>L85+100000,G85-L85,0) -> 614816 | I85: 5072000 | J85: 212255 | K85: 0 | L85: 1500000 | M85: 2957339 | N85: =VLOOKUP(AD85,'tabla ingresos'!$A$3:$D$15,4,FALSE) -> 1000000 | O85: 108819.84 | P85: 4892000 | Q85: 4892000 | R85: 8296 | S85: 6- pignoración | T85: LBZ | U85: A | V85: 4 | W85: 0 | X85: 0 | Y85: 5.0821918 | Z85: 34.29863 | AA85: 1 | AB85: 0 | AC85: 2 | AD85: 2 | AE85: 1 | AF85: E | AG85: =+(O85+J85)/(N85*1.5) -> 0.21404989 | AH85: =+(P85+F85)/(N85*1.5) -> 6.64277 | AI85: =+(E85+M85)/(N85*1.5) -> 2.3731853 | AJ85: =+G85/(N85*1.5) -> 1.4098773 | AK85: =+H85/(N85*1.5) -> 0.40987733 | AL85: =+Q85/(N85*1.5) -> 3.2613333 | AM85: =VLOOKUP(AG85,'SCORE TALLER'!$AC$2:$AD$10,2,TRUE)*AM$2 -> 0 | AN85: =VLOOKUP(AD85,'SCORE TALLER'!$W$2:$X$10,2,TRUE)*AN$2 -> 0.32 | AO85: =VLOOKUP(AB85,'SCORE TALLER'!$S$2:$T$10,2,FALSE)*AO$2 -> 0.05 | AP85: =VLOOKUP(AH85,'SCORE TALLER'!$AE$2:$AF$10,2,TRUE)*AP$2 -> 0.08 | AQ85: =VLOOKUP(AI85,'SCORE TALLER'!$AG$2:$AH$10,2,TRUE)*AQ$2 -> 0.24 | AR85: =VLOOKUP(AC85,'SCORE TALLER'!$U$2:$V$10,2,FALSE)*AR$2 -> 0.04 | AS85: =VLOOKUP(AE85,'SCORE TALLER'!$Y$2:$Z$10,2,FALSE)*AS$2 -> 0.03 | AT85: =VLOOKUP(Z85,'SCORE TALLER'!$O$2:$P$10,2,TRUE)*AT$2 -> 0.04 | AU85: =VLOOKUP(S85,'SCORE TALLER'!$A$2:$B$10,2,FALSE)*AU$2 -> 0.15 | AV85: =VLOOKUP(AJ85,'SCORE TALLER'!$AI$2:$AJ$10,2,TRUE)*AV$2 -> 0.2 | AW85: =VLOOKUP(AK85,'SCORE TALLER'!$AK$2:$AL$10,2,TRUE)*AW$2 -> 0.25 | AX85: =VLOOKUP(T85,'SCORE TALLER'!$C$2:$D$10,2,FALSE)*AX$2 -> 0 | AY85: =VLOOKUP(W85,'SCORE TALLER'!$I$2:$J$10,2,TRUE)*AY$2 -> 0 | AZ85: =VLOOKUP(X85,'SCORE TALLER'!$K$2:$L$10,2,TRUE)*AZ$2 -> 0 | BA85: =VLOOKUP(U85,'SCORE TALLER'!$E$2:$F$10,2,FALSE)*BA$2 -> 0 | BB85: =VLOOKUP(Y85,'SCORE TALLER'!$M$2:$N$10,2,TRUE)*BB$2 -> 0.03 | BC85: =VLOOKUP(AA85,'SCORE TALLER'!$Q$2:$R$10,2,FALSE)*BC$2 -> 0.05 | BD85: =VLOOKUP(V85,'SCORE TALLER'!$G$2:$H$10,2,FALSE)*BD$2 -> 0 | BE85: =VLOOKUP(AF85,'SCORE TALLER'!$AA$2:$AB$10,2,FALSE)*BE$2 -> 0.5 | BF85: =VLOOKUP(AL85,'SCORE TALLER'!$AM$2:$AN$10,2,TRUE)*BF$2 -> 0.5 | BG85: =+SUM(AM85:BF85) -> 2.48 | BH85: =VLOOKUP(BG85,'SCORE TALLER'!$AP$2:$AQ$7,2,TRUE) -> 3. Medio | BI85: =+T85 -> LBZ | BJ85: =+U85 -> A | BK85: =+AF85 -> E | BL85: =+H85 -> 614816 | BM85: =+Q85 -> 4892000
A86: 2066220044 | B86: ASOCIADO 82 | C86: 1. SI | D86: 5. >$2-$5 MM | F86: 6733513 | G86: =+IF(F86>M86+100000,F86-M86,0) -> 4401893 | H86: =IF(G86>L86+100000,G86-L86,0) -> 1540168 | I86: 6734000 | J86: 185597 | K86: 0 | L86: 2861725 | M86: 2331620 | N86: =VLOOKUP(AD86,'tabla ingresos'!$A$3:$D$15,4,FALSE) -> 1000000 | O86: 172252.67 | P86: 4784000 | Q86: 4784000 | R86: 68895 | S86: 6- pignoración | T86: LBZ | U86: A | V86: 4 | W86: 0 | X86: 0 | Y86: 4.490411 | Z86: 32.136986 | AA86: 1 | AB86: 1 | AC86: 2 | AD86: 2 | AE86: 1 | AF86: C | AG86: =+(O86+J86)/(N86*1.5) -> 0.23856645 | AH86: =+(P86+F86)/(N86*1.5) -> 7.678342 | AI86: =+(E86+M86)/(N86*1.5) -> 1.5544133 | AJ86: =+G86/(N86*1.5) -> 2.9345953 | AK86: =+H86/(N86*1.5) -> 1.0267787 | AL86: =+Q86/(N86*1.5) -> 3.1893333 | AM86: =VLOOKUP(AG86,'SCORE TALLER'!$AC$2:$AD$10,2,TRUE)*AM$2 -> 0 | AN86: =VLOOKUP(AD86,'SCORE TALLER'!$W$2:$X$10,2,TRUE)*AN$2 -> 0.32 | AO86: =VLOOKUP(AB86,'SCORE TALLER'!$S$2:$T$10,2,FALSE)*AO$2 -> 0.05 | AP86: =VLOOKUP(AH86,'SCORE TALLER'!$AE$2:$AF$10,2,TRUE)*AP$2 -> 0.08 | AQ86: =VLOOKUP(AI86,'SCORE TALLER'!$AG$2:$AH$10,2,TRUE)*AQ$2 -> 0.32 | AR86: =VLOOKUP(AC86,'SCORE TALLER'!$U$2:$V$10,2,FALSE)*AR$2 -> 0.04 | AS86: =VLOOKUP(AE86,'SCORE TALLER'!$Y$2:$Z$10,2,FALSE)*AS$2 -> 0.03 | AT86: =VLOOKUP(Z86,'SCORE TALLER'!$O$2:$P$10,2,TRUE)*AT$2 -> 0.04 | AU86: =VLOOKUP(S86,'SCORE TALLER'!$A$2:$B$10,2,FALSE)*AU$2 -> 0.15 | AV86: =VLOOKUP(AJ86,'SCORE TALLER'!$AI$2:$AJ$10,2,TRUE)*AV$2 -> 0.15 | AW86: =VLOOKUP(AK86,'SCORE TALLER'!$AK$2:$AL$10,2,TRUE)*AW$2 -> 0.2 | AX86: =VLOOKUP(T86,'SCORE TALLER'!$C$2:$D$10,2,FALSE)*AX$2 -> 0 | AY86: =VLOOKUP(W86,'SCORE TALLER'!$I$2:$J$10,2,TRUE)*AY$2 -> 0 | AZ86: =VLOOKUP(X86,'SCORE TALLER'!$K$2:$L$10,2,TRUE)*AZ$2 -> 0 | BA86: =VLOOKUP(U86,'SCORE TALLER'!$E$2:$F$10,2,FALSE)*BA$2 -> 0 | BB86: =VLOOKUP(Y86,'SCORE TALLER'!$M$2:$N$10,2,TRUE)*BB$2 -> 0.03 | BC86: =VLOOKUP(AA86,'SCORE TALLER'!$Q$2:$R$10,2,FALSE)*BC$2 -> 0.05 | BD86: =VLOOKUP(V86,'SCORE TALLER'!$G$2:$H$10,2,FALSE)*BD$2 -> 0 | BE86: =VLOOKUP(AF86,'SCORE TALLER'!$AA$2:$AB$10,2,FALSE)*BE$2 -> 0.3 | BF86: =VLOOKUP(AL86,'SCORE TALLER'!$AM$2:$AN$10,2,TRUE)*BF$2 -> 0.5 | BG86: =+SUM(AM86:BF86) -> 2.26 | BH86: =VLOOKUP(BG86,'SCORE TALLER'!$AP$2:$AQ$7,2,TRUE) -> 3. Medio | BI86: =+T86 -> LBZ | BJ86: =+U86 -> A | BK86: =+AF86 -> C | BL86: =+H86 -> 1540168 | BM86: =+Q86 -> 4784000
A87: 2244442420 | B87: ASOCIADO 83 | C87: 1. SI | D87: 5. >$2-$5 MM | F87: 3500000 | G87: =+IF(F87>M87+100000,F87-M87,0) -> 2521560 | H87: =IF(G87>L87+100000,G87-L87,0) -> 2521560 | I87: 3500000 | J87: 397467 | K87: 0 | L87: 0 | M87: 978440 | N87: =VLOOKUP(AD87,'tabla ingresos'!$A$3:$D$15,4,FALSE) -> 4000000 | O87: 595746.31 | P87: 23953000 | Q87: 20249000 | R87: 5001 | S87: 9- Otras garantías (no admisible) | T87: LBZ | U87: A | V87: 4 | W87: 0 | X87: 0 | Y87: 1.0136986 | Z87: 28.824658 | AA87: 1 | AB87: 6 | AC87: 3 | AD87: 5 | AE87: 1 | AF87: E | AG87: =+(O87+J87)/(N87*1.5) -> 0.16553555 | AH87: =+(P87+F87)/(N87*1.5) -> 4.5755 | AI87: =+(E87+M87)/(N87*1.5) -> 0.16307333 | AJ87: =+G87/(N87*1.5) -> 0.42026 | AK87: =+H87/(N87*1.5) -> 0.42026 | AL87: =+Q87/(N87*1.5) -> 3.3748333 | AM87: =VLOOKUP(AG87,'SCORE TALLER'!$AC$2:$AD$10,2,TRUE)*AM$2 -> 0 | AN87: =VLOOKUP(AD87,'SCORE TALLER'!$W$2:$X$10,2,TRUE)*AN$2 -> 0.24 | AO87: =VLOOKUP(AB87,'SCORE TALLER'!$S$2:$T$10,2,FALSE)*AO$2 -> 0 | AP87: =VLOOKUP(AH87,'SCORE TALLER'!$AE$2:$AF$10,2,TRUE)*AP$2 -> 0 | AQ87: =VLOOKUP(AI87,'SCORE TALLER'!$AG$2:$AH$10,2,TRUE)*AQ$2 -> 0.4 | AR87: =VLOOKUP(AC87,'SCORE TALLER'!$U$2:$V$10,2,FALSE)*AR$2 -> 0.03 | AS87: =VLOOKUP(AE87,'SCORE TALLER'!$Y$2:$Z$10,2,FALSE)*AS$2 -> 0.03 | AT87: =VLOOKUP(Z87,'SCORE TALLER'!$O$2:$P$10,2,TRUE)*AT$2 -> 0.04 | AU87: =VLOOKUP(S87,'SCORE TALLER'!$A$2:$B$10,2,FALSE)*AU$2 -> 0.25 | AV87: =VLOOKUP(AJ87,'SCORE TALLER'!$AI$2:$AJ$10,2,TRUE)*AV$2 -> 0.25 | AW87: =VLOOKUP(AK87,'SCORE TALLER'!$AK$2:$AL$10,2,TRUE)*AW$2 -> 0.25 | AX87: =VLOOKUP(T87,'SCORE TALLER'!$C$2:$D$10,2,FALSE)*AX$2 -> 0 | AY87: =VLOOKUP(W87,'SCORE TALLER'!$I$2:$J$10,2,TRUE)*AY$2 -> 0 | AZ87: =VLOOKUP(X87,'SCORE TALLER'!$K$2:$L$10,2,TRUE)*AZ$2 -> 0 | BA87: =VLOOKUP(U87,'SCORE TALLER'!$E$2:$F$10,2,FALSE)*BA$2 -> 0 | BB87: =VLOOKUP(Y87,'SCORE TALLER'!$M$2:$N$10,2,TRUE)*BB$2 -> 0.05 | BC87: =VLOOKUP(AA87,'SCORE TALLER'!$Q$2:$R$10,2,FALSE)*BC$2 -> 0.05 | BD87: =VLOOKUP(V87,'SCORE TALLER'!$G$2:$H$10,2,FALSE)*BD$2 -> 0 | BE87: =VLOOKUP(AF87,'SCORE TALLER'!$AA$2:$AB$10,2,FALSE)*BE$2 -> 0.5 | BF87: =VLOOKUP(AL87,'SCORE TALLER'!$AM$2:$AN$10,2,TRUE)*BF$2 -> 0.5 | BG87: =+SUM(AM87:BF87) -> 2.59 | BH87: =VLOOKUP(BG87,'SCORE TALLER'!$AP$2:$AQ$7,2,TRUE) -> 4. Alto | BI87: =+T87 -> LBZ | BJ87: B | BK87: =+AF87 -> E | BL87: =+H87 -> 2521560 | BM87: =+Q87 -> 20249000
