Workbook

Sheet RESUMEN
A3: Etiquetas de fila | B3: Suma de Cartera
A4: A | B4: 6463876562
A5: B | B5: 9383300
A6: C | B6: 3023223
A7: D | B7: 7624285
A8: Total general | B8: 6483907370
B9: =+SUM(B5:B7) -> 20030808
B10: =+B9/GETPIVOTDATA("Cartera",$A$3) -> 0.0030893113
A12: Etiquetas de fila | B12: Suma de Cartera
A13: A | B13: 6351903017
A14: B | B14: 121356845
A15: C | B15: 3023223
A16: D | B16: 7624285
A17: Total general | B17: 6483907370
B18: =+SUM(B14:B16) -> 132004353
B19: =+B18/GETPIVOTDATA("Cartera",$A$12) -> 0.020358766

Sheet EVALUACION TALLER
AM1: 1. Capacidad | AP1: 2. Solvencia | AU1: 3. Garantía | AY1: 4. Servicio | BD1: 5. Modif | BE1: 6. Central Riesgo
AM2: 0.08 | AN2: 0.08 | AO2: 0.01 | AP2: 0.08 | AQ2: 0.08 | AR2: 0.01 | AS2: 0.01 | AT2: 0.01 | AU2: 0.05 | AV2: 0.05 | AW2: 0.05 | AX2: 0.05 | AY2: 0.05 | AZ2: 0.05 | BA2: 0.05 | BB2: 0.01 | BC2: 0.01 | BD2: 0.07 | BE2: 0.1 | BF2: 0.1 | BG2: =+SUM(AM2:BF2) -> 1
A4: ID | B4: NOMBRE | C4: consulta | D4: Rango DESC | E4: Vista | F4: Cartera | G4: Descub | H4: VaR | I4: INT | J4: Cuota cartera | K4: Deterioro | L4: Garantia | M4: Ap + Ahp | N4: Ingresos | O4: Cuota externa minima probable | P4: Ext | Q4: Ext >=C | R4: MPIO | S4: CLASE G | T4: REC | U4: CAL | V4: TIPO MODIF | W4: Mora Cartera | X4: Mora aportes | Y4: ANT | Z4: EDAD | AA4: GEN | AB4: ESC | AC4: ESTR | AD4: ING | AE4: E. CIV | AF4: peor cal ext | AG4: Carga | AH4: Endeudamiento | AI4: Captac / Ingresos | AJ4: Desc | AK4: VaR | AL4: Ext >=C | AM4: Carga | AN4: ING | AO4: ESC | AP4: End | AQ4: Captac / Ingresos | AR4: ESTR | AS4: E. CIV | AT4: EDAD | AU4: CLASE G | AV4: Desc | AW4: VaR | AX4: REC | AY4: Mora Cartera | AZ4: Mora aportes | BA4: CAL | BB4: ANT | BC4: GEN | BD4: TIPO MODIF | BE4: peor cal ext | BF4: Ext >=C | BG4: NOTA | BH4: NIVEL RIESGO | BI4: REC | BJ4: RECAL | BK4: PEOR EXT | BL4: VAR | BM4: Ext >=C
A5: 24662246 | B5: ASOCIADO 1 | C5: 1. SI | D5: 7. >$10 MM | F5: 15803899 | G5: =+IF(F5>M5+100000,F5-M5,0) -> 11640130 | H5: =IF(G5>L5+100000,G5-L5,0) -> 2348028 | I5: 15804000 | J5: 418843 | K5: 0 | L5: 9292102 | M5: 4163769 | N5: =VLOOKUP(AD5,'tabla ingresos'!$A$3:$D$15,4,FALSE) -> 2000000 | O5: 668274.55 | P5: 27561000 | Q5: 27561000 | R5: 76130 | S5: 6- pignoración | T5: LBZ | U5: A | V5: 4 | W5: 0 | X5: 0 | Y5: 7.8328767 | Z5: 44.523288 | AA5: 1 | AB5: 2 | AC5: 2 | AD5: 3 | AE5: 1 | AF5: E | AG5: =+(O5+J5)/(N5*1.5) -> 0.36237252 | AH5: =+(P5+F5)/(N5*1.5) -> 14.454966 | AI5: =+(E5+M5)/(N5*1.5) -> 1.387923 | AJ5: =+G5/(N5*1.5) -> 3.8800433 | AK5: =+H5/(N5*1.5) -> 0.782676 | AL5: =+Q5/(N5*1.5) -> 9.187 | AM5: =VLOOKUP(AG5,'SCORE TALLER'!$AC$2:$AD$10,2,TRUE)*AM$2 -> 0 | AN5: =VLOOKUP(AD5,'SCORE TALLER'!$W$2:$X$10,2,TRUE)*AN$2 -> 0.32 | AO5: =VLOOKUP(AB5,'SCORE TALLER'!$S$2:$T$10,2,FALSE)*AO$2 -> 0.04 | AP5: =VLOOKUP(AH5,'SCORE TALLER'!$AE$2:$AF$10,2,TRUE)*AP$2 -> 0.16 | AQ5: =VLOOKUP(AI5,'SCORE TALLER'!$AG$2:$AH$10,2,TRUE)*AQ$2 -> 0.32 | AR5: =VLOOKUP(AC5,'SCORE TALLER'!$U$2:$V$10,2,FALSE)*AR$2 -> 0.04 | AS5: =VLOOKUP(AE5,'SCORE TALLER'!$Y$2:$Z$10,2,FALSE)*AS$2 -> 0.03 | AT5: =VLOOKUP(Z5,'SCORE TALLER'!$O$2:$P$10,2,TRUE)*AT$2 -> 0.03 | AU5: =VLOOKUP(S5,'SCORE TALLER'!$A$2:$B$10,2,FALSE)*AU$2 -> 0.15 | AV5: =VLOOKUP(AJ5,'SCORE TALLER'!$AI$2:$AJ$10,2,TRUE)*AV$2 -> 0.1 | AW5: =VLOOKUP(AK5,'SCORE TALLER'!$AK$2:$AL$10,2,TRUE)*AW$2 -> 0.25 | AX5: =VLOOKUP(T5,'SCORE TALLER'!$C$2:$D$10,2,FALSE)*AX$2 -> 0 | AY5: =VLOOKUP(W5,'SCORE TALLER'!$I$2:$J$10,2,TRUE)*AY$2 -> 0 | AZ5: =VLOOKUP(X5,'SCORE TALLER'!$K$2:$L$10,2,TRUE)*AZ$2 -> 0 | BA5: =VLOOKUP(U5,'SCORE TALLER'!$E$2:$F$10,2,FALSE)*BA$2 -> 0 | BB5: =VLOOKUP(Y5,'SCORE TALLER'!$M$2:$N$10,2,TRUE)*BB$2 -> 0.02 | BC5: =VLOOKUP(AA5,'SCORE TALLER'!$Q$2:$R$10,2,FALSE)*BC$2 -> 0.05 | BD5: =VLOOKUP(V5,'SCORE TALLER'!$G$2:$H$10,2,FALSE)*BD$2 -> 0 | BE5: =VLOOKUP(AF5,'SCORE TALLER'!$AA$2:$AB$10,2,FALSE)*BE$2 -> 0.5 | BF5: =VLOOKUP(AL5,'SCORE TALLER'!$AM$2:$AN$10,2,TRUE)*BF$2 -> 0.5 | BG5: =+SUM(AM5:BF5) -> 2.51 | BH5: =VLOOKUP(BG5,'SCORE TALLER'!$AP$2:$AQ$7,2,TRUE) -> 4. Alto | BI5: =+T5 -> LBZ | BJ5: B | BK5: =+AF5 -> E | BL5: =+H5 -> 2348028 | BM5: =+Q5 -> 27561000
A6: 2224804622 | B6: ASOCIADO 2 | C6: 1. SI | D6: 6. >$5-$10 MM | E6: 1755373 | F6: 12283389 | G6: =+IF(F6>M6+100000,F6-M6,0) -> 9690608 | H6: =IF(G6>L6+100000,G6-L6,0) -> 7431972 | I6: 12283000 | J6: 338361 | K6: 0 | L6: 2258636 | M6: 2592781 | N6: =VLOOKUP(AD6,'tabla ingresos'!$A$3:$D$15,4,FALSE) -> 3000000 | O6: 1041592.2 | P6: 35085000 | Q6: 28496000 | R6: 76275 | S6: 6- pignoración | T6: LBZ | U6: A | V6: 4 | W6: 0 | X6: 0 | Y6: 2.7643836 | Z6: 26.60274 | AA6: 1 | AB6: 0 | AC6: 1 | AD6: 4 | AE6: 1 | AF6: E | AG6: =+(O6+J6)/(N6*1.5) -> 0.30665627 | AH6: =+(P6+F6)/(N6*1.5) -> 10.526309 | AI6: =+(E6+M6)/(N6*1.5) -> 0.96625644 | AJ6: =+G6/(N6*1.5) -> 2.1534684 | AK6: =+H6/(N6*1.5) -> 1.6515493 | AL6: =+Q6/(N6*1.5) -> 6.3324444 | AM6: =VLOOKUP(AG6,'SCORE TALLER'!$AC$2:$AD$10,2,TRUE)*AM$2 -> 0 | AN6: =VLOOKUP(AD6,'SCORE TALLER'!$W$2:$X$10,2,TRUE)*AN$2 -> 0.24 | AO6: =VLOOKUP(AB6,'SCORE TALLER'!$S$2:$T$10,2,FALSE)*AO$2 -> 0.05 | AP6: =VLOOKUP(AH6,'SCORE TALLER'!$AE$2:$AF$10,2,TRUE)*AP$2 -> 0.16 | AQ6: =VLOOKUP(AI6,'SCORE TALLER'!$AG$2:$AH$10,2,TRUE)*AQ$2 -> 0.4 | AR6: =VLOOKUP(AC6,'SCORE TALLER'!$U$2:$V$10,2,FALSE)*AR$2 -> 0.05 | AS6: =VLOOKUP(AE6,'SCORE TALLER'!$Y$2:$Z$10,2,FALSE)*AS$2 -> 0.03 | AT6: =VLOOKUP(Z6,'SCORE TALLER'!$O$2:$P$10,2,TRUE)*AT$2 -> 0.04 | AU6: =VLOOKUP(S6,'SCORE TALLER'!$A$2:$B$10,2,FALSE)*AU$2 -> 0.15 | AV6: =VLOOKUP(AJ6,'SCORE TALLER'!$AI$2:$AJ$10,2,TRUE)*AV$2 -> 0.15 | AW6: =VLOOKUP(AK6,'SCORE TALLER'!$AK$2:$AL$10,2,TRUE)*AW$2 -> 0.2 | AX6: =VLOOKUP(T6,'SCORE TALLER'!$C$2:$D$10,2,FALSE)*AX$2 -> 0 | AY6: =VLOOKUP(W6,'SCORE TALLER'!$I$2:$J$10,2,TRUE)*AY$2 -> 0 | AZ6: =VLOOKUP(X6,'SCORE TALLER'!$K$2:$L$10,2,TRUE)*AZ$2 -> 0 | BA6: =VLOOKUP(U6,'SCORE TALLER'!$E$2:$F$10,2,FALSE)*BA$2 -> 0 | BB6: =VLOOKUP(Y6,'SCORE TALLER'!$M$2:$N$10,2,TRUE)*BB$2 -> 0.04 | BC6: =VLOOKUP(AA6,'SCORE TALLER'!$Q$2:$R$10,2,FALSE)*BC$2 -> 0.05 | BD6: =VLOOKUP(V6,'SCORE TALLER'!$G$2:$H$10,2,FALSE)*BD$2 -> 0 | BE6: =VLOOKUP(AF6,'SCORE TALLER'!$AA$2:$AB$10,2,FALSE)*BE$2 -> 0.5 | BF6: =VLOOKUP(AL6,'SCORE TALLER'!$AM$2:$AN$10,2,TRUE)*BF$2 -> 0.5 | BG6: =+SUM(AM6:BF6) -> 2.56 | BH6: =VLOOKUP(BG6,'SCORE TALLER'!$AP$2:$AQ$7,2,TRUE) -> 4. Alto | BI6: =+T6 -> LBZ | BJ6: B | BK6: =+AF6 -> E | BL6: =+H6 -> 7431972 | BM6: =+Q6 -> 28496000
A7: 4468026 | B7: ASOCIADO 3 | C7: 1. SI | D7: 6. >$5-$10 MM | E7: 997042 | F7: 9817662 | G7: =+IF(F7>M7+100000,F7-M7,0) -> 6698991 | H7: =IF(G7>L7+100000,G7-L7,0) -> 3698991 | I7: 9818000 | J7: 322338 | K7: 0 | L7: 3000000 | M7: 3118671 | N7: =VLOOKUP(AD7,'tabla ingresos'!$A$3:$D$15,4,FALSE) -> 1000000 | O7: 595688.91 | P7: 58731000 | Q7: 58731000 | R7: 76130 | S7: 6- pignoración | T7: LBZ | U7: A | V7: 4 | W7: 0 | X7: 0 | Y7: 1.8438356 | Z7: 46.361644 | AA7: 1 | AB7: 2 | AC7: 2 | AD7: 2 | AE7: 3 | AF7: D | AG7: =+(O7+J7)/(N7*1.5) -> 0.61201794 | AH7: =+(P7+F7)/(N7*1.5) -> 45.699108 | AI7: =+(E7+M7)/(N7*1.5) -> 2.7438087 | AJ7: =+G7/(N7*1.5) -> 4.465994 | AK7: =+H7/(N7*1.5) -> 2.465994 | AL7: =+Q7/(N7*1.5) -> 39.154 | AM7: =VLOOKUP(AG7,'SCORE TALLER'!$AC$2:$AD$10,2,TRUE)*AM$2 -> 0.16 | AN7: =VLOOKUP(AD7,'SCORE TALLER'!$W$2:$X$10,2,TRUE)*AN$2 -> 0.32 | AO7: =VLOOKUP(AB7,'SCORE TALLER'!$S$2:$T$10,2,FALSE)*AO$2 -> 0.04 | AP7: =VLOOKUP(AH7,'SCORE TALLER'!$AE$2:$AF$10,2,TRUE)*AP$2 -> 0.4 | AQ7: =VLOOKUP(AI7,'SCORE TALLER'!$AG$2:$AH$10,2,TRUE)*AQ$2 -> 0.24 | AR7: =VLOOKUP(AC7,'SCORE TALLER'!$U$2:$V$10,2,FALSE)*AR$2 -> 0.04 | AS7: =VLOOKUP(AE7,'SCORE TALLER'!$Y$2:$Z$10,2,FALSE)*AS$2 -> 0.02 | AT7: =VLOOKUP(Z7,'SCORE TALLER'!$O$2:$P$10,2,TRUE)*AT$2 -> 0.02 | AU7: =VLOOKUP(S7,'SCORE TALLER'!$A$2:$B$10,2,FALSE)*AU$2 -> 0.15 | AV7: =VLOOKUP(AJ7,'SCORE TALLER'!$AI$2:$AJ$10,2,TRUE)*AV$2 -> 0.05 | AW7: =VLOOKUP(AK7,'SCORE TALLER'!$AK$2:$AL$10,2,TRUE)*AW$2 -> 0.15 | AX7: =VLOOKUP(T7,'SCORE TALLER'!$C$2:$D$10,2,FALSE)*AX$2 -> 0 | AY7: =VLOOKUP(W7,'SCORE TALLER'!$I$2:$J$10,2,TRUE)*AY$2 -> 0 | AZ7: =VLOOKUP(X7,'SCORE TALLER'!$K$2:$L$10,2,TRUE)*AZ$2 -> 0 | BA7: =VLOOKUP(U7,'SCORE TALLER'!$E$2:$F$10,2,FALSE)*BA$2 -> 0 | BB7: =VLOOKUP(Y7,'SCORE TALLER'!$M$2:$N$10,2,TRUE)*BB$2 -> 0.05 | BC7: =VLOOKUP(AA7,'SCORE TALLER'!$Q$2:$R$10,2,FALSE)*BC$2 -> 0.05 | BD7: =VLOOKUP(V7,'SCORE TALLER'!$G$2:$H$10,2,FALSE)*BD$2 -> 0 | BE7: =VLOOKUP(AF7,'SCORE TALLER'!$AA$2:$AB$10,2,FALSE)*BE$2 -> 0.5 | BF7: =VLOOKUP(AL7,'SCORE TALLER'!$AM$2:$AN$10,2,TRUE)*BF$2 -> 0.5 | BG7: =+SUM(AM7:BF7) -> 2.69 | BH7: =VLOOKUP(BG7,'SCORE TALLER'!$AP$2:$AQ$7,2,TRUE) -> 4. Alto | BI7: =+T7 -> LBZ | BJ7: B | BK7: =+AF7 -> D | BL7: =+H7 -> 3698991 | BM7: =+Q7 -> 58731000
A8: 26828484 | B8: ASOCIADO 4 | C8: 1. SI | D8: 5. >$2-$5 MM | F8: 3588806 | G8: =+IF(F8>M8+100000,F8-M8,0) -> 3479782 | H8: =IF(G8>L8+100000,G8-L8,0) -> 1560524 | I8: 3589000 | J8: 160246 | K8: 0 | L8: 1919258 | M8: 109024 | N8: =VLOOKUP(AD8,'tabla ingresos'!$A$3:$D$15,4,FALSE) -> 1000000 | O8: 626140.29 | P8: 54325000 | Q8: 54325000 | R8: 76130 | S8: 6- pignoración | T8: LBZ | U8: A | V8: 4 | W8: 0 | X8: 0 | Y8: 0.32328767 | Z8: 48.769863 | AA8: 2 | AB8: 2 | AC8: 2 | AD8: 2 | AE8: 1 | AF8: E | AG8: =+(O8+J8)/(N8*1.5) -> 0.52425752 | AH8: =+(P8+F8)/(N8*1.5) -> 38.609204 | AI8: =+(E8+M8)/(N8*1.5) -> 0.072682667 | AJ8: =+G8/(N8*1.5) -> 2.3198547 | AK8: =+H8/(N8*1.5) -> 1.0403493 | AL8: =+Q8/(N8*1.5) -> 36.216667 | AM8: =VLOOKUP(AG8,'SCORE TALLER'!$AC$2:$AD$10,2,TRUE)*AM$2 -> 0.08 | AN8: =VLOOKUP(AD8,'SCORE TALLER'!$W$2:$X$10,2,TRUE)*AN$2 -> 0.32 | AO8: =VLOOKUP(AB8,'SCORE TALLER'!$S$2:$T$10,2,FALSE)*AO$2 -> 0.04 | AP8: =VLOOKUP(AH8,'SCORE TALLER'!$AE$2:$AF$10,2,TRUE)*AP$2 -> 0.4 | AQ8: =VLOOKUP(AI8,'SCORE TALLER'!$AG$2:$AH$10,2,TRUE)*AQ$2 -> 0.4 | AR8: =VLOOKUP(AC8,'SCORE TALLER'!$U$2:$V$10,2,FALSE)*AR$2 -> 0.04 | AS8: =VLOOKUP(AE8,'SCORE TALLER'!$Y$2:$Z$10,2,FALSE)*AS$2 -> 0.03 | AT8: =VLOOKUP(Z8,'SCORE TALLER'!$O$2:$P$10,2,TRUE)*AT$2 -> 0.02 | AU8: =VLOOKUP(S8,'SCORE TALLER'!$A$2:$B$10,2,FALSE)*AU$2 -> 0.15 | AV8: =VLOOKUP(AJ8,'SCORE TALLER'!$AI$2:$AJ$10,2,TRUE)*AV$2 -> 0.15 | AW8: =VLOOKUP(AK8,'SCORE TALLER'!$AK$2:$AL$10,2,TRUE)*AW$2 -> 0.2 | AX8: =VLOOKUP(T8,'SCORE TALLER'!$C$2:$D$10,2,FALSE)*AX$2 -> 0 | AY8: =VLOOKUP(W8,'SCORE TALLER'!$I$2:$J$10,2,TRUE)*AY$2 -> 0 | AZ8: =VLOOKUP(X8,'SCORE TALLER'!$K$2:$L$10,2,TRUE)*AZ$2 -> 0 | BA8: =VLOOKUP(U8,'SCORE TALLER'!$E$2:$F$10,2,FALSE)*BA$2 -> 0 | BB8: =VLOOKUP(Y8,'SCORE TALLER'!$M$2:$N$10,2,TRUE)*BB$2 -> 0.05 | BC8: =VLOOKUP(AA8,'SCORE TALLER'!$Q$2:$R$10,2,FALSE)*BC$2 -> 0 | BD8: =VLOOKUP(V8,'SCORE TALLER'!$G$2:$H$10,2,FALSE)*BD$2 -> 0 | BE8: =VLOOKUP(AF8,'SCORE TALLER'!$AA$2:$AB$10,2,FALSE)*BE$2 -> 0.5 | BF8: =VLOOKUP(AL8,'SCORE TALLER'!$AM$2:$AN$10,2,TRUE)*BF$2 -> 0.5 | BG8: =+SUM(AM8:BF8) -> 2.88 | BH8: =VLOOKUP(BG8,'SCORE TALLER'!$AP$2:$AQ$7,2,TRUE) -> 4. Alto | BI8: =+T8 -> LBZ | BJ8: =+U8 -> A | BK8: =+AF8 -> E | BL8: =+H8 -> 1560524 | BM8: =+Q8 -> 54325000
A9: 88024488 | B9: ASOCIADO 5 | C9: 1. SI | D9: 5. >$2-$5 MM | F9: 8845406 | G9: =+IF(F9>M9+100000,F9-M9,0) -> 4839953 | H9: =IF(G9>L9+100000,G9-L9,0) -> 4839953 | I9: 8845000 | J9: 455453 | K9: 0 | L9: 0 | M9: 4005453 | N9: =VLOOKUP(AD9,'tabla ingresos'!$A$3:$D$15,4,FALSE) -> 2000000 | O9: 1536302.2 | P9: 59861000 | Q9: 59861000 | R9: 20001 | S9: 9- Otras garantías (no admisible) | T9: LBZ | U9: A | V9: 4 | W9: 0 | X9: 0 | Y9: 11.882192 | Z9: 54.739726 | AA9: 1 | AB9: 2 | AC9: 1 | AD9: 3 | AE9: 1 | AF9: E | AG9: =+(O9+J9)/(N9*1.5) -> 0.66391838 | AH9: =+(P9+F9)/(N9*1.5) -> 22.902135 | AI9: =+(E9+M9)/(N9*1.5) -> 1.335151 | AJ9: =+G9/(N9*1.5) -> 1.6133177 | AK9: =+H9/(N9*1.5) -> 1.6133177 | AL9: =+Q9/(N9*1.5) -> 19.953667 | AM9: =VLOOKUP(AG9,'SCORE TALLER'!$AC$2:$AD$10,2,TRUE)*AM$2 -> 0.16 | AN9: =VLOOKUP(AD9,'SCORE TALLER'!$W$2:$X$10,2,TRUE)*AN$2 -> 0.32 | AO9: =VLOOKUP(AB9,'SCORE TALLER'!$S$2:$T$10,2,FALSE)*AO$2 -> 0.04 | AP9: =VLOOKUP(AH9,'SCORE TALLER'!$AE$2:$AF$10,2,TRUE)*AP$2 -> 0.32 | AQ9: =VLOOKUP(AI9,'SCORE TALLER'!$AG$2:$AH$10,2,TRUE)*AQ$2 -> 0.32 | AR9: =VLOOKUP(AC9,'SCORE TALLER'!$U$2:$V$10,2,FALSE)*AR$2 -> 0.05 | AS9: =VLOOKUP(AE9,'SCORE TALLER'!$Y$2:$Z$10,2,FALSE)*AS$2 -> 0.03 | AT9: =VLOOKUP(Z9,'SCORE TALLER'!$O$2:$P$10,2,TRUE)*AT$2 -> 0.02 | AU9: =VLOOKUP(S9,'SCORE TALLER'!$A$2:$B$10,2,FALSE)*AU$2 -> 0.25 | AV9: =VLOOKUP(AJ9,'SCORE TALLER'!$AI$2:$AJ$10,2,TRUE)*AV$2 -> 0.2 | AW9: =VLOOKUP(AK9,'SCORE TALLER'!$AK$2:$AL$10,2,TRUE)*AW$2 -> 0.2 | AX9: =VLOOKUP(T9,'SCORE TALLER'!$C$2:$D$10,2,FALSE)*AX$2 -> 0 | AY9: =VLOOKUP(W9,'SCORE TALLER'!$I$2:$J$10,2,TRUE)*AY$2 -> 0 | AZ9: =VLOOKUP(X9,'SCORE TALLER'!$K$2:$L$10,2,TRUE)*AZ$2 -> 0 | BA9: =VLOOKUP(U9,'SCORE TALLER'!$E$2:$F$10,2,FALSE)*BA$2 -> 0 | BB9: =VLOOKUP(Y9,'SCORE TALLER'!$M$2:$N$10,2,TRUE)*BB$2 -> 0 | BC9: =VLOOKUP(AA9,'SCORE TALLER'!$Q$2:$R$10,2,FALSE)*BC$2 -> 0.05 | BD9: =VLOOKUP(V9,'SCORE TALLER'!$G$2:$H$10,2,FALSE)*BD$2 -> 0 | BE9: =VLOOKUP(AF9,'SCORE TALLER'!$AA$2:$AB$10,2,FALSE)*BE$2 -> 0.5 | BF9: =VLOOKUP(AL9,'SCORE TALLER'!$AM$2:$AN$10,2,TRUE)*BF$2 -> 0.5 | BG9: =+SUM(AM9:BF9) -> 2.96 | BH9: =VLOOKUP(BG9,'SCORE TALLER'!$AP$2:$AQ$7,2,TRUE) -> 4. Alto | BI9: =+T9 -> LBZ | BJ9: B | BK9: =+AF9 -> E | BL9: =+H9 -> 4839953 | BM9: =+Q9 -> 59861000
A10: 8608246 | B10: ASOCIADO 6 | C10: 1. SI | D10: 5. >$2-$5 MM | E10: 210450 | F10: 3773364 | G10: =+IF(F10>M10+100000,F10-M10,0) -> 2355244 | H10: =IF(G10>L10+100000,G10-L10,0) -> 0 | I10: 3773000 | J10: 184978 | K10: 0 | L10: 3000000 | M10: 1418120 | N10: =VLOOKUP(AD10,'tabla ingresos'!$A$3:$D$15,4,FALSE) -> 1000000 | O10: 1123411.8 | P10: 46757000 | Q10: 46757000 | R10: 68418 | S10: 6- pignoración | T10: LBZ | U10: A | V10: 4 | W10: 0 | X10: 0 | Y10: 3.3205479 | Z10: 46.687671 | AA10: 1 | AB10: 2 | AC10: 1 | AD10: 2 | AE10: 2 | AF10: E | AG10: =+(O10+J10)/(N10*1.5) -> 0.87225984 | AH10: =+(P10+F10)/(N10*1.5) -> 33.686909 | AI10: =+(E10+M10)/(N10*1.5) -> 1.0857133 | AJ10: =+G10/(N10*1.5) -> 1.5701627 | AK10: =+H10/(N10*1.5) -> 0 | AL10: =+Q10/(N10*1.5) -> 31.171333 | AM10: =VLOOKUP(AG10,'SCORE TALLER'!$AC$2:$AD$10,2,TRUE)*AM$2 -> 0.32 | AN10: =VLOOKUP(AD10,'SCORE TALLER'!$W$2:$X$10,2,TRUE)*AN$2 -> 0.32 | AO10: =VLOOKUP(AB10,'SCORE TALLER'!$S$2:$T$10,2,FALSE)*AO$2 -> 0.04 | AP10: =VLOOKUP(AH10,'SCORE TALLER'!$AE$2:$AF$10,2,TRUE)*AP$2 -> 0.4 | AQ10: =VLOOKUP(AI10,'SCORE TALLER'!$AG$2:$AH$10,2,TRUE)*AQ$2 -> 0.32 | AR10: =VLOOKUP(AC10,'SCORE TALLER'!$U$2:$V$10,2,FALSE)*AR$2 -> 0.05 | AS10: =VLOOKUP(AE10,'SCORE TALLER'!$Y$2:$Z$10,2,FALSE)*AS$2 -> 0.01 | AT10: =VLOOKUP(Z10,'SCORE TALLER'!$O$2:$P$10,2,TRUE)*AT$2 -> 0.02 | AU10: =VLOOKUP(S10,'SCORE TALLER'!$A$2:$B$10,2,FALSE)*AU$2 -> 0.15 | AV10: =VLOOKUP(AJ10,'SCORE TALLER'!$AI$2:$AJ$10,2,TRUE)*AV$2 -> 0.2 | AW10: =VLOOKUP(AK10,'SCORE TALLER'!$AK$2:$AL$10,2,TRUE)*AW$2 -> 0.25 | AX10: =VLOOKUP(T10,'SCORE TALLER'!$C$2:$D$10,2,FALSE)*AX$2 -> 0 | AY10: =VLOOKUP(W10,'SCORE TALLER'!$I$2:$J$10,2,TRUE)*AY$2 -> 0 | AZ10: =VLOOKUP(X10,'SCORE TALLER'!$K$2:$L$10,2,TRUE)*AZ$2 -> 0 | BA10: =VLOOKUP(U10,'SCORE TALLER'!$E$2:$F$10,2,FALSE)*BA$2 -> 0 | BB10: =VLOOKUP(Y10,'SCORE TALLER'!$M$2:$N$10,2,TRUE)*BB$2 -> 0.04 | BC10: =VLOOKUP(AA10,'SCORE TALLER'!$Q$2:$R$10,2,FALSE)*BC$2 -> 0.05 | BD10: =VLOOKUP(V10,'SCORE TALLER'!$G$2:$H$10,2,FALSE)*BD$2 -> 0 | BE10: =VLOOKUP(AF10,'SCORE TALLER'!$AA$2:$AB$10,2,FALSE)*BE$2 -> 0.5 | BF10: =VLOOKUP(AL10,'SCORE TALLER'!$AM$2:$AN$10,2,TRUE)*BF$2 -> 0.5 | BG10: =+SUM(AM10:BF10) -> 3.17 | BH10: =VLOOKUP(BG10,'SCORE TALLER'!$AP$2:$AQ$7,2,TRUE) -> 5. Crítico | BI10: =+T10 -> LBZ | BJ10: =+U10 -> A | BK10: =+AF10 -> E | BL10: =+H10 -> 0 | BM10: =+Q10 -> 46757000
A11: 26028084 | B11: ASOCIADO 7 | C11: 1. SI | D11: 6. >$5-$10 MM | E11: 975006 | F11: 8487882 | G11: =+IF(F11>M11+100000,F11-M11,0) -> 6958117 | H11: =IF(G11>L11+100000,G11-L11,0) -> 4058117 | I11: 8488000 | J11: 350785 | K11: 0 | L11: 2900000 | M11: 1529765 | N11: =VLOOKUP(AD11,'tabla ingresos'!$A$3:$D$15,4,FALSE) -> 2000000 | O11: 1789996.5 | P11: 79071000 | Q11: 79071000 | R11: 76001 | S11: 6- pignoración | T11: LBZ | U11: A | V11: 4 | W11: 0 | X11: 0 | Y11: 2.4328767 | Z11: 41.473973 | AA11: 1 | AB11: 4 | AC11: 2 | AD11: 3 | AE11: 3 | AF11: E | AG11: =+(O11+J11)/(N11*1.5) -> 0.71359383 | AH11: =+(P11+F11)/(N11*1.5) -> 29.186294 | AI11: =+(E11+M11)/(N11*1.5) -> 0.83492367 | AJ11: =+G11/(N11*1.5) -> 2.3193723 | AK11: =+H11/(N11*1.5) -> 1.3527057 | AL11: =+Q11/(N11*1.5) -> 26.357 | AM11: =VLOOKUP(AG11,'SCORE TALLER'!$AC$2:$AD$10,2,TRUE)*AM$2 -> 0.24 | AN11: =VLOOKUP(AD11,'SCORE TALLER'!$W$2:$X$10,2,TRUE)*AN$2 -> 0.32 | AO11: =VLOOKUP(AB11,'SCORE TALLER'!$S$2:$T$10,2,FALSE)*AO$2 -> 0.02 | AP11: =VLOOKUP(AH11,'SCORE TALLER'!$AE$2:$AF$10,2,TRUE)*AP$2 -> 0.4 | AQ11: =VLOOKUP(AI11,'SCORE TALLER'!$AG$2:$AH$10,2,TRUE)*AQ$2 -> 0.4 | AR11: =VLOOKUP(AC11,'SCORE TALLER'!$U$2:$V$10,2,FALSE)*AR$2 -> 0.04 | AS11: =VLOOKUP(AE11,'SCORE TALLER'!$Y$2:$Z$10,2,FALSE)*AS$2 -> 0.02 | AT11: =VLOOKUP(Z11,'SCORE TALLER'!$O$2:$P$10,2,TRUE)*AT$2 -> 0.03 | AU11: =VLOOKUP(S11,'SCORE TALLER'!$A$2:$B$10,2,FALSE)*AU$2 -> 0.15 | AV11: =VLOOKUP(AJ11,'SCORE TALLER'!$AI$2:$AJ$10,2,TRUE)*AV$2 -> 0.15 | AW11: =VLOOKUP(AK11,'SCORE TALLER'!$AK$2:$AL$10,2,TRUE)*AW$2 -> 0.2 | AX11: =VLOOKUP(T11,'SCORE TALLER'!$C$2:$D$10,2,FALSE)*AX$2 -> 0 | AY11: =VLOOKUP(W11,'SCORE TALLER'!$I$2:$J$10,2,TRUE)*AY$2 -> 0 | AZ11: =VLOOKUP(X11,'SCORE TALLER'!$K$2:$L$10,2,TRUE)*AZ$2 -> 0 | BA11: =VLOOKUP(U11,'SCORE TALLER'!$E$2:$F$10,2,FALSE)*BA$2 -> 0 | BB11: =VLOOKUP(Y11,'SCORE TALLER'!$M$2:$N$10,2,TRUE)*BB$2 -> 0.04 | BC11: =VLOOKUP(AA11,'SCORE TALLER'!$Q$2:$R$10,2,FALSE)*BC$2 -> 0.05 | BD11: =VLOOKUP(V11,'SCORE TALLER'!$G$2:$H$10,2,FALSE)*BD$2 -> 0 | BE11: =VLOOKUP(AF11,'SCORE TALLER'!$AA$2:$AB$10,2,FALSE)*BE$2 -> 0.5 | BF11: =VLOOKUP(AL11,'SCORE TALLER'!$AM$2:$AN$10,2,TRUE)*BF$2 -> 0.5 | BG11: =+SUM(AM11:BF11) -> 3.06 | BH11: =VLOOKUP(BG11,'SCORE TALLER'!$AP$2:$AQ$7,2,TRUE) -> 5. Crítico | BI11: =+T11 -> LBZ | BJ11: B | BK11: =+AF11 -> E | BL11: =+H11 -> 4058117 | BM11: =+Q11 -> 79071000
A12: 2224624604 | B12: ASOCIADO 8 | C12: 1. SI | D12: 6. >$5-$10 MM | E12: 302539 | F12: 11518438 | G12: =+IF(F12>M12+100000,F12-M12,0) -> 5982471 | H12: =IF(G12>L12+100000,G12-L12,0) -> 1034518 | I12: 11518000 | J12: 643196 | K12: 0 | L12: 4947953 | M12: 5535967 | N12: =VLOOKUP(AD12,'tabla ingresos'!$A$3:$D$15,4,FALSE) -> 1000000 | O12: 815562.05 | P12: 32522000 | Q12: 30549000 | R12: 76130 | S12: 6- pignoración | T12: LBZ | U12: A | V12: 4 | W12: 0 | X12: 0 | Y12: 1.9726027 | Z12: 34.887671 | AA12: 1 | AB12: 5 | AC12: 3 | AD12: 2 | AE12: 1 | AF12: E | AG12: =+(O12+J12)/(N12*1.5) -> 0.97250536 | AH12: =+(P12+F12)/(N12*1.5) -> 29.360292 | AI12: =+(E12+M12)/(N12*1.5) -> 3.8923373 | AJ12: =+G12/(N12*1.5) -> 3.988314 | AK12: =+H12/(N12*1.5) -> 0.68967867 | AL12: =+Q12/(N12*1.5) -> 20.366 | AM12: =VLOOKUP(AG12,'SCORE TALLER'!$AC$2:$AD$10,2,TRUE)*AM$2 -> 0.4 | AN12: =VLOOKUP(AD12,'SCORE TALLER'!$W$2:$X$10,2,TRUE)*AN$2 -> 0.32 | AO12: =VLOOKUP(AB12,'SCORE TALLER'!$S$2:$T$10,2,FALSE)*AO$2 -> 0.01 | AP12: =VLOOKUP(AH12,'SCORE TALLER'!$AE$2:$AF$10,2,TRUE)*AP$2 -> 0.4 | AQ12: =VLOOKUP(AI12,'SCORE TALLER'!$AG$2:$AH$10,2,TRUE)*AQ$2 -> 0.16 | AR12: =VLOOKUP(AC12,'SCORE TALLER'!$U$2:$V$10,2,FALSE)*AR$2 -> 0.03 | AS12: =VLOOKUP(AE12,'SCORE TALLER'!$Y$2:$Z$10,2,FALSE)*AS$2 -> 0.03 | AT12: =VLOOKUP(Z12,'SCORE TALLER'!$O$2:$P$10,2,TRUE)*AT$2 -> 0.04 | AU12: =VLOOKUP(S12,'SCORE TALLER'!$A$2:$B$10,2,FALSE)*AU$2 -> 0.15 | AV12: =VLOOKUP(AJ12,'SCORE TALLER'!$AI$2:$AJ$10,2,TRUE)*AV$2 -> 0.1 | AW12: =VLOOKUP(AK12,'SCORE TALLER'!$AK$2:$AL$10,2,TRUE)*AW$2 -> 0.25 | AX12: =VLOOKUP(T12,'SCORE TALLER'!$C$2:$D$10,2,FALSE)*AX$2 -> 0 | AY12: =VLOOKUP(W12,'SCORE TALLER'!$I$2:$J$10,2,TRUE)*AY$2 -> 0 | AZ12: =VLOOKUP(X12,'SCORE TALLER'!$K$2:$L$10,2,TRUE)*AZ$2 -> 0 | BA12: =VLOOKUP(U12,'SCORE TALLER'!$E$2:$F$10,2,FALSE)*BA$2 -> 0 | BB12: =VLOOKUP(Y12,'SCORE TALLER'!$M$2:$N$10,2,TRUE)*BB$2 -> 0.05 | BC12: =VLOOKUP(AA12,'SCORE TALLER'!$Q$2:$R$10,2,FALSE)*BC$2 -> 0.05 | BD12: =VLOOKUP(V12,'SCORE TALLER'!$G$2:$H$10,2,FALSE)*BD$2 -> 0 | BE12: =VLOOKUP(AF12,'SCORE TALLER'!$AA$2:$AB$10,2,FALSE)*BE$2 -> 0.5 | BF12: =VLOOKUP(AL12,'SCORE TALLER'!$AM$2:$AN$10,2,TRUE)*BF$2 -> 0.5 | BG12: =+SUM(AM12:BF12) -> 2.99 | BH12: =VLOOKUP(BG12,'SCORE TALLER'!$AP$2:$AQ$7,2,TRUE) -> 4. Alto | BI12: =+T12 -> LBZ | BJ12: =+U12 -> A | BK12: =+AF12 -> E | BL12: =+H12 -> 1034518 | BM12: =+Q12 -> 30549000
A13: 4288200 | B13: ASOCIADO 9 | C13: 1. SI | D13: 6. >$5-$10 MM | E13: 516139 | F13: 8272347 | G13: =+IF(F13>M13+100000,F13-M13,0) -> 5977100 | H13: =IF(G13>L13+100000,G13-L13,0) -> 5045100 | I13: 8273000 | J13: 352339 | K13: 0 | L13: 932000 | M13: 2295247 | N13: =VLOOKUP(AD13,'tabla ingresos'!$A$3:$D$15,4,FALSE) -> 1000000 | O13: 935568.42 | P13: 57219000 | Q13: 53536000 | R13: 76130 | S13: 6- pignoración | T13: LBZ | U13: A | V13: 4 | W13: 0 | X13: 0 | Y13: 3.8465753 | Z13: 52.123288 | AA13: 1 | AB13: 2 | AC13: 3 | AD13: 2 | AE13: 4 | AF13: E | AG13: =+(O13+J13)/(N13*1.5) -> 0.85860495 | AH13: =+(P13+F13)/(N13*1.5) -> 43.660898 | AI13: =+(E13+M13)/(N13*1.5) -> 1.8742573 | AJ13: =+G13/(N13*1.5) -> 3.9847333 | AK13: =+H13/(N13*1.5) -> 3.3634 | AL13: =+Q13/(N13*1.5) -> 35.690667 | AM13: =VLOOKUP(AG13,'SCORE TALLER'!$AC$2:$AD$10,2,TRUE)*AM$2 -> 0.32 | AN13: =VLOOKUP(AD13,'SCORE TALLER'!$W$2:$X$10,2,TRUE)*AN$2 -> 0.32 | AO13: =VLOOKUP(AB13,'SCORE TALLER'!$S$2:$T$10,2,FALSE)*AO$2 -> 0.04 | AP13: =VLOOKUP(AH13,'SCORE TALLER'!$AE$2:$AF$10,2,TRUE)*AP$2 -> 0.4 | AQ13: =VLOOKUP(AI13,'SCORE TALLER'!$AG$2:$AH$10,2,TRUE)*AQ$2 -> 0.32 | AR13: =VLOOKUP(AC13,'SCORE TALLER'!$U$2:$V$10,2,FALSE)*AR$2 -> 0.03 | AS13: =VLOOKUP(AE13,'SCORE TALLER'!$Y$2:$Z$10,2,FALSE)*AS$2 -> 0.05 | AT13: =VLOOKUP(Z13,'SCORE TALLER'!$O$2:$P$10,2,TRUE)*AT$2 -> 0.02 | AU13: =VLOOKUP(S13,'SCORE TALLER'!$A$2:$B$10,2,FALSE)*AU$2 -> 0.15 | AV13: =VLOOKUP(AJ13,'SCORE TALLER'!$AI$2:$AJ$10,2,TRUE)*AV$2 -> 0.1 | AW13: =VLOOKUP(AK13,'SCORE TALLER'!$AK$2:$AL$10,2,TRUE)*AW$2 -> 0.1 | AX13: =VLOOKUP(T13,'SCORE TALLER'!$C$2:$D$10,2,FALSE)*AX$2 -> 0 | AY13: =VLOOKUP(W13,'SCORE TALLER'!$I$2:$J$10,2,TRUE)*AY$2 -> 0 | AZ13: =VLOOKUP(X13,'SCORE TALLER'!$K$2:$L$10,2,TRUE)*AZ$2 -> 0 | BA13: =VLOOKUP(U13,'SCORE TALLER'!$E$2:$F$10,2,FALSE)*BA$2 -> 0 | BB13: =VLOOKUP(Y13,'SCORE TALLER'!$M$2:$N$10,2,TRUE)*BB$2 -> 0.04 | BC13: =VLOOKUP(AA13,'SCORE TALLER'!$Q$2:$R$10,2,FALSE)*BC$2 -> 0.05 | BD13: =VLOOKUP(V13,'SCORE TALLER'!$G$2:$H$10,2,FALSE)*BD$2 -> 0 | BE13: =VLOOKUP(AF13,'SCORE TALLER'!$AA$2:$AB$10,2,FALSE)*BE$2 -> 0.5 | BF13: =VLOOKUP(AL13,'SCORE TALLER'!$AM$2:$AN$10,2,TRUE)*BF$2 -> 0.5 | BG13: =+SUM(AM13:BF13) -> 2.94 | BH13: =VLOOKUP(BG13,'SCORE TALLER'!$AP$2:$AQ$7,2,TRUE) -> 4. Alto | BI13: =+T13 -> LBZ | BJ13: B | BK13: =+AF13 -> E | BL13: =+H13 -> 5045100 | BM13: =+Q13 -> 53536000
A14: 4420284 | B14: ASOCIADO 10 | C14: 1. SI | D14: 4. >$1-$2 MM | F14: 6710900 | G14: =+IF(F14>M14+100000,F14-M14,0) -> 1854383 | H14: =IF(G14>L14+100000,G14-L14,0) -> 0 | I14: 6711000 | J14: 211672 | K14: 0 | L14: 2600000 | M14: 4856517 | N14: =VLOOKUP(AD14,'tabla ingresos'!$A$3:$D$15,4,FALSE) -> 1000000 | O14: 694100.82 | P14: 28874000 | Q14: 28874000 | R14: 76130 | S14: 6- pignoración | T14: LBZ | U14: A | V14: 4 | W14: 0 | X14: 0 | Y14: 8.4191781 | Z14: 51 | AA14: 1 | AB14: 2 | AC14: 1 | AD14: 2 | AE14: 1 | AF14: E | AG14: =+(O14+J14)/(N14*1.5) -> 0.60384854 | AH14: =+(P14+F14)/(N14*1.5) -> 23.723267 | AI14: =+(E14+M14)/(N14*1.5) -> 3.237678 | AJ14: =+G14/(N14*1.5) -> 1.2362553 | AK14: =+H14/(N14*1.5) -> 0 | AL14: =+Q14/(N14*1.5) -> 19.249333 | AM14: =VLOOKUP(AG14,'SCORE TALLER'!$AC$2:$AD$10,2,TRUE)*AM$2 -> 0.16 | AN14: =VLOOKUP(AD14,'SCORE TALLER'!$W$2:$X$10,2,TRUE)*AN$2 -> 0.32 | AO14: =VLOOKUP(AB14,'SCORE TALLER'!$S$2:$T$10,2,FALSE)*AO$2 -> 0.04 | AP14: =VLOOKUP(AH14,'SCORE TALLER'!$AE$2:$AF$10,2,TRUE)*AP$2 -> 0.32 | AQ14: =VLOOKUP(AI14,'SCORE TALLER'!$AG$2:$AH$10,2,TRUE)*AQ$2 -> 0.16 | AR14: =VLOOKUP(AC14,'SCORE TALLER'!$U$2:$V$10,2,FALSE)*AR$2 -> 0.05 | AS14: =VLOOKUP(AE14,'SCORE TALLER'!$Y$2:$Z$10,2,FALSE)*AS$2 -> 0.03 | AT14: =VLOOKUP(Z14,'SCORE TALLER'!$O$2:$P$10,2,TRUE)*AT$2 -> 0.02 | AU14: =VLOOKUP(S14,'SCORE TALLER'!$A$2:$B$10,2,FALSE)*AU$2 -> 0.15 | AV14: =VLOOKUP(AJ14,'SCORE TALLER'!$AI$2:$AJ$10,2,TRUE)*AV$2 -> 0.2 | AW14: =VLOOKUP(AK14,'SCORE TALLER'!$AK$2:$AL$10,2,TRUE)*AW$2 -> 0.25 | AX14: =VLOOKUP(T14,'SCORE TALLER'!$C$2:$D$10,2,FALSE)*AX$2 -> 0 | AY14: =VLOOKUP(W14,'SCORE TALLER'!$I$2:$J$10,2,TRUE)*AY$2 -> 0 | AZ14: =VLOOKUP(X14,'SCORE TALLER'!$K$2:$L$10,2,TRUE)*AZ$2 -> 0 | BA14: =VLOOKUP(U14,'SCORE TALLER'!$E$2:$F$10,2,FALSE)*BA$2 -> 0 | BB14: =VLOOKUP(Y14,'SCORE TALLER'!$M$2:$N$10,2,TRUE)*BB$2 -> 0.01 | BC14: =VLOOKUP(AA14,'SCORE TALLER'!$Q$2:$R$10,2,FALSE)*BC$2 -> 0.05 | BD14: =VLOOKUP(V14,'SCORE TALLER'!$G$2:$H$10,2,FALSE)*BD$2 -> 0 | BE14: =VLOOKUP(AF14,'SCORE TALLER'!$AA$2:$AB$10,2,FALSE)*BE$2 -> 0.5 | BF14: =VLOOKUP(AL14,'SCORE TALLER'!$AM$2:$AN$10,2,TRUE)*BF$2 -> 0.5 | BG14: =+SUM(AM14:BF14) -> 2.76 | BH14: =VLOOKUP(BG14,'SCORE TALLER'!$AP$2:$AQ$7,2,TRUE) -> 4. Alto | BI14: =+T14 -> LBZ | BJ14: =+U14 -> A | BK14: =+AF14 -> E | BL14: =+H14 -> 0 | BM14: =+Q14 -> 28874000
A15: 2044424828 | B15: ASOCIADO 11 | C15: 1. SI | D15: 5. >$2-$5 MM | E15: 999897 | F15: 4361762 | G15: =+IF(F15>M15+100000,F15-M15,0) -> 3090448 | H15: =IF(G15>L15+100000,G15-L15,0) -> 589728 | I15: 4362000 | J15: 207987 | K15: 0 | L15: 2500720 | M15: 1271314 | N15: =VLOOKUP(AD15,'tabla ingresos'!$A$3:$D$15,4,FALSE) -> 1000000 | O15: 594416.13 | P15: 26722000 | Q15: 26722000 | R15: 8573 | S15: 6- pignoración | T15: LBZ | U15: A | V15: 4 | W15: 0 | X15: 0 | Y15: 4.2575342 | Z15: 32.69863 | AA15: 1 | AB15: 0 | AC15: 3 | AD15: 2 | AE15: 3 | AF15: E | AG15: =+(O15+J15)/(N15*1.5) -> 0.53493542 | AH15: =+(P15+F15)/(N15*1.5) -> 20.722508 | AI15: =+(E15+M15)/(N15*1.5) -> 1.5141407 | AJ15: =+G15/(N15*1.5) -> 2.0602987 | AK15: =+H15/(N15*1.5) -> 0.393152 | AL15: =+Q15/(N15*1.5) -> 17.814667 | AM15: =VLOOKUP(AG15,'SCORE TALLER'!$AC$2:$AD$10,2,TRUE)*AM$2 -> 0.08 | AN15: =VLOOKUP(AD15,'SCORE TALLER'!$W$2:$X$10,2,TRUE)*AN$2 -> 0.32 | AO15: =VLOOKUP(AB15,'SCORE TALLER'!$S$2:$T$10,2,FALSE)*AO$2 -> 0.05 | AP15: =VLOOKUP(AH15,'SCORE TALLER'!$AE$2:$AF$10,2,TRUE)*AP$2 -> 0.32 | AQ15: =VLOOKUP(AI15,'SCORE TALLER'!$AG$2:$AH$10,2,TRUE)*AQ$2 -> 0.32 | AR15: =VLOOKUP(AC15,'SCORE TALLER'!$U$2:$V$10,2,FALSE)*AR$2 -> 0.03 | AS15: =VLOOKUP(AE15,'SCORE TALLER'!$Y$2:$Z$10,2,FALSE)*AS$2 -> 0.02 | AT15: =VLOOKUP(Z15,'SCORE TALLER'!$O$2:$P$10,2,TRUE)*AT$2 -> 0.04 | AU15: =VLOOKUP(S15,'SCORE TALLER'!$A$2:$B$10,2,FALSE)*AU$2 -> 0.15 | AV15: =VLOOKUP(AJ15,'SCORE TALLER'!$AI$2:$AJ$10,2,TRUE)*AV$2 -> 0.15 | AW15: =VLOOKUP(AK15,'SCORE TALLER'!$AK$2:$AL$10,2,TRUE)*AW$2 -> 0.25 | AX15: =VLOOKUP(T15,'SCORE TALLER'!$C$2:$D$10,2,FALSE)*AX$2 -> 0 | AY15: =VLOOKUP(W15,'SCORE TALLER'!$I$2:$J$10,2,TRUE)*AY$2 -> 0 | AZ15: =VLOOKUP(X15,'SCORE TALLER'!$K$2:$L$10,2,TRUE)*AZ$2 -> 0 | BA15: =VLOOKUP(U15,'SCORE TALLER'!$E$2:$F$10,2,FALSE)*BA$2 -> 0 | BB15: =VLOOKUP(Y15,'SCORE TALLER'!$M$2:$N$10,2,TRUE)*BB$2 -> 0.03 | BC15: =VLOOKUP(AA15,'SCORE TALLER'!$Q$2:$R$10,2,FALSE)*BC$2 -> 0.05 | BD15: =VLOOKUP(V15,'SCORE TALLER'!$G$2:$H$10,2,FALSE)*BD$2 -> 0 | BE15: =VLOOKUP(AF15,'SCORE TALLER'!$AA$2:$AB$10,2,FALSE)*BE$2 -> 0.5 | BF15: =VLOOKUP(AL15,'SCORE TALLER'!$AM$2:$AN$10,2,TRUE)*BF$2 -> 0.5 | BG15: =+SUM(AM15:BF15) -> 2.81 | BH15: =VLOOKUP(BG15,'SCORE TALLER'!$AP$2:$AQ$7,2,TRUE) -> 4. Alto | BI15: =+T15 -> LBZ | BJ15: =+U15 -> A | BK15: =+AF15 -> E | BL15: =+H15 -> 589728 | BM15: =+Q15 -> 26722000
A16: 2228684286 | B16: ASOCIADO 12 | C16: 1. SI | D16: 5. >$2-$5 MM | F16: 8451806 | G16: =+IF(F16>M16+100000,F16-M16,0) -> 2729546 | H16: =IF(G16>L16+100000,G16-L16,0) -> 0 | I16: 8452000 | J16: 274463 | K16: 0 | L16: 2700000 | M16: 5722260 | N16: =VLOOKUP(AD16,'tabla ingresos'!$A$3:$D$15,4,FALSE) -> 1000000 | O16: 687700.37 | P16: 29880000 | Q16: 25556000 | R16: 68276 | S16: 6- pignoración | T16: LBZ | U16: A | V16: 4 | W16: 0 | X16: 0 | Y16: 6.7589041 | Z16: 36.306849 | AA16: 1 | AB16: 1 | AC16: 1 | AD16: 2 | AE16: 3 | AF16: E | AG16: =+(O16+J16)/(N16*1.5) -> 0.64144225 | AH16: =+(P16+F16)/(N16*1.5) -> 25.554537 | AI16: =+(E16+M16)/(N16*1.5) -> 3.81484 | AJ16: =+G16/(N16*1.5) -> 1.8196973 | AK16: =+H16/(N16*1.5) -> 0 | AL16: =+Q16/(N16*1.5) -> 17.037333 | AM16: =VLOOKUP(AG16,'SCORE TALLER'!$AC$2:$AD$10,2,TRUE)*AM$2 -> 0.16 | AN16: =VLOOKUP(AD16,'SCORE TALLER'!$W$2:$X$10,2,TRUE)*AN$2 -> 0.32 | AO16: =VLOOKUP(AB16,'SCORE TALLER'!$S$2:$T$10,2,FALSE)*AO$2 -> 0.05 | AP16: =VLOOKUP(AH16,'SCORE TALLER'!$AE$2:$AF$10,2,TRUE)*AP$2 -> 0.4 | AQ16: =VLOOKUP(AI16,'SCORE TALLER'!$AG$2:$AH$10,2,TRUE)*AQ$2 -> 0.16 | AR16: =VLOOKUP(AC16,'SCORE TALLER'!$U$2:$V$10,2,FALSE)*AR$2 -> 0.05 | AS16: =VLOOKUP(AE16,'SCORE TALLER'!$Y$2:$Z$10,2,FALSE)*AS$2 -> 0.02 | AT16: =VLOOKUP(Z16,'SCORE TALLER'!$O$2:$P$10,2,TRUE)*AT$2 -> 0.03 | AU16: =VLOOKUP(S16,'SCORE TALLER'!$A$2:$B$10,2,FALSE)*AU$2 -> 0.15 | AV16: =VLOOKUP(AJ16,'SCORE TALLER'!$AI$2:$AJ$10,2,TRUE)*AV$2 -> 0.2 | AW16: =VLOOKUP(AK16,'SCORE TALLER'!$AK$2:$AL$10,2,TRUE)*AW$2 -> 0.25 | AX16: =VLOOKUP(T16,'SCORE TALLER'!$C$2:$D$10,2,FALSE)*AX$2 -> 0 | AY16: =VLOOKUP(W16,'SCORE TALLER'!$I$2:$J$10,2,TRUE)*AY$2 -> 0 | AZ16: =VLOOKUP(X16,'SCORE TALLER'!$K$2:$L$10,2,TRUE)*AZ$2 -> 0 | BA16: =VLOOKUP(U16,'SCORE TALLER'!$E$2:$F$10,2,FALSE)*BA$2 -> 0 | BB16: =VLOOKUP(Y16,'SCORE TALLER'!$M$2:$N$10,2,TRUE)*BB$2 -> 0.02 | BC16: =VLOOKUP(AA16,'SCORE TALLER'!$Q$2:$R$10,2,FALSE)*BC$2 -> 0.05 | BD16: =VLOOKUP(V16,'SCORE TALLER'!$G$2:$H$10,2,FALSE)*BD$2 -> 0 | BE16: =VLOOKUP(AF16,'SCORE TALLER'!$AA$2:$AB$10,2,FALSE)*BE$2 -> 0.5 | BF16: =VLOOKUP(AL16,'SCORE TALLER'!$AM$2:$AN$10,2,TRUE)*BF$2 -> 0.5 | BG16: =+SUM(AM16:BF16) -> 2.86 | BH16: =VLOOKUP(BG16,'SCORE TALLER'!$AP$2:$AQ$7,2,TRUE) -> 4. Alto | BI16: =+T16 -> LBZ | BJ16: =+U16 -> A | BK16: =+AF16 -> E | BL16: =+H16 -> 0 | BM16: =+Q16 -> 25556000
A17: 2064668026 | B17: ASOCIADO 13 | C17: 1. SI | D17: 7. >$10 MM | E17: 212002 | F17: 22044801 | G17: =+IF(F17>M17+100000,F17-M17,0) -> 16260820 | H17: =IF(G17>L17+100000,G17-L17,0) -> 212376 | I17: 22045000 | J17: 555843 | K17: 0 | L17: 16048444 | M17: 5783981 | N17: =VLOOKUP(AD17,'tabla ingresos'!$A$3:$D$15,4,FALSE) -> 1000000 | O17: 529351.12 | P17: 23797000 | Q17: 23497000 | R17: 17380 | S17: 6- pignoración | T17: LBZ | U17: A | V17: 4 | W17: 0 | X17: 0 | Y17: 7.9150685 | Z17: 29.117808 | AA17: 1 | AB17: 2 | AC17: 1 | AD17: 2 | AE17: 1 | AF17: E | AG17: =+(O17+J17)/(N17*1.5) -> 0.72346275 | AH17: =+(P17+F17)/(N17*1.5) -> 30.561201 | AI17: =+(E17+M17)/(N17*1.5) -> 3.997322 | AJ17: =+G17/(N17*1.5) -> 10.840547 | AK17: =+H17/(N17*1.5) -> 0.141584 | AL17: =+Q17/(N17*1.5) -> 15.664667 | AM17: =VLOOKUP(AG17,'SCORE TALLER'!$AC$2:$AD$10,2,TRUE)*AM$2 -> 0.24 | AN17: =VLOOKUP(AD17,'SCORE TALLER'!$W$2:$X$10,2,TRUE)*AN$2 -> 0.32 | AO17: =VLOOKUP(AB17,'SCORE TALLER'!$S$2:$T$10,2,FALSE)*AO$2 -> 0.04 | AP17: =VLOOKUP(AH17,'SCORE TALLER'!$AE$2:$AF$10,2,TRUE)*AP$2 -> 0.4 | AQ17: =VLOOKUP(AI17,'SCORE TALLER'!$AG$2:$AH$10,2,TRUE)*AQ$2 -> 0.16 | AR17: =VLOOKUP(AC17,'SCORE TALLER'!$U$2:$V$10,2,FALSE)*AR$2 -> 0.05 | AS17: =VLOOKUP(AE17,'SCORE TALLER'!$Y$2:$Z$10,2,FALSE)*AS$2 -> 0.03 | AT17: =VLOOKUP(Z17,'SCORE TALLER'!$O$2:$P$10,2,TRUE)*AT$2 -> 0.04 | AU17: =VLOOKUP(S17,'SCORE TALLER'!$A$2:$B$10,2,FALSE)*AU$2 -> 0.15 | AV17: =VLOOKUP(AJ17,'SCORE TALLER'!$AI$2:$AJ$10,2,TRUE)*AV$2 -> 0 | AW17: =VLOOKUP(AK17,'SCORE TALLER'!$AK$2:$AL$10,2,TRUE)*AW$2 -> 0.25 | AX17: =VLOOKUP(T17,'SCORE TALLER'!$C$2:$D$10,2,FALSE)*AX$2 -> 0 | AY17: =VLOOKUP(W17,'SCORE TALLER'!$I$2:$J$10,2,TRUE)*AY$2 -> 0 | AZ17: =VLOOKUP(X17,'SCORE TALLER'!$K$2:$L$10,2,TRUE)*AZ$2 -> 0 | BA17: =VLOOKUP(U17,'SCORE TALLER'!$E$2:$F$10,2,FALSE)*BA$2 -> 0 | BB17: =VLOOKUP(Y17,'SCORE TALLER'!$M$2:$N$10,2,TRUE)*BB$2 -> 0.02 | BC17: =VLOOKUP(AA17,'SCORE TALLER'!$Q$2:$R$10,2,FALSE)*BC$2 -> 0.05 | BD17: =VLOOKUP(V17,'SCORE TALLER'!$G$2:$H$10,2,FALSE)*BD$2 -> 0 | BE17: =VLOOKUP(AF17,'SCORE TALLER'!$AA$2:$AB$10,2,FALSE)*BE$2 -> 0.5 | BF17: =VLOOKUP(AL17,'SCORE TALLER'!$AM$2:$AN$10,2,TRUE)*BF$2 -> 0.5 | BG17: =+SUM(AM17:BF17) -> 2.75 | BH17: =VLOOKUP(BG17,'SCORE TALLER'!$AP$2:$AQ$7,2,TRUE) -> 4. Alto | BI17: =+T17 -> LBZ | BJ17: =+U17 -> A | BK17: =+AF17 -> E | BL17: =+H17 -> 212376 | BM17: =+Q17 -> 23497000
A18: 68446648 | B18: ASOCIADO 14 | C18: 1. SI | D18: 6. >$5-$10 MM | E18: 2892197 | F18: 9864327 | G18: =+IF(F18>M18+100000,F18-M18,0) -> 8282063 | H18: =IF(G18>L18+100000,G18-L18,0) -> 5497467 | I18: 9864000 | J18: 296942 | K18: 0 | L18: 2784596 | M18: 1582264 | N18: =VLOOKUP(AD18,'tabla ingresos'!$A$3:$D$15,4,FALSE) -> 1000000 | O18: 466944.1 | P18: 20644000 | Q18: 20644000 | R18: 76130 | S18: 6- pignoración | T18: LBZ | U18: A | V18: 4 | W18: 0 | X18: 0 | Y18: 5.5013699 | Z18: 46.945205 | AA18: 1 | AB18: 0 | AC18: 1 | AD18: 2 | AE18: 1 | AF18: E | AG18: =+(O18+J18)/(N18*1.5) -> 0.5092574 | AH18: =+(P18+F18)/(N18*1.5) -> 20.338885 | AI18: =+(E18+M18)/(N18*1.5) -> 2.982974 | AJ18: =+G18/(N18*1.5) -> 5.5213753 | AK18: =+H18/(N18*1.5) -> 3.664978 | AL18: =+Q18/(N18*1.5) -> 13.762667 | AM18: =VLOOKUP(AG18,'SCORE TALLER'!$AC$2:$AD$10,2,TRUE)*AM$2 -> 0.08 | AN18: =VLOOKUP(AD18,'SCORE TALLER'!$W$2:$X$10,2,TRUE)*AN$2 -> 0.32 | AO18: =VLOOKUP(AB18,'SCORE TALLER'!$S$2:$T$10,2,FALSE)*AO$2 -> 0.05 | AP18: =VLOOKUP(AH18,'SCORE TALLER'!$AE$2:$AF$10,2,TRUE)*AP$2 -> 0.32 | AQ18: =VLOOKUP(AI18,'SCORE TALLER'!$AG$2:$AH$10,2,TRUE)*AQ$2 -> 0.24 | AR18: =VLOOKUP(AC18,'SCORE TALLER'!$U$2:$V$10,2,FALSE)*AR$2 -> 0.05 | AS18: =VLOOKUP(AE18,'SCORE TALLER'!$Y$2:$Z$10,2,FALSE)*AS$2 -> 0.03 | AT18: =VLOOKUP(Z18,'SCORE TALLER'!$O$2:$P$10,2,TRUE)*AT$2 -> 0.02 | AU18: =VLOOKUP(S18,'SCORE TALLER'!$A$2:$B$10,2,FALSE)*AU$2 -> 0.15 | AV18: =VLOOKUP(AJ18,'SCORE TALLER'!$AI$2:$AJ$10,2,TRUE)*AV$2 -> 0 | AW18: =VLOOKUP(AK18,'SCORE TALLER'!$AK$2:$AL$10,2,TRUE)*AW$2 -> 0.1 | AX18: =VLOOKUP(T18,'SCORE TALLER'!$C$2:$D$10,2,FALSE)*AX$2 -> 0 | AY18: =VLOOKUP(W18,'SCORE TALLER'!$I$2:$J$10,2,TRUE)*AY$2 -> 0 | AZ18: =VLOOKUP(X18,'SCORE TALLER'!$K$2:$L$10,2,TRUE)*AZ$2 -> 0 | BA18: =VLOOKUP(U18,'SCORE TALLER'!$E$2:$F$10,2,FALSE)*BA$2 -> 0 | BB18: =VLOOKUP(Y18,'SCORE TALLER'!$M$2:$N$10,2,TRUE)*BB$2 -> 0.03 | BC18: =VLOOKUP(AA18,'SCORE TALLER'!$Q$2:$R$10,2,FALSE)*BC$2 -> 0.05 | BD18: =VLOOKUP(V18,'SCORE TALLER'!$G$2:$H$10,2,FALSE)*BD$2 -> 0 | BE18: =VLOOKUP(AF18,'SCORE TALLER'!$AA$2:$AB$10,2,FALSE)*BE$2 -> 0.5 | BF18: =VLOOKUP(AL18,'SCORE TALLER'!$AM$2:$AN$10,2,TRUE)*BF$2 -> 0.5 | BG18: =+SUM(AM18:BF18) -> 2.44 | BH18: =VLOOKUP(BG18,'SCORE TALLER'!$AP$2:$AQ$7,2,TRUE) -> 3. Medio | BI18: =+T18 -> LBZ | BJ18: =+U18 -> A | BK18: =+AF18 -> E | BL18: =+H18 -> 5497467 | BM18: =+Q18 -> 20644000
A19: 26284460 | B19: ASOCIADO 15 | C19: 1. SI | D19: 6. >$5-$10 MM | E19: 765815 | F19: 6429591 | G19: =+IF(F19>M19+100000,F19-M19,0) -> 5173110 | H19: =IF(G19>L19+100000,G19-L19,0) -> 2273110 | I19: 6430000 | J19: 217854 | K19: 0 | L19: 2900000 | M19: 1256481 | N19: =VLOOKUP(AD19,'tabla ingresos'!$A$3:$D$15,4,FALSE) -> 2000000 | O19: 330892.68 | P19: 13787000 | Q19: 12362000 | R19: 76520 | S19: 6- pignoración | T19: LBZ | U19: A | V19: 4 | W19: 0 | X19: 0 | Y19: 1.969863 | Z19: 56.619178 | AA19: 1 | AB19: 4 | AC19: 1 | AD19: 3 | AE19: 3 | AF19: E | AG19: =+(O19+J19)/(N19*1.5) -> 0.18291556 | AH19: =+(P19+F19)/(N19*1.5) -> 6.7388637 | AI19: =+(E19+M19)/(N19*1.5) -> 0.67409867 | AJ19: =+G19/(N19*1.5) -> 1.72437 | AK19: =+H19/(N19*1.5) -> 0.75770333 | AL19: =+Q19/(N19*1.5) -> 4.1206667 | AM19: =VLOOKUP(AG19,'SCORE TALLER'!$AC$2:$AD$10,2,TRUE)*AM$2 -> 0 | AN19: =VLOOKUP(AD19,'SCORE TALLER'!$W$2:$X$10,2,TRUE)*AN$2 -> 0.32 | AO19: =VLOOKUP(AB19,'SCORE TALLER'!$S$2:$T$10,2,FALSE)*AO$2 -> 0.02 | AP19: =VLOOKUP(AH19,'SCORE TALLER'!$AE$2:$AF$10,2,TRUE)*AP$2 -> 0.08 | AQ19: =VLOOKUP(AI19,'SCORE TALLER'!$AG$2:$AH$10,2,TRUE)*AQ$2 -> 0.4 | AR19: =VLOOKUP(AC19,'SCORE TALLER'!$U$2:$V$10,2,FALSE)*AR$2 -> 0.05 | AS19: =VLOOKUP(AE19,'SCORE TALLER'!$Y$2:$Z$10,2,FALSE)*AS$2 -> 0.02 | AT19: =VLOOKUP(Z19,'SCORE TALLER'!$O$2:$P$10,2,TRUE)*AT$2 -> 0.01 | AU19: =VLOOKUP(S19,'SCORE TALLER'!$A$2:$B$10,2,FALSE)*AU$2 -> 0.15 | AV19: =VLOOKUP(AJ19,'SCORE TALLER'!$AI$2:$AJ$10,2,TRUE)*AV$2 -> 0.2 | AW19: =VLOOKUP(AK19,'SCORE TALLER'!$AK$2:$AL$10,2,TRUE)*AW$2 -> 0.25 | AX19: =VLOOKUP(T19,'SCORE TALLER'!$C$2:$D$10,2,FALSE)*AX$2 -> 0 | AY19: =VLOOKUP(W19,'SCORE TALLER'!$I$2:$J$10,2,TRUE)*AY$2 -> 0 | AZ19: =VLOOKUP(X19,'SCORE TALLER'!$K$2:$L$10,2,TRUE)*AZ$2 -> 0 | BA19: =VLOOKUP(U19,'SCORE TALLER'!$E$2:$F$10,2,FALSE)*BA$2 -> 0 | BB19: =VLOOKUP(Y19,'SCORE TALLER'!$M$2:$N$10,2,TRUE)*BB$2 -> 0.05 | BC19: =VLOOKUP(AA19,'SCORE TALLER'!$Q$2:$R$10,2,FALSE)*BC$2 -> 0.05 | BD19: =VLOOKUP(V19,'SCORE TALLER'!$G$2:$H$10,2,FALSE)*BD$2 -> 0 | BE19: =VLOOKUP(AF19,'SCORE TALLER'!$AA$2:$AB$10,2,FALSE)*BE$2 -> 0.5 | BF19: =VLOOKUP(AL19,'SCORE TALLER'!$AM$2:$AN$10,2,TRUE)*BF$2 -> 0.5 | BG19: =+SUM(AM19:BF19) -> 2.6 | BH19: =VLOOKUP(BG19,'SCORE TALLER'!$AP$2:$AQ$7,2,TRUE) -> 4. Alto | BI19: =+T19 -> LBZ | BJ19: B | BK19: =+AF19 -> E | BL19: =+H19 -> 2273110 | BM19: =+Q19 -> 12362000
A20: 44266406 | B20: ASOCIADO 16 | C20: 1. SI | D20: 5. >$2-$5 MM | E20: 368900 | F20: 5458200 | G20: =+IF(F20>M20+100000,F20-M20,0) -> 4120490 | H20: =IF(G20>L20+100000,G20-L20,0) -> 1120490 | I20: 5458000 | J20: 159282 | K20: 0 | L20: 3000000 | M20: 1337710 | N20: =VLOOKUP(AD20,'tabla ingresos'!$A$3:$D$15,4,FALSE) -> 1000000 | O20: 379846.19 | P20: 17076000 | Q20: 16279000 | R20: 5001 | S20: 6- pignoración | T20: LBZ | U20: A | V20: 4 | W20: 0 | X20: 0 | Y20: 4.5013699 | Z20: 40.720548 | AA20: 2 | AB20: 0 | AC20: 1 | AD20: 2 | AE20: 3 | AF20: E | AG20: =+(O20+J20)/(N20*1.5) -> 0.35941879 | AH20: =+(P20+F20)/(N20*1.5) -> 15.0228 | AI20: =+(E20+M20)/(N20*1.5) -> 1.13774 | AJ20: =+G20/(N20*1.5) -> 2.7469933 | AK20: =+H20/(N20*1.5) -> 0.74699333 | AL20: =+Q20/(N20*1.5) -> 10.852667 | AM20: =VLOOKUP(AG20,'SCORE TALLER'!$AC$2:$AD$10,2,TRUE)*AM$2 -> 0 | AN20: =VLOOKUP(AD20,'SCORE TALLER'!$W$2:$X$10,2,TRUE)*AN$2 -> 0.32 | AO20: =VLOOKUP(AB20,'SCORE TALLER'!$S$2:$T$10,2,FALSE)*AO$2 -> 0.05 | AP20: =VLOOKUP(AH20,'SCORE TALLER'!$AE$2:$AF$10,2,TRUE)*AP$2 -> 0.24 | AQ20: =VLOOKUP(AI20,'SCORE TALLER'!$AG$2:$AH$10,2,TRUE)*AQ$2 -> 0.32 | AR20: =VLOOKUP(AC20,'SCORE TALLER'!$U$2:$V$10,2,FALSE)*AR$2 -> 0.05 | AS20: =VLOOKUP(AE20,'SCORE TALLER'!$Y$2:$Z$10,2,FALSE)*AS$2 -> 0.02 | AT20: =VLOOKUP(Z20,'SCORE TALLER'!$O$2:$P$10,2,TRUE)*AT$2 -> 0.03 | AU20: =VLOOKUP(S20,'SCORE TALLER'!$A$2:$B$10,2,FALSE)*AU$2 -> 0.15 | AV20: =VLOOKUP(AJ20,'SCORE TALLER'!$AI$2:$AJ$10,2,TRUE)*AV$2 -> 0.15 | AW20: =VLOOKUP(AK20,'SCORE TALLER'!$AK$2:$AL$10,2,TRUE)*AW$2 -> 0.25 | AX20: =VLOOKUP(T20,'SCORE TALLER'!$C$2:$D$10,2,FALSE)*AX$2 -> 0 | AY20: =VLOOKUP(W20,'SCORE TALLER'!$I$2:$J$10,2,TRUE)*AY$2 -> 0 | AZ20: =VLOOKUP(X20,'SCORE TALLER'!$K$2:$L$10,2,TRUE)*AZ$2 -> 0 | BA20: =VLOOKUP(U20,'SCORE TALLER'!$E$2:$F$10,2,FALSE)*BA$2 -> 0 | BB20: =VLOOKUP(Y20,'SCORE TALLER'!$M$2:$N$10,2,TRUE)*BB$2 -> 0.03 | BC20: =VLOOKUP(AA20,'SCORE TALLER'!$Q$2:$R$10,2,FALSE)*BC$2 -> 0 | BD20: =VLOOKUP(V20,'SCORE TALLER'!$G$2:$H$10,2,FALSE)*BD$2 -> 0 | BE20: =VLOOKUP(AF20,'SCORE TALLER'!$AA$2:$AB$10,2,FALSE)*BE$2 -> 0.5 | BF20: =VLOOKUP(AL20,'SCORE TALLER'!$AM$2:$AN$10,2,TRUE)*BF$2 -> 0.5 | BG20: =+SUM(AM20:BF20) -> 2.61 | BH20: =VLOOKUP(BG20,'SCORE TALLER'!$AP$2:$AQ$7,2,TRUE) -> 4. Alto | BI20: =+T20 -> LBZ | BJ20: =+U20 -> A | BK20: =+AF20 -> E | BL20: =+H20 -> 1120490 | BM20: =+Q20 -> 16279000
A21: 88828202 | B21: ASOCIADO 17 | C21: 1. SI | D21: 6. >$5-$10 MM | F21: 11198759 | G21: =+IF(F21>M21+100000,F21-M21,0) -> 7703118 | H21: =IF(G21>L21+100000,G21-L21,0) -> 170260 | I21: 11199000 | J21: 296942 | K21: 0 | L21: 7532858 | M21: 3495641 | N21: =VLOOKUP(AD21,'tabla ingresos'!$A$3:$D$15,4,FALSE) -> 1000000 | O21: 395550.65 | P21: 16056000 | Q21: 16056000 | R21: 76130 | S21: 6- pignoración | T21: LBZ | U21: A | V21: 4 | W21: 0 | X21: 0 | Y21: 6.0520548 | Z21: 46.189041 | AA21: 1 | AB21: 2 | AC21: 2 | AD21: 2 | AE21: 3 | AF21: E | AG21: =+(O21+J21)/(N21*1.5) -> 0.46166176 | AH21: =+(P21+F21)/(N21*1.5) -> 18.169839 | AI21: =+(E21+M21)/(N21*1.5) -> 2.3304273 | AJ21: =+G21/(N21*1.5) -> 5.135412 | AK21: =+H21/(N21*1.5) -> 0.11350667 | AL21: =+Q21/(N21*1.5) -> 10.704 | AM21: =VLOOKUP(AG21,'SCORE TALLER'!$AC$2:$AD$10,2,TRUE)*AM$2 -> 0 | AN21: =VLOOKUP(AD21,'SCORE TALLER'!$W$2:$X$10,2,TRUE)*AN$2 -> 0.32 | AO21: =VLOOKUP(AB21,'SCORE TALLER'!$S$2:$T$10,2,FALSE)*AO$2 -> 0.04 | AP21: =VLOOKUP(AH21,'SCORE TALLER'!$AE$2:$AF$10,2,TRUE)*AP$2 -> 0.24 | AQ21: =VLOOKUP(AI21,'SCORE TALLER'!$AG$2:$AH$10,2,TRUE)*AQ$2 -> 0.24 | AR21: =VLOOKUP(AC21,'SCORE TALLER'!$U$2:$V$10,2,FALSE)*AR$2 -> 0.04 | AS21: =VLOOKUP(AE21,'SCORE TALLER'!$Y$2:$Z$10,2,FALSE)*AS$2 -> 0.02 | AT21: =VLOOKUP(Z21,'SCORE TALLER'!$O$2:$P$10,2,TRUE)*AT$2 -> 0.02 | AU21: =VLOOKUP(S21,'SCORE TALLER'!$A$2:$B$10,2,FALSE)*AU$2 -> 0.15 | AV21: =VLOOKUP(AJ21,'SCORE TALLER'!$AI$2:$AJ$10,2,TRUE)*AV$2 -> 0 | AW21: =VLOOKUP(AK21,'SCORE TALLER'!$AK$2:$AL$10,2,TRUE)*AW$2 -> 0.25 | AX21: =VLOOKUP(T21,'SCORE TALLER'!$C$2:$D$10,2,FALSE)*AX$2 -> 0 | AY21: =VLOOKUP(W21,'SCORE TALLER'!$I$2:$J$10,2,TRUE)*AY$2 -> 0 | AZ21: =VLOOKUP(X21,'SCORE TALLER'!$K$2:$L$10,2,TRUE)*AZ$2 -> 0 | BA21: =VLOOKUP(U21,'SCORE TALLER'!$E$2:$F$10,2,FALSE)*BA$2 -> 0 | BB21: =VLOOKUP(Y21,'SCORE TALLER'!$M$2:$N$10,2,TRUE)*BB$2 -> 0.02 | BC21: =VLOOKUP(AA21,'SCORE TALLER'!$Q$2:$R$10,2,FALSE)*BC$2 -> 0.05 | BD21: =VLOOKUP(V21,'SCORE TALLER'!$G$2:$H$10,2,FALSE)*BD$2 -> 0 | BE21: =VLOOKUP(AF21,'SCORE TALLER'!$AA$2:$AB$10,2,FALSE)*BE$2 -> 0.5 | BF21: =VLOOKUP(AL21,'SCORE TALLER'!$AM$2:$AN$10,2,TRUE)*BF$2 -> 0.5 | BG21: =+SUM(AM21:BF21) -> 2.39 | BH21: =VLOOKUP(BG21,'SCORE TALLER'!$AP$2:$AQ$7,2,TRUE) -> 3. Medio | BI21: =+T21 -> LBZ | BJ21: =+U21 -> A | BK21: =+AF21 -> E | BL21: =+H21 -> 170260 | BM21: =+Q21 -> 16056000
A22: 8264864 | B22: ASOCIADO 18 | C22: 1. SI | D22: 5. >$2-$5 MM | E22: 343417 | F22: 6484222 | G22: =+IF(F22>M22+100000,F22-M22,0) -> 4758685 | H22: =IF(G22>L22+100000,G22-L22,0) -> 0 | I22: 6484000 | J22: 198387 | K22: 0 | L22: 7000000 | M22: 1725537 | N22: =VLOOKUP(AD22,'tabla ingresos'!$A$3:$D$15,4,FALSE) -> 2000000 | O22: 708063.01 | P22: 31831000 | Q22: 31831000 | R22: 76130 | S22: 6- pignoración | T22: LBZ | U22: A | V22: 4 | W22: 0 | X22: 0 | Y22: 2.8410959 | Z22: 45.221918 | AA22: 1 | AB22: 2 | AC22: 2 | AD22: 3 | AE22: 1 | AF22: E | AG22: =+(O22+J22)/(N22*1.5) -> 0.30215 | AH22: =+(P22+F22)/(N22*1.5) -> 12.771741 | AI22: =+(E22+M22)/(N22*1.5) -> 0.68965133 | AJ22: =+G22/(N22*1.5) -> 1.5862283 | AK22: =+H22/(N22*1.5) -> 0 | AL22: =+Q22/(N22*1.5) -> 10.610333 | AM22: =VLOOKUP(AG22,'SCORE TALLER'!$AC$2:$AD$10,2,TRUE)*AM$2 -> 0 | AN22: =VLOOKUP(AD22,'SCORE TALLER'!$W$2:$X$10,2,TRUE)*AN$2 -> 0.32 | AO22: =VLOOKUP(AB22,'SCORE TALLER'!$S$2:$T$10,2,FALSE)*AO$2 -> 0.04 | AP22: =VLOOKUP(AH22,'SCORE TALLER'!$AE$2:$AF$10,2,TRUE)*AP$2 -> 0.16 | AQ22: =VLOOKUP(AI22,'SCORE TALLER'!$AG$2:$AH$10,2,TRUE)*AQ$2 -> 0.4 | AR22: =VLOOKUP(AC22,'SCORE TALLER'!$U$2:$V$10,2,FALSE)*AR$2 -> 0.04 | AS22: =VLOOKUP(AE22,'SCORE TALLER'!$Y$2:$Z$10,2,FALSE)*AS$2 -> 0.03 | AT22: =VLOOKUP(Z22,'SCORE TALLER'!$O$2:$P$10,2,TRUE)*AT$2 -> 0.02 | AU22: =VLOOKUP(S22,'SCORE TALLER'!$A$2:$B$10,2,FALSE)*AU$2 -> 0.15 | AV22: =VLOOKUP(AJ22,'SCORE TALLER'!$AI$2:$AJ$10,2,TRUE)*AV$2 -> 0.2 | AW22: =VLOOKUP(AK22,'SCORE TALLER'!$AK$2:$AL$10,2,TRUE)*AW$2 -> 0.25 | AX22: =VLOOKUP(T22,'SCORE TALLER'!$C$2:$D$10,2,FALSE)*AX$2 -> 0 | AY22: =VLOOKUP(W22,'SCORE TALLER'!$I$2:$J$10,2,TRUE)*AY$2 -> 0 | AZ22: =VLOOKUP(X22,'SCORE TALLER'!$K$2:$L$10,2,TRUE)*AZ$2 -> 0 | BA22: =VLOOKUP(U22,'SCORE TALLER'!$E$2:$F$10,2,FALSE)*BA$2 -> 0 | BB22: =VLOOKUP(Y22,'SCORE TALLER'!$M$2:$N$10,2,TRUE)*BB$2 -> 0.04 | BC22: =VLOOKUP(AA22,'SCORE TALLER'!$Q$2:$R$10,2,FALSE)*BC$2 -> 0.05 | BD22: =VLOOKUP(V22,'SCORE TALLER'!$G$2:$H$10,2,FALSE)*BD$2 -> 0 | BE22: =VLOOKUP(AF22,'SCORE TALLER'!$AA$2:$AB$10,2,FALSE)*BE$2 -> 0.5 | BF22: =VLOOKUP(AL22,'SCORE TALLER'!$AM$2:$AN$10,2,TRUE)*BF$2 -> 0.5 | BG22: =+SUM(AM22:BF22) -> 2.7 | BH22: =VLOOKUP(BG22,'SCORE TALLER'!$AP$2:$AQ$7,2,TRUE) -> 4. Alto | BI22: =+T22 -> LBZ | BJ22: =+U22 -> A | BK22: =+AF22 -> E | BL22: =+H22 -> 0 | BM22: =+Q22 -> 31831000
A23: 206640 | B23: ASOCIADO 19 | C23: 1. SI | D23: 5. >$2-$5 MM | F23: 4747575 | G23: =+IF(F23>M23+100000,F23-M23,0) -> 2738755 | H23: =IF(G23>L23+100000,G23-L23,0) -> 438755 | I23: 4748000 | J23: 172510 | K23: 0 | L23: 2300000 | M23: 2008820 | N23: =VLOOKUP(AD23,'tabla ingresos'!$A$3:$D$15,4,FALSE) -> 1000000 | O23: 666763.28 | P23: 26543000 | Q23: 15897000 | R23: 13836 | S23: 6- pignoración | T23: LBZ | U23: A | V23: 4 | W23: 0 | X23: 0 | Y23: 5.3232877 | Z23: 41.70411 | AA23: 1 | AB23: 2 | AC23: 1 | AD23: 2 | AE23: 2 | AF23: D | AG23: =+(O23+J23)/(N23*1.5) -> 0.55951552 | AH23: =+(P23+F23)/(N23*1.5) -> 20.860383 | AI23: =+(E23+M23)/(N23*1.5) -> 1.3392133 | AJ23: =+G23/(N23*1.5) -> 1.8258367 | AK23: =+H23/(N23*1.5) -> 0.29250333 | AL23: =+Q23/(N23*1.5) -> 10.598 | AM23: =VLOOKUP(AG23,'SCORE TALLER'!$AC$2:$AD$10,2,TRUE)*AM$2 -> 0.08 | AN23: =VLOOKUP(AD23,'SCORE TALLER'!$W$2:$X$10,2,TRUE)*AN$2 -> 0.32 | AO23: =VLOOKUP(AB23,'SCORE TALLER'!$S$2:$T$10,2,FALSE)*AO$2 -> 0.04 | AP23: =VLOOKUP(AH23,'SCORE TALLER'!$AE$2:$AF$10,2,TRUE)*AP$2 -> 0.32 | AQ23: =VLOOKUP(AI23,'SCORE TALLER'!$AG$2:$AH$10,2,TRUE)*AQ$2 -> 0.32 | AR23: =VLOOKUP(AC23,'SCORE TALLER'!$U$2:$V$10,2,FALSE)*AR$2 -> 0.05 | AS23: =VLOOKUP(AE23,'SCORE TALLER'!$Y$2:$Z$10,2,FALSE)*AS$2 -> 0.01 | AT23: =VLOOKUP(Z23,'SCORE TALLER'!$O$2:$P$10,2,TRUE)*AT$2 -> 0.03 | AU23: =VLOOKUP(S23,'SCORE TALLER'!$A$2:$B$10,2,FALSE)*AU$2 -> 0.15 | AV23: =VLOOKUP(AJ23,'SCORE TALLER'!$AI$2:$AJ$10,2,TRUE)*AV$2 -> 0.2 | AW23: =VLOOKUP(AK23,'SCORE TALLER'!$AK$2:$AL$10,2,TRUE)*AW$2 -> 0.25 | AX23: =VLOOKUP(T23,'SCORE TALLER'!$C$2:$D$10,2,FALSE)*AX$2 -> 0 | AY23: =VLOOKUP(W23,'SCORE TALLER'!$I$2:$J$10,2,TRUE)*AY$2 -> 0 | AZ23: =VLOOKUP(X23,'SCORE TALLER'!$K$2:$L$10,2,TRUE)*AZ$2 -> 0 | BA23: =VLOOKUP(U23,'SCORE TALLER'!$E$2:$F$10,2,FALSE)*BA$2 -> 0 | BB23: =VLOOKUP(Y23,'SCORE TALLER'!$M$2:$N$10,2,TRUE)*BB$2 -> 0.03 | BC23: =VLOOKUP(AA23,'SCORE TALLER'!$Q$2:$R$10,2,FALSE)*BC$2 -> 0.05 | BD23: =VLOOKUP(V23,'SCORE TALLER'!$G$2:$H$10,2,FALSE)*BD$2 -> 0 | BE23: =VLOOKUP(AF23,'SCORE TALLER'!$AA$2:$AB$10,2,FALSE)*BE$2 -> 0.5 | BF23: =VLOOKUP(AL23,'SCORE TALLER'!$AM$2:$AN$10,2,TRUE)*BF$2 -> 0.5 | BG23: =+SUM(AM23:BF23) -> 2.85 | BH23: =VLOOKUP(BG23,'SCORE TALLER'!$AP$2:$AQ$7,2,TRUE) -> 4. Alto | BI23: =+T23 -> LBZ | BJ23: =+U23 -> A | BK23: =+AF23 -> D | BL23: =+H23 -> 438755 | BM23: =+Q23 -> 15897000
A24: 4288040 | B24: ASOCIADO 20 | C24: 1. SI | D24: 6. >$5-$10 MM | E24: 382400 | F24: 9987753 | G24: =+IF(F24>M24+100000,F24-M24,0) -> 7423004 | H24: =IF(G24>L24+100000,G24-L24,0) -> 0 | I24: 9988000 | J24: 350452 | K24: 0 | L24: 7723143 | M24: 2564749 | N24: =VLOOKUP(AD24,'tabla ingresos'!$A$3:$D$15,4,FALSE) -> 2000000 | O24: 697652.61 | P24: 31363000 | Q24: 31363000 | R24: 76130 | S24: 6- pignoración | T24: LBZ | U24: A | V24: 4 | W24: 0 | X24: 0 | Y24: 4.3068493 | Z24: 53.389041 | AA24: 1 | AB24: 0 | AC24: 2 | AD24: 3 | AE24: 3 | AF24: E | AG24: =+(O24+J24)/(N24*1.5) -> 0.3493682 | AH24: =+(P24+F24)/(N24*1.5) -> 13.783584 | AI24: =+(E24+M24)/(N24*1.5) -> 0.982383 | AJ24: =+G24/(N24*1.5) -> 2.4743347 | AK24: =+H24/(N24*1.5) -> 0 | AL24: =+Q24/(N24*1.5) -> 10.454333 | AM24: =VLOOKUP(AG24,'SCORE TALLER'!$AC$2:$AD$10,2,TRUE)*AM$2 -> 0 | AN24: =VLOOKUP(AD24,'SCORE TALLER'!$W$2:$X$10,2,TRUE)*AN$2 -> 0.32 | AO24: =VLOOKUP(AB24,'SCORE TALLER'!$S$2:$T$10,2,FALSE)*AO$2 -> 0.05 | AP24: =VLOOKUP(AH24,'SCORE TALLER'!$AE$2:$AF$10,2,TRUE)*AP$2 -> 0.16 | AQ24: =VLOOKUP(AI24,'SCORE TALLER'!$AG$2:$AH$10,2,TRUE)*AQ$2 -> 0.4 | AR24: =VLOOKUP(AC24,'SCORE TALLER'!$U$2:$V$10,2,FALSE)*AR$2 -> 0.04 | AS24: =VLOOKUP(AE24,'SCORE TALLER'!$Y$2:$Z$10,2,FALSE)*AS$2 -> 0.02 | AT24: =VLOOKUP(Z24,'SCORE TALLER'!$O$2:$P$10,2,TRUE)*AT$2 -> 0.02 | AU24: =VLOOKUP(S24,'SCORE TALLER'!$A$2:$B$10,2,FALSE)*AU$2 -> 0.15 | AV24: =VLOOKUP(AJ24,'SCORE TALLER'!$AI$2:$AJ$10,2,TRUE)*AV$2 -> 0.15 | AW24: =VLOOKUP(AK24,'SCORE TALLER'!$AK$2:$AL$10,2,TRUE)*AW$2 -> 0.25 | AX24: =VLOOKUP(T24,'SCORE TALLER'!$C$2:$D$10,2,FALSE)*AX$2 -> 0 | AY24: =VLOOKUP(W24,'SCORE TALLER'!$I$2:$J$10,2,TRUE)*AY$2 -> 0 | AZ24: =VLOOKUP(X24,'SCORE TALLER'!$K$2:$L$10,2,TRUE)*AZ$2 -> 0 | BA24: =VLOOKUP(U24,'SCORE TALLER'!$E$2:$F$10,2,FALSE)*BA$2 -> 0 | BB24: =VLOOKUP(Y24,'SCORE TALLER'!$M$2:$N$10,2,TRUE)*BB$2 -> 0.03 | BC24: =VLOOKUP(AA24,'SCORE TALLER'!$Q$2:$R$10,2,FALSE)*BC$2 -> 0.05 | BD24: =VLOOKUP(V24,'SCORE TALLER'!$G$2:$H$10,2,FALSE)*BD$2 -> 0 | BE24: =VLOOKUP(AF24,'SCORE TALLER'!$AA$2:$AB$10,2,FALSE)*BE$2 -> 0.5 | BF24: =VLOOKUP(AL24,'SCORE TALLER'!$AM$2:$AN$10,2,TRUE)*BF$2 -> 0.5 | BG24: =+SUM(AM24:BF24) -> 2.64 | BH24: =VLOOKUP(BG24,'SCORE TALLER'!$AP$2:$AQ$7,2,TRUE) -> 4. Alto | BI24: =+T24 -> LBZ | BJ24: =+U24 -> A | BK24: =+AF24 -> E | BL24: =+H24 -> 0 | BM24: =+Q24 -> 31363000
A25: 2048408468 | B25: ASOCIADO 21 | C25: 1. SI | D25: 4. >$1-$2 MM | F25: 2266671 | G25: =+IF(F25>M25+100000,F25-M25,0) -> 1046051 | H25: =IF(G25>L25+100000,G25-L25,0) -> 1046051 | I25: 2417000 | J25: 111852 | K25: 0 | L25: 0 | M25: 1220620 | N25: =VLOOKUP(AD25,'tabla ingresos'!$A$3:$D$15,4,FALSE) -> 1000000 | O25: 332532.25 | P25: 14949000 | Q25: 14949000 | R25: 13001 | S25: 9- Otras garantías (no admisible) | T25: LBZ | U25: A | V25: 4 | W25: 0 | X25: 0 | Y25: 2.860274 | Z25: 33.739726 | AA25: 2 | AB25: 2 | AC25: 3 | AD25: 2 | AE25: 3 | AF25: E | AG25: =+(O25+J25)/(N25*1.5) -> 0.29625617 | AH25: =+(P25+F25)/(N25*1.5) -> 11.477114 | AI25: =+(E25+M25)/(N25*1.5) -> 0.81374667 | AJ25: =+G25/(N25*1.5) -> 0.69736733 | AK25: =+H25/(N25*1.5) -> 0.69736733 | AL25: =+Q25/(N25*1.5) -> 9.966 | AM25: =VLOOKUP(AG25,'SCORE TALLER'!$AC$2:$AD$10,2,TRUE)*AM$2 -> 0 | AN25: =VLOOKUP(AD25,'SCORE TALLER'!$W$2:$X$10,2,TRUE)*AN$2 -> 0.32 | AO25: =VLOOKUP(AB25,'SCORE TALLER'!$S$2:$T$10,2,FALSE)*AO$2 -> 0.04 | AP25: =VLOOKUP(AH25,'SCORE TALLER'!$AE$2:$AF$10,2,TRUE)*AP$2 -> 0.16 | AQ25: =VLOOKUP(AI25,'SCORE TALLER'!$AG$2:$AH$10,2,TRUE)*AQ$2 -> 0.4 | AR25: =VLOOKUP(AC25,'SCORE TALLER'!$U$2:$V$10,2,FALSE)*AR$2 -> 0.03 | AS25: =VLOOKUP(AE25,'SCORE TALLER'!$Y$2:$Z$10,2,FALSE)*AS$2 -> 0.02 | AT25: =VLOOKUP(Z25,'SCORE TALLER'!$O$2:$P$10,2,TRUE)*AT$2 -> 0.04 | AU25: =VLOOKUP(S25,'SCORE TALLER'!$A$2:$B$10,2,FALSE)*AU$2 -> 0.25 | AV25: =VLOOKUP(AJ25,'SCORE TALLER'!$AI$2:$AJ$10,2,TRUE)*AV$2 -> 0.25 | AW25: =VLOOKUP(AK25,'SCORE TALLER'!$AK$2:$AL$10,2,TRUE)*AW$2 -> 0.25 | AX25: =VLOOKUP(T25,'SCORE TALLER'!$C$2:$D$10,2,FALSE)*AX$2 -> 0 | AY25: =VLOOKUP(W25,'SCORE TALLER'!$I$2:$J$10,2,TRUE)*AY$2 -> 0 | AZ25: =VLOOKUP(X25,'SCORE TALLER'!$K$2:$L$10,2,TRUE)*AZ$2 -> 0 | BA25: =VLOOKUP(U25,'SCORE TALLER'!$E$2:$F$10,2,FALSE)*BA$2 -> 0 | BB25: =VLOOKUP(Y25,'SCORE TALLER'!$M$2:$N$10,2,TRUE)*BB$2 -> 0.04 | BC25: =VLOOKUP(AA25,'SCORE TALLER'!$Q$2:$R$10,2,FALSE)*BC$2 -> 0 | BD25: =VLOOKUP(V25,'SCORE TALLER'!$G$2:$H$10,2,FALSE)*BD$2 -> 0 | BE25: =VLOOKUP(AF25,'SCORE TALLER'!$AA$2:$AB$10,2,FALSE)*BE$2 -> 0.5 | BF25: =VLOOKUP(AL25,'SCORE TALLER'!$AM$2:$AN$10,2,TRUE)*BF$2 -> 0.5 | BG25: =+SUM(AM25:BF25) -> 2.8 | BH25: =VLOOKUP(BG25,'SCORE TALLER'!$AP$2:$AQ$7,2,TRUE) -> 4. Alto | BI25: =+T25 -> LBZ | BJ25: =+U25 -> A | BK25: =+AF25 -> E | BL25: =+H25 -> 1046051 | BM25: =+Q25 -> 14949000
A26: 2042466284 | B26: ASOCIADO 22 | C26: 1. SI | D26: 5. >$2-$5 MM | F26: 3476835 | G26: =+IF(F26>M26+100000,F26-M26,0) -> 2204015 | H26: =IF(G26>L26+100000,G26-L26,0) -> 804015 | I26: 3477000 | J26: 199098 | K26: 0 | L26: 1400000 | M26: 1272820 | N26: =VLOOKUP(AD26,'tabla ingresos'!$A$3:$D$15,4,FALSE) -> 1000000 | O26: 384287.77 | P26: 14621000 | Q26: 14621000 | R26: 15001 | S26: 6- pignoración | T26: LBZ | U26: A | V26: 4 | W26: 0 | X26: 0 | Y26: 5.1561644 | Z26: 35.956164 | AA26: 2 | AB26: 2 | AC26: 2 | AD26: 2 | AE26: 3 | AF26: E | AG26: =+(O26+J26)/(N26*1.5) -> 0.38892384 | AH26: =+(P26+F26)/(N26*1.5) -> 12.065223 | AI26: =+(E26+M26)/(N26*1.5) -> 0.84854667 | AJ26: =+G26/(N26*1.5) -> 1.4693433 | AK26: =+H26/(N26*1.5) -> 0.53601 | AL26: =+Q26/(N26*1.5) -> 9.7473333 | AM26: =VLOOKUP(AG26,'SCORE TALLER'!$AC$2:$AD$10,2,TRUE)*AM$2 -> 0 | AN26: =VLOOKUP(AD26,'SCORE TALLER'!$W$2:$X$10,2,TRUE)*AN$2 -> 0.32 | AO26: =VLOOKUP(AB26,'SCORE TALLER'!$S$2:$T$10,2,FALSE)*AO$2 -> 0.04 | AP26: =VLOOKUP(AH26,'SCORE TALLER'!$AE$2:$AF$10,2,TRUE)*AP$2 -> 0.16 | AQ26: =VLOOKUP(AI26,'SCORE TALLER'!$AG$2:$AH$10,2,TRUE)*AQ$2 -> 0.4 | AR26: =VLOOKUP(AC26,'SCORE TALLER'!$U$2:$V$10,2,FALSE)*AR$2 -> 0.04 | AS26: =VLOOKUP(AE26,'SCORE TALLER'!$Y$2:$Z$10,2,FALSE)*AS$2 -> 0.02 | AT26: =VLOOKUP(Z26,'SCORE TALLER'!$O$2:$P$10,2,TRUE)*AT$2 -> 0.03 | AU26: =VLOOKUP(S26,'SCORE TALLER'!$A$2:$B$10,2,FALSE)*AU$2 -> 0.15 | AV26: =VLOOKUP(AJ26,'SCORE TALLER'!$AI$2:$AJ$10,2,TRUE)*AV$2 -> 0.2 | AW26: =VLOOKUP(AK26,'SCORE TALLER'!$AK$2:$AL$10,2,TRUE)*AW$2 -> 0.25 | AX26: =VLOOKUP(T26,'SCORE TALLER'!$C$2:$D$10,2,FALSE)*AX$2 -> 0 | AY26: =VLOOKUP(W26,'SCORE TALLER'!$I$2:$J$10,2,TRUE)*AY$2 -> 0 | AZ26: =VLOOKUP(X26,'SCORE TALLER'!$K$2:$L$10,2,TRUE)*AZ$2 -> 0 | BA26: =VLOOKUP(U26,'SCORE TALLER'!$E$2:$F$10,2,FALSE)*BA$2 -> 0 | BB26: =VLOOKUP(Y26,'SCORE TALLER'!$M$2:$N$10,2,TRUE)*BB$2 -> 0.03 | BC26: =VLOOKUP(AA26,'SCORE TALLER'!$Q$2:$R$10,2,FALSE)*BC$2 -> 0 | BD26: =VLOOKUP(V26,'SCORE TALLER'!$G$2:$H$10,2,FALSE)*BD$2 -> 0 | BE26: =VLOOKUP(AF26,'SCORE TALLER'!$AA$2:$AB$10,2,FALSE)*BE$2 -> 0.5 | BF26: =VLOOKUP(AL26,'SCORE TALLER'!$AM$2:$AN$10,2,TRUE)*BF$2 -> 0.5 | BG26: =+SUM(AM26:BF26) -> 2.64 | BH26: =VLOOKUP(BG26,'SCORE TALLER'!$AP$2:$AQ$7,2,TRUE) -> 4. Alto | BI26: =+T26 -> LBZ | BJ26: =+U26 -> A | BK26: =+AF26 -> E | BL26: =+H26 -> 804015 | BM26: =+Q26 -> 14621000
A27: 8048420 | B27: ASOCIADO 23 | C27: 1. SI | D27: 4. >$1-$2 MM | F27: 3713227 | G27: =+IF(F27>M27+100000,F27-M27,0) -> 1521747 | H27: =IF(G27>L27+100000,G27-L27,0) -> 1521747 | I27: 3713000 | J27: 138008 | K27: 0 | L27: 0 | M27: 2191480 | N27: =VLOOKUP(AD27,'tabla ingresos'!$A$3:$D$15,4,FALSE) -> 2000000 | O27: 633343.91 | P27: 28472000 | Q27: 28402000 | R27: 13052 | S27: 9- Otras garantías (no admisible) | T27: LBZ | U27: A | V27: 4 | W27: 0 | X27: 0 | Y27: 4.6575342 | Z27: 38.342466 | AA27: 1 | AB27: 3 | AC27: 2 | AD27: 3 | AE27: 3 | AF27: E | AG27: =+(O27+J27)/(N27*1.5) -> 0.2571173 | AH27: =+(P27+F27)/(N27*1.5) -> 10.728409 | AI27: =+(E27+M27)/(N27*1.5) -> 0.73049333 | AJ27: =+G27/(N27*1.5) -> 0.507249 | AK27: =+H27/(N27*1.5) -> 0.507249 | AL27: =+Q27/(N27*1.5) -> 9.4673333 | AM27: =VLOOKUP(AG27,'SCORE TALLER'!$AC$2:$AD$10,2,TRUE)*AM$2 -> 0 | AN27: =VLOOKUP(AD27,'SCORE TALLER'!$W$2:$X$10,2,TRUE)*AN$2 -> 0.32 | AO27: =VLOOKUP(AB27,'SCORE TALLER'!$S$2:$T$10,2,FALSE)*AO$2 -> 0.03 | AP27: =VLOOKUP(AH27,'SCORE TALLER'!$AE$2:$AF$10,2,TRUE)*AP$2 -> 0.16 | AQ27: =VLOOKUP(AI27,'SCORE TALLER'!$AG$2:$AH$10,2,TRUE)*AQ$2 -> 0.4 | AR27: =VLOOKUP(AC27,'SCORE TALLER'!$U$2:$V$10,2,FALSE)*AR$2 -> 0.04 | AS27: =VLOOKUP(AE27,'SCORE TALLER'!$Y$2:$Z$10,2,FALSE)*AS$2 -> 0.02 | AT27: =VLOOKUP(Z27,'SCORE TALLER'!$O$2:$P$10,2,TRUE)*AT$2 -> 0.03 | AU27: =VLOOKUP(S27,'SCORE TALLER'!$A$2:$B$10,2,FALSE)*AU$2 -> 0.25 | AV27: =VLOOKUP(AJ27,'SCORE TALLER'!$AI$2:$AJ$10,2,TRUE)*AV$2 -> 0.25 | AW27: =VLOOKUP(AK27,'SCORE TALLER'!$AK$2:$AL$10,2,TRUE)*AW$2 -> 0.25 | AX27: =VLOOKUP(T27,'SCORE TALLER'!$C$2:$D$10,2,FALSE)*AX$2 -> 0 | AY27: =VLOOKUP(W27,'SCORE TALLER'!$I$2:$J$10,2,TRUE)*AY$2 -> 0 | AZ27: =VLOOKUP(X27,'SCORE TALLER'!$K$2:$L$10,2,TRUE)*AZ$2 -> 0 | BA27: =VLOOKUP(U27,'SCORE TALLER'!$E$2:$F$10,2,FALSE)*BA$2 -> 0 | BB27: =VLOOKUP(Y27,'SCORE TALLER'!$M$2:$N$10,2,TRUE)*BB$2 -> 0.03 | BC27: =VLOOKUP(AA27,'SCORE TALLER'!$Q$2:$R$10,2,FALSE)*BC$2 -> 0.05 | BD27: =VLOOKUP(V27,'SCORE TALLER'!$G$2:$H$10,2,FALSE)*BD$2 -> 0 | BE27: =VLOOKUP(AF27,'SCORE TALLER'!$AA$2:$AB$10,2,FALSE)*BE$2 -> 0.5 | BF27: =VLOOKUP(AL27,'SCORE TALLER'!$AM$2:$AN$10,2,TRUE)*BF$2 -> 0.5 | BG27: =+SUM(AM27:BF27) -> 2.83 | BH27: =VLOOKUP(BG27,'SCORE TALLER'!$AP$2:$AQ$7,2,TRUE) -> 4. Alto | BI27: =+T27 -> LBZ | BJ27: =+U27 -> A | BK27: =+AF27 -> E | BL27: =+H27 -> 1521747 | BM27: =+Q27 -> 28402000
A28: 24846280 | B28: ASOCIADO 24 | C28: 1. SI | D28: 5. >$2-$5 MM | F28: 5637299 | G28: =+IF(F28>M28+100000,F28-M28,0) -> 3893679 | H28: =IF(G28>L28+100000,G28-L28,0) -> 3893679 | I28: 5637000 | J28: 175385 | K28: 0 | L28: 0 | M28: 1743620 | N28: =VLOOKUP(AD28,'tabla ingresos'!$A$3:$D$15,4,FALSE) -> 1000000 | O28: 1349125.8 | P28: 60650000 | Q28: 60650000 | R28: 68307 | S28: 9- Otras garantías (no admisible) | T28: LBZ | U28: A | V28: 4 | W28: 0 | X28: 0 | Y28: 4.5753425 | Z28: 41.364384 | AA28: 1 | AB28: 2 | AC28: 3 | AD28: 2 | AE28: 2 | AF28: E | AG28: =+(O28+J28)/(N28*1.5) -> 1.0163405 | AH28: =+(P28+F28)/(N28*1.5) -> 44.191533 | AI28: =+(E28+M28)/(N28*1.5) -> 1.1624133 | AJ28: =+G28/(N28*1.5) -> 2.595786 | AK28: =+H28/(N28*1.5) -> 2.595786 | AL28: =+Q28/(N28*1.5) -> 40.433333 | AM28: =VLOOKUP(AG28,'SCORE TALLER'!$AC$2:$AD$10,2,TRUE)*AM$2 -> 0.4 | AN28: =VLOOKUP(AD28,'SCORE TALLER'!$W$2:$X$10,2,TRUE)*AN$2 -> 0.32 | AO28: =VLOOKUP(AB28,'SCORE TALLER'!$S$2:$T$10,2,FALSE)*AO$2 -> 0.04 | AP28: =VLOOKUP(AH28,'SCORE TALLER'!$AE$2:$AF$10,2,TRUE)*AP$2 -> 0.4 | AQ28: =VLOOKUP(AI28,'SCORE TALLER'!$AG$2:$AH$10,2,TRUE)*AQ$2 -> 0.32 | AR28: =VLOOKUP(AC28,'SCORE TALLER'!$U$2:$V$10,2,FALSE)*AR$2 -> 0.03 | AS28: =VLOOKUP(AE28,'SCORE TALLER'!$Y$2:$Z$10,2,FALSE)*AS$2 -> 0.01 | AT28: =VLOOKUP(Z28,'SCORE TALLER'!$O$2:$P$10,2,TRUE)*AT$2 -> 0.03 | AU28: =VLOOKUP(S28,'SCORE TALLER'!$A$2:$B$10,2,FALSE)*AU$2 -> 0.25 | AV28: =VLOOKUP(AJ28,'SCORE TALLER'!$AI$2:$AJ$10,2,TRUE)*AV$2 -> 0.15 | AW28: =VLOOKUP(AK28,'SCORE TALLER'!$AK$2:$AL$10,2,TRUE)*AW$2 -> 0.15 | AX28: =VLOOKUP(T28,'SCORE TALLER'!$C$2:$D$10,2,FALSE)*AX$2 -> 0 | AY28: =VLOOKUP(W28,'SCORE TALLER'!$I$2:$J$10,2,TRUE)*AY$2 -> 0 | AZ28: =VLOOKUP(X28,'SCORE TALLER'!$K$2:$L$10,2,TRUE)*AZ$2 -> 0 | BA28: =VLOOKUP(U28,'SCORE TALLER'!$E$2:$F$10,2,FALSE)*BA$2 -> 0 | BB28: =VLOOKUP(Y28,'SCORE TALLER'!$M$2:$N$10,2,TRUE)*BB$2 -> 0.03 | BC28: =VLOOKUP(AA28,'SCORE TALLER'!$Q$2:$R$10,2,FALSE)*BC$2 -> 0.05 | BD28: =VLOOKUP(V28,'SCORE TALLER'!$G$2:$H$10,2,FALSE)*BD$2 -> 0 | BE28: =VLOOKUP(AF28,'SCORE TALLER'!$AA$2:$AB$10,2,FALSE)*BE$2 -> 0.5 | BF28: =VLOOKUP(AL28,'SCORE TALLER'!$AM$2:$AN$10,2,TRUE)*BF$2 -> 0.5 | BG28: =+SUM(AM28:BF28) -> 3.18 | BH28: =VLOOKUP(BG28,'SCORE TALLER'!$AP$2:$AQ$7,2,TRUE) -> 5. Crítico | BI28: =+T28 -> LBZ | BJ28: B | BK28: =+AF28 -> E | BL28: =+H28 -> 3893679 | BM28: =+Q28 -> 60650000
