Workbook
Name Entidades: 'Prob Incumplimiento'!$B$4:$I$4
Name Fecha_Corte: #REF!
Name Garantia: Parametros!$H$3:$H$4
Name Respuesta: Parametros!$A$3:$A$4
Name SMMLV: Parametros!$K$3

Sheet Consumo CON Libranza
A1: MODELO DE REFERENCIA CONSUMO CON LIBRANZA
A3: Z = -2.2504 – 0.8444 * EA – 1.0573 * AP + 1.0715 * TC – 0.0139* FE + 0.4187 * ESIN + 0.5313 * FAMOR – 0.5536 * VALCUOTA – 0.3662* VALPRES + 0.0586 * OCOOP – 0.5981 * FONAHO – 1.3854 * COOCDAT – 0.5893 * FONDPLAZO + 0.7833 * ANTIPRE1 + 0.8526 * MORA15 + 1.4445 * MORA1230 + 1.3892 * MORA1260 + 0.2823 * MORA2430 + 0.7515 * MORA2460 – 0.6632 * SINMORA + 1.2362 * MORTRIM
A5: VARIABLES
I7: -2.2504
A8: EA | B8: 0.8444 | C8: Asociado se encuentra activo? | G8: Si | H8: =IF(G8="Si",1,0) -> 1 | I8: =B8*H8 -> 0.8444 | J8: ( - )
A9: AP | B9: 1.0573 | C9: Aportes del Asociado > $0? | G9: Si | H9: =IF(G9="Si",1,0) -> 1 | I9: =B9*H9 -> 1.0573 | J9: ( - )
A10: TC | B10: 1.0715 | C10: Tipo de cuota del CR es fija? | G10: Si | H10: =IF(G10="Si",0,1) -> 0 | I10: =B10*H10 -> 0 | J10: ( + )
A11: FE | B11: 0.0139 | C11: La entidad es Fondo de Empleados? | G11: Si | H11: =IF(G11="Si",1,0) -> 1 | I11: =B11*H11 -> 0.0139 | J11: ( - )
A12: ESIN | B12: 0.4187 | C12: La entidad es: | G12: No | H12: =IF(G12="Si",1,0) -> 0 | I12: =B12*H12 -> 0 | J12: ( + )
C13: Cooperativa Multiactiva sin sección de ahorro?
C14: Cooperativa especializada sin sección de ahorro?
C15: Cooperativa Integral sin sección de Ahorro?
A16: FAMOR | B16: 0.5313 | C16: Amortización >= 90 días y es Fondo E. | G16: No | H16: =IF(G16="Si",1,0) -> 0 | I16: =B16*H16 -> 0 | J16: ( + )
A17: VALCUOTA | B17: 0.5536 | C17: Vr cuota es <= 10% SMMLV y es Fondo E. | G17: No | H17: =IF(G17="Si",1,0) -> 0 | I17: =B17*H17 -> 0 | J17: ( - )
A18: VALPRES | B18: 0.3662 | C18: Vr prestamo es < 1 SMMLV y es Fondo E. | G18: No | H18: =IF(G18="Si",1,0) -> 0 | I18: =B18*H18 -> 0 | J18: ( - )
A19: OCOOP | B19: 0.0586 | C19: Vr prestamo es > 7 SMMLV y es diferente a Coop A y C | G19: Si | H19: =IF(G19="Si",1,0) -> 1 | I19: =B19*H19 -> 0.0586 | J19: ( + )
A20: FONAHO | B20: 0.5981 | C20: Posee cta de ahorros (NO Ah. permanente) y es Fondo E. | G20: No | H20: =IF(G20="Si",1,0) -> 0 | I20: =B20*H20 -> 0 | J20: ( - )
A21: COOCDAT | B21: 1.3854 | C21: Posee CDAT y es Coop Ahorro y CR? | G21: No | H21: =IF(G21="Si",1,0) -> 0 | I21: =B21*H21 -> 0 | J21: ( - )
A22: FONDPLAZO | B22: 0.5893 | C22: Plazo prestamo <= 6 meses y es Fondo E.? | G22: No | H22: =IF(G22="Si",1,0) -> 0 | I22: =B22*H22 -> 0 | J22: ( - )
A23: ANTIPRE1 | B23: 0.7833 | C23: Antigüedad del Asociado es <= 1 mes? | G23: No | H23: =IF(G23="Si",1,0) -> 0 | I23: =B23*H23 -> 0 | J23: ( + )
A24: MORA15 | B24: 0.8526 | C24: La mora max ult 12 meses esta entre 15-30 días? | G24: No | H24: =IF(G24="Si",1,0) -> 0 | I24: =B24*H24 -> 0 | J24: ( + )
A25: MORA1230 | B25: 1.4445 | C25: La mora max ult 12 meses esta entre 31-60 días? | G25: No | H25: =IF(G25="Si",1,0) -> 0 | I25: =B25*H25 -> 0 | J25: ( + )
A26: MORA1260 | B26: 1.3892 | C26: La mora max ult 12 meses es > 60 días? | G26: No | H26: =IF(G26="Si",1,0) -> 0 | I26: =B26*H26 -> 0 | J26: ( + )
A27: MORA2430 | B27: 0.2823 | C27: La mora max ult 24 meses esta entre 31-60 días? | G27: No | H27: =IF(G27="Si",1,0) -> 0 | I27: =B27*H27 -> 0 | J27: ( + )
... A30: MORTRIM | B30: 1.2362 | C30: La mora ult 3 meses esta entre 31-60 días? | G30: No | H30: =IF(G30="Si",1,0) -> 0 | I30: =B30*H30 -> 0 | J30: ( + )
H31: Z = | I31: =I7-I8-I9+I10-I11+I12+I16-I17-I18+I19-I20-I21-I22+I23+I24+I25+I26+I27+I28-I29+I30 -> -4.7706
I33: =1/(1+EXP(-I31)) -> 0.0084040665
F35: CALIFICACIÓN | I35: =VLOOKUP(I33,'Rangos de Calificación'!$A$10:$C$14,3,TRUE) -> A | J35: =VLOOKUP(I35,Parametros!E:F,2,FALSE) -> 1
F38: TIPO DE ENTIDAD
F39: Fondos de Empleados
A41: SALDO (Valor Expuesto) | F41: PROBABILIDA DE INCUMPLIMIENTO
A42: 10000000 | F42: =IF(A45>90,100%,HLOOKUP(F39,'Prob Incumplimiento'!4:10,J35+1,FALSE)) -> 0.0058
A44: DIAS MORA | F44: PERDIDA DADO EL INCUMPLIMIENTO
A45: 0 | F45: =IF(A48="Sin garantia",VLOOKUP(A45,PDI!$A$33:$C$35,3,TRUE),VLOOKUP(A45,PDI!$A$27:$C$29,3,TRUE)) -> 0.6
A47: TIPO DE GARANTIA | F47: PROVISIÓN
A48: Garantia no idonea
F49: =A42*F42*F45 -> 34800

Sheet Consumo SIN Libranza
A1: MODELO DE REFERENCIA CONSUMO SIN LIBRANZA
A3: Z = – 1.8017 – 0.3758 * EA – 1.1475 * AP + 0.4934 * REEST – 0.387 * CUENAHO – 1.0786 * CDAT - 0.0167 * PER + 0.3204 * ENTIDAD1 – 0.8419 * SALPRES + 0.1271 * ANTIPRE1 – 0.3912 * ANTIPRE2 - 0.4892 * VIN2 + 0.7877 * MORA1230 +2.5651*MORA1260 + 0.696 * MORA2430 + 2.908 * MORA2460 + 0.8114 * MORA3615
A5: VARIABLES
I7: -1.8017
A8: EA | B8: 0.3758 | C8: Asociado se encuentra activo? | G8: Si | H8: =IF(G8="Si",1,0) -> 1 | I8: =B8*H8 -> 0.3758 | J8: ( - )
A9: AP | B9: 1.1475 | C9: Aportes del Asociado > $0? | G9: Si | H9: =IF(G9="Si",1,0) -> 1 | I9: =B9*H9 -> 1.1475 | J9: ( - )
A10: REEST | B10: 0.4934 | C10: Tipo de cuota del CR es fija? | G10: Si | H10: =IF(G10="Si",1,0) -> 1 | I10: =B10*H10 -> 0.4934 | J10: ( + )
A11: CUENAHO | B11: 0.387 | C11: Cuenta de Ahorros con Sld > 1 y estado activo? | G11: No | H11: =IF(G11="Si",1,0) -> 0 | I11: =B11*H11 -> 0 | J11: ( - )
A12: CDAT | B12: 1.0786 | C12: Tiene CDAT vigente? | G12: No | H12: =IF(G12="Si",1,0) -> 0 | I12: =B12*H12 -> 0 | J12: ( - )
A13: PER | B13: 0.0167 | C13: Tienen ahorro permanente? | G13: No | H13: =IF(G13="Si",1,0) -> 0 | I13: =B13*H13 -> 0 | J13: ( - )
A14: ENTIDAD 1 | B14: 0.3204 | C14: La entidad es | G14: No | H14: =IF(G14="Si",1,0) -> 0 | I14: =B14*H14 -> 0 | J14: ( + )
C15: Cooperativa de trabajo asociado?
C16: Cooperativa especializada sin sección de ahorro?
A17: SALPRES | B17: 0.8419 | C17: La relación saldo / prestamo es menor al 20% | G17: No | H17: =IF(G17="Si",1,0) -> 0 | I17: =B17*H17 -> 0 | J17: ( - )
A18: ANTIPRE1 | B18: 0.1271 | C18: Antigüedad del Asociado al prestamo es <= 1 mes? | G18: No | H18: =IF(G18="Si",1,0) -> 0 | I18: =B18*H18 -> 0 | J18: ( + )
A19: ANTIPRE2 | B19: 0.3912 | C19: Antigüedad del Asociado al prestamo es >36 meses? | G19: Si | H19: =IF(G19="Si",1,0) -> 1 | I19: =B19*H19 -> 0.3912 | J19: ( - )
A20: VIN2 | B20: 0.4892 | C20: Antigüedad del Asociado es > 120 meses? | G20: No | H20: =IF(G20="Si",1,0) -> 0 | I20: =B20*H20 -> 0 | J20: ( - )
A21: MORA1230 | B21: 0.7877 | C21: La mora max ult 12 meses esta entre 31-60 días? | G21: No | H21: =IF(G21="Si",1,0) -> 0 | I21: =B21*H21 -> 0 | J21: ( + )
A22: MORA1260 | B22: 2.5651 | C22: La mora max ult 12 meses es > 60 días? | G22: No | H22: =IF(G22="Si",1,0) -> 0 | I22: =B22*H22 -> 0 | J22: ( + )
A23: MORA2430 | B23: 0.696 | C23: La mora max ult 24 meses esta entre 31-60 días? | G23: No | H23: =IF(G23="Si",1,0) -> 0 | I23: =B23*H23 -> 0 | J23: ( + )
A24: MORA2460 | B24: 2.908 | C24: La mora max ult 24 meses es > 60 días? | G24: No | H24: =IF(G24="Si",1,0) -> 0 | I24: =B24*H24 -> 0 | J24: ( + )
A25: MORA3615 | B25: 0.8114 | C25: La mora max ult 36 meses es > 60 días? | G25: No | H25: =IF(G25="Si",1,0) -> 0 | I25: =B25*H25 -> 0 | J25: ( + )
H31: Z = | I31: =I7-I8-I9+I10-I11-I12-I13+I14-I17+I18-I19-I20+I21+I22+I23+I24+I25 -> -3.2228
I33: =1/(1+EXP(-I31)) -> 0.038316676
F35: CALIFICACIÓN | I35: =VLOOKUP(I33,'Rangos de Calificación'!$E$10:$G$14,3,TRUE) -> A | J35: =VLOOKUP(I35,Parametros!E:F,2,FALSE) -> 1
F38: TIPO DE ENTIDAD
F39: Multiactiva sin sección de ahorro
A41: SALDO (Valor Expuesto) | F41: PROBABILIDAD DE INCUMPLIMIENTO
A42: 10000000 | F42: =IF(A45>90,100%,HLOOKUP(F39,'Prob Incumplimiento'!16:22,J35+1,FALSE)) -> 0.0354
A44: DIAS MORA | F44: PERDIDA DADO EL INCUMPLIMIENTO
A45: 0 | F45: =IF(A48="Sin garantia",VLOOKUP(A45,PDI!$A$33:$C$35,3,TRUE),VLOOKUP(A45,PDI!$A$27:$C$29,3,TRUE)) -> 0.6
A47: TIPO DE GARANTIA | F47: PROVISIÓN
A48: Garantia no idonea
F49: =A42*F42*F45 -> 212400
J50: =+F49/A42 -> 0.02124

Sheet Comercial Persona Natural
A1: MODELO DE REFERENCIA COMERCIAL PERSONA NATURAL
A3: Z = -2.3110 - 1.8714 * CDAT + 2.1153 * REEST + 0.3901 * TC - 0.8983 * SALPRES + 0.2857 * ANTIPRE1 + 1.6468 * MORTRIM>30 + 0.9328 * NODO1 + 0.9875 * MORA1260 + 0.7371 * NODO2 + 0.5040 * NODO3 + 0.7020 * MORA30 + 0.3254 * 1MORA30M3 + 0.5307 * 1MORA60M3 + 0.7840 * NODO4
A5: VARIABLES
I7: -2.311
A8: CDAT | B8: 1.8714 | C8: Tiene CDAT vigente? | G8: No | H8: =IF(G8="Si",1,0) -> 0 | I8: =B8*H8 -> 0 | J8: ( - )
A9: REEST | B9: 2.1153 | C9: Crédito se encuentra reestructurado? | G9: Si | H9: =IF(G9="Si",1,0) -> 1 | I9: =B9*H9 -> 2.1153 | J9: ( + )
A10: TC | B10: 0.3901 | C10: Tipo de cuota del CR es variable | G10: Si | H10: =IF(G10="Si",1,0) -> 1 | I10: =B10*H10 -> 0.3901 | J10: ( + )
A11: SALPRES | B11: 0.8983 | C11: La relación saldo / prestamo es menor al 20% | G11: Si | H11: =IF(G11="Si",1,0) -> 1 | I11: =B11*H11 -> 0.8983 | J11: ( - )
A12: ANTIPRE1 | B12: 0.2857 | C12: Antigüedad del Asociado al prestamo es <= 1 mes? | G12: Si | H12: =IF(G12="Si",1,0) -> 1 | I12: =B12*H12 -> 0.2857 | J12: ( + )
A13: MORTRIM>30 | B13: 1.6468 | C13: La mora ult 3 meses es >= a 31 días? | G13: Si | H13: =IF(G13="Si",1,0) -> 1 | I13: =B13*H13 -> 1.6468 | J13: ( + )
A14: MORA1230 | C14: La mora max ult 12 meses esta entre 31-60 días? | G14: No | H14: =IF(G14="Si",1,0) -> 0
A15: NODO1 | B15: 0.9328 | C15: MORA1230 = 1 y MORTRIM>30 = 0, | H15: =IF(AND(H14=1,H13=0),1,0) -> 0 | I15: =B15*H15 -> 0 | J15: ( + )
A16: MORA1260 | B16: 0.9875 | C16: La mora max ult 12 meses es > 60 días? | G16: Si | H16: =IF(G16="Si",1,0) -> 1 | I16: =B16*H16 -> 0.9875 | J16: ( + )
A17: MORA2430 | C17: La mora max ult 24 meses esta entre 31-60 días? | G17: Si | H17: =IF(G17="Si",1,0) -> 1
A18: MORA2460 | C18: La mora max ult 24 meses es > 60 días? | G18: Si | H18: =IF(G18="Si",1,0) -> 1
A19: Antigüedad Prestamo Meses | C19: Antigüedad del prestamo en meses | G19: 14 | H19: =IF(G19="Si",1,0) -> 0 | I19: =B19*H19 -> 0
A20: NODO2 | B20: 0.7371 | C20: Antigüedad prestamo mayor o igual a 13 meses y (MORA2430 = 1 ó MORA2460= 1) y (MORA1230=0 y MORA1260=0) | H20: =IF(AND(G19>=13,(IF(OR(H17=1,H18=1),1,0))=1,H14=0,H16=0),1,0) -> 0 | I20: =B20*H20 -> 0 | J20: ( + )
A21: MORA3630 | C21: La mora max ult 36 meses esta entre 31-60 días? | G21: Si | H21: =IF(G21="Si",1,0) -> 1
A22: MORA3660 | C22: La mora max ult 36 meses esta > 60 días? | G22: Si | H22: =IF(G22="Si",1,0) -> 1
A23: NODO3 | B23: 0.504 | C23: antigüedad mayor o igual a 25 meses y MORA2430=0 y MORA2460=0 y (MORA3630 = 1 o MORA3660=1), | H23: =IF(AND(G19>=25,H17=0,H18=0,(IF(OR(H21=1,H22=1),1,0))=1,),1,0) -> 0 | I23: =B23*H23 -> 0 | J23: ( + )
A24: 1MORA30 | C24: La mora max ult 12 meses esta entre 31-60 días? | G24: Si | H24: =IF(G24="Si",1,0) -> 1
A25: 2MORA30 | C25: La mora max ult 12 meses dos o mas mora entre 31-60 días? | G25: Si | H25: =IF(G25="Si",1,0) -> 1
A26: MORA30 | B26: 0.702 | C26: 1MORA30 = 1 o 2MORA30 = 1, toma el valor 1, | G26: Si | H26: =IF(G26="Si",1,0) -> 1 | I26: =B26*H26 -> 0.702 | J26: ( + )
A27: 1MORA30M3 | B27: 0.3254 | C27: La mora max ult 3 meses esta entre 31-60 días? | G27: Si | H27: =IF(G27="Si",1,0) -> 1 | I27: =B27*H27 -> 0.3254 | J27: ( + )
A28: 1MORA60M3 | B28: 0.5307 | C28: La mora max ult 3 meses > 60 días? | G28: Si | H28: =IF(G28="Si",1,0) -> 1 | I28: =B28*H28 -> 0.5307 | J28: ( + )
A29: Plazo Prestamo Meses | C29: Plazo en meses | G29: 60 | H29: =IF(G29="Si",1,0) -> 0
A30: NODO4 | B30: 0.784 | G30: No | H30: =IF(AND(G19<13,G29>60),1,0) -> 0 | I30: =B30*H30 -> 0 | J30: ( + )
H32: Z = | I32: =I7-I8+I9+I10-I11+I12+I13+I15+I16+I20+I23+I26+I27+I28+I30 -> 3.7742
I34: =1/(1+EXP(-I32)) -> 0.97755968
F36: CALIFICACIÓN | I36: =VLOOKUP(I34,'Rangos de Calificación'!$I$10:$K$14,3,TRUE) -> E | J36: =VLOOKUP(I36,Parametros!E:F,2,FALSE) -> 5
F39: TIPO DE ENTIDAD
F40: Fondos de Empleados
A42: SALDO (Valor Expuesto) | F42: PROBABILIDAD DE INCUMPLIMIENTO
A43: 10000000 | F43: =IF(A46>120,100%,HLOOKUP(F40,'Prob Incumplimiento'!28:34,J36+1,FALSE)) -> 1
A45: DIAS MORA | F45: PERDIDA DADO EL INCUMPLIMIENTO
A46: 200 | F46: =IF(A49="Sin garantia",VLOOKUP(A46,PDI!$A$33:$C$35,3,TRUE),VLOOKUP(A46,PDI!$A$27:$C$29,3,TRUE)) -> 0.6
A48: TIPO DE GARANTIA | F48: PROVISIÓN
A49: Garantia no idonea
F50: =A43*F43*F46 -> 6000000

Sheet Rangos de Calificación
A1: Calificación | B1: Consumo con libranza | C1: Consumo sin libranza | D1: Comercial- Persona natural | E1: Calificación
A2: A | B2: 0.0174 | C2: 0.0559 | D2: 0.234 | E2: A
A3: B | B3: 0.0337 | C3: 0.1066 | D3: 0.4291 | E3: B
A4: C | B4: 0.0479 | C4: 0.2199 | D4: 0.5905 | E4: C
A5: D | B5: 0.0812 | C5: 0.369 | D5: 0.7571 | E5: D
A6: E | B6: 1 | C6: 1 | D6: 1 | E6: E
A9: Consumo CON libranza | E9: Consumo SIN libranza | I9: Comercial Persona Natural
A10: 0 | B10: 0 - 0.0174 | C10: A | E10: 0 | F10: 0 - 0.0559 | G10: A | I10: 0 | J10: 0 - 0.2340 | K10: A
A11: 0.0175 | B11: 0.0175 - 0.0337 | C11: B | E11: 0.056 | F11: 0.0560 - 0.1066 | G11: B | I11: 0.2340001 | J11: > 0.2340 - 0.4291 | K11: B
A12: 0.0338 | B12: 0.0338 - 0.0479 | C12: C | E12: 0.1067 | F12: 0.1067 - 0.2199 | G12: C | I12: 0.4291001 | J12: > 0.4291 - 0.5905 | K12: C
A13: 0.048 | B13: 0.0480 - 0.0812 | C13: D | E13: 0.22 | F13: 0.2200 - 0.3690 | G13: D | I13: 0.5905001 | J13: > 0.5905 - 0.7571 | K13: D
A14: 0.0813 | B14: 0.0813 - 1 | C14: E | E14: 0.3691 | F14: 0.3691 - 1 | G14: E | I14: 0.7571001 | J14: > 0.7571 | K14: E
A16: TIPO PAGO | B16: (Varios elementos)
A18: Etiquetas de fila | B18: Cuenta de Puntaje
A19: Total general

Sheet Cta Contable
A1: CUENTA | B1: RECA | C1: DESCRIPCION DE LA CUENTA | D1: CLASIFICACIÓN
A2: 140000 | B2: SIN LIBRANZA | C2: CARTERA DE CRDITOS
A3: 140400 | B3: LIBRANZA | C3: CREDITOS DE VIVIENDA - CON LIBRANZA | D3: Vivienda | E3: -
A4: 140405 | B4: LIBRANZA | C4: CATEGORIA A RIESGO NORMAL | D4: Vivienda | E4: A
A5: 140410 | B5: LIBRANZA | C5: CATEGORIA B RIESGO ACEPTABLE | D5: Vivienda | E5: B
A6: 140415 | B6: LIBRANZA | C6: CATEGORIA C RIESGO APRECIABLE | D6: Vivienda | E6: C
A7: 140420 | B7: LIBRANZA | C7: CATEGORIA D RIESGO SIGNIFICATIVO | D7: Vivienda | E7: D
A8: 140425 | B8: LIBRANZA | C8: CATEGORIA E RIESGO DE INCOBRABILIDAD | D8: Vivienda | E8: E
A9: 140500 | B9: SIN LIBRANZA | C9: CREDITOS DE VIVIENDA - SIN LIBRANZA | D9: Vivienda | E9: -
A10: 140505 | B10: SIN LIBRANZA | C10: CATEGORIA A RIESGO NORMAL | D10: Vivienda | E10: =E4 -> A
A11: 140510 | B11: SIN LIBRANZA | C11: CATEGORIA B RIESGO ACEPTABLE | D11: Vivienda | E11: =E5 -> B
A12: 140515 | B12: SIN LIBRANZA | C12: CATEGORIA C RIESGO APRECIABLE | D12: Vivienda | E12: =E6 -> C
A13: 140520 | B13: SIN LIBRANZA | C13: CATEGORIA D RIESGO SIGNIFICATIVO | D13: Vivienda | E13: =E7 -> D
A14: 140525 | B14: SIN LIBRANZA | C14: CATEGORIA E RIESGO DE INCOBRABILIDAD | D14: Vivienda | E14: =E8 -> E
A15: 140600 | B15: SIN LIBRANZA | C15: INTERESES CREDITOS DE VIVIENDA | D15: Vivienda | E15: =E9 -> -
A16: 140605 | B16: SIN LIBRANZA | C16: CATEGORIA A RIESGO NORMAL | D16: Vivienda | E16: =E10 -> A
A17: 140610 | B17: SIN LIBRANZA | C17: CATEGORIA B RIESGO ACEPTABLE | D17: Vivienda | E17: =E11 -> B
A18: 140615 | B18: SIN LIBRANZA | C18: CATEGORIA C RIESGO APRECIABLE | D18: Vivienda | E18: =E12 -> C
A19: 140620 | B19: SIN LIBRANZA | C19: CATEGORIA D RIESGO SIGNIFICATIVO | D19: Vivienda | E19: =E13 -> D
A20: 140625 | B20: SIN LIBRANZA | C20: CATEGORIA E RIESGO DE INCOBRABILIDAD | D20: Vivienda | E20: =E14 -> E
A21: 140700 | B21: SIN LIBRANZA | C21: PAGOS POR CUENTA DE ASOCIADOS - CRDITOS VIVIENDA | D21: Vivienda | E21: =E15 -> -
... A81: 144500 | B81: SIN LIBRANZA | C81: DETERIORO CRDITOS DE CONSUMO (CR) | D81: Consumo | E81: =E75 -> -
A82: 144505 | B82: SIN LIBRANZA | C82: CATEGORIA A RIESGO NORMAL GARANTIA ADMISIBLE | D82: Consumo | E82: A
A83: 144510 | B83: SIN LIBRANZA | C83: CATEGORIA A RIESGO NORMAL OTRAS GARANTIAS | D83: Consumo | E83: A
A84: 144515 | B84: SIN LIBRANZA | C84: CATEGORIA B RIESGO ACEPTABLE GARANTIA ADMISIBLE | D84: Consumo | E84: B
A85: 144520 | B85: SIN LIBRANZA | C85: CATEGORIA B RIESGO ACEPTABLE OTRAS GARANTIAS | D85: Consumo | E85: B
A86: 144525 | B86: SIN LIBRANZA | C86: CATEGORIA C RIESGO APRECIABLE GARANTIA ADMISIBLE | D86: Consumo | E86: C
A87: 144530 | B87: SIN LIBRANZA | C87: CATEGORIA C RIESGO APRECIABLE OTRAS GARANTIAS | D87: Consumo | E87: C
A88: 144535 | B88: SIN LIBRANZA | C88: CATEGORIA D RIESGO SIGNIFICATIVO GARANTIA ADMISIBLE | D88: Consumo | E88: D
A89: 144540 | B89: SIN LIBRANZA | C89: CATEGORIA D RIESGO SIGNIFICATIVO OTRAS GARANTIAS | D89: Consumo | E89: D
A90: 144545 | B90: SIN LIBRANZA | C90: CATEGORIA E RIESGO DE INCOBRABILIDAD GARANTIA ADMISIBLE | D90: Consumo | E90: E
A91: 144550 | B91: SIN LIBRANZA | C91: CATEGORIA E RIESGO DE INCOBRABILIDAD OTRAS GARANTIAS | D91: Consumo | E91: E
A92: 144600 | B92: SIN LIBRANZA | C92: DETERIORO INTERESES CREDITOS DE CONSUMO (CR) | D92: Consumo | E92: -
A93: 144605 | B93: SIN LIBRANZA | C93: CATEGORIA A RIESGO NORMAL | D93: Consumo | E93: A
... A97: 144625 | B97: SIN LIBRANZA | C97: CATEGORIA E RIESGO DE INCOBRABILIDAD | D97: Consumo | E97: E
A98: 144700 | B98: SIN LIBRANZA | C98: DETERIORO PAGO POR CUENTA DE ASOCIADOS - CREDITOS DE CONSUMO (CR) | D98: Consumo | E98: =E92 -> -
A99: 144705 | B99: SIN LIBRANZA | C99: CATEGORIA A RIESGO NORMAL | D99: Consumo | E99: =E93 -> A
A100: 144710 | B100: SIN LIBRANZA | C100: CATEGORIA B RIESGO ACEPTABLE | D100: Consumo | E100: =E94 -> B
A101: 144715 | B101: SIN LIBRANZA | C101: CATEGORIA C RIESGO APRECIABLE | D101: Consumo | E101: =E95 -> C
A102: 144720 | B102: SIN LIBRANZA | C102: CATEGORIA D RIESGO SIGNIFICATIVO | D102: Consumo | E102: =E96 -> D
...

Sheet Parametros
A2: Respuesta | E2: Calificaciones | F2: No | H2: Garantia | J2: Salario Minimo
A3: Si | D3: 1 | E3: A | F3: 1 | H3: Garantia no idonea | J3: SMMLV | K3: 877803
A4: No | D4: 2 | E4: B | F4: 2 | H4: Sin garantia
D5: 3 | E5: C | F5: 3
D6: 4 | E6: D | F6: 4
D7: 5 | E7: E | F7: 5
E8: Incumplimiento | F8: 6

Sheet Prob Incumplimiento
A2: Consumo Con Libranza
A4: Calificación | B4: Asociaciones Mutuales | C4: Cooperativas de trabajo asociado | D4: Especializada de ahorro y crédito | E4: Especializada sin sección de ahorro y crédito | F4: Fondos de Empleados | G4: Integral sin sección de ahorro | H4: Multiactiva con ahorro y crédito | I4: Multiactiva sin sección de ahorro
A5: A | B5: 0.0067 | C5: 0.0095 | D5: 0.005 | E5: 0.0229 | F5: 0.0058 | G5: 0.0067 | H5: 0.004 | I5: 0.0116
A6: B | B6: 0.0199 | C6: 0.0216 | D6: 0.006 | E6: 0.0254 | F6: 0.0274 | G6: 0.0199 | H6: 0.0217 | I6: 0.0209
A7: C | B7: 0.0462 | C7: 0.1061 | D7: 0.0441 | E7: 0.0337 | F7: 0.0678 | G7: 0.0462 | H7: 0.0406 | I7: 0.0407
A8: D | B8: 0.0624 | C8: 0.2526 | D8: 0.0448 | E8: 0.0412 | F8: 0.1195 | G8: 0.0624 | H8: 0.1027 | I8: 0.0737
A9: E | B9: 0.2566 | C9: 0.3811 | D9: 0.2273 | E9: 0.3281 | F9: 0.2709 | G9: 0.2566 | H9: 0.2263 | I9: 0.2013
A10: Incumplimiento | B10: 1 | C10: 1 | D10: 1 | E10: 1 | F10: 1 | G10: 1 | H10: 1 | I10: 1
A14: Consumo Sin Libranza
A16: Calificación | B16: Asociaciones Mutuales | C16: Cooperativas de trabajo asociado | D16: Especializada de ahorro y crédito | E16: Especializada sin sección de ahorro y crédito | F16: Fondos de Empleados | G16: Integral sin sección de ahorro | H16: Multiactiva con ahorro y crédito | I16: Multiactiva sin sección de ahorro
A17: A | B17: 0.0032 | C17: 0.0172 | D17: 0.015 | E17: 0.0403 | F17: 0.0195 | H17: 0.0186 | I17: 0.0354
A18: B | B18: 0.0156 | C18: 0.16 | D18: 0.0595 | E18: 0.0843 | F18: 0.1088 | H18: 0.0789 | I18: 0.0819
A19: C | B19: 0.0294 | C19: 0.2657 | D19: 0.1382 | E19: 0.0959 | F19: 0.2313 | H19: 0.2029 | I19: 0.165
A20: D | B20: 0.0981 | C20: 0.3582 | D20: 0.3277 | E20: 0.2812 | F20: 0.3589 | H20: 0.4052 | I20: 0.363
A21: E | B21: 0.4192 | C21: 0.4646 | D21: 0.4171 | E21: 0.3986 | F21: 0.5014 | H21: 0.4451 | I21: 0.4227
A22: Incumplimiento | B22: 1 | C22: 1 | D22: 1 | E22: 1 | F22: 1 | H22: 1 | I22: 1
A26: COMERCIAL PERSONA NATURAL
A28: Calificación | B28: Asociaciones Mutuales | C28: Cooperativas de trabajo asociado | D28: Especializada de ahorro y crédito | E28: Especializada sin sección de ahorro y crédito | F28: Fondos de Empleados | G28: Integral sin sección de ahorro | H28: Multiactiva con ahorro y crédito | I28: Multiactiva sin sección de ahorro
A29: A | B29: 0.0183 | D29: 0.0111 | E29: 0.0419 | F29: 0.0173 | G29: 0.039 | H29: 0.0151 | I29: 0.0211
A30: B | B30: 0.0353 | D30: 0.0499 | E30: 0.1304 | F30: 0.0608 | G30: 0.1365 | H30: 0.0442 | I30: 0.0706
A31: C | B31: 0.1258 | D31: 0.1659 | E31: 0.2564 | F31: 0.1958 | G31: 0.187 | H31: 0.1765 | I31: 0.2344
A32: D | B32: 0.1919 | D32: 0.4143 | E32: 0.51 | F32: 0.3604 | G32: 0.3985 | H32: 0.2787 | I32: 0.3933
A33: E | B33: 0.4464 | D33: 0.5281 | E33: 0.6082 | F33: 0.5185 | G33: 0.61 | H33: 0.605 | I33: 0.6027
A34: Incumplimiento | B34: 1 | D34: 1 | E34: 1 | F34: 1 | G34: 1 | H34: 1 | I34: 1
A38: COMERCIAL PERSONA JURIDICA
A40: Calificación | B40: Asociaciones Mutuales | C40: Cooperativas de trabajo asociado | D40: Especializada de ahorro y crédito | E40: Especializada sin sección de ahorro y crédito | F40: Fondos de Empleados | G40: Integral sin sección de ahorro | H40: Multiactiva con ahorro y crédito | I40: Multiactiva sin sección de ahorro
A41: A | D41: 0.0037
A42: B | D42: 0.0621
A43: C | D43: 0.1243
A44: D | D44: 0.2105
A45: E | D45: 0.5897
A46: Incumplimiento | D46: 1

Sheet PDI
A1: PÉRDIDA DADO EL INCUMPLIMIENTO (PDI) | J1: SOLO PARA EVALUACIÓN DE LOS IMPACTOS
J2: Clasificación garantías según Formato de cartera individual | K2: Tipo de garantía para el cálculo de la PDI | L2: PDI
A3: Tipo de Garantía | B3: P.D.I. | C3: Días después del incumplimiento | D3: Nuevo PDI | E3: Días después del incumplimiento | F3: Nuevo PDI | I3: 1 | J3: 1.Otras garantías (No admisible) | K3: Sin garantía | L3: 0.75
A4: Garantía no admisible | B4: 0.6 | C4: 210 | D4: 0.7 | E4: 420 | F4: 1 | G4: Cod / DxN | I4: 2 | J4: 2.Hipotecaria | K4: Bienes raíces comerciales y residenciales | L4: 0.4
A5: Colateral financiero admisible | B5: 0-12% | C5: - | D5: - | E5: - | F5: - | I5: 3 | J5: 3. Prendaria | K5: Otras Garantías Idóneas | L5: 0.5
A6: Bienes raíces comerciales y residenciales | B6: 0.4 | C6: 360 | D6: 0.7 | E6: 720 | F6: 1 | G6: Hipoteca | I6: 4 | J6: 4. Aportes | K6: NA (*) | L6: NA
A7: Bienes dados en leasing inmobiliario | B7: 0.35 | C7: 360 | D7: 0.7 | E7: 720 | F7: 1 | I7: 5 | J7: 5. Avales | K7: Otras Garantías Idóneas | L7: 0.5
A8: Bienes dados en leasing diferente a inmobiliario | B8: 0.45 | C8: 270 | D8: 0.7 | E8: 540 | F8: 1 | I8: 6 | J8: 6.Fiduciaria | K8: Otras Garantías Idóneas | L8: 0.5
A9: Otros colaterales | B9: 0.5 | C9: 270 | D9: 0.7 | E9: 540 | F9: 1 | I9: 7 | J9: 7.Pignoración | K9: NA(**) | L9: 0
A10: Derechos de cobro | B10: 0.45 | C10: 360 | D10: 0.8 | E10: 720 | F10: 1 | G10: Pignor. | I10: 8 | J10: 8.Rentas nación | K10: NA(**) | L10: NA
A11: Sin Garantía | B11: 0.75 | C11: 30 | D11: 0.85 | E11: 90 | F11: 1 | G11: Sin Garant. | I11: 9 | J11: 9. Otra admisible | K11: Otras Garantías Idóneas | L11: 0.5
J13: (*) No aplica porque se incluye en el cálculo del valor expuesto del activo.
J14: (**) No aplican para el cálculo del modelo de pérdida esperada persona natural.
A15: Tipo de Garantía | B15: P.D.I. | C15: Días después del incumplimiento | D15: Nuevo PDI | E15: Días después del incumplimiento | F15: Nuevo PDI
A16: GARANTIAS IDÓNEAS
A17: - Colateral financiero admisible | B17: 0-12% | C17: - | D17: - | E17: - | F17: - | J17: PE
A18: - Bienes raíces comerciales y residenciales | B18: 0.4 | C18: 360 | D18: 0.7 | E18: 720 | F18: 1 | G18: Hipoteca | J18: =1200000-200000 -> 1000000 | K18: SALDO - APORTES
A19: - Bienes dados en leasing inmobiliario | B19: 0.35 | C19: 360 | D19: 0.7 | E19: 720 | F19: 1 | J19: 1 | K19: PI | L19: 92 DIAS MORA
A20: - Bienes dados en leasing diferente a inmobiliario | B20: 0.45 | C20: 270 | D20: 0.7 | E20: 540 | F20: 1 | J20: 0.75
A21: - Derechos de cobro | B21: 0.45 | C21: 360 | D21: 0.8 | E21: 720 | F21: 1 | G21: Pignor. | J21: =J18*J19*J20 -> 750000 | K21: PROVISIÓN IND.
A22: - Otras Garantías Idóneas | B22: 0.5 | C22: 270 | D22: 0.7 | E22: 540 | F22: 1
A23: GARANTÍA NO IDÓNEA | B23: 0.6 | C23: 210 | D23: 0.7 | E23: 420 | F23: 1 | G23: Cod / DxN
A24: SIN GARANTIA | B24: 0.75 | C24: 30 | D24: 0.85 | E24: 90 | F24: 1 | G24: Sin Garant.
A26: GARANTIA NO IDONEA
A27: 0 | B27: 0 - 300 | C27: 0.6
A28: 301 | B28: 301 - 510 | C28: 0.7
A29: 511 | B29: > 510 | C29: 1
A32: SIN GARANTIA
A33: 0 | B33: 0 - 119 | C33: 0.75
A34: 121 | B34: 120 - 180 | C34: 0.85
A35: 181 | B35: > 180 | C35: 1
A41: Bienes raíces comerciales y residenciales (2=Hipotecaria)
A42: 0 | B42: 0 - 430 | C42: 0.4
A43: 431 | B43: 431 - 810 | C43: 0.7
A44: 811 | B44: > 810 | C44: 1
A47: Derechos de cobro (3=Prendaria, 7= Pignoración)
A48: 0 | B48: 0 - 450 | C48: 0.45
A49: 431 | B49: 451 - 810 | C49: 0.8
A50: 811 | B50: > 810 | C50: 1
A53: Garantia No Ideonea (1=Otras garantias (no admisible)
...
