Workbook
Name ___nit1: #REF!
Name ___nit1: #REF!
Name ___nit1: #REF!
Name __nit1: #REF!
Name __nit1: #REF!
Name _nit1: #REF!
Name _nit1: #REF!
Name A_impresión_IM: #REF!
Name A_impresión_IM: #REF!
Name aaa: MATCH(0.01,'Plan de Continuidad'!End_Bal,-1)+1
Name aaa: MATCH(0.01,End_Bal,-1)+1
Name aaa: MATCH(0.01,End_Bal,-1)+1
Name aaa: MATCH(0.01,End_Bal,-1)+1
Name agencias: [1]Listas!$U$2:$U$10
Name avvillas: #REF!
Name avvillas: #REF!
Name BANCOS: [2]BANCOS!$A$2:$A$25
Name Beg_Bal: #REF!
Name Beg_Bal: #REF!
Name cartera: #REF!
Name cartera: #REF!
Name clientes: #REF!
Name clientes: #REF!
Name Data: #REF!
Name Data: #REF!
Name depositos: #REF!
Name depositos: #REF!
Name DINERS: #REF!
Name DINERS: #REF!
Name End_Bal: #REF!
Name End_Bal: #REF!
Name Extra_Pay: #REF!
Name Extra_Pay: #REF!
Name FECHA: #REF!
Name FECHA: #REF!
Name Full_Print: #REF!
Name Full_Print: #REF!
Name Header_Row: ROW(#REF!)
Name Int: #REF!
Name Int: #REF!
Name Interest_Rate: #REF!
Name Interest_Rate: #REF!
Name ITEM: #REF!
Name ITEM: #REF!
Name Last_Row: IF([3]COOADAMS!Values_Entered,Header_Row+[3]COOADAMS!Number_of_Payments,Header_Row)
Name Last_Row: IF([3]COOADAMS!Values_Entered,Header_Row+[3]COOADAMS!Number_of_Payments,Header_Row)
Name Last_Row: IF([3]COOADAMS!Values_Entered,Header_Row+[3]COOADAMS!Number_of_Payments,Header_Row)
Name Last_Row: IF([3]COOADAMS!Values_Entered,Header_Row+[3]COOADAMS!Number_of_Payments,Header_Row)
Name Loan_Amount: #REF!
Name Loan_Amount: #REF!
Name Loan_Start: #REF!
Name Loan_Start: #REF!
Name Loan_Years: #REF!
Name Loan_Years: #REF!
Name MONITOR: #REF!
Name MONITOR: #REF!
Name MONITOR_AVVILLAS: #REF!
Name MONITOR_AVVILLAS: #REF!
Name Net_Income: #REF!
Name Net_Income: #REF!

Sheet alcance
A1: CONTENIDO SARO | B1: FACTORES | C1: CLASIFICACION
A2: Politicas | B2: Recurso Humano | C2: Fraude interno
A3: Objetivos | B3: Procesos | C3: Fraude Externo
A4: Procedimientos | B4: Tecnologia | C4: Relaciones Laborales
A5: Documentacion | B5: Infraestructura | C5: Clientes
A6: Estructura | B6: Externos | C6: Daños en Activos Fisicos
A7: Registro | C7: Fallas Tecnologicas
A8: Organos de control | C8: Ejecución y Administración de procesos
A9: Plataforma tecnologica
A10: Divulgacion
A11: Capacitacion
A12: Plan de Contingencia
A13: Manual de Riesgo Operativo

Sheet RIESGO INHERENTE 
A1: FACTORES DE RIESGO | B1: CASIFICACIÓN | C1: IDENTIFICACION DEL RIESGO | E1: EVALUACION DEL RIESGO INHERENTE | H1: EVALUACION DE LOS CONTROLES EXISTENTES | M1: RIESGO RESIDUAL | P1: TRATAMIENTO DEL RIESGO | S1: SEGUIMIENTO
B2: Código (FI: Fraude Interno, FE: Fraude Externo, RL: Relaciones Laborales, C: Clientes, DAF: Daños a Activos Físicos, FT: Fallas Tecnológicas, EAP: Ejecución y Administración de Procesos) | C2: Que puede suceder | D2: Por qué puede suceder | E2: Probabilidad (Improbable: 1, Raro: 2, Potencial: 3, Probable: 4, Casi Certeza: 5) | F2: Impacto: Insignificante: 1 Menor: 2 Moderado: 3 Mayor: 4 Catastrófico: 5 | G2: RIESGO INHERENTE | H2: Descripción del Control Existente | I2: Responsable de la ejecución del Control | J2: Frecuencia de la aplicación del Control (permanente, periódica, esporádica, anual, única) | K2: Tipo de Control (Detectivo / Preventivo) | L2: Efectividad (Alta, Media, Baja) | M2: Reducción de la Probabilidad (1, 2, 3, 4, 5) donde 1 casi no la reduce y 5 la reduce al maximo | N2: Reducción del Impacto (1, 2, 3, 4, 5) donde 1 casi no reduce el impacto y 5 lo reduce al máximo | O2: RIESGO RESIDUAL | P2: Descripcion del Control Requerido | Q2: Responsable del Diseño e implementación | R2: Prioridad (Alta, Media, Baja) | S2: Responsable del Seguimiento | T2: Fecha de Seguimiento | U2: Estado de implementación (Planeación, Diseño, Prueba, Implementación, Funcionamiento)
A3: Recurso Humano RH | B3: RL: Relaciones Laborales | C3: 1. Accidentes Laborales | D3: 1.1 Accidentes de tránsito por descuido del colaborador o de terceros cuando están por fuera los comerciales haciendo sus rutas, | E3: 1 | F3: 3 | G3: =VLOOKUP(E3*F3,'riesgo inherente-Anexo '!C4:D28,2,TRUE) -> Bajo | H3: Capacitacion empleados sobre conducción a la defensiva | I3: Secretaria de Gerencia | J3: Permanente | K3: Preventivo | L3: Media | M3: 3 | N3: 1 | O3: =VLOOKUP((E3*F3)-(M3*N3),'riesgo inherente-Anexo '!C2:D28,2,TRUE) -> Bajo | P3: Cada empleado de la entidad debe tener otro empleado que conoce el cargo o está entrenado para reemplazarlo / Supernumerario | Q3: Asistente de Gerencia | R3: Baja | S3: Asistente de Gerencia | T3: 43800 | U3: Implementación
D4: 1.2 Caídas por pisos húmedos y zapatos inadecuados, escalera | E4: 1 | F4: 1 | G4: =VLOOKUP(E4*F4,'riesgo inherente-Anexo '!C4:D28,2,TRUE) -> Bajo | H4: Instalación de antideslizantes en el anden y pasillo principal del area de atención al público / Camilla, inmovilizador / Capacitación Primeros Auxilios con Bomberos / ARL / SGSST | I4: Secretaria de Gerencia | J4: Permanente | K4: Preventivo | L4: Alta | M4: 1 | N4: 1 | O4: =VLOOKUP((E4*F4)-(M4*N4),'riesgo inherente-Anexo '!C2:D28,2,TRUE) -> Bajo | P4: Capacitación al personal con BOMBEROS y Asesor en SGSST | Q4: Asistente de Gerencia | R4: Alta | S4: Asistente de Gerencia | T4: 43800 | U4: Implementación
D5: 1.3 Manejo de herramientas cortopunzantes (legajadores y ganchos, papel, bisturí) | E5: 1 | F5: 1 | G5: =VLOOKUP(E5*F5,'riesgo inherente-Anexo '!C4:D28,2,TRUE) -> Bajo | H5: No existen, los trabajadores no realizan operaciones que revistan gran peligrosidad en esta materia | I5: Secretaria de Gerencia | J5: Permanente | K5: Preventivo | L5: Media | M5: 1 | N5: 1 | O5: =VLOOKUP((E5*F5)-(M5*N5),'riesgo inherente-Anexo '!C2:D28,2,TRUE) -> Bajo | P5: Ninguno | Q5: Asistente de Gerencia | R5: Baja | S5: Asistente de Gerencia | T5: 43800 | U5: Implementación
B6: RL: Relaciones Laborales | C6: 2. Incapacidad por Enfermedades Generales | D6: Virosis | E6: 1 | F6: 1 | G6: =VLOOKUP(E6*F6,'riesgo inherente-Anexo '!C4:D28,2,TRUE) -> Bajo | H6: Afiliación al sistema general de salud en Colombia | I6: Secretaria de Gerencia | J6: Anual | K6: Preventivo | L6: Baja | M6: 1 | N6: 1 | O6: =VLOOKUP((E6*F6)-(M6*N6),'riesgo inherente-Anexo '!C2:D28,2,TRUE) -> Bajo | P6: Campaña de vacunación | Q6: Asistente de Gerencia | R6: Alta | S6: Asistente de Gerencia | T6: 43800 | U6: Implementación
B7: RL: Relaciones Laborales | C7: 3. Enfermedades Laborales | D7: Estrés, mala postura, iluminación inadecuada, movimientos repetitivos, tunel carpiano | E7: 1 | F7: 1 | G7: =VLOOKUP(E7*F7,'riesgo inherente-Anexo '!C4:D28,2,TRUE) -> Bajo | H7: Pausas activas, capacitación en Seguridad y Salud en el Trabajo, examen de salud ocupacional | I7: Secretaria de Gerencia | J7: Periódico | K7: Preventivo | L7: Alta | M7: 1 | N7: 1 | O7: =VLOOKUP((E7*F7)-(M7*N7),'riesgo inherente-Anexo '!C2:D28,2,TRUE) -> Bajo | P7: Subsidio parcial plan de medicina prepagada | Q7: Asistente de Gerencia | R7: Baja | S7: Asistente de Gerencia | T7: 43800 | U7: Implementación
B8: EAP: Ejecución y Administración de Procesos | C8: 4. Selección de personal inadecuado | D8: Por no cumplir con el protocolo establecido para selección de personal. | E8: 1 | F8: 1 | G8: =VLOOKUP(E8*F8,'riesgo inherente-Anexo '!C4:D28,2,TRUE) -> Bajo | H8: Se tiene procedimiento establecido para la contratación de personal / Prueba psicológica con empresa externa / Entrevista y Prueba técnica realizada por la administración / Verificación de referencias | I8: Gerencia | J8: Esporádico | K8: Preventivo | L8: Alta | M8: 1 | N8: 1 | O8: =VLOOKUP((E8*F8)-(M8*N8),'riesgo inherente-Anexo '!C2:D28,2,TRUE) -> Bajo | P8: Ninguno | Q8: Gerencia | R8: Baja | S8: Asistente de Gerencia | T8: 43800 | U8: Implementación
B9: EAP: Ejecución y Administración de Procesos | C9: 5. Desactualización | D9: Olvido del funcionario encargado de mantenerse actualizado en el area de conocimiento que le aplica a su puesto de trabajo | E9: 1 | F9: 1 | G9: =VLOOKUP(E9*F9,'riesgo inherente-Anexo '!C4:D28,2,TRUE) -> Bajo | H9: Capacitación anual en SARLAFT / Asistencia a Diplomados y seminarios de coyuntura del personal CLAVE: Contador, Gerente, Riesgos / capacitaciones para mejorar competencias del personal en temas relacionados con motivación, servicio al cliente etc. / Profesionalización de Directivos y Empleados | I9: Gerencia | J9: Periódico | K9: Preventivo | L9: Alta | M9: 1 | N9: 1 | O9: =VLOOKUP((E9*F9)-(M9*N9),'riesgo inherente-Anexo '!C2:D28,2,TRUE) -> Bajo | P9: No se requiere | Q9: Asistente de Gerencia | R9: Alta | S9: Asistente de Gerencia | T9: 43800 | U9: Implementación
B10: RL: Relaciones Laborales | C10: 6. Mal clima laboral | D10: Por intrigas, chismes, mala comunicación, presión laboral y estrés. | E10: 1 | F10: 1 | G10: =VLOOKUP(E10*F10,'riesgo inherente-Anexo '!C4:D28,2,TRUE) -> Bajo | H10: No existe | I10: Secretaria de Gerencia | J10: Anual | K10: Preventivo | L10: Alta | M10: 1 | N10: 1 | O10: =VLOOKUP((E10*F10)-(M10*N10),'riesgo inherente-Anexo '!C2:D28,2,TRUE) -> Bajo | P10: Taller individual diagnostico y plan de crecimiento personal | Q10: Asistente de Gerencia | R10: Baja | S10: Asistente de Gerencia | T10: 43800 | U10: Implementación
B11: FI: Fraude Interno | C11: 7. Robo o Fraude interno (sustracción de chequeras, robo de dinero, titulos valores, alteración de registros) | D11: Por falta de controles de acceso al área de Tesorería, falta de seguridad en el sitio dónde se guarden títulos valores. | E11: 1 | F11: 1 | G11: =VLOOKUP(E11*F11,'riesgo inherente-Anexo '!C4:D28,2,TRUE) -> Bajo | H11: Manejo de caja fuerte con camara y clave a cargo del Tesorero, camara de video en el área de Tesorería / Sistema de Alarmas para ingreso y salida de personal / Arqueo diario de Tesorero y Arqueo mensual sorpresivo al Tesorero / Inversiones en titulos desmaterializados y FIC | I11: Asistente de Gerencia | J11: Permanente | K11: Detectivo | L11: Alta | M11: 1 | N11: 1 | O11: =VLOOKUP((E11*F11)-(M11*N11),'riesgo inherente-Anexo '!C2:D28,2,TRUE) -> Bajo | P11: No se requiere | Q11: Gerencia | R11: Alta | S11: Asistente de Gerencia | T11: 43800 | U11: Implementación
B12: EAP: Ejecución y Administración de Procesos | C12: 8. Fuga de Conocimiento o capital humano clave con experiencia y formación | D12: Salarios que no compensan con el perfil de cargo y las responsabilidades, faltas de incentivos a los colaboradores y trato inadecuado, cargas laborales muy pesadas | E12: 1 | F12: 1 | G12: =VLOOKUP(E12*F12,'riesgo inherente-Anexo '!C4:D28,2,TRUE) -> Bajo | H12: Manuales de funciones y procedimientos | I12: Gerencia y Bienestar Social | J12: Esporádico | K12: Preventivo | L12: Media | M12: 1 | N12: 1 | O12: =VLOOKUP((E12*F12)-(M12*N12),'riesgo inherente-Anexo '!C2:D28,2,TRUE) -> Bajo | P12: Actualización de manuales de funciones y procedimientos | Q12: Gerencia | R12: Baja | S12: Asistente de Gerencia | T12: 43800 | U12: Implementación
B13: EAP: Ejecución y Administración de Procesos | C13: 9. Disminución de la Productividad | D13: Mal clima laboral, mala remuneración, sobrecarga laboral | E13: 1 | F13: 1 | G13: =VLOOKUP(E13*F13,'riesgo inherente-Anexo '!C4:D28,2,TRUE) -> Bajo | H13: Salarios fijos y capacitaciones motivacionales | I13: Gerencia | J13: Permanente | K13: Preventivo | L13: Alta | M13: 1 | N13: 1 | O13: =VLOOKUP((E13*F13)-(M13*N13),'riesgo inherente-Anexo '!C2:D28,2,TRUE) -> Bajo | P13: No se requiere | Q13: Asistente de Gerencia | R13: Baja | S13: Asistente de Gerencia | T13: 43800 | U13: Implementación
B14: RL: Relaciones Laborales | C14: 10. Demandas laborales | D14: Por incumplimiento de la normatividad laboral vigente. | E14: 1 | F14: 1 | G14: =VLOOKUP(E14*F14,'riesgo inherente-Anexo '!C4:D28,2,TRUE) -> Bajo | H14: Baja rotación de personal / los retiros han sido renuncias voluntarias | I14: Gerencia | J14: Esporádico | K14: Preventivo | L14: Alta | M14: 1 | N14: 1 | O14: =VLOOKUP((E14*F14)-(M14*N14),'riesgo inherente-Anexo '!C2:D28,2,TRUE) -> Bajo | P14: Asesoramiento legal en caso de terminación con justa causa / "Conciliación" laboral ante ministerio de trabajo por terminación potencialmente litigiosa | Q14: Gerencia | R14: Media | S14: Asistente de Gerencia | T14: 43800 | U14: Implementación
B15: RL: Relaciones Laborales | C15: 11. Concentración de funciones | D15: Por poco personal, por bajo presupuesto, por falta de una adecuada política y revisión de distribución de funciones de acuerdo al crecimiento de la entidad | E15: 1 | F15: 1 | G15: =VLOOKUP(E15*F15,'riesgo inherente-Anexo '!C4:D28,2,TRUE) -> Bajo | H15: Manuales de funciones y procedimientos | I15: Gerencia | J15: Esporádico | K15: Detectivo | L15: Alta | M15: 1 | N15: 1 | O15: =VLOOKUP((E15*F15)-(M15*N15),'riesgo inherente-Anexo '!C2:D28,2,TRUE) -> Bajo | P15: Independizar el Area de Gestión de Riesgos de las labores operativas | Q15: Gerencia y Consejo | R15: Media | S15: Asistente de Gerencia | T15: 43800 | U15: Implementación
B16: EAP: Ejecución y Administración de Procesos | C16: 12. Acoso Sexual o laboral | D16: Por abuso de poder por parte de directivos | E16: 1 | F16: 1 | G16: =VLOOKUP(E16*F16,'riesgo inherente-Anexo '!C4:D28,2,TRUE) -> Bajo | H16: Contar con un canal de comunicación eficaz que le permita a todo el personal tener la posibilidad y la confianza para denunciar cualquier abuso o acoso / Capacitación anual sobre acoso laboral y sexual | I16: Gerencia | J16: Anual | K16: Preventivo | L16: Alta | M16: 1 | N16: 1 | O16: =VLOOKUP((E16*F16)-(M16*N16),'riesgo inherente-Anexo '!C2:D28,2,TRUE) -> Bajo | P16: No se requiere | Q16: Gerencia | R16: Media | S16: Asistente de Gerencia | T16: 43800 | U16: Implementación
A17: Procesos | B17: EAP: Ejecución y Administración de Procesos | C17: 1. No se ejecutan las politicas contenidas en los reglamentos | D17: El personal no está capacitado totalmente en el conocimiento de manuales y políticas internas, las personas encargadas de dar la capacitación no tienen experienca o tienen muy poco conocimientos de los cargos y funciones de los mismos, inexperiencia, conflictos de interés o favorecimiento de terceros | E17: 1 | F17: 1 | G17: =VLOOKUP(E17*F17,'riesgo inherente-Anexo '!C4:D28,2,TRUE) -> Bajo | H17: Las políticas de captación y colocación así como las condiciones de los productos se fijan por el Consejo de Admón (Junta Directiva)de Administración y la Gerencia y los empleados deben aplicarlas sin interpretación o modificación / Entrenamiento al momento de la vinculación / Acceso a los manuales de funciones y procedimientos / parametrización del sistema que no puede ser manipulada por los empleados / Revisoría Fiscal | I17: Consejo, Gerencia, Riesgos | J17: Permanente | K17: Preventivo | L17: Alta | M17: 1 | N17: 1 | O17: =VLOOKUP((E17*F17)-(M17*N17),'riesgo inherente-Anexo '!C2:D28,2,TRUE) -> Bajo | P17: No se requiere | Q17: Asistente de Gerencia | R17: Media | S17: Asistente de Gerencia | T17: 43800 | U17: Implementación
B18: EAP: Ejecución y Administración de Procesos | C18: 2. Conflicto de intereses en la prestacion de servicios o contratación | D18: Por la no aplicación de las políticas existentes o desconocimiento de las mismas o porque las políticas actuales permiten que se presenten estos casos, por presión del Consejo de Admón (Junta Directiva)de Administración. | E18: 1 | F18: 1 | G18: =VLOOKUP(E18*F18,'riesgo inherente-Anexo '!C4:D28,2,TRUE) -> Bajo | H18: Revisión de los reglamentos y políticas actuales con respecto de la normatividad vigente / Consejo de Admón (Junta Directiva)de Administración solo evalúa excepciones / La entidad cuenta con código de buen Gobierno para el manejo de los conflictos de interés / La entidad tiene un comité de crédito plural e independiente del Consejo de Admón (Junta Directiva)compuesto por asociados sin voto de los empleados | I18: Gerencia | J18: Permanente | K18: Preventivo | L18: Alta | M18: 1 | N18: 1 | O18: Bajo | P18: No se requiere | Q18: Gerencia | R18: Alta | S18: Asistente de Gerencia | T18: 43800 | U18: Implementación
B19: EAP: Ejecución y Administración de Procesos | C19: 3. Errores en la contabilización o registro de las operaciones | D19: Falta de capacitación del personal y experiencia, sobrecarga laboral, | E19: 1 | F19: 1 | G19: =VLOOKUP(E19*F19,'riesgo inherente-Anexo '!C4:D28,2,TRUE) -> Bajo | H19: Selección de personal con experiencia, revisión de manuales de funciones y procesos, revisión de las operaciones y conciliaciones, estados financieros por parte de Contabilidad y la Revisoría Fiscal / Automatización de procesos críticos de causación y registro contable que reducen los errores | I19: Contabilidad | J19: Periódico | K19: Detectivo | L19: Alta | M19: 1 | N19: 1 | O19: =VLOOKUP((E19*F19)-(M19*N19),'riesgo inherente-Anexo '!C2:D28,2,TRUE) -> Bajo | P19: No se requiere | Q19: Contabilidad | R19: Media | S19: Asistente de Gerencia | T19: 43800 | U19: Implementación
B20: EAP: Ejecución y Administración de Procesos | C20: 4. Fallas en el diligenciamiento de la documentación o titulos valores | D20: Falta de capacitación del personal y experiencia, sobrecarga laboral, / Títulos valores sin el lleno de los requisitos legales en su contenido | E20: 1 | F20: 1 | G20: =VLOOKUP(E20*F20,'riesgo inherente-Anexo '!C4:D28,2,TRUE) -> Bajo | H20: Selección de personal con experiencia, revisión de manuales de funciones y procesos, revisión de las operaciones por parte de Contabilidad y la Revisoría Fiscal / Revisión de documentación y actualización de formatos y pagarés por Abogados Especializados | I20: Contabilidad | J20: Permanente | K20: Detectivo | L20: Alta | M20: 1 | N20: 1 | O20: =VLOOKUP((E20*F20)-(M20*N20),'riesgo inherente-Anexo '!C2:D28,2,TRUE) -> Bajo | P20: Capacitación Formal en diligenciamiento de títulos valores | Q20: Contabilidad | R20: Media | S20: Asistente de Gerencia | T20: 43800 | U20: Implementación
B21: EAP: Ejecución y Administración de Procesos | C21: 5. Desconocimiento de los empleados respecto a sus funciones, roles y responsabilidades | D21: Falta de divulgación de manuales de funciones | E21: 1 | F21: 2 | G21: =VLOOKUP(E21*F21,'riesgo inherente-Anexo '!C4:D28,2,TRUE) -> Bajo | H21: Empleados con buen nivel de formación y experiencia, baja rotación, Actualización, difusión de manuales de funciones y procesos / Promociones de cargos vacantes con personal de la entidad que cumple el perfil para ser ascendido / Se cuenta con Supernumerario para reemplazos en vacaciones | I21: Gerencia | J21: Periódico | K21: Preventivo | L21: Alta | M21: 1 | N21: 1 | O21: =VLOOKUP((E21*F21)-(M21*N21),'riesgo inherente-Anexo '!C2:D28,2,TRUE) -> Bajo | P21: Capacitación, actualización y reentrenamiento | Q21: Gerencia | R21: Media | S21: Asistente de Gerencia | T21: 43800 | U21: Implementación
B22: EAP: Ejecución y Administración de Procesos | C22: 6. Falta de documentación de los procesos | D22: Inexistencia de manuales de funciones y procesos y formatos | E22: 1 | F22: 1 | G22: =VLOOKUP(E22*F22,'riesgo inherente-Anexo '!C4:D28,2,TRUE) -> Bajo | H22: Actualización, difusión de manuales de funciones y procesos | I22: Gerencia | J22: Periódico | K22: Preventivo | L22: Alta | M22: 1 | N22: 1 | O22: =VLOOKUP((E22*F22)-(M22*N22),'riesgo inherente-Anexo '!C2:D28,2,TRUE) -> Bajo | P22: Actualización de manuales de funciones y procedimientos de acuerdo a los ajustes que requiere el nuevo software | Q22: Gerencia | R22: Media | S22: Asistente de Gerencia | T22: 43800 | U22: Implementación
B23: DAF: Daños Activos Físicos | C23: 7. Pérdida o destrucción accidental de documentación de servicios o contable, o expedientes de asociados o pagarés | D23: Por no tener un procedimiento para el manejo de recibo y entrega de documentos de servicios o contables | E23: 1 | F23: 1 | G23: =VLOOKUP(E23*F23,'riesgo inherente-Anexo '!C4:D28,2,TRUE) -> Bajo | H23: Se manejan consecutivos para cada tipo de formatos y un control de los mismos por cada responsable de los procesos / Pagarés de la Cartera en la Bóveda | I23: Gerencia | J23: Permanente | K23: Detectivo | L23: Alta | M23: 1 | N23: 1 | O23: =VLOOKUP((E23*F23)-(M23*N23),'riesgo inherente-Anexo '!C2:D28,2,TRUE) -> Bajo | P23: Digitalización de documentación contable con SOFTWARE especializado / Pagaré Desmaterializado DECEVAL | Q23: Gerencia | R23: Alta | S23: Asistente de Gerencia | T23: 43800 | U23: Implementación
B24: EAP: Ejecución y Administración de Procesos | C24: 10. Mal funcionamiento de comités de riesgo | D24: Por falta de capacitación y desconocimiento de la norma o no cumplimiento del perfil por sus integrantes | E24: 1 | F24: 1 | G24: =VLOOKUP(E24*F24,'riesgo inherente-Anexo '!C4:D28,2,TRUE) -> Bajo | H24: Implementación de sistema integral de administración de riesgos (SIAR) / Comités integrados por Empleado de Riesgos con capacitación y experiencia + Directivos y Asociados | I24: Gerencia | J24: Periódico | K24: Preventivo | L24: Alta | M24: 1 | N24: 1 | O24: =VLOOKUP((E24*F24)-(M24*N24),'riesgo inherente-Anexo '!C2:D28,2,TRUE) -> Bajo | P24: Capacitación a integrantes de Comités / Evaluacion implementación software especializado en riesgos para el sector solidario | Q24: Gerencia | R24: Alta | S24: Asistente de Gerencia | T24: 43800 | U24: Implementación
B25: EAP: Ejecución y Administración de Procesos | C25: 11. Pérdida de imagen pública por difusión de información falsa, engañosa, incompleta o malintencionada | D25: Escandalos mediaticos relacionados con noticias sobre otras Cooperativas - Contagio / Comentarios mal intencionados de asociados o terceros que quieren dañar la credibilidad en la entidad o sus directivos para hacerse con el poder / Relacionamiento de la entidad o sus directivos con entidades vinculadas a lavado de activos o con la clase política | E25: 1 | F25: 1 | G25: =VLOOKUP(E25*F25,'riesgo inherente-Anexo '!C4:D28,2,TRUE) -> Bajo | H25: Implementación de SARLAFT para conocimiento del cliente especialmente PEP´s y personas jurídicas proveedores, asociados o pagadurías / Los principios cooperativos implican igualdad, no discriminación y Universalidad, por lo que al interior de la entidad no se puede adelantar actividades proselitistas / Difusión de actividades o proyectos realizados a través de Canal Comunitario | I25: Gerencia | J25: Permanente | K25: Preventivo | L25: Alta | M25: 1 | N25: 1 | O25: =VLOOKUP((E25*F25)-(M25*N25),'riesgo inherente-Anexo '!C2:D28,2,TRUE) -> Bajo | P25: No se requiere | Q25: Asistente de Gerencia | R25: Baja | S25: Asistente de Gerencia | T25: 43800 | U25: Implementación
B26: EAP: Ejecución y Administración de Procesos | C26: 12. Errores o fraudes en el proceso de elección de delegados | D26: Debido a alteración manual de los resultados de votación física y al desconocimiento de las reglas de elección de los delegados o por ataques informaticos | E26: 1 | F26: 1 | G26: =VLOOKUP(E26*F26,'riesgo inherente-Anexo '!C4:D28,2,TRUE) -> Bajo | H26: Software especializado para la elección de delegados / Escrutinios efectuados por la Junta de Vigilancia (Control Social) y auditados por Revisoría Fiscal / Convocatoria pública a todos los asociados por SMS, Web y radio para elecciones / Usuario y contraseña personal para votación que cambia para cada elección / Protección efectiva contra ataques informáticos | I26: Gerencia, Consejo de Admón (Junta Directiva)y Junta de Vigilancia (Control Social) | J26: Periódico | K26: Preventivo | L26: Alta | M26: 1 | N26: 1 | O26: =VLOOKUP((E26*F26)-(M26*N26),'riesgo inherente-Anexo '!C2:D28,2,TRUE) -> Bajo | P26: No se requiere | Q26: Asistente de Gerencia | R26: Baja | S26: Asistente de Gerencia | T26: 43800 | U26: Implementación
B27: EAP: Ejecución y Administración de Procesos | C27: 13. Decisiones ilegales, temerarias o negligentes del Consejo de Admón (Junta Directiva)de Administración | D27: Falta de capacitación / Perfil no acorde con la responsabilidad y funciones del cargo / Conflictos de interés para beneficiarse en los servicios o en la contratación | E27: 1 | F27: 1 | G27: =VLOOKUP(E27*F27,'riesgo inherente-Anexo '!C4:D28,2,TRUE) -> Bajo | H27: Rigurosos requisitos para ser miembro del Consejo de Admón (Junta Directiva)/ Capacitación y Actualizacion obligatoria de los candidatos / Aprobación de créditos de directivos por las 4/5 partes del Consejo de Admón (Junta Directiva) al igual que sus partes interesadas / Ente de Supervisión hace seguimiento expreso a transacciones con directivos / Revelación de transacciones con partes relacionadas en los estados financieros. | I27: Consejo, Asamblea, Revisor | J27: Permanente | K27: Preventivo | L27: Alta | M27: 1 | N27: 1 | O27: =VLOOKUP((E27*F27)-(M27*N27),'riesgo inherente-Anexo '!C2:D28,2,TRUE) -> Bajo | P27: No se requiere | Q27: Asistente de Gerencia | R27: Baja | S27: Asistente de Gerencia | T27: 43800 | U27: Implementación
B28: EAP: Ejecución y Administración de Procesos | C28: 14. Falta de pertenencia e identificación con el modelo Cooperativo de los asociados, empleados, directivos | D28: Falta de educación Cooperativa | E28: 1 | F28: 1 | G28: =VLOOKUP(E28*F28,'riesgo inherente-Anexo '!C4:D28,2,TRUE) -> Bajo | H28: Capacitaciones de inducción al Cooperativismo al que son convocados nuevos asociados | I28: Gerencia | J28: Permanente | K28: Preventivo | L28: Alta | M28: 1 | N28: 1 | O28: =VLOOKUP((E28*F28)-(M28*N28),'riesgo inherente-Anexo '!C2:D28,2,TRUE) -> Bajo | P28: Curso virtual de Cooperativismo - Desarrollo Propio | Q28: Bienestar Social | R28: Baja | S28: Asistente de Gerencia | T28: 43800 | U28: Implementación
B29: EAP: Ejecución y Administración de Procesos | C29: 15. Demanda por afectación vida - salud de grupo de asociados en evento de la entidad | D29: Accidente o evento catastrofico que afecta grupo de personas participantes de actividad programada por la entidad | E29: 1 | F29: 1 | G29: =VLOOKUP(E29*F29,'riesgo inherente-Anexo '!C4:D28,2,TRUE) -> Bajo | H29: Poliza de responsabilidad civil cuando se desarrollan evento masivos: Paseos, Celebraciones / Plan de contingencia para presentar en la Alcaldía / Organismos de Socorro disponibles en el evento | I29: Gerencia y Bienestar Social | J29: Permanente | K29: Preventivo | L29: Alta | M29: 1 | N29: 1 | O29: =VLOOKUP((E29*F29)-(M29*N29),'riesgo inherente-Anexo '!C2:D28,2,TRUE) -> Bajo | P29: No se requiere | Q29: Asistente de Gerencia | R29: Baja | S29: Asistente de Gerencia | T29: 43800 | U29: Implementación
B30: EAP: Ejecución y Administración de Procesos | C30: 16. Crisis de Gobernabilidad al interior del Consejo de Admón (Junta Directiva)de Administración | D30: Conflictos de interes o de carácter personal al interior de los integrantes, es decir, luchas por el poder / Participación de empleados en el Gobierno Cooperativo | E30: 1 | F30: 1 | G30: =VLOOKUP(E30*F30,'riesgo inherente-Anexo '!C4:D28,2,TRUE) -> Bajo | H30: Rigurosos requisitos para ser miembro del Consejo de Admón (Junta Directiva)/ Capacitación y Actualizacion obligatoria de los candidatos / Código de Buen Gobierno / Posesión en la Supersolidaria | I30: Gerencia y Bienestar Social | J30: Permanente | K30: Preventivo | L30: Alta | M30: 1 | N30: 1 | O30: =VLOOKUP((E30*F30)-(M30*N30),'riesgo inherente-Anexo '!C2:D28,2,TRUE) -> Bajo | P30: Postulación previa a las elecciones, Hoja de Vida pública previa a las elecciones, rotación parcial de miembros, elecciones cada 2 años / Establecer restrucción para empleados como Delegados | Q30: Asistente de Gerencia | R30: Baja | S30: Asistente de Gerencia | T30: 43800 | U30: Implementación
B31: EAP: Ejecución y Administración de Procesos | C31: 17. Cobro inoportuno de la Cartera | D31: El sistema no genera reportes para cobranza o la información permanece desactualizada / No existe un área especializada en Cobranza | E31: 1 | F31: 1 | G31: =VLOOKUP(E31*F31,'riesgo inherente-Anexo '!C4:D28,2,TRUE) -> Bajo | H31: Una persona encargada de la cobranza especializada y capacitada / El sistema genera reportes de cartera vencida / Evaluación de cartera anual / Seguimiento mensual a la calidad de cartera por parte de Gerencia y el Consejo de Admón (Junta Directiva)de Administración / Mensajes de texto masivos automáticamente generados por el software para cobranza (3) / Envío a cobranza jurídica despues de 90 días | I31: Gerencia y Secretaria de Gerencia | J31: Permanente | K31: Preventivo | L31: Alta | M31: 1 | N31: 1 | O31: =VLOOKUP((E31*F31)-(M31*N31),'riesgo inherente-Anexo '!C2:D28,2,TRUE) -> Bajo | P31: No se requiere | Q31: Asistente de Gerencia | R31: Baja | S31: Asistente de Gerencia | T31: 43800 | U31: Implementación
B32: EAP: Ejecución y Administración de Procesos | C32: 18. Retiro de asociados por mala atención o falta de información | D32: El personal de atención directa a los asociados no está capacitado para prestar un buen servicio o desconoce la información sobre la entidad y sus servicios | E32: 1 | F32: 1 | G32: =VLOOKUP(E32*F32,'riesgo inherente-Anexo '!C4:D28,2,TRUE) -> Bajo | H32: Los asesores deben tratar de retener a los asociados que han presentado un comportamiento positivo en la entidad / Aquellos que siendo muy buenos asociados insisten en su retiro se escalan a la Gerencia o Asistencia de Gerencia para manejo y persuación / Buzón de sugerencias físico y virtual / Encuesta al momento del retiro que es revisada por la Junta de Vigilancia (Control Social) | I32: Asesores, Gerencia | J32: Permanente | K32: Preventivo | L32: Alta | M32: 1 | N32: 1 | O32: =VLOOKUP((E32*F32)-(M32*N32),'riesgo inherente-Anexo '!C2:D28,2,TRUE) -> Bajo | P32: No se requiere | Q32: Asistente de Gerencia | R32: Baja | S32: Asistente de Gerencia | T32: 43800 | U32: Implementación
B33: EAP: Ejecución y Administración de Procesos | C33: 19. Cobros indebidos, inexactos | D33: El sistema efectúa mál los cálculos de intereses y demás valores a cargo del asociado o se cobran tasas que exceden la usura | E33: 1 | F33: 1 | G33: =VLOOKUP(E33*F33,'riesgo inherente-Anexo '!C4:D28,2,TRUE) -> Bajo | H33: La tasas se parametrizan en el sistema y las liquidaciones son automáticas / El sistema se parametriza con la tasa máxima legal permitida para que no cobre por encima de ella / Solamente Gerencia y asistencia de gerencia tienen acceso al modulo administrativo del aplicativo. | I33: Gerencia y Asistente de Gerencia | J33: Permanente | K33: Preventivo | L33: Alta | M33: 1 | N33: 1 | O33: =VLOOKUP((E33*F33)-(M33*N33),'riesgo inherente-Anexo '!C2:D28,2,TRUE) -> Bajo | P33: No se requiere | Q33: Asistente de Gerencia | R33: Baja | S33: Asistente de Gerencia | T33: 43800 | U33: Implementación
B34: EAP: Ejecución y Administración de Procesos | C34: 20. Favorecimiento propio de decisiones del Consejo de Admón (Junta Directiva)de Administración | D34: Los directivos buscan favorecerse a sí mismos en la definición de las políticas y condiciones de servicios o en la contratación de proveedores y empleados | E34: 1 | F34: 1 | G34: =VLOOKUP(E34*F34,'riesgo inherente-Anexo '!C4:D28,2,TRUE) -> Bajo | H34: Códigos de Buen Gobierno / Aprobación de Créditos del Consejo de Admón (Junta Directiva)y partes relacionadas por las 4/5 partes del Consejo de Admón (Junta Directiva)/ Seguimiento estricto a operaciones con partes relacionadas por parte de entes de control / Revelación transacciones con partes relacionadas / El Consejo de Admón (Junta Directiva)aprueba el presupuesto pero el ordenador del Gasto es la Gerencia y no participan en la contratación de personal, ni señalan hojas de vida o sugieren personas | I34: Gerencia y Consejo | J34: Permanente | K34: Preventivo | L34: Alta | M34: 1 | N34: 1 | O34: =VLOOKUP((E34*F34)-(M34*N34),'riesgo inherente-Anexo '!C2:D28,2,TRUE) -> Bajo | P34: No se requiere | Q34: Asistente de Gerencia | R34: Baja | S34: Asistente de Gerencia | T34: 43800 | U34: Implementación
B35: EAP: Ejecución y Administración de Procesos | C35: 21. Vinculación de asociados sin el lleno de los requisitos o que no cumplen perfil | D35: Con el ánimo de cumplir metas se vinculan asociados que no tienen ingresos o cuya fuente no es clara | E35: 1 | F35: 1 | G35: =VLOOKUP(E35*F35,'riesgo inherente-Anexo '!C4:D28,2,TRUE) -> Bajo | H35: Políticas de conocimiento del "cliente" SARLAFT / Remuneración fija del personal sin comisiones, bonificaciones o gratificaciones por cumplimiento de metas en vinculación de asociados, captación o colocación de créditos / Los ingresos de asociados son aprobados por el Consejo de Admón (Junta Directiva)de Administración / Gerencia revisa previamente las solicitudes de afiliación antes de llevarlas al Consejo de Admón (Junta Directiva)/ Vinculo de asociación limitado a personas residentes en el área de influencia de la entidad | I35: Gerencia, Asesores y Consejo | J35: Permanente | K35: Preventivo | L35: Alta | M35: 1 | N35: 1 | O35: =VLOOKUP((E35*F35)-(M35*N35),'riesgo inherente-Anexo '!C2:D28,2,TRUE) -> Bajo | P35: No se requiere | Q35: Asistente de Gerencia | R35: Baja | S35: Asistente de Gerencia | T35: 43800 | U35: Implementación
B36: EAP: Ejecución y Administración de Procesos | C36: 22. Actos indebidos en la Selección o contratación de proveedores | D36: Las personas encargadas de la negociacion pueden pedir sobornos para preferir un proveedor | E36: 1 | F36: 1 | G36: =VLOOKUP(E36*F36,'riesgo inherente-Anexo '!C4:D28,2,TRUE) -> Bajo | H36: Varias cotizaciones cuando se trata de contrataciones o compras representativas / Políticas de SARLAFT en materia de selección de proveedores / Se verifican referencias de proveedores | I36: Gerencia y Asistente de Gerencia | J36: Permanente | K36: Preventivo | L36: Alta | M36: 1 | N36: 1 | O36: =VLOOKUP((E36*F36)-(M36*N36),'riesgo inherente-Anexo '!C2:D28,2,TRUE) -> Bajo | P36: No se requiere | Q36: Asistente de Gerencia | R36: Baja | S36: Asistente de Gerencia | T36: 43800 | U36: Implementación
B37: EAP: Ejecución y Administración de Procesos | C37: 23. Pagos en exceso a proveedores | D37: Errores en el monto de la transferencia a efectuar | E37: 1 | F37: 1 | G37: =VLOOKUP(E37*F37,'riesgo inherente-Anexo '!C4:D28,2,TRUE) -> Bajo | H37: El Contador monta los pagos en el portal y la Gerencia los revisa, autoriza y paga / Revisoría Fiscal | I37: Contador y Gerencia | J37: Permanente | K37: Preventivo | L37: Alta | M37: 1 | N37: 1 | O37: =VLOOKUP((E37*F37)-(M37*N37),'riesgo inherente-Anexo '!C2:D28,2,TRUE) -> Bajo | P37: No se requiere | Q37: Asistente de Gerencia | R37: Baja | S37: Asistente de Gerencia | T37: 43800 | U37: Implementación
B38: EAP: Ejecución y Administración de Procesos | C38: 24. Giros de recursos a beneficiarios equivocados | D38: Errores de digitación en el numero de la cuenta o de la cedula | E38: 1 | F38: 1 | G38: =VLOOKUP(E38*F38,'riesgo inherente-Anexo '!C4:D28,2,TRUE) -> Bajo | H38: La mayoría de desembolsos se efectúa en efectivo al beneficiario directo o mendiante consignacion en cuenta de ahorros de la misma Cooperativa / Los cheques son girados por la Caja y revisados y firmados por la Gerencia / Conciliación mensual de obligaciones financieras | I38: Caja y Gerencia | J38: Permanente | K38: Preventivo | L38: Alta | M38: 1 | N38: 1 | O38: =VLOOKUP((E38*F38)-(M38*N38),'riesgo inherente-Anexo '!C2:D28,2,TRUE) -> Bajo | P38: No se requiere | Q38: Asistente de Gerencia | R38: Baja | S38: Asistente de Gerencia | T38: 43800 | U38: Implementación
B39: FI: Fraude Interno | C39: 25. Pérdida, plagio o copia de claves para acceso al aplicativo | D39: No cambio de claves por parte de los usuarios / vulnerabilidad externa del sistema | E39: 1 | F39: 1 | G39: =VLOOKUP(E39*F39,'riesgo inherente-Anexo '!C4:D28,2,TRUE) -> Bajo | H39: Clave inicial llega a correo registrado y pide con el primer acceso cambio de clave / Cambio obligatorio de clave despues de cierto tiempo de uso | I39: Asistente de Gerencia | J39: Permanente | K39: Preventivo | L39: Alta | M39: 1 | N39: 1 | O39: =VLOOKUP((E39*F39)-(M39*N39),'riesgo inherente-Anexo '!C2:D28,2,TRUE) -> Bajo | P39: No se requiere | Q39: Asistente de Gerencia | R39: Baja | S39: Asistente de Gerencia | T39: 43800 | U39: Implementación
B40: EAP: Ejecución y Administración de Procesos | C40: 26. Incumplimiento de presupuestos, proyecciones, metas y objetivos | D40: Falta de seguimiento a las metas y planes / Ausencia de planeacion financiera o presupuesto / No se tiene planeación estratégica | E40: 1 | F40: 1 | G40: =VLOOKUP(E40*F40,'riesgo inherente-Anexo '!C4:D28,2,TRUE) -> Bajo | H40: Elaboración de Presupuesto anual / Plan de Direccionamiento Estratégico / Evalución mensual de desempeño financiero, indicadores y cumplimiento de metas en el Consejo de Admón (Junta Directiva)de Administración | I40: Gerencia y Consejo de Admón (Junta Directiva) | J40: Permanente | K40: Preventivo | L40: Alta | M40: 1 | N40: 1 | O40: =VLOOKUP((E40*F40)-(M40*N40),'riesgo inherente-Anexo '!C2:D28,2,TRUE) -> Bajo | P40: No se requiere | Q40: Asistente de Gerencia | R40: Baja | S40: Asistente de Gerencia | T40: 43800 | U40: Implementación
...

Sheet riesgo inherente-Anexo 
A1: Proabilidad | B1: Severidad | C1: SCORE | D1: Riesgo Inherente | F1: Riesgo Inherente | G1: Frecuencia Control | H1: Tipo de Control | I1: Efectividad | J1: Estado Implementación
A2: 0 | B2: 0 | C2: -999 | D2: Bajo | F2: Bajo | G2: Permanente | H2: Detectivo | I2: Alta | J2: Planeación
A3: 0 | B3: 1 | C3: 0 | D3: Bajo | F3: Moderado | G3: Periódico | H3: Preventivo | I3: Media | J3: Diseño
A4: 1 | B4: 1 | C4: =+A4*B4 -> 1 | D4: Bajo | F4: Alto | G4: Esporádico | I4: Baja | J4: Pruebas
A5: 1 | B5: 2 | C5: =+A5*B5 -> 2 | D5: Bajo | F5: Crítico | G5: Anual | J5: Implementación
A6: 2 | B6: 1 | C6: =+A6*B6 -> 2 | D6: Bajo | G6: Unica | J6: Funcionamiento
A7: 1 | B7: 3 | C7: =+A7*B7 -> 3 | D7: Bajo
A8: 3 | B8: 1 | C8: =+A8*B8 -> 3 | D8: Bajo
A9: 1 | B9: 4 | C9: =+A9*B9 -> 4 | D9: Moderado
A10: 2 | B10: 2 | C10: =+A10*B10 -> 4 | D10: Moderado
A11: 4 | B11: 1 | C11: =+A11*B11 -> 4 | D11: Moderado
A12: 1 | B12: 5 | C12: =+A12*B12 -> 5 | D12: Moderado
A13: 5 | B13: 1 | C13: =+A13*B13 -> 5 | D13: Moderado
A14: 2 | B14: 3 | C14: =+A14*B14 -> 6 | D14: Moderado
A15: 3 | B15: 2 | C15: =+A15*B15 -> 6 | D15: Moderado
A16: 2 | B16: 4 | C16: =+A16*B16 -> 8 | D16: Moderado
A17: 4 | B17: 2 | C17: =+A17*B17 -> 8 | D17: Moderado
A18: 3 | B18: 3 | C18: =+A18*B18 -> 9 | D18: Alto
... A28: 5 | B28: 5 | C28: =+A28*B28 -> 25 | D28: Crítico

Sheet Codificacion
A1: Factores de Riesgo | B1: Cod | C1: Categorías de Riesgos | D1: Cod | E1: Macroprocesos
A2: Recurso Humano | B2: RH | C2: Fraude Interno | D2: FI | E2: Gestion Gerencial
A3: Procesos | B3: P | C3: Fraude Externo | D3: FE | E3: Vinculación
A4: Tecnología | B4: T | C4: Relaciones Laborales | D4: RL | E4: Crédito
A5: Infraestructura | B5: I | C5: Clientes | D5: C | E5: Ahorro
A6: Externos | B6: E | C6: Daños a Activos Físicos | D6: DAF | E6: Solidaridad
C7: Fallas Tecnologicas | D7: FT | E7: Bienestar Social
C8: Ejecución y Administración de Procesos | D8: EAP | E8: Talento Humano
E9: Contabilidad y Gestion Administrativa
B11: PROBABILIDAD | E11: IMPACTO | F11: SMLMV
A12: 1 | B12: 1. Improbable | E12: 1. Insignificante | F12: Hasta 10
A13: 2 | B13: 2. Raro | E13: 2. Menor | F13: >10-30
A14: 3 | B14: 3. Potencia | E14: 3. Moderado | F14: >30-100
A15: 4 | B15: 4. Probable | E15: 4. Mayor | F15: >100-300
A16: 5 | B16: 5. Casi Certeza | E16: 5. Catastrófico | F16: >300

Sheet Registro Eventos
A1: I. Referencia | B1: RO 1 | C1: RO2 | D1: R03 | G1: I. Referencia
A2: II. Fecha de inicio del evento | G2: II. Fecha de inicio del evento
A3: III. Fecha de finalización del evento | G3: III. Fecha de finalización del evento
A4: IV. Fecha del descubrimiento | G4: IV. Fecha del descubrimiento
A5: V. Fecha de contabilización | G5: V. Fecha de contabilización
A6: VI. Divisa | G6: VI. Divisa
A7: VII. Cuantía | G7: VII. Cuantía
A8: VIII. Cuantía total recuperada (incluido seguros) | G8: VIII. Cuantía total recuperada (incluido seguros)
A9: IX. Cuantía recuperada por seguros | G9: IX. Cuantía recuperada por seguros
A10: X. Clase de evento | G10: X. Clase de evento
A11: XI. Producto/servicio afectado | G11: XI. Producto/servicio afectado
A12: XII. Cuentas Contables Afectadas | G12: XII. Cuentas Contables Afectadas
A13: XIII. Proceso | G13: XIII. Proceso
... A15: XV. Descripción del evento | G15: XV. Descripción del evento

Sheet Plan de Continuidad
A1: EVENTO | B1: DESCRIPCION ESTADO ACTUAL | C1: ACTIVIDADES A REALIZAR PARA RECUPERAR EL SERVICIO | D1: RESPONSABLE DE EJECUTAR EL PLAN | E1: TAREAS PENDIENTE DE REALIZAR | F1: TIEMPO DE RECUPERACIÓN | G1: MEJORAS AL SERVICIO
A2: INTERNET | B2: El canal principal es en FIBRA OPTICA y se tiene un canal para contigencias de BANDA ANCHA con otra empresa diferente. | C2: En caso de que se caiga la conexión por FIBRA OPTICA, se conecta automáticamente el CANAL de BANDA ANCHA. | D2: Automático. Asistente de Gerencia | E2: Ninguna | F2: Inmediato | G2: Ninguna
A3: SWICHT | B3: COOTRAUNION cuenta con dos equipos para esta función y un equipo de respaldo en caso de falla | C3: Si falla un equipo, se procede a la instalación inmediata del respaldo. El tiempo aproximado del reemplazo es 10 minutos. | D3: Asistente de Gerencia y Gerente. Ambos técnicos en sistemas y redes | E3: Ninguna | F3: 10 minutos | G3: Ninguna
A4: ENERGIA | B4: Se cuenta con UPS | C4: La UPS soporta hasta 2 horas de funcionamiento sin energía | D4: Automático. Asistente de Gerencia | E4: Ninguna | F4: AUTOMATICO
A5: DESTRUCCION DE LAS OFICINAS (incendio, terremoto, terrorismo, asonada) | B5: La oficina es propia, localizada en el Municipio de la UNION (Valle) a una cuadra del parque principal. El municipio es de bajo riesgo en orden público, sísmico y de inundaciones y cuenta con alarmas contra incendio. COOTRAUNION es miembro de la red COOPCENTRAL lo que significa que los asociados pueden hacer sus transacciones en cualquiera de las casi 500 oficinas que forman parte de la RED | C5: FASE I: el Gerente con uno o dos empleados más puede conectarse con sus equipos portátiles a la RED para efectuar pagos y transferencias (retiros de ahorros o desembolsos). Aquellos que no tengan cuenta bancaria se les podrá girar cheque. FASE II: Arrendar LOCAL COMERCIAL y efectuar las adecuaciones físicas necesarias para los puestos de trabajo prioritarios de servicio CAJAS, la red (contratista usual) y los equipos (se compran). La información está en la "NUBE". Se requiere hacer publicidad para informar del evento y nuevo lugar de trabajo. | D5: Gerencia y Asitente de Gerencia | E5: Lograr que la mayoria de los asociados cuente con Tarjeta Débito para disponer de sus recursos a través de la red de cajeros automáticos o pago directo | F5: FASE I: 2 horas / FASE II: 48 horas. En caso de terremoto, la Fase I podría tardarse 48 horas y la Fase II una semana. | G5: Implementar CORRSPONSALES BANCARIOS e informar a todos los asociados las entidades que integral la RED Coopcentral
A6: FALLO DE EQUIPOS por daño físico | B6: Los equipos son propios (computadores, impresoras, telefonos) y tienen plan de mantenimiento, seguros. Se reponen por obsolescencia o daño. Se tiene sistema a tierra para evitar quema masiva por rayo | C6: Se cuenta con dos equipos portátiles de contingencia para atender daños imprevistos. | D6: Asistente de Gerencia y Gerente. Ambos técnicos en sistemas y redes | E6: Ninguna | F6: Inmediato | G6: Ninguna
A7: TELEFONO | B7: Se cuenta con 4 lineas FIJAS y 4 Celulares | C7: La lineas FIJAS son con la unica empresa que opera en el Municipio y las celulares con CLARO en caso de falla de las fijas se recurre a los telefonos celulares CLARO corporativos y los personales. En caso de que los celulares corporativos fallen, se tendría que comprar o habilitar un servicio con otro proveedor en los telefonos celulares personales | D7: Asistente de Gerencia | E7: Ninguna | F7: Inmediato | G7: Ninguna
A8: DATOS DE USUARIO y APLICATIVO | B8: La información de cada usuario se almacena en su equipos de computo y este a su vez se le efectúa backup en el SERVIDOR DE DOMINIO. La información informacion del aplicativo está en la NUBE en Datacenter replicado en otros 2 servidores, uno fuera del país. Se cuenta con seguridad contra ataques informáticos y captura de información por sofware malicioso | C8: Solicitar al Asistente de Gerencia el descargue de la información requerida del Backup. | D8: Asistente de Gerencia | E8: Automatizar backup de archivos de trabajo de usuarios en la NUBE o dispositivo fuera de las instalaciones de la Cooperativa | F8: 5 minutos | G8: Manejar toda la información laboral en una sola carpeta, que no este en mis documentos o el escritorio, ubicaciones mas vulnerables a perdida de información.
A9: PERSONAL CLAVE DE LA GERENCIA | B9: El gerente y asistente de Gerencia tienen firmas registradas en Bancos y la Secretaria de Gerencia es Representante Legal Suplente | C9: En caso de ausencia por cualquier motivo del personal CLAVE de la GERENCIA existen personas con firmas y atribuciones que permiten que la Cooperativa continue operando bajo condiciones normales. En caso de ausencia del Contador la Cooperativa no se paraliza y el Gerente está en capacidad de reemplazarlo temporalmente. | D9: Gerencia y Asitente de Gerencia | E9: Ninguna | F9: Inmediato | G9: Ninguna
B13: ELABORO | C13: APROBO
B17: FIRMA Y NOMBRE | C17: FIRMA Y NOMBRE
