Workbook
Name ___nit1: #REF!
Name ___nit1: #REF!
Name __nit1: #REF!
Name __nit1: #REF!
Name _nit1: #REF!
Name _nit1: #REF!
Name A_impresión_IM: #REF!
Name A_impresión_IM: #REF!
Name aaa: MATCH(0.01,'Plan de Continuidad'!End_Bal,-1)+1
Name aaa: MATCH(0.01,End_Bal,-1)+1
Name aaa: MATCH(0.01,End_Bal,-1)+1
Name agencias: [1]Listas!$U$2:$U$10
Name avvillas: #REF!
Name avvillas: #REF!
Name BANCOS: [2]BANCOS!$A$2:$A$25
Name Beg_Bal: #REF!
Name Beg_Bal: #REF!
Name cartera: #REF!
Name cartera: #REF!
Name clientes: #REF!
Name clientes: #REF!
Name Data: #REF!
Name Data: #REF!
Name depositos: #REF!
Name depositos: #REF!
Name DINERS: #REF!
Name DINERS: #REF!
Name End_Bal: #REF!
Name End_Bal: #REF!
Name Extra_Pay: #REF!
Name Extra_Pay: #REF!
Name FECHA: #REF!
Name FECHA: #REF!
Name Full_Print: #REF!
Name Full_Print: #REF!
Name Header_Row: ROW(#REF!)
Name Int: #REF!
Name Int: #REF!
Name Interest_Rate: #REF!
Name Interest_Rate: #REF!
Name ITEM: #REF!
Name ITEM: #REF!
Name Last_Row: #N/A
Name Last_Row: IF([3]COOADAMS!Values_Entered,Header_Row+[3]COOADAMS!Number_of_Payments,Header_Row)
Name Last_Row: IF([3]COOADAMS!Values_Entered,Header_Row+[3]COOADAMS!Number_of_Payments,Header_Row)
Name Last_Row: IF([3]COOADAMS!Values_Entered,Header_Row+[3]COOADAMS!Number_of_Payments,Header_Row)
Name Loan_Amount: #REF!
Name Loan_Amount: #REF!
Name Loan_Start: #REF!
Name Loan_Start: #REF!
Name Loan_Years: #REF!
Name Loan_Years: #REF!
Name MONITOR: #REF!
Name MONITOR: #REF!
Name MONITOR_AVVILLAS: #REF!
Name MONITOR_AVVILLAS: #REF!
Name Net_Income: #REF!
Name Net_Income: #REF!
Name NetIncomeGrowth: #REF!
Name NetIncomeGrowth: #REF!

Sheet DATA Registro eventos SARO
A1: a. Referencia | B1: b. Fecha de inicio del evento | C1: c. Fecha de finalización del evento | D1: d. Fecha del descubrimiento | E1: e. Fecha de contabilización | F1: f. Cuantía | G1: g. Cuantía total recuperada | H1: h. Cuantía recuperada por seguros | I1: i. Clase de riesgo operativo | J1: j. Cuenta Contable afectada | K1: k. Producto/servicio afectado | L1: l. Proceso | M1: m. Descripción del evento | N1: n. Canal de servicio o atención al cliente donde se evidencio el evento, si aplica. | O1: o. Ciudad o zona geográfica donde se materializó el evento, si aplica.
A2: 01-22-01 | B2: 44521 | C2: 45616 | D2: 44521 | E2: No aplica | F2: La SES tiene potestad para sancionar hasta con 200 SMLMV | G2: N.A. | H2: N.A. | I2: 721 | J2: N.A. | K2: N.A. | L2: Contable | M2: Debido a una caída del internet por falla eléctrica, el reporte SICSES no pudo enviarse en la fecha máxima establecida y debe solicitarse autorización para transmisión extemporánea | N2: N.A. | O2: Cali

Sheet Descripcion campos registro
A1: CAMPO | B1: DESCRIPCION
A2: a. Referencia | B2: Mes-Año-# evento (MM/AA/##)
A3: b. Fecha de inicio del evento | B3: Fecha en que se inició el evento, indicando día, mes año, hora
A4: c. Fecha de finalización del evento | B4: Fecha en que se finalizó el evento, indicando día, mes, año, hora.
A5: d. Fecha del descubrimiento | B5: Fecha en que se descubre el evento, indicando día, mes año, hora.
A6: e. Fecha de contabilización | B6: Fecha en que se registra contablemente la pérdida tipo a) por el evento, según lo señalado en el numeral 5.5 del presente capítulo.
A7: f. Cuantía | B7: El monto de dinero al que asciende la pérdida según la descripción contenida en el numeral 5.5, del presente capítulo.
A8: g. Cuantía total recuperada | B8: El monto de dinero recuperado por acción directa de la organización solidaria.
A9: h. Cuantía recuperada por seguros | B9: Corresponde al monto de dinero recuperado por el cubrimiento a través de un seguro.
A10: i. Clase de riesgo operativo | B10: Se establece la clasificación por factor de riesgo operativo asociada al evento registrado, según la clasificación definida en el Anexo 1 del presente Capítulo.
A11: j. Cuenta Contable afectada | B11: Identifica la cuenta del Plan Único de Información Financiera con fines de supervisión afectada, donde se registra contablemente la pérdida por el evento, si aplica.
A12: k. Producto/servicio afectado | B12: Identifica el principal producto o servicio afectado, si aplica.
... A14: m. Descripción del evento | B14: Descripción detallada del evento.
A15: n. Canal de servicio o atención al cliente donde se evidencio el evento, si aplica.
A16: o. Ciudad o zona geográfica donde se materializó el evento, si aplica.

Sheet RIESGO INHERENTE 
A1: CLASIFICACION | E1: EVALUACION DEL RIESGO INHERENTE | H1: EVALUACION DE LOS CONTROLES EXISTENTES | M1: RIESGO RESIDUAL | P1: TRATAMIENTO DEL RIESGO | S1: SEGUIMIENTO
A2: Nivel 1 | B2: Nivel 2 | C2: Nivel 3 | D2: CAUSAS | E2: Probabilidad | F2: Impacto | G2: INHERENTE | H2: Descripción del Control Existente | I2: Responsable | J2: Frecuencia | K2: Tipo | L2: Efectividad | M2: Reducción de la Probabilidad | N2: Reducción del Impacto | O2: RIESGO RESIDUAL | P2: Descripcion | Q2: Responsable | R2: Prioridad | S2: Responsable | T2: Fecha | U2: Estado
A3: 1 - Fraude Interno | B3: 11 - Actividades no autorizadas | C3: 111 - Operaciones no reveladas intencionalmente | D3: Quienes dirigen o administran quieren obtener mejores condiciones en los servicios de las que establecen los reglamentos | E3: 1 | F3: 1 | G3: =VLOOKUP(E3*F3,'riesgo inherente-Anexo '!C4:D28,2,TRUE) -> Bajo | H3: 1. Todos los créditos de partes relacionadas (privilegiados y empleados) son aprobados por 4/5 partes del Consejo de Administración 2. En las notas a los estados financieros se incluye una revelación especial sobre partes relacionadas. 3. El estatuto tiene régimen de inhabilidades e incompatibilidades prohibe prebendas, ventajas, comisiones o similares a los órganos de administración y control. 4. Se cuenta con codigo de buen gobierno. 5. Segregación de funciones: autorización, registro, desembolso y reporte 6. Poliza de Manejo | I3: Directora de Riesgos, Gerencia, Contadora, Auditoría Interna | J3: Periódico | K3: Detectivo | L3: Alta | M3: 1 | N3: 5 | O3: =VLOOKUP((E3*F3)-(M3*N3),'riesgo inherente-Anexo '!C2:D28,2,TRUE) -> Bajo | P3: Hacer seguimiento a las condiciones operaciones activas y pasivas y otros tipos de operación de compra y venta en la que puedan presentarse conflictos de interés | Q3: Auditoría, Riesgos | R3: Alta | S3: Gestor de Riesgos | T3: 44926 | U3: Implementación
A4: 1 - Fraude Interno | B4: 11 - Actividades no autorizadas | C4: 112 - Operaciones no autorizadas con pérdida de dinero | D4: Operaciones por fuera de los límites y condiciones reglamentarias que no fueron autorizadas por la instancia competente | E4: 2 | F4: 3 | G4: =VLOOKUP(E4*F4,'riesgo inherente-Anexo '!C4:D28,2,TRUE) -> Moderado | H4: 1. Reglamentos y estatutos contienen limitaciones atribuciones y competencias de Gerencia, Comités, Consejo y funcionarios en lo relativo a los servicios, gastos e inversiones. 2. Limites legales de concentración. 3. Segregación de funciones. 4. Claves del aplicativo personalizadas y se cambian periódicamente por solicitud del sistema. 5. En la disposición de recursos financieros existe firmas conjuntas, visación de nota contable y segregación cargue y aprobación. 6. Contabilización solo despues de autorización de Gerencia o Consejo y pago a proveedores solo con casusación. 7. Arqueo diario de efectivo a los cajeros. 8. Póliza manejo GLOBAL | I4: Tesorería, Contabilidad, Auditoría Interna, Gerencia y Jefe de Servicios Financieros | J4: Permanente | K4: Preventivo | L4: Alta | M4: 5 | N4: 5 | O4: =VLOOKUP((E4*F4)-(M4*N4),'riesgo inherente-Anexo '!C2:D28,2,TRUE) -> Bajo | P4: No se requiere | Q4: N.A. | R4: Baja | S4: Gestor de Riesgos | T4: 44926 | U4: Funcionamiento
A5: 1 - Fraude Interno | B5: 11 - Actividades no autorizadas | C5: 113 - Valoración errada de posiciones de forma intencional | D5: Se altera, "maquilla" o presenta tendenciosamente la información de análisis de riesgo sobre cualquier operación que busca la aprobación de la misma aún a pesar de que representa riesgo para la entidad | E5: 1 | F5: 3 | G5: =VLOOKUP(E5*F5,'riesgo inherente-Anexo '!C4:D28,2,TRUE) -> Bajo | H5: 1. Análisis de crédito (requisitos y criterios mínimos obligatorios) lo realiza el analista de crédito y lo revisa el comité de Crédito. Estudio de capacidad de pago generado por LINIX con informacion ingresada a partir de documentación confirmada (cartas laborales, consulta centrales riesgo). 2. Limitación en los montos por instancia aprobatoria (Jefe de Servicios, Secretarias Administrativas hasta 1,5 SMLMV, gerencia hasta 5 SMLMV y luego comité hasta 40 SMLMV de allí en adelante Consejo). 3. Metodología de Evaluación de cartera aprobada por Consejo y efectuada por Area de Riesgos (antes Jefe de Cartera), se presenta al comité de riesgos y al Consejo permite identificar fallas del proceso de otorgamiento. 4. Las inversiones de fondo de liquidez y los excesos temporales de tesorería se invierten en instrumentos de corto plazo y baja volatilidad. 5. Solo se tienen inversiones de patrimonio en entes gremiales y entidades del sector solidario 6. No se hacen inversiones especulativas ni en propiedades de inversión. 7. Solo se tienen los bienes inmuebles donde funciona la Cooperativa y el avalúo se actualiza de manera técnica e independiente. | I5: Auditoria Interna y Riesgos verifica cumplimiento de limites y políticas en materia de instancias y atribuciones. Jefe de Crédito revisa lo relativo a crédito | J5: Permanente | K5: Preventivo | L5: Alta | M5: 5 | N5: 3 | O5: =VLOOKUP((E5*F5)-(M5*N5),'riesgo inherente-Anexo '!C2:D28,2,TRUE) -> Bajo | P5: No se requiere | Q5: N.A. | R5: Baja | S5: Gestor de Riesgos | T5: 44926 | U5: Implementación
A6: 1 - Fraude Interno | B6: 12 - Hurto y Fraude | C6: 121 - Fraude: fraude crediticio, hurto, depósito sin valor, etc. | D6: Abusos de confianza de personas que conocen los procedimientos internos y aprovechan sus falencias | E6: 1 | F6: 4 | G6: =VLOOKUP(E6*F6,'riesgo inherente-Anexo '!C4:D28,2,TRUE) -> Bajo | H6: 1. Póliza de manejo GLOBAL. 2. Seguimiento a los movimientos y operaciones de los empleados y directivos (SARLAFT). 3. Verificación diaria de movimientos y consecutivos: a) Auxiliar de oficina arma movimiento diario b) Contabilidad verifica registro y soporte c) Se remite a la Jefe de Servicios Financieros para revisión antes de enviar al archivo 4. Verificación diaria de las notas de causación de intereses | I6: Oficial de cumplimiento, Auxiliar, Contabilidad, Jefe de Servicios Financieros, Auditor | J6: Permanente | K6: Preventivo | L6: Alta | M6: 1 | N6: 1 | O6: =VLOOKUP((E6*F6)-(M6*N6),'riesgo inherente-Anexo '!C2:D28,2,TRUE) -> Bajo | P6: No se requiere | Q6: N.A. | R6: Alta | S6: Gestor de Riesgos | T6: 44926 | U6: Implementación
A7: 1 - Fraude Interno | B7: 12 - Hurto y Fraude | C7: 122 - Extorsión, malversación, o robo por apropiación indebida | D7: Funcionarios aprovechan las fallas de control interno para sustraer dinero, valores o bienes de la entidad | E7: 1 | F7: 4 | G7: =VLOOKUP(E7*F7,'riesgo inherente-Anexo '!C4:D28,2,TRUE) -> Bajo | H7: 1. Vigilancia privada 2. Monitoreo de Alarmas. 3. Rondas programadas con la Policía. 4. Limite a recursos en efectivo en Caja. 5. Transportadora de Valores. 6. Poliza de seguro contra robos. 7. Apertura de oficina con Guarda. 8. Trabajo fuera del horario laboral requiere autorización de Gerencia | I7: Jefe de Servicios Financieros | J7: Permanente | K7: Preventivo | L7: Alta | M7: 1 | N7: 1 | O7: =VLOOKUP((E7*F7)-(M7*N7),'riesgo inherente-Anexo '!C2:D28,2,TRUE) -> Bajo | P7: No se requiere | Q7: N.A. | R7: Baja | S7: Gestor de Riesgos | T7: 44926 | U7: Implementación
A8: 1 - Fraude Interno | B8: 12 - Hurto y Fraude | C8: 123 - Apropiación indebida de activos | D8: La falta de control sobre los activos fijos de la entidad facilita que los funcionarios puedan hacer uso indebido de los mismos para uso personal o apropiarse de ellos | E8: 1 | F8: 3 | G8: =VLOOKUP(E8*F8,'riesgo inherente-Anexo '!C4:D28,2,TRUE) -> Bajo | H8: 1. Arqueos diarios de caja. 2. Titulos de deuda desmaterializados. 3. Caja Fuerte con temporizador que solo maneja cajero principal y subgerente. 4. No se puede abrir la caja en días no laborales. 5. Retiro de bienes con permiso especial. 6. Circuito Cerrado de Televisión CCTV en todas las sucursales con monitoreo por vigilante. 7. Poliza GLOBAL de Manejo (fidelidad). 8. Pagarés y titulos valores en caja fuerte custodiada por analista y jefe de crédito y otra caja fuerte para Garantias reales. 9. Clave de acceso para Alarmas diferentes y personalizadas para 4 personas diferentes. | I8: Gerencia, cajeros y Sistemas | J8: Permanente | K8: Preventivo | L8: Alta | M8: 1 | N8: 1 | O8: =VLOOKUP((E8*F8)-(M8*N8),'riesgo inherente-Anexo '!C2:D28,2,TRUE) -> Bajo | P8: Pagarés desmaterializados y digitalización de pagarés, titulos valores y documentación contable | Q8: Gerencia | R8: Alta | S8: Gestor de Riesgos | T8: 44926 | U8: Planeación
A9: 1 - Fraude Interno | B9: 12 - Hurto y Fraude | C9: 124 - Destrucción dolosa de activos | D9: Los empleados sabotean o destruyen equipos por disgusto con la entidad o sus directivos | E9: 1 | F9: 3 | G9: =VLOOKUP(E9*F9,'riesgo inherente-Anexo '!C4:D28,2,TRUE) -> Bajo | H9: 1. Poliza de PPE 2. Custodia en caja furte de dinero, titulos valores. | I9: Gerente, Subgerente, Cajero Ppal | J9: Permanente | K9: Preventivo | L9: Alta | M9: 1 | N9: 1 | O9: =VLOOKUP((E9*F9)-(M9*N9),'riesgo inherente-Anexo '!C2:D28,2,TRUE) -> Bajo | P9: No se requiere | Q9: N.A. | R9: Baja | S9: Gestor de Riesgos | T9: 44926 | U9: Implementación
A10: 1 - Fraude Interno | B10: 12 - Hurto y Fraude | C10: 125 - Falsificación | D10: Los funcionarios que conocen los procesos utilizan documentación falsa para lograr sustraer recursos | E10: 1 | F10: 4 | G10: =VLOOKUP(E10*F10,'riesgo inherente-Anexo '!C4:D28,2,TRUE) -> Bajo | H10: 1. Verificación de información y documentos en las solicitudes de crédito. 2. Desembolsos solo con crédito original. 3. Escaneo en el sistema de huella, foto y cédula. 4. Vinculación personal con documentos originales y huella en presencia de un empleado. 5. Consecutivos de cheques cargado en el sistema. 6. Conciliaciones Bancarias. 7. La chequera solo la maneja el auxiliar de crédito o el Director de Agencia | I10: Información y Oficial de cumplimiento | J10: Permanente | K10: Preventivo | L10: Alta | M10: 1 | N10: 1 | O10: =VLOOKUP((E10*F10)-(M10*N10),'riesgo inherente-Anexo '!C2:D28,2,TRUE) -> Bajo | P10: Seguridad biométrica y vinculación no presencial | Q10: Gerencia | R10: Baja | S10: Gestor de Riesgos | T10: 45291 | U10: Planeación
A11: 1 - Fraude Interno | B11: 12 - Hurto y Fraude | C11: 126 - Apropiación de: cuentas, identidad, etc. | D11: Funcionarios suplantan la identidad de asociados para tramitar servicios a su nombre cuyos recursos finalmente benefician al funcionario o allegados | E11: 1 | F11: 3 | G11: =VLOOKUP(E11*F11,'riesgo inherente-Anexo '!C4:D28,2,TRUE) -> Bajo | H11: 1. Topes para retiros por caja. 2. Visación de firma. 3. Documento original para retiro por caja. 4. El sistema tiene foto, huella y documento escaneado. 5. Libreta Talonario y formatos individuales para retiro 6. Tarjetas débito con clave. 7. Transferencias solo a cuentas con cetificación bancaria con autorización escrita del asociado en formato prestablecido y presencial | I11: Cajero | J11: Permanente | K11: Preventivo | L11: Alta | M11: 1 | N11: 1 | O11: =VLOOKUP((E11*F11)-(M11*N11),'riesgo inherente-Anexo '!C2:D28,2,TRUE) -> Bajo | P11: Seguridad biométrica y vinculación no presencial | Q11: Gerencia | R11: Baja | S11: Gestor de Riesgos | T11: 45291 | U11: Planeación
A12: 1 - Fraude Interno | B12: 12 - Hurto y Fraude | C12: 127 - Evasión intencional de impuestos | D12: Los directivos de la entidad presionan la administracion para pagar menos impuestos de los que por ley corresponden | E12: 1 | F12: 5 | G12: =VLOOKUP(E12*F12,'riesgo inherente-Anexo '!C4:D28,2,TRUE) -> Bajo | H12: 1. Cooperativa es régimen tributario especial. 2. Revisión declaraciones tributarias. 3. Revisión aleatoria de causación y pago de declaraciones de impuestos, retenciones e información exógena | I12: Contador, Auditor Interno | J12: Permanente | K12: Preventivo | L12: Alta | M12: 1 | N12: 1 | O12: =VLOOKUP((E12*F12)-(M12*N12),'riesgo inherente-Anexo '!C2:D28,2,TRUE) -> Bajo | P12: No se requiere | Q12: N.A. | R12: Baja | S12: Gestor de Riesgos | T12: 44926 | U12: Implementación
A13: 1 - Fraude Interno | B13: 12 - Hurto y Fraude | C13: 128 - Abuso de información privilegiada (no a favor de la empresa) | D13: Funcionarios sustraen información sobre los asociados para vender las bases de datos a terceros | E13: 1 | F13: 1 | G13: =VLOOKUP(E13*F13,'riesgo inherente-Anexo '!C4:D28,2,TRUE) -> Bajo | H13: 1. Código de ética, conducta y buen gobierno. 2. Seguridad informática para el acceso a las bases de datos. 3. Política de tratamiento de datos y Oficial de protección de datos 4. Transacciones a través de canales personales: No se cuenta con canales transaccionales digitales ni Corresponsales bancarios. 5. Atribuciones para acceso a aplicativos y generación de reportes. 6. Consulta WEB responsabilidad de LINIX 7. AVAL PAY servicio con seguridad bajo responsabilidad de Grupo Aval 8. Aplicativos con seguridad SSL: página WEB simulador créditos, Recepción de hojas de vida. | I13: Oficial de protección de Datos | J13: Permanente | K13: Preventivo | L13: Alta | M13: 1 | N13: 1 | O13: =VLOOKUP((E13*F13)-(M13*N13),'riesgo inherente-Anexo '!C2:D28,2,TRUE) -> Bajo | P13: Establecer controles automáticos informáticos para envio de bases de datos a través de correos electrónicos o dispositivos externos | Q13: Sistemas | R13: Media | S13: Gestor de Riesgos | T13: 44926 | U13: Planeación
A14: 1 - Fraude Interno | B14: 12 - Hurto y Fraude | C14: 129 - Soborno, cohecho, otros relacionados en la ley | D14: Los funcionarios aceptan sobornos, prebendas y similares de los asociados o terceros para obtener tratamiento diferencian en los servicios o contratación | E14: 1 | F14: 5 | G14: =VLOOKUP(E14*F14,'riesgo inherente-Anexo '!C4:D28,2,TRUE) -> Bajo | H14: 1. Segregación en facultades de análisis, registro, autorización, desembolso. 2. Varias cotizaciones para adquisición de bienes y servicios por valores representativos. 3. Limitaciones en las atribuciones de compras o autorizaciones o aprobaciones. 4. Pólizas de cumplimiento | I14: Gerencia | J14: Permanente | K14: Preventivo | L14: Alta | M14: 1 | N14: 1 | O14: =VLOOKUP((E14*F14)-(M14*N14),'riesgo inherente-Anexo '!C2:D28,2,TRUE) -> Bajo | P14: No se requiere | Q14: N.A. | R14: Media | S14: Gestor de Riesgos | T14: 44926 | U14: Implementación
A15: 2 - Fraude Externo | B15: 21 - Seguridad de los Sistemas | C15: 211 - Robo de información con pérdidas de dinero | D15: "Hackers" sustraen información de productos de los asociados para efectuar transacciones a su nombre con transferencia de recursos a terceras personas | E15: 2 | F15: 5 | G15: =VLOOKUP(E15*F15,'riesgo inherente-Anexo '!C4:D28,2,TRUE) -> Moderado | H15: 1. Servidor de Base de Datos hace copia automática al finalizar el día 9-10 pm: servidor y copia espejo servidor de aplicaciones (interno), luego se guarda en disco duro externo conservado en Boveda Principal / DRP copia en servidor de Palmira de ambiente virtual y replicado en la NUBE. 2. Antivirus SOPHOS Intercept XDR y Firewall XG210 SOPHOS (seguridad perimetral). 3. Acceso VPN CANAL SSL (Cifrado), politicas de acceso control WEB. 4. Cada usuario cuenta con una UNIDAD DE RED y tales copias se respaldan en una NAS internamente en Candelaria y luego se copian en Palmira. 5. Descompresión de copias en ambiente de pruebas cada 6 meses. | I15: Sistemas | J15: Permanente | K15: Preventivo | L15: Alta | M15: 5 | N15: 5 | O15: =VLOOKUP((E15*F15)-(M15*N15),'riesgo inherente-Anexo '!C2:D28,2,TRUE) -> Bajo | P15: Migrar hacia la NUBE | Q15: Sistemas y Gerencia | R15: Alta | S15: Gestor de Riesgos | T15: 46022 | U15: Planeación
A16: 2 - Fraude Externo | B16: 21 - Seguridad de los Sistemas | C16: 212 - Daños por ataques informáticos | D16: "Hackers" penetran las bases de datos y aplicativos de la entidad para destruir la infomación, encriptarla con el propósito de pedir dinero por el rescate o solamente para causar daño a la entidad | E16: 2 | F16: 5 | G16: =VLOOKUP(E16*F16,'riesgo inherente-Anexo '!C4:D28,2,TRUE) -> Moderado | H16: =+H15 -> 1. Servidor de Base de Datos hace copia automática al finalizar el día 9-10 pm: servidor y copia espejo servidor de aplicaciones (interno), luego se guarda en disco duro externo conservado en Boveda Principal / DRP copia en servidor de Palmira de ambiente virtual y replicado en la NUBE. 2. Antivirus SOPHOS Intercept XDR y Firewall XG210 SOPHOS (seguridad perimetral). 3. Acceso VPN CANAL SSL (Cifrado), politicas de acceso control WEB. 4. Cada usuario cuenta con una UNIDAD DE RED y tales copias se respaldan en una NAS internamente en Candelaria y luego se copian en Palmira. 5. Descompresión de copias en ambiente de pruebas cada 6 meses. | I16: Sistemas | J16: Permanente | K16: Preventivo | L16: Alta | M16: 5 | N16: 5 | O16: =VLOOKUP((E16*F16)-(M16*N16),'riesgo inherente-Anexo '!C2:D28,2,TRUE) -> Bajo | P16: =+P15 -> Migrar hacia la NUBE | Q16: =+Q15 -> Sistemas y Gerencia | R16: Alta | S16: Gestor de Riesgos | T16: =+T15 -> 46022 | U16: Planeación
A17: 2 - Fraude Externo | B17: 22 - Hurto y Fraude | C17: 221 - Robo o hurto | D17: Criminales o grupos organizados de delincuentes irrumpen con o sin violencia para tratar de apropiarse de dinero, valores o activos de valor económico representativo | E17: 3 | F17: 3 | G17: =VLOOKUP(E17*F17,'riesgo inherente-Anexo '!C4:D28,2,TRUE) -> Moderado | H17: 1. Vigilancia (Informador) propia NO armada. 2. Monitoreo de Alarmas. 3. Rondas programadas con la Policía. 4. Limite a recursos en efectivo en Caja. (ppal $120 boveda + $12, otras Boveda $30-$35 Caja $8) 5. Transportadora de Valores. 6. Poliza de seguro contra robos por valor superior a los topes de efectivo. 7. Informadores (2) tienen clave y se encargan de apertura de la oficina en la principal. En las demás oficinas las secretarias administrativas y cajera (o) tienen la clave para apertura. La Jefe de la oficina contingentemente podría abrirlas ante la ausencia de los encargados con la colaboración de la empresa de seguridad. 8. Localización de la oficina central en parque principal, y las demás están localizadas en zonas de alta seguridad y baja vulnerabilidad en zonas bancarias. | I17: Gerencia y Jefes de Oficina | J17: Permanente | K17: Preventivo | L17: Alta | M17: 5 | N17: 5 | O17: =VLOOKUP((E17*F17)-(M17*N17),'riesgo inherente-Anexo '!C2:D28,2,TRUE) -> Bajo | P17: No se requiere | Q17: N.A. | R17: Baja | S17: Gestor de Riesgos | T17: 44926 | U17: Implementación
A18: 2 - Fraude Externo | B18: 22 - Hurto y Fraude | C18: 222 - Falsificación | D18: Terceras personas buscan suplantar la identidad o presentan documentos falsos respecto a sus ingresos o bienes, o soporte de sus solicitudes para obtener servicios - auxilios indebidamente | E18: 3 | F18: 2 | G18: =VLOOKUP(E18*F18,'riesgo inherente-Anexo '!C4:D28,2,TRUE) -> Moderado | H18: 1. Verificación de información y documentos en las solicitudes de crédito. 2. Desembolsos solo con crédito original. 3. Verificación con documento de identificación original para servicios de ahorro y crédito y demás operaciones 4. Vinculación y entrevista personal con documentos originales y huella en presencia de un empleado. 5. Chequeras en BOVEDA y Consecutivos de cheques cargado en el sistema. 6. Conciliaciones Bancarias. 7. La chequera solo la maneja las jefes de oficina | I18: Cajeros, oficial de cumplimiento, asesores comerciales | J18: Permanente | K18: Preventivo | L18: Alta | M18: 5 | N18: 1 | O18: Bajo | P18: Seguridad biométrica y vinculación no presencial | Q18: Gerencia | R18: Alta | S18: Gerencia, Riesgos y Sistemas | T18: 44926 | U18: Implementación
A19: 3 - Relaciones laborales | B19: 31 - Relaciones Laborales | C19: 311 - Cuestiones relativas a remuneración | D19: No se establece objetivamente por parte de los directivos y la Gerencia una escala salarial acorde con los cargos, responsabilidades, experticia, funciones y el mercado | E19: 3 | F19: 1 | G19: =VLOOKUP(E19*F19,'riesgo inherente-Anexo '!C4:D28,2,TRUE) -> Bajo | H19: 1. Se suplen las vacantes internas promoviendo a los empleados de la Cooperativa segun su perfil y desempeño. 2. El salario de los cargos está ligeramente por debajo del promedio del sector pero la rotación es baja y se cuenta con prima extralegal 20 días y BONO Diciembre hasta 50% salario. 3. Salario emocional: Celebración dia del cumpleaños y dia de la familia 4. Se contrata a término fijo a los nuevos empleados, solo los antiguos son contrato a término indefinido | I19: Consejo de Administración | J19: Permanente | K19: Preventivo | L19: Alta | M19: 3 | N19: 1 | O19: =VLOOKUP((E19*F19)-(M19*N19),'riesgo inherente-Anexo '!C2:D28,2,TRUE) -> Bajo | P19: 1. Realizar estudio PROPIO de escala salarial. 2. Efectuar evaluación de clima laboral 3. Implementar evaluación de desempeño anual | Q19: Gerencia y Consejo | R19: Alta | S19: Gestor de Riesgos | T19: 44926 | U19: Implementación
A20: 3 - Relaciones laborales | B20: 31 - Relaciones Laborales | C20: 312 - Cuestiones relativas a prestaciones sociales | D20: Por desconocimiento de las personas encargadas de liquidarlas se pagan valores diferentes a los que corresponde por ley | E20: 1 | F20: 1 | G20: =VLOOKUP(E20*F20,'riesgo inherente-Anexo '!C4:D28,2,TRUE) -> Bajo | H20: 1. Se pagan las prestaciones sociales de ley oportunamente de acuerdo con las bases y normas del código sustantivo del trabajo. 2. Contabilidad revisa antes de los pagos. 3. Nomina electrónica implementada | I20: Contador | J20: Permanente | K20: Preventivo | L20: Alta | M20: 1 | N20: 1 | O20: =VLOOKUP((E20*F20)-(M20*N20),'riesgo inherente-Anexo '!C2:D28,2,TRUE) -> Bajo | P20: No se requiere | Q20: N.A. | R20: Baja | S20: Gestor de Riesgos | T20: 44926 | U20: Funcionamiento
A21: 3 - Relaciones laborales | B21: 31 - Relaciones Laborales | C21: 313 - Cuestiones relativas a terminación de contratos | D21: Se terminan indebidamente los contratos en términos económicos, legales o formales que dan lugar a reclamaciones o demandas | E21: 1 | F21: 1 | G21: =VLOOKUP(E21*F21,'riesgo inherente-Anexo '!C4:D28,2,TRUE) -> Bajo | H21: 1. La liquidación final de prestaciones sociales se hace conforme a las bases y normas del código sustantivo de trabajo informando con el término legal de antelación la no renovación de los contratos a término fijo o pagando la respectiva indemnización cuando es sin justa causa. 2. Baja Rotación laboral | I21: Contador y Gerente | J21: Permanente | K21: Preventivo | L21: Alta | M21: 1 | N21: 1 | O21: =VLOOKUP((E21*F21)-(M21*N21),'riesgo inherente-Anexo '!C2:D28,2,TRUE) -> Bajo | P21: No se requiere | Q21: N.A. | R21: Baja | S21: Gestor de Riesgos | T21: 44926 | U21: Funcionamiento
A22: 3 - Relaciones laborales | B22: 31 - Relaciones Laborales | C22: 314 - Organización laboral | D22: Las funciones, responsabilidades y procedimientos no están documentados o no están claramente definidos y conocidos por parte de los funcionarios o están mal distribuidos generando cargas desequilibradas de trabajo | E22: 3 | F22: 2 | G22: =VLOOKUP(E22*F22,'riesgo inherente-Anexo '!C4:D28,2,TRUE) -> Moderado | H22: 1. Se cuenta con organigrama actualizado. 2. Existe adecuada segregación de funciones y separación funcional de areas comerciales, de apoyo y de riesgos. 3. Se cuenta con reglamento interno de trabajo actualizado el cual es conocido y difundido entre los empleados cuando se produce un cambio. 4. En situaciones complejas se cuenta con asesoría especializada en temas laborales 5. Los empleados pueden ser asociados pero no aspirar a Delegados ni miembros de los órganos de administración y control. | I22: Consejo de Administración | J22: Permanente | K22: Preventivo | L22: Alta | M22: 1 | N22: 1 | O22: =VLOOKUP((E22*F22)-(M22*N22),'riesgo inherente-Anexo '!C2:D28,2,TRUE) -> Bajo | P22: 1. El consejo de administración o Junta de Vigilancia debe canalizar su relación con los empleados a través de la gerencia y no impartir instrucciones o dar ordenes directamente, ni desautorizar a la Gerencia o mantener relaciones de confianza estrecha con los trabajadores. 2. Actualizar reglamento interno de trabajo. | Q22: Consejo de Administración | R22: Alta | S22: Gestor de Riesgos | T22: 44926 | U22: Implementación
A23: 3 - Relaciones laborales | B23: 32 - Higiene y Seguridad en el Trabajo | C23: 321 - Responsabilidad general: caídas, resbalones, cortadas, etc. | D23: No se cuenta con una adecuada seguridad física y señalización en el trabajo que prevenga o evite accidentes graves | E23: 2 | F23: 5 | G23: =VLOOKUP(E23*F23,'riesgo inherente-Anexo '!C4:D28,2,TRUE) -> Moderado | H23: 1. Se cuenta con todos los protocolos de seguridad y mitigación en caso de accidentes laborales que exige (Camilla, Botiquín, Tensiometro). 2. Se capacita y hacen simulacros para atender accidentes laborales o atender emergencias. 3. Todos los empleados cuentan con seguridad social y ARL. 4. Comité y asesor han evaluado señalización y condiciones de seguridad fisica | I23: Asesor Externo | J23: Permanente | K23: Preventivo | L23: Alta | M23: 5 | N23: 1 | O23: =VLOOKUP((E23*F23)-(M23*N23),'riesgo inherente-Anexo '!C2:D28,2,TRUE) -> Bajo | P23: 1. Capacitación ANUAL en primeros auxilios y reanimación los empleados. 2. Revisar contrato de servicio de emergencia médica o contacto para Ambulancias 3. Corregir Rampa en Palmira | Q23: Gerencia | R23: Alta | S23: Gestor de Riesgos | T23: 44926 | U23: Implementación
A24: 3 - Relaciones laborales | B24: 32 - Higiene y Seguridad en el Trabajo | C24: 322 - Casos relacionados con las normas de higiene y seguridad | D24: No se tienen implementados los estándares legales para seguridad en el trabajo o no son conocidos o no están adecuadamente capacitados los empleados | E24: 3 | F24: 3 | G24: =VLOOKUP(E24*F24,'riesgo inherente-Anexo '!C4:D28,2,TRUE) -> Moderado | H24: 1. Se efectúa evaluación y seguimiento periodico de ergonomía y condiciones físicas de los puestos de trabajo para corregir inmediatamente. 2. Pausas activas programadas. 3. Se practica exámen médico de ingreso y retiro y paquete anual de examenes de salud y recomendaciones de salud ocupacional 4. Desde inicio de Pandemia se cuenta con medidas físicas, control de aforo y protocolos de BIOSEGURIDAD | I24: Asesor Externo | J24: Periódico | K24: Preventivo | L24: Alta | M24: 1 | N24: 1 | O24: =VLOOKUP((E24*F24)-(M24*N24),'riesgo inherente-Anexo '!C2:D28,2,TRUE) -> Moderado | P24: 1. Establecer ambulancia o empresa para atender emergencias médicas 2. Corregir algunos puntos de iluminacion 3. Mantenimiento y revisión de sillas anualmente | Q24: Gerencia | R24: Alta | S24: Gestor de Riesgos | T24: 44926 | U24: Implementación
A25: 3 - Relaciones laborales | B25: 32 - Higiene y Seguridad en el Trabajo | C25: 323 - Indemnización a trabajadores | D25: La persona encargada de liquidar las indemnizaciones a trabajadores que se les termina el contrato no está adecuadamente capacitada o no cuenta con asesoría especializada | E25: 2 | F25: 2 | G25: =VLOOKUP(E25*F25,'riesgo inherente-Anexo '!C4:D28,2,TRUE) -> Bajo | H25: 1. Los nuevos empleados se contratan bajo la modalidad de término fijo con contratación y renovación automática a 1 año. 2. Se cuenta con la asesoría de 2 profesionales abogados laboralistas externos para apoyos puntuales 3. Baja rotación laboral, la mayoría de los retiros son voluntarios. | I25: Gerencia y Abogado Externo | J25: Permanente | K25: Preventivo | L25: Alta | M25: 1 | N25: 1 | O25: =VLOOKUP((E25*F25)-(M25*N25),'riesgo inherente-Anexo '!C2:D28,2,TRUE) -> Bajo | P25: Implementar evaluación de desempeño | Q25: N.A. | R25: Baja | S25: Gestor de Riesgos | T25: 44926 | U25: Implementación
A26: 3 - Relaciones laborales | B26: 33 - Discriminación | C26: 331 - Todo tipo de discriminación | D26: No se han efectuado capacitaciones, campañas o formación a los empleados sobre las prácticas prohibidas que constituyen discriminación | E26: 3 | F26: 2 | G26: =VLOOKUP(E26*F26,'riesgo inherente-Anexo '!C4:D28,2,TRUE) -> Moderado | H26: 1. Se cuenta con comité de convivencia laboral. 2. Clima laboral y ambiente de trabajo es excelente sin casos de acoso o discriminación. 3. Capacitación anual sobre prevención del acoso laboral. 4. Paseo anual de integración, fiesta de fin de año, detalle fechas especiales día de la mujer, amor y amistad, dia del padre, dia de la madre | I26: Comité de Convivencia Laboral | J26: Permanente | K26: Preventivo | L26: Alta | M26: 1 | N26: 1 | O26: =VLOOKUP((E26*F26)-(M26*N26),'riesgo inherente-Anexo '!C2:D28,2,TRUE) -> Bajo | P26: No se requiere | Q26: N.A. | R26: Baja | S26: Gestor de Riesgos | T26: 44926 | U26: Implementación
A27: 3 - Relaciones laborales | B27: 34 - Recurso Humano | C27: 341 - Falta de capacitación | D27: No se cuenta con recursos o un plan de capacitación anual para fortalecer y mantener actualizadas las competencias necesarias para el adecuado desempeño en el cargo que tiene asignado | E27: 2 | F27: 3 | G27: =VLOOKUP(E27*F27,'riesgo inherente-Anexo '!C4:D28,2,TRUE) -> Moderado | H27: 1. Capacitación anual en SARLAFT. 2. Capacitación permanente para empleados en relación con su rol a través de seminarios, foros, talleres programados por entidades o asesores expertos. 3. Asesoría y capacitación particular y permanente para la implementación y mantenimiento de los sistemas de riesgo. 4. Se incluye partida de capacitación en el presupuesto a partir de las necesidades que expresa cada área | I27: Comité de Educación y Gerencia | J27: Permanente | K27: Preventivo | L27: Alta | M27: 3 | N27: 1 | O27: =VLOOKUP((E27*F27)-(M27*N27),'riesgo inherente-Anexo '!C2:D28,2,TRUE) -> Bajo | P27: Incluir en el PESEM capacitaciones que mejoren las competencias para sus relaciones con asociados, publico y empleados: servicio al cliente, manejo de conflictos etc. | Q27: comité de educación | R27: Alta | S27: Gestor de Riesgos | T27: 44926 | U27: Implementación
A28: 3 - Relaciones laborales | B28: 34 - Recurso Humano | C28: 342 - Alta rotación de personal | D28: Las malas condiciones de trabajo, el mal clima laboral, situaciones de acoso laboral o sexual, mala remuneración, pocas posibilidades de ascenso, capacitación o crecimiento profesional y personal pueden motivar el retiro constante de empleados | E28: 1 | F28: 3 | G28: =VLOOKUP(E28*F28,'riesgo inherente-Anexo '!C4:D28,2,TRUE) -> Bajo | H28: 1. Buen ambiente laboral. 2. Remuneración ligeramente inferior al sector. 3. Oportunidades de ascenso en la organización. 4. Capacitación permanente. 5. Posibilidad de acceso a los servicios de la Cooperativa 6. Auxilios para educación superior por solicitud individual | I28: Gerencia y Consejo de Administración | J28: Permanente | K28: Preventivo | L28: Alta | M28: 1 | N28: 1 | O28: =VLOOKUP((E28*F28)-(M28*N28),'riesgo inherente-Anexo '!C2:D28,2,TRUE) -> Bajo | P28: No se requiere | Q28: N.A. | R28: Baja | S28: Gestor de Riesgos | T28: 44926 | U28: Implementación
A29: 3 - Relaciones laborales | B29: 34 - Recurso Humano | C29: 343 - Alta temporalidad | D29: Para evitar demandas laborales se contrata personal temporal para atender las actividades misionales de la entidad | E29: 1 | F29: 1 | G29: =VLOOKUP(E29*F29,'riesgo inherente-Anexo '!C4:D28,2,TRUE) -> Bajo | H29: 1. No se tienen trabajadores Temporales. 2. A pesar de que los trabajadores están contratados a término fijo se les renueva permanentemente el contrato y mantienen estabilidad motivo por el cual la gran mayoría de los retiros son voluntarios | I29: Gerencia y Consejo de Administración | J29: Permanente | K29: Preventivo | L29: Alta | M29: 1 | N29: 1 | O29: =VLOOKUP((E29*F29)-(M29*N29),'riesgo inherente-Anexo '!C2:D28,2,TRUE) -> Bajo | P29: No se requiere | Q29: N.A. | R29: Baja | S29: Gestor de Riesgos | T29: 44926 | U29: Implementación
A30: 3 - Relaciones laborales | B30: 34 - Recurso Humano | C30: 344 - Falta de personal | D30: Buscando ahorrar recursos y generar mayores excedentes se sobrecarga de trabajo a los empleados o no se cuenta con planes de contingencia y reemplazo de funcionarios ausentes | E30: 2 | F30: 2 | G30: =VLOOKUP(E30*F30,'riesgo inherente-Anexo '!C4:D28,2,TRUE) -> Bajo | H30: 1. Se asignan horarios y cargas laborales acordes con el cargo, experiencia y responsabilidad. 2. No se presenta trabajo suplementario o por fuera del horario de trabajo de manera excesiva o permanente. 3. Los empleados salen a vacaciones anualmente. 4. Los reemplazos en vacaciones de los empleados son efectuados por un asesor integral u otros funcionarios | I30: Gerencia y Consejo de Administración | J30: Permanente | K30: Preventivo | L30: Alta | M30: 5 | N30: 1 | O30: =VLOOKUP((E30*F30)-(M30*N30),'riesgo inherente-Anexo '!C2:D28,2,TRUE) -> Bajo | P30: Evaluar posibilidad de contar con un segundo asesor integral para reemplazos temporales (incapacidad, vacaciones) | Q30: Gerencia | R30: Alta | S30: Gestor de Riesgos | T30: 44926 | U30: Implementación
A31: 3 - Relaciones laborales | B31: 34 - Recurso Humano | C31: 345 - Pérdida de talento | D31: Las malas condiciones de trabajo, el mal clima laboral, situaciones de acoso laboral o sexual, mala remuneración, pocas posibilidades de ascenso, capacitación o crecimiento profesional y personal pueden motivar el retiro constante de empleados | E31: 1 | F31: 1 | G31: =VLOOKUP(E31*F31,'riesgo inherente-Anexo '!C4:D28,2,TRUE) -> Bajo | H31: 1. Buen ambiente laboral. 2. Remuneración relativamente acorde con lo observado en la Plaza. 3. Oportunidades de ascenso en la organización. 4. Capacitación permanente. 5. Oportunidades de mejora constante para empleados que presentan bajo desempeño en algún area. 6. Posibilidad de acceso a los servicios de la Cooperativa. 7. No existe una gran cantidad de entidades solidarias en el domicilio y area de infliencia de la cooperativa de tamaño similar o superior a la Cooperativa | I31: Gerencia y Consejo de Administración | J31: Permanente | K31: Preventivo | L31: Alta | M31: 5 | N31: 1 | O31: =VLOOKUP((E31*F31)-(M31*N31),'riesgo inherente-Anexo '!C2:D28,2,TRUE) -> Bajo | P31: No se requiere | Q31: N.A. | R31: Baja | S31: Gestor de Riesgos | T31: 44926 | U31: Implementación
A32: 4 - Asociados o Clientes | B32: 41 - Adecuación, divulgación de información y confianza | C32: 411 - Incumplimiento de pautas, abuso de confianza | D32: Relaciones indebidas de funcionarios con asociados tales como relaciones sentimentales o venta de rifas a los asociados, recibo de regalos o similares por parte de los asociados y prácticas de los funcionarios que buscan obtener cualquier tipo de favor indebido de los asociados a cambio de beneficios o privilegios en su atención | E32: 3 | F32: 3 | G32: =VLOOKUP(E32*F32,'riesgo inherente-Anexo '!C4:D28,2,TRUE) -> Moderado | H32: 1. El código de ética y reglamento de trabaja establece pautas de comportamiento adecuado y limite en la relaciones con los asociados, proveedores otros empleados y contrapartes donde se establecen prohibiciones específicas como recibir sobornos, dádivas o similares a cambio de privilegio alguno en los servicios o negociaciones 2. Segregación de funciones e independencia funcional entre personas que atienden los asociados y quienes fijan las condiciones de los productos y autorizan las operaciones o analizan los riesgos 3. Operaciones de directivos y empleados pasan siempre a Consejo y no pueden servir de codeudores de créditos 4. Poliza de Manejo Global | I32: Gerencia | J32: Permanente | K32: Preventivo | L32: Alta | M32: 5 | N32: 3 | O32: =VLOOKUP((E32*F32)-(M32*N32),'riesgo inherente-Anexo '!C2:D28,2,TRUE) -> Bajo | P32: Difundir y capacitar empleados y directivos sobre revelación y restricción de operaciones que impliquen conflicto de interés (operaciones con familiares) - Revelar operaciones con familiares de empleados | R32: Baja | S32: Gestor de Riesgos | T32: 44926 | U32: Implementación
A33: 4 - Asociados o Clientes | B33: 41 - Adecuación, divulgación de información y confianza | C33: 412 - Aspectos de adecuación, divulgación de la información | D33: No existen mecanismos de publicidad y difusión de información sobre los resultados, deberes, derechos, servicios, planes y proyectos de la entidad para conocimiento de los asociados y del publico en general | E33: 1 | F33: 1 | G33: =VLOOKUP(E33*F33,'riesgo inherente-Anexo '!C4:D28,2,TRUE) -> Bajo | H33: 1. Se entrega plan de pagos al asociado en los desembolsos y previamente se informa las condiciones del crédito. 2. El reglamento de crédito y condiciones se encuentran en la página WEB 3. Tasas activas y pasivas están publicadas en términos efectivos anuales. 4. Página WEB contiene toda la información del Régimen Tributario Especial, así como los reglamentos, miembros de los órganos de adminsitración y control 5. Los horarios están publicados en las puertas de acceso 6. Capacitación mensual con nuevos asociados para inducción: cooperativismo, deberes y derechos, servicios, comunicación, capacitación, participación. | I33: Operador de Sistemas y Comité de Medios | J33: Permanente | K33: Preventivo | L33: Alta | M33: 1 | N33: 1 | O33: =VLOOKUP((E33*F33)-(M33*N33),'riesgo inherente-Anexo '!C2:D28,2,TRUE) -> Bajo | P33: No se requiere | Q33: N.A. | R33: Baja | S33: Gestor de Riesgos | T33: 44926 | U33: Implementación
A34: 4 - Asociados o Clientes | B34: 41 - Adecuación, divulgación de información y confianza | C34: 413 - Violar la privacidad de información sobre clientes minoristas | D34: No existen controles para extraer datos personales de los asociados, proveedores, empleados y terceros en las bases de datos de la entidad o falta capacitación sobre el Habeas Data a los empleados | E34: 1 | F34: 1 | G34: =VLOOKUP(E34*F34,'riesgo inherente-Anexo '!C4:D28,2,TRUE) -> Bajo | H34: 1. Archivo de expedientes de asociados bajo responsabilidad de un empleado y el acceso requiere solicitud escrita. Se hace arqueo de expedientes. 2. Prohibición a empleados de revelar o entregar información a personas diferentes del asociado. 3. En la política de tratamiento de datos y código de ética está la obligación de tratamiento confidencial de información reservada o sensible. | I34: Operador de Archivo | J34: Permanente | K34: Preventivo | L34: Alta | M34: 1 | N34: 1 | O34: =VLOOKUP((E34*F34)-(M34*N34),'riesgo inherente-Anexo '!C2:D28,2,TRUE) -> Bajo | P34: Capacitacion en gestión documental del responsable de Archivo | Q34: Operador de Archivo | R34: Baja | S34: Gestor de Riesgos | T34: 44926 | U34: Implementación
A35: 4 - Asociados o Clientes | B35: 41 - Adecuación, divulgación de información y confianza | C35: 414 - Otra violación de privacidad | D35: Se sustraen o comparten sin autorización bases de datos para venderlas a terceros con fines económicos comerciales o criminales | E35: 2 | F35: 3 | G35: =VLOOKUP(E35*F35,'riesgo inherente-Anexo '!C4:D28,2,TRUE) -> Moderado | H35: 1. Perfiles de usuario para acceso a los aplicativos según funciones y niveles de responsabilidad (Perfil autoriza usuarios y sistemas parametriza). 2. Usuarios limitados para uso de dispositivos USB 3. Oficial de protección de DATOS. 4. Cifrado de archivos y contraseñas que contienen información sensible para ser compartida o enviada 5. Actas de confidencialidad con externos. | I35: Sistemas | J35: Permanente | K35: Preventivo | L35: Alta | M35: 1 | N35: 1 | O35: =VLOOKUP((E35*F35)-(M35*N35),'riesgo inherente-Anexo '!C2:D28,2,TRUE) -> Bajo | P35: Evaluar que controles son posibles establecer para prevenir una sustracción indebida de datos de los asociados | Q35: Operador de Sistemas | R35: Alta | S35: Gestor de Riesgos | T35: 44926 | U35: Implementación
A36: 4 - Asociados o Clientes | B36: 41 - Adecuación, divulgación de información y confianza | C36: 415 - Ventas/Colocaciones agresivas | D36: Las metas comerciales son muy altas y las consecuencias de no lograrlas pueden afectar materialmente el ingreso de los funcionarios o la continuidad de su trabajo | E36: 1 | F36: 1 | G36: =VLOOKUP(E36*F36,'riesgo inherente-Anexo '!C4:D28,2,TRUE) -> Bajo | H36: 1. Por reglamento un asociado solo puede tener dos lineas de crédito o servir de codeudor a dos personas. 2. Metas comerciales alcanzables se les hace seguimiento pero no se generan presiones que promuevan malas prácticas comerciales 3. Empleados del area comercial tienen ingresos fijos 4. Comisiones o estimulos por logro de metas comerciales no son representativos frente a los ingresos laborales deventados | I36: Jefe de Servicios Financieros | J36: Permanente | K36: Preventivo | L36: Alta | M36: 1 | N36: 1 | O36: =VLOOKUP((E36*F36)-(M36*N36),'riesgo inherente-Anexo '!C2:D28,2,TRUE) -> Bajo | P36: No se requiere | Q36: N.A. | R36: Baja | S36: Gestor de Riesgos | T36: 44926 | U36: Implementación
A37: 4 - Asociados o Clientes | B37: 41 - Adecuación, divulgación de información y confianza | C37: 416 - Confusión de cuentas | D37: El sistema no cuenta con mecanismos de validación de identidad y los empleados no están adecuadamente preparados - capacitados para la veriicación de la entidad | E37: 1 | F37: 1 | G37: =VLOOKUP(E37*F37,'riesgo inherente-Anexo '!C4:D28,2,TRUE) -> Bajo | H37: 1. Verificación diaria de todas las operaciones de caja. 2. Verificación de identidad en operaciones 3. Notas por transferencia o consignación a través de red bancaria son revisadas por Jefe de Crédito y aprobadas por Jefe de Servicios Financieros. 4. SMS masivos en convenio VISIONAMOS para cartera en mora con autorización de gerencia 5. Verificación de saldos en linea para asociados bajo responsabilidad de LINIX, notificaciones automáticas por movimiento de Tarjeta Débito | I37: Auxiliar de oficina, Jefe de Servicios Financieros y operador de sistemas | J37: Permanente | K37: Preventivo | L37: Alta | M37: 1 | N37: 1 | O37: =VLOOKUP((E37*F37)-(M37*N37),'riesgo inherente-Anexo '!C2:D28,2,TRUE) -> Bajo | P37: No se requiere | Q37: N.A. | R37: Alta | S37: Gestor de Riesgos | T37: 44926 | U37: Implementación
A38: 4 - Asociados o Clientes | B38: 41 - Adecuación, divulgación de información y confianza | C38: 417 - Información confidencial | D38: Se sustraen o comparten sin autorización bases de datos para venderlas a terceros con fines económicos comerciales o criminales | E38: 1 | F38: 1 | G38: =VLOOKUP(E38*F38,'riesgo inherente-Anexo '!C4:D28,2,TRUE) -> Bajo | H38: 1. Auditoría custodia actas de: Asamblea, Consejo, Junta. 2. Revisión de Actas de manera digital para uso interno y física al interior de la Cooperativa 3. Compromiso de confidencialidad frente a información de actas por parte de la Junta de vigilancia. 4. Contabilidad conserva informacion contable y archivo inactivo con acceso restringido bajo llave. 5. Analista de crédito custodia actas de creditos y la Jefe de Crédito las de riesgos, foliadas, bajo llave, con firma de oficial de cumplimiento. Solo se revisan fisicamente sin copias fisicas o digitales | I38: Auditoría y Jefe de crédito | J38: Permanente | K38: Preventivo | L38: Alta | M38: 1 | N38: 1 | O38: =VLOOKUP((E38*F38)-(M38*N38),'riesgo inherente-Anexo '!C2:D28,2,TRUE) -> Bajo | P38: Para la entrega de documentos digitales de actas o contables establecer claves de acceso al documento | Q38: Auditoría | R38: Alta | S38: Gestor de Riesgos | T38: 44926 | U38: Implementación
A39: 4 - Asociados o Clientes | B39: 42 - Prácticas empresariales o de mercado improcedentes | C39: 421 - Prácticas restrictivas de la competencia | D39: Se busca afectar a los competidores condicionando a los usuarios de los servicios a no tomar los servicios de otros oferentes del mercado como por ejemplo para obtener un crédito debe retirarse de otra cooperativa | E39: 1 | F39: 1 | G39: =VLOOKUP(E39*F39,'riesgo inherente-Anexo '!C4:D28,2,TRUE) -> Bajo | H39: 1. Los reglamentos y estatutos no impiden que los asociados puedan ser asociados o clientes de otras entidades. 2. Las condiciones de los productos son de mercado. 3. En las compras de cartera que se hacen la Cooperativa simplemente verifica que el pago se haga a la entidad acreedora del asociado. 4. No existen trabas, costos, penalidades o impedimentos para que los asociados efectúen pagos anticipados de sus créditos parciales o totales o para la expedición de certificaciones de saldos. | I39: Consejo de Administración | J39: Permanente | K39: Preventivo | L39: Alta | M39: 1 | N39: 1 | O39: =VLOOKUP((E39*F39)-(M39*N39),'riesgo inherente-Anexo '!C2:D28,2,TRUE) -> Bajo | P39: No se requiere | Q39: N.A. | R39: Baja | S39: Gestor de Riesgos | T39: 44926 | U39: Implementación
A40: 4 - Asociados o Clientes | B40: 42 - Prácticas empresariales o de mercado improcedentes | C40: 422 - Prácticas comerciales o de mercadeo improcedentes | D40: Difamación o comentarios negativos infundados, tendenciosos o que faltan a la verdad sobre otras entidades que son competencia | E40: 1 | F40: 1 | G40: =VLOOKUP(E40*F40,'riesgo inherente-Anexo '!C4:D28,2,TRUE) -> Bajo | H40: 1. Asesores comerciales a empresas para convenios de libranzas o visitas a personas naturales sin incentivos diferentes al porfafolio de servicios. 2. Programas de Referidos 3. Los asesores comerciales devengan mayoritariamente sus ingresos laborales de manera fija de tal forma que no se incentivan desde la administración prácticas indebidas 4. No se acepta el pago de comisiones, sobornos o dádivas para ser favorecidos en ninguna negociación como por ejemplo CONVENIOS DE LIBRANZA | I40: Consejo de Administración | J40: Permanente | K40: Preventivo | L40: Alta | M40: 1 | N40: 1 | O40: =VLOOKUP((E40*F40)-(M40*N40),'riesgo inherente-Anexo '!C2:D28,2,TRUE) -> Bajo | P40: No se requiere | Q40: N.A. | R40: Baja | S40: Gestor de Riesgos | T40: 44926 | U40: Implementación
...

Sheet Plan de Continuidad
A1: EVENTO | B1: DESCRIPCION ESTADO ACTUAL | C1: ACTIVIDADES A REALIZAR PARA RECUPERAR EL SERVICIO | D1: RESPONSABLE DE EJECUTAR EL PLAN | E1: TAREAS PENDIENTE DE REALIZAR | F1: TIEMPO DE RECUPERACIÓN | G1: MEJORAS AL SERVICIO
A2: INTERNET | B2: El canal principal es en FIBRA OPTICA y se tiene un canal para contigencias de BANDA ANCHA con otra empresa diferente. | C2: En caso de que se caiga la conexión por FIBRA OPTICA, se conecta automáticamente el CANAL de BANDA ANCHA. | D2: Automático. Asistente de Gerencia | E2: Ninguna | F2: Inmediato | G2: Ninguna
A3: SWICHT | B3: CAJA UNION cuenta con dos equipos para esta función y un equipo de respaldo en caso de falla | C3: Si falla un equipo, se procede a la instalación inmediata del respaldo. El tiempo aproximado del reemplazo es 10 minutos. | D3: Asistente de Gerencia y Gerente. Ambos técnicos en sistemas y redes | E3: Ninguna | F3: 10 minutos | G3: Ninguna
A4: ENERGIA | B4: Se cuenta con UPS | C4: La UPS soporta hasta 2 horas de funcionamiento sin energía | D4: Automático. Asistente de Gerencia | E4: Ninguna | F4: AUTOMATICO
A5: DESTRUCCION DE LAS OFICINAS (incendio, terremoto, terrorismo, asonada) | B5: La oficina es arrendada localizada en el Centro de Cúcuta (Norte de Santander) a dos cuadras de la Avenida CERO. El municipio es de bajo riesgo en orden público, sísmico y de inundaciones y cuenta con alarmas contra incendio. CAJA UNION es miembro de la red COOPCENTRAL lo que significa que los asociados pueden hacer sus transacciones en cualquiera de las casi 500 oficinas que forman parte de la RED | C5: FASE I: el Gerente con uno o dos empleados más puede conectarse con sus equipos portátiles a la RED para efectuar pagos y transferencias (retiros de ahorros o desembolsos). Aquellos que no tengan cuenta bancaria se les podrá girar cheque. FASE II: Arrendar LOCAL COMERCIAL y efectuar las adecuaciones físicas necesarias para los puestos de trabajo prioritarios de servicio CAJAS, la red (contratista usual) y los equipos (se compran). La información está en la "NUBE". Se requiere hacer publicidad para informar del evento y nuevo lugar de trabajo. | D5: Gerencia y Asitente de Gerencia | E5: Lograr que la mayoria de los asociados cuente con Tarjeta Débito para disponer de sus recursos a través de la red de cajeros automáticos o pago directo | F5: FASE I: 2 horas / FASE II: 48 horas. En caso de terremoto, la Fase I podría tardarse 48 horas y la Fase II una semana. | G5: Implementar CORRSPONSALES BANCARIOS e informar a todos los asociados las entidades que integral la RED Coopcentral
A6: FALLO DE EQUIPOS por daño físico | B6: Los equipos son propios (computadores, impresoras, telefonos) y tienen plan de mantenimiento, seguros. Se reponen por obsolescencia o daño. Se tiene sistema a tierra para evitar quema masiva por rayo | C6: Se cuenta con dos equipos portátiles de contingencia para atender daños imprevistos. | D6: Asistente de Gerencia y Gerente. Ambos técnicos en sistemas y redes | E6: Ninguna | F6: Inmediato | G6: Ninguna
A7: TELEFONO | B7: Se cuenta con 4 lineas FIJAS y 4 Celulares | C7: La lineas FIJAS son con la unica empresa que opera en el Municipio y las celulares con CLARO en caso de falla de las fijas se recurre a los telefonos celulares CLARO corporativos y los personales. En caso de que los celulares corporativos fallen, se tendría que comprar o habilitar un servicio con otro proveedor en los telefonos celulares personales | D7: Asistente de Gerencia | E7: Ninguna | F7: Inmediato | G7: Ninguna
A8: DATOS DE USUARIO y APLICATIVO | B8: La información de cada usuario se almacena en su equipos de computo y este a su vez se le efectúa backup en el SERVIDOR DE DOMINIO. La información informacion del aplicativo está en la NUBE en Datacenter replicado en otros 2 servidores, uno fuera del país. Se cuenta con seguridad contra ataques informáticos y captura de información por sofware malicioso | C8: Solicitar al Asistente de Gerencia el descargue de la información requerida del Backup. | D8: Asistente de Gerencia | E8: Automatizar backup de archivos de trabajo de usuarios en la NUBE o dispositivo fuera de las instalaciones de la Cooperativa | F8: 5 minutos | G8: Manejar toda la información laboral en una sola carpeta, que no este en mis documentos o el escritorio, ubicaciones mas vulnerables a perdida de información.
A9: PERSONAL CLAVE DE LA GERENCIA | B9: El gerente y asistente de Gerencia tienen firmas registradas en Bancos y la Secretaria de Gerencia es Representante Legal Suplente | C9: En caso de ausencia por cualquier motivo del personal CLAVE de la GERENCIA existen personas con firmas y atribuciones que permiten que la Cooperativa continue operando bajo condiciones normales. En caso de ausencia del Contador la Cooperativa no se paraliza y el Gerente está en capacidad de reemplazarlo temporalmente. | D9: Gerencia y Asitente de Gerencia | E9: Ninguna | F9: Inmediato | G9: Ninguna
B13: ELABORO | C13: APROBO
B17: FIRMA Y NOMBRE | C17: FIRMA Y NOMBRE

Sheet riesgo inherente-Anexo 
A1: Proabilidad | B1: Severidad | C1: SCORE | D1: Riesgo Inherente | F1: Riesgo Inherente | G1: Frecuencia Control | H1: Tipo de Control | I1: Efectividad | J1: Estado Implementación
A2: 0 | B2: 0 | C2: -999 | D2: Bajo | F2: Bajo | G2: Permanente | H2: Detectivo | I2: Alta | J2: Planeación
A3: 0 | B3: 1 | C3: 0 | D3: Bajo | F3: Moderado | G3: Periódico | H3: Preventivo | I3: Media | J3: Diseño
A4: 1 | B4: 1 | C4: =+A4*B4 -> 1 | D4: Bajo | F4: Alto | G4: Esporádico | I4: Baja | J4: Pruebas
A5: 2 | B5: 1 | C5: =+A5*B5 -> 2 | D5: Bajo | F5: Crítico | G5: Anual | J5: Implementación
A6: 1 | B6: 2 | C6: =+A6*B6 -> 2 | D6: Bajo | G6: Unica | J6: Funcionamiento
A7: 3 | B7: 1 | C7: =+A7*B7 -> 3 | D7: Bajo
A8: 1 | B8: 3 | C8: =+A8*B8 -> 3 | D8: Bajo
A9: 4 | B9: 1 | C9: =+A9*B9 -> 4 | D9: Bajo
A10: 2 | B10: 2 | C10: =+A10*B10 -> 4 | D10: Bajo
A11: 1 | B11: 4 | C11: =+A11*B11 -> 4 | D11: Bajo
A12: 5 | B12: 1 | C12: =+A12*B12 -> 5 | D12: Bajo
A13: 1 | B13: 5 | C13: =+A13*B13 -> 5 | D13: Bajo
A14: 3 | B14: 2 | C14: =+A14*B14 -> 6 | D14: Moderado
A15: 2 | B15: 3 | C15: =+A15*B15 -> 6 | D15: Moderado
A16: 4 | B16: 2 | C16: =+A16*B16 -> 8 | D16: Moderado
A17: 2 | B17: 4 | C17: =+A17*B17 -> 8 | D17: Moderado
A18: 3 | B18: 3 | C18: =+A18*B18 -> 9 | D18: Moderado
... A28: 5 | B28: 5 | C28: =+A28*B28 -> 25 | D28: Crítico

Sheet Codificacion
A1: Factores de Riesgo | B1: Cod | C1: Categorías de Riesgos | D1: Cod | E1: Macroprocesos
A2: Fraude Interno | B2: 1 | C2: Fraude Interno | D2: 1 | E2: Gestion Gerencial
A3: Fraude Externo | B3: 2 | C3: Fraude Externo | D3: 2 | E3: Vinculación
A4: Relaciones Laborales | B4: 3 | C4: Relaciones Laborales | D4: 3 | E4: Crédito
A5: Asociados o clientes | B5: 4 | C5: Asociados o clientes | D5: 4 | E5: Ahorro
A6: Daños a Activos Físicos | B6: 5 | C6: Daños a Activos Físicos | D6: 5 | E6: Fondos Sociales y Bienestar
A7: Fallas Tecnologicas | B7: 6 | C7: Fallas Tecnologicas | D7: 6 | E7: Talento Humano
A8: Ejecución y Administración de Procesos | B8: 7 | C8: Ejecución y Administración de Procesos | D8: 7 | E8: Contabilidad y Gestion Administrativa
G10: Base Año 2021
B11: PROBABILIDAD | E11: IMPACTO | F11: % de los ingresos ordinarios anuales sin recuperaciones | G11: Desde | H11: Hasta
A12: 1 | B12: 1. Improbable | E12: 1. Bajo | F12: Hasta 0,5% | G12: 0 | H12: 28704496
A13: 2 | B13: 2. Raro | E13: 2. Menor | F13: >0,5% hasta 1% | G13: 28704496 | H13: 57408993
A14: 3 | B14: 3. Potencia | E14: 3. Moderado | F14: >1% hasta 3% | G14: 57408993 | H14: 1.7222698e+08
A15: 4 | B15: 4. Probable | E15: 4. Mayor | F15: >3% hasta 10% | G15: 1.7222698e+08 | H15: 5.7408993e+08
A16: 5 | B16: 5. Casi Certeza | E16: 5. Catastrófico | F16: >10% | G16: 5.7408993e+08 | H16: 5.7408993e+09
