Workbook
Name ___nit1: #REF!
Name __nit1: #REF!
Name _nit1: #REF!
Name A_impresión_IM: #REF!
Name A_impresión_IM: #REF!
Name aaa: MATCH(0.01,End_Bal,-1)+1
Name agencias: [1]Listas!$U$2:$U$10
Name agencias: [2]Listas!$U$2:$U$10
Name avvillas: #REF!
Name BANCOS: [3]BANCOS!$A$2:$A$25
Name BASE_DATOS_ESTUDIO_CRED: #REF!
Name Beg_Bal: #REF!
Name cartera: #REF!
Name clientes: #REF!
Name clientes: #REF!
Name COD_REPRES: #N/A
Name contador1: 5
Name contador2: 5
Name Data: #REF!
Name depositos: #REF!
Name depositos: #REF!
Name DINERS: #REF!
Name End_Bal: #REF!
Name Extra_Pay: #REF!
Name FECHA: #REF!
Name FECHA: #REF!
Name Full_Print: #REF!
Name Header_Row: ROW(#REF!)
Name Int: #REF!
Name Interest_Rate: #REF!
Name ITEM: #REF!
Name Last_Row: IF([4]COOADAMS!Values_Entered,Header_Row+[4]COOADAMS!Number_of_Payments,Header_Row)
Name Lista: {1,2,3,4;5,6,7,8;9,10,11,12;13,14,15,16}
Name Loan_Amount: #REF!
Name Loan_Start: #REF!
Name Loan_Years: #REF!
Name MONITOR: #REF!
Name MONITOR_AVVILLAS: #REF!
Name Net_Income: #REF!
Name NetIncomeGrowth: #REF!
Name nits: #REF!
Name NOMBRE: [5]ESTUDIO!$L$6
Name NombreRango1: #REF!
Name NombreRango1: #REF!
Name NOMINA: [5]ESTUDIO!$AE$107
Name Num_Pmt_Per_Year: #REF!
Name Number_of_Payments: MATCH(0.01,End_Bal,-1)+1
Name Other_Growth: #REF!
Name Pay_Date: #REF!
Name Pay_Num: #REF!
Name Payment_Date: DATE(YEAR(Loan_Start),MONTH(Loan_Start)+Payment_Number,DAY(Loan_Start))
Name Play: 656277505
Name Princ: #REF!
Name Print_Area_Reset: OFFSET(Full_Print,0,0,Last_Row)
Name Rand1: #REF!
Name Rand2: #REF!
Name RangoBeneficiosNetos: [6]DatosResumen!$B$9:$B$19,[6]DatosResumen!$D$9:$D$19
Name Retail_Growth: #REF!
Name Revenue: #REF!
Name RevenueGrowth: #REF!

Sheet PARÁMETROS
A1: VARIABLES | B1: Año 22 | C1: Año 23 | D1: Año 24 | E1: Año 25 | F1: Año 26 | G1: Año 27 | H1: Año 28 | I1: Año 29 | J1: Año 30 | K1: Año 31 | L1: Año 32 | M1: Año 32
A2: Inflación | B2: 0.11 | C2: 0.08 | D2: 0.06 | E2: 0.04 | F2: 0.04 | G2: 0.035 | H2: =+G2 -> 0.035
A3: Reajuste gastos | C3: =+B2 -> 0.11 | D3: =+C2 -> 0.08 | E3: =+D2 -> 0.06 | F3: =+E2 -> 0.04 | G3: =+F2 -> 0.04 | H3: =+G2 -> 0.035
A4: Crecimiento Desembolsos (IPC + Variación Base Social) | C4: 0 | D4: =+C2*2 -> 0.16 | E4: =+D2*2 -> 0.12 | F4: =+E2*2 -> 0.08 | G4: =+F2*2 -> 0.08 | H4: =+G2*2 -> 0.07
A5: % Cartera improductiva | C5: 0.03 | D5: =+C5 -> 0.03 | E5: =+D5 -> 0.03 | F5: =+E5 -> 0.03 | G5: =+F5 -> 0.03 | H5: =+G5 -> 0.03
A6: % Refinanciación | C6: 0.1 | D6: =+C6 -> 0.1 | E6: =+D6 -> 0.1 | F6: =+E6 -> 0.1 | G6: =+F6 -> 0.1 | H6: =+G6 -> 0.1
A7: Vida util PPE | C7: 36 | D7: =+C7 -> 36 | E7: =+D7 -> 36 | F7: =+E7 -> 36 | G7: =+F7 -> 36 | H7: =+G7 -> 36
A8: Provision General | B8: 0.01 | C8: =+B8 -> 0.01 | D8: =+C8 -> 0.01 | E8: =+D8 -> 0.01 | F8: =+E8+0.1% -> 0.011 | G8: =+F8+0.1% -> 0.012 | H8: =+G8+0.1% -> 0.013
A9: Siniestralidad | B9: 0.01 | C9: =+C8 -> 0.01 | D9: =+D8 -> 0.01 | E9: =+E8 -> 0.01 | F9: =+F8 -> 0.011 | G9: =+G8 -> 0.012 | H9: =+H8 -> 0.013
A10: IBR | B10: 0.11 | C10: 0.1 | D10: 0.09 | E10: 0.08 | F10: 0.06 | G10: =+G2+1% -> 0.045 | H10: =+H2+1% -> 0.045
A11: Tasa Ahorro Permanente (Inflacion año ant) | B11: 0.0562 | C11: =+B2 -> 0.11 | D11: =+C2 -> 0.08 | E11: =+D2 -> 0.06 | F11: =+E2 -> 0.04 | G11: =+F2 -> 0.04 | H11: =+G2 -> 0.035
A12: Tasa ahorro contractual | B12: 0.04 | C12: =+B12 -> 0.04 | D12: =+C12 -> 0.04 | E12: =+D12 -> 0.04 | F12: =+E12 -> 0.04 | G12: =+F12 -> 0.04 | H12: =+G12 -> 0.04
A13: Tasa CDAT | B13: 0.06 | C13: 0.09 | D13: 0.08 | E13: 0.07 | F13: =+F10 -> 0.06 | G13: 0.05 | H13: =+H10 -> 0.045
A14: Tasa Obligaciones Financieras DTF+ 4 | B14: =+B10+4% -> 0.15 | C14: =+C10+4% -> 0.14 | D14: =+D10+4% -> 0.13 | E14: =+E10+4% -> 0.12 | F14: =+F10+4% -> 0.1 | G14: =+G10+4% -> 0.085 | H14: =+H10+4% -> 0.085
A15: % asociados con ahorro vista | B15: 0 | C15: =+B15 -> 0 | D15: =+C15 -> 0 | E15: =+D15 -> 0 | F15: =+E15 -> 0 | G15: =+F15 -> 0 | H15: =+G15 -> 0
A16: % asociados con ahorro contractual | B16: 0.25 | C16: =+B16 -> 0.25 | D16: =+C16 -> 0.25 | E16: =+D16 -> 0.25 | F16: =+E16 -> 0.25 | G16: =+F16 -> 0.25 | H16: =+G16 -> 0.25
A17: # Aperturas mensuales CDATs / Base Social | B17: 0.001 | C17: =+B17 -> 0.001 | D17: =+C17 -> 0.001 | E17: =+D17 -> 0.001 | F17: =+E17 -> 0.001 | G17: =+F17 -> 0.001 | H17: =+G17 -> 0.001
A18: % Asociados con ahorro Permanente | B18: 1 | C18: 1 | D18: 1 | E18: 1 | F18: 1 | G18: 1 | H18: 1
A19: Salario Mínimo (pesos) | B19: 1000000 | C19: 1150000 | D19: =+C19*(1+(C2+1.5%)) -> 1259250 | E19: =+D19*(1+(D2+1.5%)) -> 1353693.8 | F19: =+E19*(1+(E2+1.5%)) -> 1428146.9 | G19: =+F19*(1+(F2+1.5%)) -> 1506695 | H19: =+G19*(1+(G2+1.5%)) -> 1582029.7
A20: Prom. Individual de Aporte Mensual | B20: 83000 | C20: =+B$20*(1+B2) -> 92130 | D20: =+C$20*(1+C2) -> 99500.4 | E20: =+D$20*(1+D2) -> 105470.42 | F20: =+E$20*(1+E2) -> 109689.24 | G20: =+F$20*(1+F2) -> 114076.81 | H20: =+G$20*(1+G2) -> 118069.5
A21: Prom. Indiv. Fondo mutual | B21: 0 | C21: 0 | D21: 0 | E21: 0 | F21: 0 | G21: 0 | H21: 0
A22: Prom. Indiv. Ahorro Vista | B22: 0 | C22: 0 | D22: 0 | E22: 0 | F22: 0 | G22: 0 | H22: 0
A23: Prom. Indiv. Ahorro Contractual | B23: =+B20*2 -> 166000 | C23: =+C20*2 -> 184260 | D23: =+D20*2 -> 199000.8 | E23: =+E20*2 -> 210940.85 | F23: =+F20*2 -> 219378.48 | G23: =+G20*2 -> 228153.62 | H23: =+H20*2 -> 236139
A24: Prom. Indiv. CDAT (sin extremos) | B24: =+B19*20 -> 20000000 | C24: =+C19*20 -> 23000000 | D24: =+D19*20 -> 25185000 | E24: =+E19*20 -> 27073875 | F24: =+F19*20 -> 28562938 | G24: =+G19*20 -> 30133900 | H24: =+H19*20 -> 31640595
A25: Saldo inicial asociados | C25: 1600 | D25: =+C28 -> 1540 | E25: =+D28 -> 1528 | F25: =+E28 -> 1552 | G25: =+F28 -> 1612 | H25: =+G28 -> 1708
A26: Ingreso anual de Asociados | C26: 600 | D26: =+C26+24 -> 624 | E26: =+D26+24 -> 648 | F26: =+E26+24 -> 672 | G26: =+F26+24 -> 696 | H26: =+G26+24 -> 720
A27: Retiro Anual de asociados | C27: =55*12 -> 660 | D27: =+C27-24 -> 636 | E27: =+D27-12 -> 624 | F27: =+E27-12 -> 612 | G27: =+F27-12 -> 600 | H27: =+G27-12 -> 588
A28: Asociados al cierre del Año | C28: =+C25+C26-C27 -> 1540 | D28: =+D25+D26-D27 -> 1528 | E28: =+E25+E26-E27 -> 1552 | F28: =+F25+F26-F27 -> 1612 | G28: =+G25+G26-G27 -> 1708 | H28: =+H25+H26-H27 -> 1840
A29: % Habilidad | B29: 1 | C29: 1 | D29: 1 | E29: 1 | F29: 1 | G29: 1 | H29: 1
A30: Aportes Fondo Mutual | B30: =+B19*0.7% -> 7000 | C30: =+C19*0.7% -> 8050 | D30: =+D19*0.7% -> 8814.75 | E30: =+E19*0.7% -> 9475.8562 | F30: =+F19*0.7% -> 9997.0283 | G30: =+G19*0.7% -> 10546.865 | H30: =+H19*0.7% -> 11074.208
A31: Cuota de admisión | B31: 0 | C31: 0 | D31: 0 | E31: 0 | F31: 0 | G31: 0 | H31: 0
A32: Compra Activos Fijos y Software | B32: =+B19*20 -> 20000000 | C32: =+C19*20 -> 23000000 | D32: =+D19*20 -> 25185000 | E32: =+E19*20 -> 27073875 | F32: =+F19*20 -> 28562938 | G32: =+G19*20 -> 30133900 | H32: =+H19*20 -> 31640595
A33: Compras Cartera y Abonos Extraordinarios | B33: =+B19*20 -> 20000000 | C33: =+C19*20 -> 23000000 | D33: =+D19*20 -> 25185000 | E33: =+E19*20 -> 27073875 | F33: =+F19*20 -> 28562938 | G33: =+G19*20 -> 30133900 | H33: =+H19*20 -> 31640595
A34: Liquidación Promedio ex - asociados | B34: =+B19 -> 1000000 | C34: =+C19 -> 1150000 | D34: =+D19 -> 1259250 | E34: =+E19 -> 1353693.8 | F34: =+F19 -> 1428146.9 | G34: =+G19 -> 1506695 | H34: =+H19 -> 1582029.7
A35: Aportes cruzados con cartera | B35: 0.5 | C35: =+B35 -> 0.5 | D35: =+C35 -> 0.5 | E35: =+D35 -> 0.5 | F35: =+E35 -> 0.5 | G35: =+F35 -> 0.5 | H35: =+G35 -> 0.5
A36: Crecim. Gastos Generales IPC + 50% crecim base social | C36: 0 | D36: 0 | E36: 0 | F36: 0 | G36: 0 | H36: 0
C39: TASAS DE CREDITO
A40: LINEA | B40: Año 2022 | C40: =+C1 -> Año 23 | D40: =+D1 -> Año 24 | E40: =+E1 -> Año 25 | F40: =+F1 -> Año 26 | G40: =+G1 -> Año 27 | H40: =+H1 -> Año 28
A41: LINEA 1 | B41: 0.012 | C41: 0.0125 | D41: 0.0135 | E41: =+D41 -> 0.0135 | F41: =+E41 -> 0.0135 | G41: =+F41 -> 0.0135 | H41: =+G41 -> 0.0135
A42: LINEA 2 | B42: =+B41 -> 0.012 | C42: =+C41 -> 0.0125 | D42: =+D41 -> 0.0135 | E42: =+E41 -> 0.0135 | F42: =+F41 -> 0.0135 | G42: =+G41 -> 0.0135 | H42: =+H41 -> 0.0135
...

Sheet EF. Anuales
A1: SITUACION FCIERA | B1: 43070 | C1: 43435 | D1: 43800 | E1: 44166 | F1: 44531 | G1: 44805 | H1: 44896 | I1: =EOMONTH(H1,12) -> 45291 | J1: =EOMONTH(I1,12) -> 45657 | K1: =EOMONTH(J1,12) -> 46022 | L1: =EOMONTH(K1,12) -> 46387 | M1: =EOMONTH(L1,12) -> 46752
A2: Efectivo y Eq NETO | B2: =+CUC!C4+CUC!C32+CUC!C559-CUC!C816-CUC!C939-B3-B4 -> 5.8458268e+08 | C2: =+CUC!D4+CUC!D32+CUC!D559-CUC!D816-CUC!D939-C3-C4 -> 5.9951969e+08 | D2: =+CUC!E4+CUC!E32+CUC!E559-CUC!E816-CUC!E939-D3-D4 -> 8.0749101e+08 | E2: =+CUC!F4+CUC!F32+CUC!F559-CUC!F816-CUC!F939-E3-E4 -> 6.0589841e+08 | F2: =+CUC!G4+CUC!G32+CUC!G559-CUC!G816-CUC!G939-F3-F4 -> 1.3094188e+09 | G2: =+CUC!I4+CUC!I32+CUC!I559-CUC!I816-CUC!I939-G3-G4 -> 3.988319e+08 | H2: 4.1077239e+08 | I2: =+'EF. Mensuales'!N2 -> 8.1084517e+08 | J2: =+'EF. Mensuales'!Z2 -> 3.4312872e+08 | K2: =+'EF. Mensuales'!AL2 -> 57182212 | L2: =+'EF. Mensuales'!AX2 -> 74774162 | M2: =+'EF. Mensuales'!BJ2 -> 81668341
A3: Fondo de Liquidez | B3: =+CUC!C18+CUC!C33 -> 1.3484277e+08 | C3: =+CUC!D18+CUC!D33 -> 1.4989328e+08 | D3: =+CUC!E18+CUC!E33 -> 1.5495799e+08 | E3: =+CUC!F18+CUC!F33 -> 1.8893476e+08 | F3: =+CUC!G18+CUC!G33 -> 1.990391e+08 | G3: =+CUC!I18+CUC!I33 -> 1.991237e+08 | H3: 200000000 | I3: =+'EF. Mensuales'!N3 -> 3.0572561e+08 | J3: =+'EF. Mensuales'!Z3 -> 3.6770639e+08 | K3: =+'EF. Mensuales'!AL3 -> 4.1669709e+08 | L3: =+'EF. Mensuales'!AX3 -> 4.5599099e+08 | M3: =+'EF. Mensuales'!BJ3 -> 4.926781e+08
A4: Otras inversiones | B4: =+CUC!C122+CUC!C143 -> 51466281 | C4: =+CUC!D122+CUC!D143 -> 59186064 | D4: =+CUC!E122+CUC!E143 -> 71421271 | E4: =+CUC!F122+CUC!F143 -> 78698206 | F4: =+CUC!G122+CUC!G143 -> 84550896 | G4: =+CUC!I122+CUC!I143 -> 88804730 | H4: 91000000 | I4: =+'EF. Mensuales'!N4 -> 91464606 | J4: =+'EF. Mensuales'!Z4 -> 91945474 | K4: =+'EF. Mensuales'!AL4 -> 92443172 | L4: =+'EF. Mensuales'!AX4 -> 92958290 | M4: =+'EF. Mensuales'!BJ4 -> 93491436
A5: Cartera de Crédito | B5: =+CUC!C248-B6 -> 7562279942 | C5: =+CUC!D248-C6 -> 7898206314 | D5: =+CUC!E248-D6 -> 7940979334 | E5: =+CUC!F248-E6 -> 9343276423 | F5: =+CUC!G248-F6 -> 9546677923 | G5: =+CUC!I248-G6 -> 10424484695 | H5: 10200000000 | I5: =+'EF. Mensuales'!N5 -> 1.0476516e+10 | J5: =+'EF. Mensuales'!Z5 -> 1.1704965e+10 | K5: =+'EF. Mensuales'!AL5 -> 1.3309053e+10 | L5: =+'EF. Mensuales'!AX5 -> 1.5088937e+10 | M5: =+'EF. Mensuales'!BJ5 -> 1.726379e+10
A6: Provisión Cartera | B6: =-CUC!C273-CUC!C279-CUC!C285-CUC!C327-CUC!C338-CUC!C344-CUC!C368-CUC!C374-CUC!C380-CUC!C410-CUC!C421-CUC!C427-CUC!C457-CUC!C468-CUC!C474-CUC!C480-CUC!C503-CUC!C514 -> -138241997 | C6: =-CUC!D273-CUC!D279-CUC!D285-CUC!D327-CUC!D338-CUC!D344-CUC!D368-CUC!D374-CUC!D380-CUC!D410-CUC!D421-CUC!D427-CUC!D457-CUC!D468-CUC!D474-CUC!D480-CUC!D503-CUC!D514 -> -175422728 | D6: =-CUC!E273-CUC!E279-CUC!E285-CUC!E327-CUC!E338-CUC!E344-CUC!E368-CUC!E374-CUC!E380-CUC!E410-CUC!E421-CUC!E427-CUC!E457-CUC!E468-CUC!E474-CUC!E480-CUC!E503-CUC!E514 -> -142263065 | E6: =-CUC!F273-CUC!F279-CUC!F285-CUC!F327-CUC!F338-CUC!F344-CUC!F368-CUC!F374-CUC!F380-CUC!F410-CUC!F421-CUC!F427-CUC!F457-CUC!F468-CUC!F474-CUC!F480-CUC!F503-CUC!F514 -> -229710931 | F6: =-CUC!G273-CUC!G279-CUC!G285-CUC!G327-CUC!G338-CUC!G344-CUC!G368-CUC!G374-CUC!G380-CUC!G410-CUC!G421-CUC!G427-CUC!G457-CUC!G468-CUC!G474-CUC!G480-CUC!G503-CUC!G514 -> -313414242 | G6: =-CUC!I273-CUC!I279-CUC!I285-CUC!I327-CUC!I338-CUC!I344-CUC!I368-CUC!I374-CUC!I380-CUC!I410-CUC!I421-CUC!I427-CUC!I457-CUC!I468-CUC!I474-CUC!I480-CUC!I503-CUC!I514 -> -420926655 | H6: -474000000 | I6: =+'EF. Mensuales'!N6 -> -5.2963137e+08 | J6: =+'EF. Mensuales'!Z6 -> -6.2946625e+08 | K6: =+'EF. Mensuales'!AL6 -> -7.5793685e+08 | L6: =+'EF. Mensuales'!AX6 -> -9.1120296e+08 | M6: =+'EF. Mensuales'!BJ6 -> -1.0815755e+09
A7: P.P. y Equipo | B7: =+CUC!C634 -> 26501912 | C7: =+CUC!D634 -> 63943446 | D7: =+CUC!E634 -> 53025588 | E7: =+CUC!F634 -> 45258441 | F7: =+CUC!G634 -> 43471937 | G7: =+CUC!I634 -> 34689329 | H7: 40000000 | I7: =+'EF. Mensuales'!N7 -> 51526370 | J7: =+'EF. Mensuales'!Z7 -> 61931508 | K7: =+'EF. Mensuales'!AL7 -> 71240903 | L7: =+'EF. Mensuales'!AX7 -> 79369047 | M7: =+'EF. Mensuales'!BJ7 -> 86736671
A8: Intangibles | B8: =+CUC!C685+CUC!C677 -> 0 | C8: =+CUC!D685+CUC!D677 -> 132121 | D8: =+CUC!E685+CUC!E677 -> 178036 | E8: =+CUC!F685+CUC!F677 -> 188049 | F8: =+CUC!G685+CUC!G677 -> 2573805 | G8: =+CUC!I685+CUC!I677 -> 1132121 | H8: 1000000 | I8: =+'EF. Mensuales'!N8 -> 1000000 | J8: =+'EF. Mensuales'!Z8 -> 1000000 | K8: =+'EF. Mensuales'!AL8 -> 1000000 | L8: =+'EF. Mensuales'!AX8 -> 1000000 | M8: =+'EF. Mensuales'!BJ8 -> 1000000
A9: Otros activos | B9: 0 | C9: 0 | D9: 0 | E9: 0 | F9: 0 | G9: 0 | H9: 0 | I9: =+'EF. Mensuales'!N9 -> 0 | J9: =+'EF. Mensuales'!Z9 -> 0 | K9: =+'EF. Mensuales'!AL9 -> 0 | L9: =+'EF. Mensuales'!AX9 -> 0 | M9: =+'EF. Mensuales'!BJ9 -> 0
A10: TOTAL ACTIVOS | B10: =SUM(B2:B9) -> 8.2214316e+09 | C10: =SUM(C2:C9) -> 8.5954582e+09 | D10: =SUM(D2:D9) -> 8.8857902e+09 | E10: =SUM(E2:E9) -> 1.0032543e+10 | F10: =SUM(F2:F9) -> 1.0872318e+10 | G10: =SUM(G2:G9) -> 1.072614e+10 | H10: =SUM(H2:H9) -> 1.0468772e+10 | I10: =SUM(I2:I9) -> 1.1207447e+10 | ... M10: =SUM(M2:M9) -> 1.6937789e+10
A11: Vistga | B11: =+CUC!C757 -> 0 | C11: =+CUC!D757 -> 0 | D11: =+CUC!E757 -> 0 | E11: =+CUC!F757 -> 0 | F11: =+CUC!G757 -> 0 | G11: =+CUC!I757 -> 0 | H11: 1028000000 | I11: =+'EF. Mensuales'!N11 -> 1.146959e+09 | J11: =+'EF. Mensuales'!Z11 -> 1.242156e+09 | K11: =+'EF. Mensuales'!AL11 -> 1.3187695e+09 | L11: =+'EF. Mensuales'!AX11 -> 1.3724982e+09 | M11: =+'EF. Mensuales'!BJ11 -> 1.4284159e+09
A12: Contractual | B12: =+CUC!C741+CUC!C751 -> 1332775490 | C12: =+CUC!D741+CUC!D751 -> 1402771460 | D12: =+CUC!E741+CUC!E751 -> 1477247907 | E12: =+CUC!F741+CUC!F751 -> 1677036711 | F12: =+CUC!G741+CUC!G751 -> 1781368054 | G12: =+CUC!I741+CUC!I751 -> 1816515682 | H12: 801000000 | I12: =+'EF. Mensuales'!N12 -> 1.185294e+09 | J12: =+'EF. Mensuales'!Z12 -> 1.4707883e+09 | K12: =+'EF. Mensuales'!AL12 -> 1.7016771e+09 | L12: =+'EF. Mensuales'!AX12 -> 1.9054588e+09 | M12: =+'EF. Mensuales'!BJ12 -> 2.1112348e+09
A13: CDAT | B13: =+CUC!C745 -> 5.2280401e+08 | C13: =+CUC!D745 -> 5.4761145e+08 | D13: =+CUC!E745 -> 6.0265058e+08 | E13: =+CUC!F745 -> 7.2475498e+08 | F13: =+CUC!G745 -> 7.8703672e+08 | G13: =+CUC!I745 -> 4.7534922e+08 | H13: 413000000 | I13: =+'EF. Mensuales'!N13 -> 7.2500313e+08 | J13: =+'EF. Mensuales'!Z13 -> 9.6411962e+08 | K13: =+'EF. Mensuales'!AL13 -> 1.1465243e+09 | L13: =+'EF. Mensuales'!AX13 -> 1.2819529e+09 | M13: =+'EF. Mensuales'!BJ13 -> 1.3871304e+09
A14: Obligaciones Financieras | B14: =+CUC!C768 -> 323600483 | C14: =+CUC!D768 -> 97966587 | D14: =+CUC!E768 -> 0 | E14: =+CUC!F768 -> 0 | F14: =+CUC!G768 -> 0 | G14: =+CUC!I768 -> 0 | H14: 0 | I14: =+'EF. Mensuales'!N14 -> 0 | J14: =+'EF. Mensuales'!Z14 -> 0 | K14: =+'EF. Mensuales'!AL14 -> 4.549269e+08 | L14: =+'EF. Mensuales'!AX14 -> 1.2146029e+09 | M14: =+'EF. Mensuales'!BJ14 -> 2.0297266e+09
A15: Provisiones | B15: =+CUC!C1021 -> 17405222 | C15: =+CUC!D1021 -> 25071773 | D15: =+CUC!E1021 -> 12585738 | E15: =+CUC!F1021 -> 17319502 | F15: =+CUC!G1021 -> 20171839 | G15: =+CUC!I1021 -> 23155121 | H15: 0 | I15: =+'EF. Mensuales'!N15 -> 0 | J15: =+'EF. Mensuales'!Z15 -> 0 | K15: =+'EF. Mensuales'!AL15 -> 0 | L15: =+'EF. Mensuales'!AX15 -> 0 | M15: =+'EF. Mensuales'!BJ15 -> 0
A16: Fondos | B16: =+CUC!C925 -> 4.0760234e+08 | C16: =+CUC!D925 -> 3.7076544e+08 | D16: =+CUC!E925 -> 3.833888e+08 | E16: =+CUC!F925 -> 4.3973142e+08 | F16: =+CUC!G925 -> 4.516251e+08 | G16: =+CUC!I925 -> 6.6048871e+08 | H16: 500000000 | I16: =+'EF. Mensuales'!N16 -> 4.9530824e+08 | J16: =+'EF. Mensuales'!Z16 -> 4.6479264e+08 | K16: =+'EF. Mensuales'!AL16 -> 4.8332947e+08 | L16: =+'EF. Mensuales'!AX16 -> 5.3980122e+08 | M16: =+'EF. Mensuales'!BJ16 -> 6.4582584e+08
A17: Otros pasivos | B17: 0 | C17: 0 | D17: 0 | E17: 0 | F17: 0 | G17: 0 | H17: 0 | I17: =+'EF. Mensuales'!N17 -> 0 | J17: =+'EF. Mensuales'!Z17 -> 0 | K17: =+'EF. Mensuales'!AL17 -> 0 | L17: =+'EF. Mensuales'!AX17 -> 0 | M17: =+'EF. Mensuales'!BJ17 -> 0
A18: TOTAL PASIVO | B18: =SUM(B11:B17) -> 2.6041876e+09 | C18: =SUM(C11:C17) -> 2.4441867e+09 | D18: =SUM(D11:D17) -> 2.475873e+09 | E18: =SUM(E11:E17) -> 2.8588426e+09 | F18: =SUM(F11:F17) -> 3.0402017e+09 | G18: =SUM(G11:G17) -> 2.9755087e+09 | H18: =SUM(H11:H17) -> 2742000000 | I18: =SUM(I11:I17) -> 3.5525643e+09 | ... M18: =SUM(M11:M17) -> 7.6023334e+09
A19: Aportes Sociales | B19: =+CUC!C1034+CUC!C970 -> 4436399229 | C19: =+CUC!D1034+CUC!D970 -> 4967580752 | D19: =+CUC!E1034+CUC!E970 -> 5151845990 | E19: =+CUC!F1034+CUC!F970 -> 5791804745 | F19: =+CUC!G1034+CUC!G970 -> 6296136317 | G19: =+CUC!I1034+CUC!I970 -> 6366656630 | H19: 6391000000 | I19: =+'EF. Mensuales'!N19 -> 6.3599645e+09 | J19: =+'EF. Mensuales'!Z19 -> 6.4410667e+09 | K19: =+'EF. Mensuales'!AL19 -> 6.6408709e+09 | L19: =+'EF. Mensuales'!AX19 -> 6.9828824e+09 | M19: =+'EF. Mensuales'!BJ19 -> 7.5229814e+09
A20: Reservas, fondos y Superavit | B20: =+CUC!C1044+CUC!C1053+CUC!C1067+CUC!C1062+CUC!C1070 -> 1.0553572e+09 | C20: =+CUC!D1044+CUC!D1053+CUC!D1067+CUC!D1062+CUC!D1070 -> 1.0804547e+09 | D20: =+CUC!E1044+CUC!E1053+CUC!E1067+CUC!E1062+CUC!E1070 -> 1.1011019e+09 | E20: =+CUC!F1044+CUC!F1053+CUC!F1067+CUC!F1062+CUC!F1070 -> 1.1324958e+09 | F20: =+CUC!G1044+CUC!G1053+CUC!G1067+CUC!G1062+CUC!G1070 -> 1.1823758e+09 | G20: =+CUC!I1044+CUC!I1053+CUC!I1067+CUC!I1062+CUC!I1070 -> 1.2530967e+09 | H20: 1.1823758e+09 | I20: =+'EF. Mensuales'!N20 -> 1.2130551e+09 | J20: =+'EF. Mensuales'!Z20 -> 1.2294276e+09 | K20: =+'EF. Mensuales'!AL20 -> 1.2551996e+09 | L20: =+'EF. Mensuales'!AX20 -> 1.2928759e+09 | M20: =+'EF. Mensuales'!BJ20 -> 1.3512268e+09
A21: Resultados Ejercicios Anteriores | I21: =+'EF. Mensuales'!N21 -> 0 | J21: =+'EF. Mensuales'!Z21 -> 0 | K21: =+'EF. Mensuales'!AL21 -> 0 | L21: =+'EF. Mensuales'!AX21 -> 0 | M21: =+'EF. Mensuales'!BJ21 -> 0
A22: Resultado Ejercicio | B22: =+CUC!C1064 -> 1.2548761e+08 | C22: =+CUC!D1064 -> 1.03236e+08 | D22: =+CUC!E1064 -> 1.5696922e+08 | E22: =+CUC!F1064 -> 2.4940023e+08 | F22: =+CUC!G1064 -> 3.5360442e+08 | G22: =+CUC!I1064 -> 1.3087776e+08 | H22: 1.5339658e+08 | I22: =+'EF. Mensuales'!N22 -> 81862550 | J22: =+'EF. Mensuales'!Z22 -> 1.2885979e+08 | K22: =+'EF. Mensuales'!AL22 -> 1.8838165e+08 | L22: =+'EF. Mensuales'!AX22 -> 2.9175413e+08 | M22: =+'EF. Mensuales'!BJ22 -> 4.6124778e+08
A23: TOTAL PATRIMONIO | B23: =+SUM(B19:B22) -> 5.617244e+09 | C23: =+SUM(C19:C22) -> 6.1512715e+09 | D23: =+SUM(D19:D22) -> 6.4099171e+09 | E23: =+SUM(E19:E22) -> 7.1737007e+09 | F23: =+SUM(F19:F22) -> 7.8321165e+09 | G23: =+SUM(G19:G22) -> 7.7506311e+09 | H23: =+SUM(H19:H22) -> 7.7267724e+09 | I23: =+SUM(I19:I22) -> 7.6548822e+09 | ... M23: =+SUM(M19:M22) -> 9.3354559e+09
B24: =+B10-B18-B23 -> 0 | C24: =+C10-C18-C23 -> 0 | D24: =+D10-D18-D23 -> 0 | E24: =+E10-E18-E23 -> 0 | F24: =+F10-F18-F23 -> 0 | G24: =+G10-G18-G23 -> 0 | H24: =+H10-H18-H23 -> 0 | I24: =+I10-I18-I23 -> 0 | ... M24: =+M10-M18-M23 -> 0
H25: =+H19+H11 -> 7419000000 | M25: =+M19+M11 -> 8.9513972e+09
A26: TEA implicita Cartera | C26: =+C57/AVERAGE(B5:C5) -> 0.15712541 | D26: =+D57/AVERAGE(C5:D5) -> 0.16597416 | E26: =+E57/AVERAGE(D5:E5) -> 0.16330602 | F26: =+F57/AVERAGE(E5:F5) -> 0.16261588 | H26: =+H57/AVERAGE(F5:H5) -> 0.14623972 | I26: =+I57/AVERAGE(H5:I5) -> 0.14959196 | J26: =+J57/AVERAGE(I5:J5) -> 0.16118236 | K26: =+K57/AVERAGE(J5:K5) -> 0.16115258 | L26: =+L57/AVERAGE(K5:L5) -> 0.16121748 | M26: =+M57/AVERAGE(L5:M5) -> 0.16058722
A27: FLUJO DE CAJA | I27: =+I1 -> 45291 | J27: =+J1 -> 45657 | K27: =+K1 -> 46022 | L27: =+L1 -> 46387 | M27: =+M1 -> 46752
A28: Saldo Inicial | I28: =+'EF. Mensuales'!C28 -> 4.1077239e+08 | J28: =+I54 -> 8.1084517e+08 | K28: =+J54 -> 3.4312872e+08 | L28: =+K54 -> 57182212 | M28: =+L54 -> 74774162
A29: Recaudos de Cartera (capital + intereses) | I29: =+SUM('EF. Mensuales'!C29:N29) -> 3.7322216e+09 | J29: =+SUM('EF. Mensuales'!O29:Z29) -> 3.7615527e+09 | K29: =+SUM('EF. Mensuales'!AA29:AL29) -> 4.2413594e+09 | L29: =+SUM('EF. Mensuales'!AM29:AX29) -> 4.8170331e+09 | M29: =+SUM('EF. Mensuales'!AY29:BJ29) -> 5.2470579e+09
A30: Recaudo Aportes | I30: =+SUM('EF. Mensuales'!C30:N30) -> 1.7384931e+09 | J30: =+SUM('EF. Mensuales'!O30:Z30) -> 1.8322004e+09 | K30: =+SUM('EF. Mensuales'!AA30:AL30) -> 1.9478278e+09 | L30: =+SUM('EF. Mensuales'!AM30:AX30) -> 2.0790499e+09 | M30: =+SUM('EF. Mensuales'!AY30:BJ30) -> 2.2669344e+09
A31: Captaciones | I31: =+SUM('EF. Mensuales'!C31:N31) -> 2.47094e+09 | J31: =+SUM('EF. Mensuales'!O31:Z31) -> 2.6872421e+09 | K31: =+SUM('EF. Mensuales'!AA31:AL31) -> 2.8835395e+09 | L31: =+SUM('EF. Mensuales'!AM31:AX31) -> 3.058343e+09 | M31: =+SUM('EF. Mensuales'!AY31:BJ31) -> 3.2457778e+09
A32: Rendimientos Excedentes Tesorería | I32: =+SUM('EF. Mensuales'!C32:N32) -> 25444758 | J32: =+SUM('EF. Mensuales'!O32:Z32) -> 18440879 | K32: =+SUM('EF. Mensuales'!AA32:AL32) -> 2352951.2 | L32: =+SUM('EF. Mensuales'!AM32:AX32) -> 1008935 | M32: =+SUM('EF. Mensuales'!AY32:BJ32) -> 800089.83
A33: Contribuciones Fondos | I33: =+SUM('EF. Mensuales'!C33:N33) -> 1.386105e+08 | J33: =+SUM('EF. Mensuales'!O33:Z33) -> 1.529145e+08 | K33: =+SUM('EF. Mensuales'!AA33:AL33) -> 1.6688173e+08 | L33: =+SUM('EF. Mensuales'!AM33:AX33) -> 1.8293984e+08 | M33: =+SUM('EF. Mensuales'!AY33:BJ33) -> 2.0237344e+08
A34: Recaudo Liq. Prestaciones Sociales | I34: =+SUM('EF. Mensuales'!C34:N34) -> 500940000 | J34: =+SUM('EF. Mensuales'!O34:Z34) -> 528582780 | K34: =+SUM('EF. Mensuales'!AA34:AL34) -> 557505234 | L34: =+SUM('EF. Mensuales'!AM34:AX34) -> 5.768571e+08 | M34: =+SUM('EF. Mensuales'!AY34:BJ34) -> 5.9665121e+08
A35: Pagos por Caja Cartera | I35: =+SUM('EF. Mensuales'!C35:N35) -> 276000000 | J35: =+SUM('EF. Mensuales'!O35:Z35) -> 302220000 | K35: =+SUM('EF. Mensuales'!AA35:AL35) -> 324886500 | L35: =+SUM('EF. Mensuales'!AM35:AX35) -> 3.4275526e+08 | M35: =+SUM('EF. Mensuales'!AY35:BJ35) -> 3.616068e+08
A36: Disminución de Inversiones | I36: =+SUM('EF. Mensuales'!C36:N36) -> 0 | J36: =+SUM('EF. Mensuales'!O36:Z36) -> 0 | K36: =+SUM('EF. Mensuales'!AA36:AL36) -> 0 | L36: =+SUM('EF. Mensuales'!AM36:AX36) -> 0 | M36: =+SUM('EF. Mensuales'!AY36:BJ36) -> 0
A37: =+A60 -> Admtivos, Sociales, comisiones | I37: =+SUM('EF. Mensuales'!C37:N37) -> 9301800.3 | J37: =+SUM('EF. Mensuales'!O37:Z37) -> 10045944 | K37: =+SUM('EF. Mensuales'!AA37:AL37) -> 10648701 | L37: =+SUM('EF. Mensuales'!AM37:AX37) -> 11074649 | M37: =+SUM('EF. Mensuales'!AY37:BJ37) -> 11517635
A38: Venta de PPE | I38: =+SUM('EF. Mensuales'!C38:N38) -> 0 | J38: =+SUM('EF. Mensuales'!O38:Z38) -> 0 | K38: =+SUM('EF. Mensuales'!AA38:AL38) -> 0 | L38: =+SUM('EF. Mensuales'!AM38:AX38) -> 0 | M38: =+SUM('EF. Mensuales'!AY38:BJ38) -> 0
A39: Nuevas obligaciones | I39: =+SUM('EF. Mensuales'!C39:N39) -> 0 | J39: =+SUM('EF. Mensuales'!O39:Z39) -> 0 | K39: =+SUM('EF. Mensuales'!AA39:AL39) -> 4.9151235e+08 | L39: =+SUM('EF. Mensuales'!AM39:AX39) -> 1.0245021e+09 | M39: =+SUM('EF. Mensuales'!AY39:BJ39) -> 1.3205925e+09
A40: TOTAL ENTRADAS | I40: =SUM(I29:I39) -> 8.8919518e+09 | J40: =SUM(J29:J39) -> 9.2931992e+09 | K40: =SUM(K29:K39) -> 1.0626514e+10 | L40: =SUM(L29:L39) -> 1.2093564e+10 | M40: =SUM(M29:M39) -> 1.3253312e+10
...

Sheet EF. Mensuales
A1: SITUACION FINANCIERA | B1: 44896 | C1: =EOMONTH(B1,1) -> 44957 | D1: =EOMONTH(C1,1) -> 44985 | E1: =EOMONTH(D1,1) -> 45016 | F1: =EOMONTH(E1,1) -> 45046 | G1: =EOMONTH(F1,1) -> 45077 | H1: =EOMONTH(G1,1) -> 45107 | I1: =EOMONTH(H1,1) -> 45138 | J1: =EOMONTH(I1,1) -> 45169 | ... BJ1: =EOMONTH(BI1,1) -> 46752
A2: =+'EF. Anuales'!A2 -> Efectivo y Eq NETO | B2: =+'EF. Anuales'!H2 -> 4.1077239e+08 | C2: =+C54 -> 4.2157543e+08 | D2: =+D54 -> 4.5508654e+08 | E2: =+E54 -> 4.8698718e+08 | F2: =+F54 -> 6.556917e+08 | G2: =+G54 -> 6.825146e+08 | H2: =+H54 -> 7.0783613e+08 | I2: =+I54 -> 6.5780096e+08 | J2: =+J54 -> 6.8203604e+08 | ... BJ2: =+BJ54 -> 81668341
A3: =+'EF. Anuales'!A3 -> Fondo de Liquidez | B3: =+'EF. Anuales'!H3 -> 200000000 | C3: =+anexos!B7 -> 2.3183455e+08 | D3: =+anexos!C7 -> 2.3921009e+08 | E3: =+anexos!D7 -> 2.4633661e+08 | F3: =+anexos!E7 -> 2.5322376e+08 | G3: =+anexos!F7 -> 2.605998e+08 | H3: =+anexos!G7 -> 2.6772483e+08 | I3: =+anexos!H7 -> 2.7460861e+08 | J3: =+anexos!I7 -> 2.8126053e+08 | ... BJ3: =+anexos!BI7 -> 4.926781e+08
A4: =+'EF. Anuales'!A4 -> Otras inversiones | B4: =+'EF. Anuales'!H4 -> 91000000 | C4: =+B4+C60 -> 91000000 | D4: =+C4+D60 -> 91000000 | E4: =+D4+E60 -> 91000000 | F4: =+E4+F60 -> 91000000 | G4: =+F4+G60 -> 91000000 | H4: =+G4+H60 -> 91000000 | I4: =+H4+I60 -> 91000000 | J4: =+I4+J60 -> 91000000 | ... BJ4: =+BI4+BJ60 -> 93491436
A5: =+'EF. Anuales'!A5 -> Cartera de Crédito | B5: =+'EF. Anuales'!H5 -> 10200000000 | C5: =+anexos!B19 -> 1.0238886e+10 | D5: =+anexos!C19 -> 1.0276666e+10 | E5: =+anexos!D19 -> 1.0313376e+10 | F5: =+anexos!E19 -> 1.0205537e+10 | G5: =+anexos!F19 -> 1.0242413e+10 | H5: =+anexos!G19 -> 1.0278288e+10 | I5: =+anexos!H19 -> 1.0387082e+10 | J5: =+anexos!I19 -> 1.0419923e+10 | ... BJ5: =+anexos!BI19 -> 1.726379e+10
A6: =+'EF. Anuales'!A6 -> Provisión Cartera | B6: =+'EF. Anuales'!H6 -> -474000000 | C6: =+anexos!B34 -> -474000000 | D6: =+anexos!C34 -> -4.7942542e+08 | E6: =+anexos!D34 -> -4.848521e+08 | F6: =+anexos!E34 -> -4.860783e+08 | G6: =+anexos!F34 -> -4.9151086e+08 | H6: =+anexos!G34 -> -4.9694462e+08 | I6: =+anexos!H34 -> -5.0463657e+08 | J6: =+anexos!I34 -> -5.1006831e+08 | ... BJ6: =+anexos!BI34 -> -1.0815755e+09
A7: =+'EF. Anuales'!A7 -> P.P. y Equipo | B7: =+'EF. Anuales'!H7 -> 40000000 | C7: =+anexos!B42 -> 38888889 | D7: =+anexos!C42 -> 37808642 | E7: =+anexos!D42 -> 36758402 | F7: =+anexos!E42 -> 35737335 | G7: =+anexos!F42 -> 34744631 | H7: =+anexos!G42 -> 33779503 | I7: =+anexos!H42 -> 32841183 | J7: =+anexos!I42 -> 31928928 | ... BJ7: =+anexos!BI42 -> 86736671
A8: =+'EF. Anuales'!A8 -> Intangibles | B8: =+'EF. Anuales'!H8 -> 1000000 | C8: =+anexos!B48 -> 1000000 | D8: =+anexos!C48 -> 1000000 | E8: =+anexos!D48 -> 1000000 | F8: =+anexos!E48 -> 1000000 | G8: =+anexos!F48 -> 1000000 | H8: =+anexos!G48 -> 1000000 | I8: =+anexos!H48 -> 1000000 | J8: =+anexos!I48 -> 1000000 | ... BJ8: =+anexos!BI48 -> 1000000
A9: =+'EF. Anuales'!A9 -> Otros activos | B9: =+'EF. Anuales'!H9 -> 0 | C9: =+B9 -> 0 | D9: =+C9 -> 0 | E9: =+D9 -> 0 | F9: =+E9 -> 0 | G9: =+F9 -> 0 | H9: =+G9 -> 0 | I9: =+H9 -> 0 | J9: =+I9 -> 0 | ... BJ9: =+BI9 -> 0
A10: TOTAL ACTIVOS | B10: =SUM(B2:B9) -> 1.0468772e+10 | C10: =SUM(C2:C9) -> 1.0549184e+10 | D10: =SUM(D2:D9) -> 1.0621345e+10 | E10: =SUM(E2:E9) -> 1.0690606e+10 | F10: =SUM(F2:F9) -> 1.0756112e+10 | G10: =SUM(G2:G9) -> 1.0820761e+10 | H10: =SUM(H2:H9) -> 1.0882684e+10 | I10: =SUM(I2:I9) -> 1.0939696e+10 | ... BJ10: =SUM(BJ2:BJ9) -> 1.6937789e+10
A11: =+'EF. Anuales'!A11 -> Vistga | B11: =+'EF. Anuales'!H11 -> 1028000000 | C11: =+anexos!B67 -> 1.0374233e+09 | D11: =+anexos!C67 -> 1.046933e+09 | E11: =+anexos!D67 -> 1.0565299e+09 | F11: =+anexos!E67 -> 1.0662148e+09 | G11: =+anexos!F67 -> 1.0759884e+09 | H11: =+anexos!G67 -> 1.0858517e+09 | I11: =+anexos!H67 -> 1.0958053e+09 | J11: =+anexos!I67 -> 1.1058502e+09 | ... BJ11: =+anexos!BI67 -> 1.4284159e+09
A12: =+'EF. Anuales'!A12 -> Contractual | B12: =+'EF. Anuales'!H12 -> 801000000 | C12: =+anexos!B73 -> 836487500 | D12: =+anexos!C73 -> 8.7040715e+08 | E12: =+anexos!D73 -> 9.0281904e+08 | F12: =+anexos!E73 -> 9.3378098e+08 | G12: =+anexos!F73 -> 9.7053841e+08 | H12: =+anexos!G73 -> 1.0056565e+09 | I12: =+anexos!H73 -> 1.0391981e+09 | J12: =+anexos!I73 -> 1.0712235e+09 | ... BJ12: =+anexos!BI73 -> 2.1112348e+09
A13: =+'EF. Anuales'!A13 -> CDAT | B13: =+'EF. Anuales'!H13 -> 413000000 | C13: =+anexos!B80 -> 4.4443464e+08 | D13: =+anexos!C80 -> 4.7476066e+08 | E13: =+anexos!D80 -> 5.0401717e+08 | F13: =+anexos!E80 -> 5.3224188e+08 | G13: =+anexos!F80 -> 5.5947118e+08 | H13: =+anexos!G80 -> 5.8574019e+08 | I13: =+anexos!H80 -> 6.1108275e+08 | J13: =+anexos!I80 -> 6.3553156e+08 | ... BJ13: =+anexos!BI80 -> 1.3871304e+09
A14: =+'EF. Anuales'!A14 -> Obligaciones Financieras | B14: =+'EF. Anuales'!H14 -> 0 | C14: =+anexos!B88 -> 0 | D14: =+anexos!C88 -> 0 | E14: =+anexos!D88 -> 0 | F14: =+anexos!E88 -> 0 | G14: =+anexos!F88 -> 0 | H14: =+anexos!G88 -> 0 | I14: =+anexos!H88 -> 0 | J14: =+anexos!I88 -> 0 | ... BJ14: =+anexos!BI88 -> 2.0297266e+09
A15: =+'EF. Anuales'!A15 -> Provisiones | B15: =+'EF. Anuales'!H15 -> 0 | C15: =+anexos!B116 -> 0 | D15: =+anexos!C116 -> 0 | E15: =+anexos!D116 -> 0 | F15: =+anexos!E116 -> 0 | G15: =+anexos!F116 -> 0 | H15: =+anexos!G116 -> 0 | I15: =+anexos!H116 -> 0 | J15: =+anexos!I116 -> 0 | ... BJ15: =+anexos!BI116 -> 0
A16: =+'EF. Anuales'!A16 -> Fondos | B16: =+'EF. Anuales'!H16 -> 500000000 | C16: =+anexos!B103 -> 4.9036667e+08 | D16: =+anexos!C103 -> 4.8109972e+08 | E16: =+anexos!D103 -> 5.9490117e+08 | F16: =+anexos!E103 -> 5.8120862e+08 | G16: =+anexos!F103 -> 5.6805159e+08 | H16: =+anexos!G103 -> 5.5540778e+08 | I16: =+anexos!H103 -> 5.4325579e+08 | J16: =+anexos!I103 -> 5.3157513e+08 | ... BJ16: =+anexos!BI103 -> 6.4582584e+08
A17: =+'EF. Anuales'!A17 -> Otros pasivos | B17: =+'EF. Anuales'!H17 -> 0 | C17: =+anexos!B95 -> 0 | D17: =+anexos!C95 -> 0 | E17: =+anexos!D95 -> 0 | F17: =+anexos!E95 -> 0 | G17: =+anexos!F95 -> 0 | H17: =+anexos!G95 -> 0 | I17: =+anexos!H95 -> 0 | J17: =+anexos!I95 -> 0 | ... BJ17: =+anexos!BI95 -> 0
A18: TOTAL PASIVO | B18: =SUM(B11:B17) -> 2742000000 | C18: =SUM(C11:C17) -> 2.8087121e+09 | D18: =SUM(D11:D17) -> 2.8732006e+09 | E18: =SUM(E11:E17) -> 3.0582673e+09 | F18: =SUM(F11:F17) -> 3.1134463e+09 | G18: =SUM(G11:G17) -> 3.1740496e+09 | H18: =SUM(H11:H17) -> 3.2326561e+09 | I18: =SUM(I11:I17) -> 3.2893419e+09 | ... BJ18: =SUM(BJ11:BJ17) -> 7.6023334e+09
A19: =+'EF. Anuales'!A19 -> Aportes Sociales | B19: =+'EF. Anuales'!H19 -> 6391000000 | C19: =+anexos!B110 -> 6.3934122e+09 | D19: =+anexos!C110 -> 6.3948543e+09 | E19: =+anexos!D110 -> 6.3953453e+09 | F19: =+anexos!E110 -> 6.3949038e+09 | G19: =+anexos!F110 -> 6.3935483e+09 | H19: =+anexos!G110 -> 6.391297e+09 | I19: =+anexos!H110 -> 6.3881678e+09 | J19: =+anexos!I110 -> 6.3841784e+09 | ... BJ19: =+anexos!BI110 -> 7.5229814e+09
A20: =+'EF. Anuales'!A20 -> Reservas, fondos y Superavit | B20: =+'EF. Anuales'!H20 -> 1.1823758e+09 | C20: =+B20 -> 1.1823758e+09 | D20: =+C20 -> 1.1823758e+09 | E20: =(+D20)+((D21)*20%) -> 1.2130551e+09 | F20: =+E20 -> 1.2130551e+09 | G20: =+F20 -> 1.2130551e+09 | H20: =+G20 -> 1.2130551e+09 | I20: =+H20 -> 1.2130551e+09 | J20: =+I20 -> 1.2130551e+09 | K20: =+J20 -> 1.2130551e+09 | L20: =+K20 -> 1.2130551e+09 | M20: =+L20 -> 1.2130551e+09 | ... P20: =+O20 -> 1.2130551e+09 | Q20: =(+P20)+((P21)*20%) -> 1.2294276e+09 | R20: =+Q20 -> 1.2294276e+09 | S20: =+R20 -> 1.2294276e+09 | T20: =+S20 -> 1.2294276e+09 | U20: =+T20 -> 1.2294276e+09 | V20: =+U20 -> 1.2294276e+09 | W20: =+V20 -> 1.2294276e+09 | X20: =+W20 -> 1.2294276e+09 | Y20: =+X20 -> 1.2294276e+09 | ... AB20: =+AA20 -> 1.2294276e+09 | AC20: =(+AB20)+((AB21)*20%) -> 1.2551996e+09 | AD20: =+AC20 -> 1.2551996e+09 | AE20: =+AD20 -> 1.2551996e+09 | AF20: =+AE20 -> 1.2551996e+09 | AG20: =+AF20 -> 1.2551996e+09 | AH20: =+AG20 -> 1.2551996e+09 | AI20: =+AH20 -> 1.2551996e+09 | AJ20: =+AI20 -> 1.2551996e+09 | AK20: =+AJ20 -> 1.2551996e+09 | ... AN20: =+AM20 -> 1.2551996e+09 | AO20: =(+AN20)+((AN21)*20%) -> 1.2928759e+09 | AP20: =+AO20 -> 1.2928759e+09 | AQ20: =+AP20 -> 1.2928759e+09 | AR20: =+AQ20 -> 1.2928759e+09 | AS20: =+AR20 -> 1.2928759e+09 | AT20: =+AS20 -> 1.2928759e+09 | AU20: =+AT20 -> 1.2928759e+09 | AV20: =+AU20 -> 1.2928759e+09 | AW20: =+AV20 -> 1.2928759e+09 | ... AZ20: =+AY20 -> 1.2928759e+09 | BA20: =(+AZ20)+((AZ21)*20%) -> 1.3512268e+09 | BB20: =+BA20 -> 1.3512268e+09 | BC20: =+BB20 -> 1.3512268e+09 | BD20: =+BC20 -> 1.3512268e+09 | BE20: =+BD20 -> 1.3512268e+09 | BF20: =+BE20 -> 1.3512268e+09 | BG20: =+BF20 -> 1.3512268e+09 | BH20: =+BG20 -> 1.3512268e+09 | BI20: =+BH20 -> 1.3512268e+09 | BJ20: =+BI20 -> 1.3512268e+09
A21: =+'EF. Anuales'!A21 -> Resultados Ejercicios Anteriores | C21: =+B22 -> 1.5339658e+08 | D21: =+C21 -> 1.5339658e+08 | O21: =+N22 -> 81862550 | P21: =+O21 -> 81862550 | AA21: =+Z22 -> 1.2885979e+08 | AB21: =+AA21 -> 1.2885979e+08 | AM21: =+AL22 -> 1.8838165e+08 | AN21: =+AM21 -> 1.8838165e+08 | AY21: =+AX22 -> 2.9175413e+08 | AZ21: =+AY21 -> 2.9175413e+08
A22: =+'EF. Anuales'!A22 -> Resultado Ejercicio | B22: =+'EF. Anuales'!H22 -> 1.5339658e+08 | C22: =+C76 -> 11287702 | D22: =+D76 -> 17518116 | E22: =+E76 -> 23938239 | F22: =+F76 -> 34706379 | G22: =+G76 -> 40107782 | H22: =+H76 -> 45675355 | I22: =+I76 -> 49131632 | J22: =+J76 -> 55665929 | ... BJ22: =+BJ76 -> 4.6124778e+08
A23: TOTAL PATRIMONIO | B23: =SUM(B19:B22) -> 7.7267724e+09 | C23: =SUM(C19:C22) -> 7.7404723e+09 | D23: =SUM(D19:D22) -> 7.7481448e+09 | E23: =SUM(E19:E22) -> 7.6323386e+09 | F23: =SUM(F19:F22) -> 7.6426653e+09 | G23: =SUM(G19:G22) -> 7.6467112e+09 | H23: =SUM(H19:H22) -> 7.6500275e+09 | I23: =SUM(I19:I22) -> 7.6503545e+09 | ... BJ23: =SUM(BJ19:BJ22) -> 9.3354559e+09
B24: =+B10-B18-B23 -> 0 | C24: =+C10-C18-C23 -> 0 | D24: =+D10-D18-D23 -> 0 | E24: =+E10-E18-E23 -> 0 | F24: =+F10-F18-F23 -> 0 | G24: =+G10-G18-G23 -> 0 | H24: =+H10-H18-H23 -> 0 | I24: =+I10-I18-I23 -> 0 | ... BJ24: =+BJ10-BJ18-BJ23 -> 0
A27: FLUJO DE CAJA | B27: =+B1 -> 44896 | C27: =+C1 -> 44957 | D27: =+D1 -> 44985 | E27: =+E1 -> 45016 | F27: =+F1 -> 45046 | G27: =+G1 -> 45077 | H27: =+H1 -> 45107 | I27: =+I1 -> 45138 | ... BJ27: =+BJ1 -> 46752
A28: Saldo Inicial | C28: =+B2 -> 4.1077239e+08 | D28: =+C54 -> 4.2157543e+08 | E28: =+D54 -> 4.5508654e+08 | F28: =+E54 -> 4.8698718e+08 | G28: =+F54 -> 6.556917e+08 | H28: =+G54 -> 6.825146e+08 | I28: =+H54 -> 7.0783613e+08 | J28: =+I54 -> 6.5780096e+08 | K28: =+J54 -> 6.8203604e+08 | ... BJ28: =+BI54 -> 33188502
A29: =+'EF. Anuales'!A29 -> Recaudos de Cartera (capital + intereses) | C29: =+anexos!B18 -> 2.8387363e+08 | D29: =+anexos!C18 -> 2.8495585e+08 | E29: =+anexos!D18 -> 2.8600729e+08 | F29: =+anexos!E18 -> 4.3054345e+08 | G29: =+anexos!F18 -> 2.8402773e+08 | H29: =+anexos!G18 -> 2.8505401e+08 | I29: =+anexos!H18 -> 2.8605244e+08 | J29: =+anexos!I18 -> 2.8908027e+08 | ... BJ29: =+anexos!BI18 -> 4.4590191e+08
A30: =+'EF. Anuales'!A30 -> Recaudo Aportes | C30: =+anexos!B107 -> 1.47408e+08 | D30: =+anexos!C107 -> 1.4694735e+08 | E30: =+anexos!D107 -> 1.464867e+08 | F30: =+anexos!E107 -> 1.4602605e+08 | G30: =+anexos!F107 -> 1.455654e+08 | H30: =+anexos!G107 -> 1.4510475e+08 | I30: =+anexos!H107 -> 1.446441e+08 | J30: =+anexos!I107 -> 1.4418345e+08 | ... BJ30: =+anexos!BI107 -> 1.9393058e+08
A31: =+'EF. Anuales'!A31 -> Captaciones | C31: =+anexos!B64+anexos!B70+anexos!B76 -> 1.9785917e+08 | D31: =+anexos!C64+anexos!C70+anexos!C76 -> 1.9843694e+08 | E31: =+anexos!D64+anexos!D70+anexos!D76 -> 1.9902192e+08 | F31: =+anexos!E64+anexos!E70+anexos!E76 -> 1.9961416e+08 | G31: =+anexos!F64+anexos!F70+anexos!F76 -> 2.0740361e+08 | H31: =+anexos!G64+anexos!G70+anexos!G76 -> 2.0798775e+08 | I31: =+anexos!H64+anexos!H70+anexos!H76 -> 2.0857936e+08 | J31: =+anexos!I64+anexos!I70+anexos!I76 -> 2.0917851e+08 | ... BJ31: =+anexos!BI64+anexos!BI70+anexos!BI76 -> 2.7632859e+08
A32: =+'EF. Anuales'!A32 -> Rendimientos Excedentes Tesorería | C32: =+C28*(PARÁMETROS!$C$2/24) -> 1369241.3 | D32: =+D28*(PARÁMETROS!$C$2/24) -> 1405251.4 | E32: =+E28*(PARÁMETROS!$C$2/24) -> 1516955.1 | F32: =+F28*(PARÁMETROS!$C$2/24) -> 1623290.6 | G32: =+G28*(PARÁMETROS!$C$2/24) -> 2185639 | H32: =+H28*(PARÁMETROS!$C$2/24) -> 2275048.7 | I32: =+I28*(PARÁMETROS!$C$2/24) -> 2359453.8 | J32: =+J28*(PARÁMETROS!$C$2/24) -> 2192669.9 | ... N32: =+N28*(PARÁMETROS!$C$2/24) -> 2974528 | O32: =+O28*(PARÁMETROS!$D$2/24) -> 2027112.9 | P32: =+P28*(PARÁMETROS!$D$2/24) -> 1887186.7 | Q32: =+Q28*(PARÁMETROS!$D$2/24) -> 1750676.3 | R32: =+R28*(PARÁMETROS!$D$2/24) -> 1617615.4 | S32: =+S28*(PARÁMETROS!$D$2/24) -> 1836189.7 | T32: =+T28*(PARÁMETROS!$D$2/24) -> 1707818.7 | U32: =+U28*(PARÁMETROS!$D$2/24) -> 1582824 | V32: =+V28*(PARÁMETROS!$D$2/24) -> 1277336 | ... Z32: =+Z28*(PARÁMETROS!$D$2/24) -> 1212988.1 | AA32: =+AA28*(PARÁMETROS!$E$2/24) -> 571881.21 | AB32: =+AB28*(PARÁMETROS!$E$2/24) -> 425298.52 | AC32: =+AC28*(PARÁMETROS!$E$2/24) -> 283915.34 | AD32: =+AD28*(PARÁMETROS!$E$2/24) -> 147711.52 | AE32: =+AE28*(PARÁMETROS!$E$2/24) -> 275314.59 | AF32: =+AF28*(PARÁMETROS!$E$2/24) -> 142841.75 | AG32: =+AG28*(PARÁMETROS!$E$2/24) -> 15565.77 | AH32: =+AH28*(PARÁMETROS!$E$2/24) -> 114428.06 | ... AL32: =+AL28*(PARÁMETROS!$E$2/24) -> 94917.855 | AM32: =+AM28*(PARÁMETROS!$F$2/24) -> 95303.686 | AN32: =+AN28*(PARÁMETROS!$F$2/24) -> 41714.378 | AO32: =+AO28*(PARÁMETROS!$F$2/24) -> 66644.836 | AP32: =+AP28*(PARÁMETROS!$F$2/24) -> 53589.634 | AQ32: =+AQ28*(PARÁMETROS!$F$2/24) -> 174012.27 | AR32: =+AR28*(PARÁMETROS!$F$2/24) -> 699.39055 | AS32: =+AS28*(PARÁMETROS!$F$2/24) -> 83129.462 | AT32: =+AT28*(PARÁMETROS!$F$2/24) -> 102772.65 | ... AX32: =+AX28*(PARÁMETROS!$F$2/24) -> 68968.842 | AY32: =+AY28*(PARÁMETROS!$G$2/24) -> 109045.65 | AZ32: =+AZ28*(PARÁMETROS!$G$2/24) -> 37003.588 | BA32: =+BA28*(PARÁMETROS!$G$2/24) -> 69890.781 | BB32: =+BB28*(PARÁMETROS!$G$2/24) -> 51983.455 | BC32: =+BC28*(PARÁMETROS!$G$2/24) -> 168189.18 | BD32: =+BD28*(PARÁMETROS!$G$2/24) -> 3581.2087 | BE32: =+BE28*(PARÁMETROS!$G$2/24) -> 80862.827 | BF32: =+BF28*(PARÁMETROS!$G$2/24) -> 94009.549 | ... BJ32: =+BJ28*(PARÁMETROS!$G$2/24) -> 48399.899
A33: =+'EF. Anuales'!A33 -> Contribuciones Fondos | C33: =+anexos!B101 -> 11200000 | D33: =+anexos!C101 -> 11165000 | E33: =+anexos!D101 -> 11130000 | F33: =+anexos!E101 -> 11095000 | G33: =+anexos!F101 -> 11060000 | H33: =+anexos!G101 -> 11025000 | I33: =+anexos!H101 -> 10990000 | J33: =+anexos!I101 -> 10955000 | ... BJ33: =+anexos!BI101 -> 17929670
A34: =+'EF. Anuales'!A34 -> Recaudo Liq. Prestaciones Sociales | C34: =+'FLUJO DE CARTERA'!C201 -> 41745000 | D34: =+'FLUJO DE CARTERA'!D201 -> 41745000 | E34: =+'FLUJO DE CARTERA'!E201 -> 41745000 | F34: =+'FLUJO DE CARTERA'!F201 -> 41745000 | G34: =+'FLUJO DE CARTERA'!G201 -> 41745000 | H34: =+'FLUJO DE CARTERA'!H201 -> 41745000 | I34: =+'FLUJO DE CARTERA'!I201 -> 41745000 | J34: =+'FLUJO DE CARTERA'!J201 -> 41745000 | ... BJ34: =+'FLUJO DE CARTERA'!BJ201 -> 49720935
A35: =+'EF. Anuales'!A35 -> Pagos por Caja Cartera | C35: =+'FLUJO DE CARTERA'!C212 -> 23000000 | D35: =+'FLUJO DE CARTERA'!D212 -> 23000000 | E35: =+'FLUJO DE CARTERA'!E212 -> 23000000 | F35: =+'FLUJO DE CARTERA'!F212 -> 23000000 | G35: =+'FLUJO DE CARTERA'!G212 -> 23000000 | H35: =+'FLUJO DE CARTERA'!H212 -> 23000000 | I35: =+'FLUJO DE CARTERA'!I212 -> 23000000 | J35: =+'FLUJO DE CARTERA'!J212 -> 23000000 | ... BJ35: =+'FLUJO DE CARTERA'!BJ212 -> 30133900
A36: =+'EF. Anuales'!A36 -> Disminución de Inversiones | C36: =+anexos!B6 -> 0 | D36: =+anexos!C6 -> 0 | E36: =+anexos!D6 -> 0 | F36: =+anexos!E6 -> 0 | G36: =+anexos!F6 -> 0 | H36: =+anexos!G6 -> 0 | I36: =+anexos!H6 -> 0 | J36: =+anexos!I6 -> 0 | ... BJ36: =+anexos!BI6 -> 0
A37: =+'EF. Anuales'!A37 -> Admtivos, Sociales, comisiones | C37: =+C61 -> 775150.02 | D37: =+D61 -> 775150.02 | E37: =+E61 -> 775150.02 | F37: =+F61 -> 775150.02 | G37: =+G61 -> 775150.02 | H37: =+H61 -> 775150.02 | I37: =+I61 -> 775150.02 | J37: =+J61 -> 775150.02 | ... BJ37: =+BJ61 -> 959802.91
A38: Ventas de PPE | C38: =+anexos!B40 -> 0 | D38: =+anexos!C40 -> 0 | E38: =+anexos!D40 -> 0 | F38: =+anexos!E40 -> 0 | G38: =+anexos!F40 -> 0 | H38: =+anexos!G40 -> 0 | I38: =+anexos!H40 -> 0 | J38: =+anexos!I40 -> 0 | ... BJ38: =+anexos!BI40 -> 0
A39: =+'EF. Anuales'!A39 -> Nuevas obligaciones | C39: =IF(+SUM(C28:C37)>C53,0,(C53-SUM(C28:C37))*1.5) -> 0 | D39: =IF(+SUM(D28:D37)>D53,0,(D53-SUM(D28:D37))*1.5) -> 0 | E39: =IF(+SUM(E28:E37)>E53,0,(E53-SUM(E28:E37))*1.5) -> 0 | F39: =IF(+SUM(F28:F37)>F53,0,(F53-SUM(F28:F37))*1.5) -> 0 | G39: =IF(+SUM(G28:G37)>G53,0,(G53-SUM(G28:G37))*1.5) -> 0 | H39: =IF(+SUM(H28:H37)>H53,0,(H53-SUM(H28:H37))*1.5) -> 0 | I39: =IF(+SUM(I28:I37)>I53,0,(I53-SUM(I28:I37))*1.5) -> 0 | J39: =IF(+SUM(J28:J37)>J53,0,(J53-SUM(J28:J37))*1.5) -> 0 | ... BJ39: =IF(+SUM(BJ28:BJ37)>BJ53,0,(BJ53-SUM(BJ28:BJ37))*1.5) -> 2.4500502e+08
A40: TOTAL ENTRADAS | C40: =SUM(C29:C39) -> 7.0723019e+08 | D40: =SUM(D29:D39) -> 7.0843054e+08 | E40: =SUM(E29:E39) -> 7.0968302e+08 | F40: =SUM(F29:F39) -> 8.544221e+08 | G40: =SUM(G29:G39) -> 7.1576253e+08 | H40: =SUM(H29:H39) -> 7.1696671e+08 | I40: =SUM(I29:I39) -> 7.181455e+08 | J40: =SUM(J29:J39) -> 7.2111005e+08 | ... BJ40: =SUM(BJ29:BJ39) -> 1.2599588e+09
A41: =+'EF. Anuales'!A41 -> Desembolsos NETOS | C41: =+anexos!B12-anexos!B13 -> 405000000 | D41: =+anexos!C12-anexos!C13 -> 405000000 | E41: =+anexos!D12-anexos!D13 -> 405000000 | F41: =+anexos!E12-anexos!E13 -> 405000000 | G41: =+anexos!F12-anexos!F13 -> 405000000 | H41: =+anexos!G12-anexos!G13 -> 405000000 | I41: =+anexos!H12-anexos!H13 -> 405000000 | J41: =+anexos!I12-anexos!I13 -> 405000000 | ... BJ41: =+anexos!BI12-anexos!BI13 -> 6.1373169e+08
A42: =+'EF. Anuales'!A42 -> Retiro Aportes en Efectivo (Remanentes) | C42: =+anexos!B109-'FLUJO DE CARTERA'!C190 -> 0 | D42: =+anexos!C109-'FLUJO DE CARTERA'!D190 -> 0 | E42: =+anexos!D109-'FLUJO DE CARTERA'!E190 -> 0 | F42: =+anexos!E109-'FLUJO DE CARTERA'!F190 -> 0 | G42: =+anexos!F109-'FLUJO DE CARTERA'!G190 -> 0 | H42: =+anexos!G109-'FLUJO DE CARTERA'!H190 -> 0 | I42: =+anexos!H109-'FLUJO DE CARTERA'!I190 -> 73886650 | J42: =+anexos!I109-'FLUJO DE CARTERA'!J190 -> 0 | ... BJ42: =+anexos!BI109-'FLUJO DE CARTERA'!BJ190 -> 72543094
...

Sheet posible retiro
A1: No | B1: CEDULA | C1: DIRECCION | D1: APORTES | E1: PERMANENTE | F1: CREDITOS | G1: CDAT | H1: TOTAL AHORRO
D27: =SUM(D2:D26) -> 0 | E27: =SUM(E2:E26) -> 0 | F27: =SUM(F2:F26) -> 0 | G27: =SUM(G2:G26) -> 0 | H27: =SUM(H2:H26) -> 0

Sheet Colocaciones 1er Año
A1: APROBACIONES | B1: =+anexos!B2 -> 44957 | C1: =+anexos!C2 -> 44985 | D1: =+anexos!D2 -> 45016 | E1: =+anexos!E2 -> 45046 | F1: =+anexos!F2 -> 45077 | G1: =+anexos!G2 -> 45107 | H1: =+anexos!H2 -> 45138 | I1: =+anexos!I2 -> 45169 | ... M1: =+anexos!M2 -> 45291
A2: LINEA 1 | B2: 450000000 | C2: =+B2 -> 450000000 | D2: =+C2 -> 450000000 | E2: =+D2 -> 450000000 | F2: =+E2 -> 450000000 | G2: =+F2 -> 450000000 | H2: =+G2 -> 450000000 | I2: =+H2 -> 450000000 | J2: =+I2 -> 450000000 | ... M2: =+L2 -> 450000000
A3: LINEA 2 | B3: 0 | C3: =+B3 -> 0 | D3: =+C3 -> 0 | E3: =+D3 -> 0 | F3: =+E3 -> 0 | G3: =+F3 -> 0 | H3: =+G3 -> 0 | I3: =+H3 -> 0 | J3: =+I3 -> 0 | ... M3: =+L3 -> 0
A4: LINEA 3 | B4: 0 | C4: =+B4 -> 0 | D4: =+C4 -> 0 | E4: =+D4 -> 0 | F4: =+E4 -> 0 | G4: =+F4 -> 0 | H4: =+G4 -> 0 | I4: =+H4 -> 0 | J4: =+I4 -> 0 | ... M4: =+L4 -> 0
A5: LINEA 4 | B5: 0 | C5: =+B5 -> 0 | D5: =+C5 -> 0 | E5: =+D5 -> 0 | F5: =+E5 -> 0 | G5: =+F5 -> 0 | H5: =+G5 -> 0 | I5: =+H5 -> 0 | J5: =+I5 -> 0 | ... M5: =+L5 -> 0
A6: LINEA 5 | B6: 0 | C6: =+B6 -> 0 | D6: =+C6 -> 0 | E6: =+D6 -> 0 | F6: =+E6 -> 0 | G6: =+F6 -> 0 | H6: =+G6 -> 0 | I6: =+H6 -> 0 | J6: =+I6 -> 0 | ... M6: =+L6 -> 0
A7: LINEA 6 | B7: 0 | C7: =+B7 -> 0 | D7: =+C7 -> 0 | E7: =+D7 -> 0 | F7: =+E7 -> 0 | G7: =+F7 -> 0 | H7: =+G7 -> 0 | I7: =+H7 -> 0 | J7: =+I7 -> 0 | ... M7: =+L7 -> 0
A8: LINEA 7 | B8: 0 | C8: =+B8 -> 0 | D8: =+C8 -> 0 | E8: =+D8 -> 0 | F8: =+E8 -> 0 | G8: =+F8 -> 0 | H8: =+G8 -> 0 | I8: =+H8 -> 0 | J8: =+I8 -> 0 | ... M8: =+L8 -> 0
A9: LINEA 8 | B9: 0 | C9: =+B9 -> 0 | D9: =+C9 -> 0 | E9: =+D9 -> 0 | F9: =+E9 -> 0 | G9: =+F9 -> 0 | H9: =+G9 -> 0 | I9: =+H9 -> 0 | J9: =+I9 -> 0 | ... M9: =+L9 -> 0
A10: TOTAL | B10: =SUM(B2:B9) -> 450000000 | C10: =SUM(C2:C9) -> 450000000 | D10: =SUM(D2:D9) -> 450000000 | E10: =SUM(E2:E9) -> 450000000 | F10: =SUM(F2:F9) -> 450000000 | G10: =SUM(G2:G9) -> 450000000 | H10: =SUM(H2:H9) -> 450000000 | I10: =SUM(I2:I9) -> 450000000 | ... M10: =SUM(M2:M9) -> 450000000
A13: REFINANCIACIONES | B13: =+B1 -> 44957 | C13: =+C1 -> 44985 | D13: =+D1 -> 45016 | E13: =+E1 -> 45046 | F13: =+F1 -> 45077 | G13: =+G1 -> 45107 | H13: =+H1 -> 45138 | I13: =+I1 -> 45169 | ... M13: =+M1 -> 45291
A14: =+A2 -> LINEA 1 | B14: =+B2*PARÁMETROS!$C$6 -> 45000000 | C14: =+C2*PARÁMETROS!$C$6 -> 45000000 | D14: =+D2*PARÁMETROS!$C$6 -> 45000000 | E14: =+E2*PARÁMETROS!$C$6 -> 45000000 | F14: =+F2*PARÁMETROS!$C$6 -> 45000000 | G14: =+G2*PARÁMETROS!$C$6 -> 45000000 | H14: =+H2*PARÁMETROS!$C$6 -> 45000000 | I14: =+I2*PARÁMETROS!$C$6 -> 45000000 | ... M14: =+M2*PARÁMETROS!$C$6 -> 45000000
A15: =+A3 -> LINEA 2 | B15: =+B3*PARÁMETROS!$C$6 -> 0 | C15: =+C3*PARÁMETROS!$C$6 -> 0 | D15: =+D3*PARÁMETROS!$C$6 -> 0 | E15: =+E3*PARÁMETROS!$C$6 -> 0 | F15: =+F3*PARÁMETROS!$C$6 -> 0 | G15: =+G3*PARÁMETROS!$C$6 -> 0 | H15: =+H3*PARÁMETROS!$C$6 -> 0 | I15: =+I3*PARÁMETROS!$C$6 -> 0 | ... M15: =+M3*PARÁMETROS!$C$6 -> 0
A16: =+A4 -> LINEA 3 | B16: =+B4*PARÁMETROS!$C$6 -> 0 | C16: =+C4*PARÁMETROS!$C$6 -> 0 | D16: =+D4*PARÁMETROS!$C$6 -> 0 | E16: =+E4*PARÁMETROS!$C$6 -> 0 | F16: =+F4*PARÁMETROS!$C$6 -> 0 | G16: =+G4*PARÁMETROS!$C$6 -> 0 | H16: =+H4*PARÁMETROS!$C$6 -> 0 | I16: =+I4*PARÁMETROS!$C$6 -> 0 | ... M16: =+M4*PARÁMETROS!$C$6 -> 0
A17: =+A5 -> LINEA 4 | B17: =+B5*PARÁMETROS!$C$6 -> 0 | C17: =+C5*PARÁMETROS!$C$6 -> 0 | D17: =+D5*PARÁMETROS!$C$6 -> 0 | E17: =+E5*PARÁMETROS!$C$6 -> 0 | F17: =+F5*PARÁMETROS!$C$6 -> 0 | G17: =+G5*PARÁMETROS!$C$6 -> 0 | H17: =+H5*PARÁMETROS!$C$6 -> 0 | I17: =+I5*PARÁMETROS!$C$6 -> 0 | ... M17: =+M5*PARÁMETROS!$C$6 -> 0
A18: =+A6 -> LINEA 5 | B18: =+B6*PARÁMETROS!$C$6 -> 0 | C18: =+C6*PARÁMETROS!$C$6 -> 0 | D18: =+D6*PARÁMETROS!$C$6 -> 0 | E18: =+E6*PARÁMETROS!$C$6 -> 0 | F18: =+F6*PARÁMETROS!$C$6 -> 0 | G18: =+G6*PARÁMETROS!$C$6 -> 0 | H18: =+H6*PARÁMETROS!$C$6 -> 0 | I18: =+I6*PARÁMETROS!$C$6 -> 0 | ... M18: =+M6*PARÁMETROS!$C$6 -> 0
A19: =+A7 -> LINEA 6 | B19: =+B7*PARÁMETROS!$C$6 -> 0 | C19: =+C7*PARÁMETROS!$C$6 -> 0 | D19: =+D7*PARÁMETROS!$C$6 -> 0 | E19: =+E7*PARÁMETROS!$C$6 -> 0 | F19: =+F7*PARÁMETROS!$C$6 -> 0 | G19: =+G7*PARÁMETROS!$C$6 -> 0 | H19: =+H7*PARÁMETROS!$C$6 -> 0 | I19: =+I7*PARÁMETROS!$C$6 -> 0 | ... M19: =+M7*PARÁMETROS!$C$6 -> 0
A20: =+A8 -> LINEA 7 | B20: =+B8*PARÁMETROS!$C$6 -> 0 | C20: =+C8*PARÁMETROS!$C$6 -> 0 | D20: =+D8*PARÁMETROS!$C$6 -> 0 | E20: =+E8*PARÁMETROS!$C$6 -> 0 | F20: =+F8*PARÁMETROS!$C$6 -> 0 | G20: =+G8*PARÁMETROS!$C$6 -> 0 | H20: =+H8*PARÁMETROS!$C$6 -> 0 | I20: =+I8*PARÁMETROS!$C$6 -> 0 | ... M20: =+M8*PARÁMETROS!$C$6 -> 0
A21: =+A9 -> LINEA 8 | B21: =+B9*PARÁMETROS!$C$6 -> 0 | C21: =+C9*PARÁMETROS!$C$6 -> 0 | D21: =+D9*PARÁMETROS!$C$6 -> 0 | E21: =+E9*PARÁMETROS!$C$6 -> 0 | F21: =+F9*PARÁMETROS!$C$6 -> 0 | G21: =+G9*PARÁMETROS!$C$6 -> 0 | H21: =+H9*PARÁMETROS!$C$6 -> 0 | I21: =+I9*PARÁMETROS!$C$6 -> 0 | ... M21: =+M9*PARÁMETROS!$C$6 -> 0
A22: TOTAL | B22: =SUM(B14:B21) -> 45000000 | C22: =SUM(C14:C21) -> 45000000 | D22: =SUM(D14:D21) -> 45000000 | E22: =SUM(E14:E21) -> 45000000 | F22: =SUM(F14:F21) -> 45000000 | G22: =SUM(G14:G21) -> 45000000 | H22: =SUM(H14:H21) -> 45000000 | I22: =SUM(I14:I21) -> 45000000 | ... M22: =SUM(M14:M21) -> 45000000

Sheet Gastos Generales 2021-2024
J1: Año 2023 | K1: Año 2024 | L1: Año 2025 | M1: Año 2026 | N1: Año 2027
A2: IPC | J2: =+PARÁMETROS!B2 -> 0.11 | K2: =+PARÁMETROS!C2 -> 0.08 | L2: =+PARÁMETROS!D2 -> 0.06 | M2: =+PARÁMETROS!E2 -> 0.04 | N2: =+PARÁMETROS!F2 -> 0.04
A3: INCREMENTO | J3: =+PARÁMETROS!C3 -> 0.11 | K3: =+PARÁMETROS!D3 -> 0.08 | L3: =+PARÁMETROS!E3 -> 0.06 | M3: =+PARÁMETROS!F3 -> 0.04 | N3: =+PARÁMETROS!G3 -> 0.04
A5: CUC | B5: GASTO | C5: =+CUC!D2 -> 43435 | D5: =+CUC!E2 -> 43800 | E5: =+CUC!F2 -> 44166 | F5: =+CUC!G2 -> 44531 | G5: =+CUC!H2 -> 44896 | H5: Año 2023 | I5: ppto mes | J5: =+anexos!B90 -> 44957 | K5: =+anexos!C90 -> 44985 | L5: =+anexos!D90 -> 45016 | M5: =+anexos!E90 -> 45046 | N5: =+anexos!F90 -> 45077 | O5: =+anexos!G90 -> 45107 | P5: =+anexos!H90 -> 45138 | Q5: =+anexos!I90 -> 45169 | ... BQ5: =+anexos!BI90 -> 46752
A6: =+CUC!A1439 -> 510501 | B6: =+CUC!B1439 -> SALARIO INTEGRAL | C6: =+CUC!D1439 -> 102113334 | D6: =+CUC!E1439 -> 131086667 | E6: =+CUC!F1439 -> 135940619 | F6: =+CUC!G1439 -> 140698187 | G6: =+CUC!H1439 -> 1.5383102e+08 | H6: =+SUM(J6:U6) -> 1.7075244e+08 | I6: =+G6/12*(1+J$3) -> 14229370 | J6: =+I6 -> 14229370 | K6: =+J6 -> 14229370 | L6: =+K6 -> 14229370 | M6: =+L6 -> 14229370 | N6: =+M6 -> 14229370 | O6: =+N6 -> 14229370 | P6: =+O6 -> 14229370 | Q6: =+P6 -> 14229370 | ... U6: =+T6 -> 14229370 | V6: =+J6*(1+$J$3) -> 15794600 | W6: =+K6*(1+$J$3) -> 15794600 | X6: =+L6*(1+$J$3) -> 15794600 | Y6: =+M6*(1+$J$3) -> 15794600 | Z6: =+N6*(1+$J$3) -> 15794600 | AA6: =+O6*(1+$J$3) -> 15794600 | AB6: =+P6*(1+$J$3) -> 15794600 | AC6: =+Q6*(1+$J$3) -> 15794600 | ... AG6: =+U6*(1+$J$3) -> 15794600 | AH6: =+V6*(1+$K$3) -> 17058168 | AI6: =+W6*(1+$K$3) -> 17058168 | AJ6: =+X6*(1+$K$3) -> 17058168 | AK6: =+Y6*(1+$K$3) -> 17058168 | AL6: =+Z6*(1+$K$3) -> 17058168 | AM6: =+AA6*(1+$K$3) -> 17058168 | AN6: =+AB6*(1+$K$3) -> 17058168 | AO6: =+AC6*(1+$K$3) -> 17058168 | ... AS6: =+AG6*(1+$K$3) -> 17058168 | AT6: =+AH6*(1+$L$3) -> 18081658 | AU6: =+AI6*(1+$L$3) -> 18081658 | AV6: =+AJ6*(1+$L$3) -> 18081658 | AW6: =+AK6*(1+$L$3) -> 18081658 | AX6: =+AL6*(1+$L$3) -> 18081658 | AY6: =+AM6*(1+$L$3) -> 18081658 | AZ6: =+AN6*(1+$L$3) -> 18081658 | BA6: =+AO6*(1+$L$3) -> 18081658 | ... BE6: =+AS6*(1+$L$3) -> 18081658 | BF6: =+AT6*(1+$M$3) -> 18804925 | BG6: =+AU6*(1+$M$3) -> 18804925 | BH6: =+AV6*(1+$M$3) -> 18804925 | BI6: =+AW6*(1+$M$3) -> 18804925 | BJ6: =+AX6*(1+$M$3) -> 18804925 | BK6: =+AY6*(1+$M$3) -> 18804925 | BL6: =+AZ6*(1+$M$3) -> 18804925 | BM6: =+BA6*(1+$M$3) -> 18804925 | ... BQ6: =+BE6*(1+$M$3) -> 18804925
A7: =+CUC!A1440 -> 510502 | B7: =+CUC!B1440 -> DE REPRESENTACION | C7: =+CUC!D1440 -> 0 | D7: =+CUC!E1440 -> 0 | E7: =+CUC!F1440 -> 0 | F7: =+CUC!G1440 -> 0 | G7: =+CUC!H1440 -> 0 | H7: =+SUM(J7:U7) -> 0 | I7: =+G7/12*(1+J$3) -> 0 | J7: =+I7 -> 0 | K7: =+J7 -> 0 | L7: =+K7 -> 0 | M7: =+L7 -> 0 | N7: =+M7 -> 0 | O7: =+N7 -> 0 | P7: =+O7 -> 0 | Q7: =+P7 -> 0 | ... U7: =+T7 -> 0 | V7: =+J7*(1+$J$3) -> 0 | W7: =+K7*(1+$J$3) -> 0 | X7: =+L7*(1+$J$3) -> 0 | Y7: =+M7*(1+$J$3) -> 0 | Z7: =+N7*(1+$J$3) -> 0 | AA7: =+O7*(1+$J$3) -> 0 | AB7: =+P7*(1+$J$3) -> 0 | AC7: =+Q7*(1+$J$3) -> 0 | ... AG7: =+U7*(1+$J$3) -> 0 | AH7: =+V7*(1+$K$3) -> 0 | AI7: =+W7*(1+$K$3) -> 0 | AJ7: =+X7*(1+$K$3) -> 0 | AK7: =+Y7*(1+$K$3) -> 0 | AL7: =+Z7*(1+$K$3) -> 0 | AM7: =+AA7*(1+$K$3) -> 0 | AN7: =+AB7*(1+$K$3) -> 0 | AO7: =+AC7*(1+$K$3) -> 0 | ... AS7: =+AG7*(1+$K$3) -> 0 | AT7: =+AH7*(1+$L$3) -> 0 | AU7: =+AI7*(1+$L$3) -> 0 | AV7: =+AJ7*(1+$L$3) -> 0 | AW7: =+AK7*(1+$L$3) -> 0 | AX7: =+AL7*(1+$L$3) -> 0 | AY7: =+AM7*(1+$L$3) -> 0 | AZ7: =+AN7*(1+$L$3) -> 0 | BA7: =+AO7*(1+$L$3) -> 0 | ... BE7: =+AS7*(1+$L$3) -> 0 | BF7: =+AT7*(1+$M$3) -> 0 | BG7: =+AU7*(1+$M$3) -> 0 | BH7: =+AV7*(1+$M$3) -> 0 | BI7: =+AW7*(1+$M$3) -> 0 | BJ7: =+AX7*(1+$M$3) -> 0 | BK7: =+AY7*(1+$M$3) -> 0 | BL7: =+AZ7*(1+$M$3) -> 0 | BM7: =+BA7*(1+$M$3) -> 0 | ... BQ7: =+BE7*(1+$M$3) -> 0
A8: =+CUC!A1441 -> 510503 | B8: =+CUC!B1441 -> SUELDOS | C8: =+CUC!D1441 -> 241463868 | D8: =+CUC!E1441 -> 225373745 | E8: =+CUC!F1441 -> 244786393 | F8: =+CUC!G1441 -> 248114514 | G8: =+CUC!H1441 -> 2.904816e+08 | H8: =+SUM(J8:U8) -> 3.2243457e+08 | I8: =+G8/12*(1+J$3) -> 26869548 | J8: =+I8 -> 26869548 | K8: =+J8 -> 26869548 | L8: =+K8 -> 26869548 | M8: =+L8 -> 26869548 | N8: =+M8 -> 26869548 | O8: =+N8 -> 26869548 | P8: =+O8 -> 26869548 | Q8: =+P8 -> 26869548 | ... U8: =+T8 -> 26869548 | V8: =+J8*(1+$J$3) -> 29825198 | W8: =+K8*(1+$J$3) -> 29825198 | X8: =+L8*(1+$J$3) -> 29825198 | Y8: =+M8*(1+$J$3) -> 29825198 | Z8: =+N8*(1+$J$3) -> 29825198 | AA8: =+O8*(1+$J$3) -> 29825198 | AB8: =+P8*(1+$J$3) -> 29825198 | AC8: =+Q8*(1+$J$3) -> 29825198 | ... AG8: =+U8*(1+$J$3) -> 29825198 | AH8: =+V8*(1+$K$3) -> 32211214 | AI8: =+W8*(1+$K$3) -> 32211214 | AJ8: =+X8*(1+$K$3) -> 32211214 | AK8: =+Y8*(1+$K$3) -> 32211214 | AL8: =+Z8*(1+$K$3) -> 32211214 | AM8: =+AA8*(1+$K$3) -> 32211214 | AN8: =+AB8*(1+$K$3) -> 32211214 | AO8: =+AC8*(1+$K$3) -> 32211214 | ... AS8: =+AG8*(1+$K$3) -> 32211214 | AT8: =+AH8*(1+$L$3) -> 34143887 | AU8: =+AI8*(1+$L$3) -> 34143887 | AV8: =+AJ8*(1+$L$3) -> 34143887 | AW8: =+AK8*(1+$L$3) -> 34143887 | AX8: =+AL8*(1+$L$3) -> 34143887 | AY8: =+AM8*(1+$L$3) -> 34143887 | AZ8: =+AN8*(1+$L$3) -> 34143887 | BA8: =+AO8*(1+$L$3) -> 34143887 | ... BE8: =+AS8*(1+$L$3) -> 34143887 | BF8: =+AT8*(1+$M$3) -> 35509642 | BG8: =+AU8*(1+$M$3) -> 35509642 | BH8: =+AV8*(1+$M$3) -> 35509642 | BI8: =+AW8*(1+$M$3) -> 35509642 | BJ8: =+AX8*(1+$M$3) -> 35509642 | BK8: =+AY8*(1+$M$3) -> 35509642 | BL8: =+AZ8*(1+$M$3) -> 35509642 | BM8: =+BA8*(1+$M$3) -> 35509642 | ... BQ8: =+BE8*(1+$M$3) -> 35509642
A9: =+CUC!A1442 -> 510504 | B9: =+CUC!B1442 -> JORNALES | C9: =+CUC!D1442 -> 0 | D9: =+CUC!E1442 -> 0 | E9: =+CUC!F1442 -> 0 | F9: =+CUC!G1442 -> 0 | G9: =+CUC!H1442 -> 0 | H9: =+SUM(J9:U9) -> 0 | I9: =+G9/12*(1+J$3) -> 0 | J9: =+I9 -> 0 | K9: =+J9 -> 0 | L9: =+K9 -> 0 | M9: =+L9 -> 0 | N9: =+M9 -> 0 | O9: =+N9 -> 0 | P9: =+O9 -> 0 | Q9: =+P9 -> 0 | ... U9: =+T9 -> 0 | V9: =+J9*(1+$J$3) -> 0 | W9: =+K9*(1+$J$3) -> 0 | X9: =+L9*(1+$J$3) -> 0 | Y9: =+M9*(1+$J$3) -> 0 | Z9: =+N9*(1+$J$3) -> 0 | AA9: =+O9*(1+$J$3) -> 0 | AB9: =+P9*(1+$J$3) -> 0 | AC9: =+Q9*(1+$J$3) -> 0 | ... AG9: =+U9*(1+$J$3) -> 0 | AH9: =+V9*(1+$K$3) -> 0 | AI9: =+W9*(1+$K$3) -> 0 | AJ9: =+X9*(1+$K$3) -> 0 | AK9: =+Y9*(1+$K$3) -> 0 | AL9: =+Z9*(1+$K$3) -> 0 | AM9: =+AA9*(1+$K$3) -> 0 | AN9: =+AB9*(1+$K$3) -> 0 | AO9: =+AC9*(1+$K$3) -> 0 | ... AS9: =+AG9*(1+$K$3) -> 0 | AT9: =+AH9*(1+$L$3) -> 0 | AU9: =+AI9*(1+$L$3) -> 0 | AV9: =+AJ9*(1+$L$3) -> 0 | AW9: =+AK9*(1+$L$3) -> 0 | AX9: =+AL9*(1+$L$3) -> 0 | AY9: =+AM9*(1+$L$3) -> 0 | AZ9: =+AN9*(1+$L$3) -> 0 | BA9: =+AO9*(1+$L$3) -> 0 | ... BE9: =+AS9*(1+$L$3) -> 0 | BF9: =+AT9*(1+$M$3) -> 0 | BG9: =+AU9*(1+$M$3) -> 0 | BH9: =+AV9*(1+$M$3) -> 0 | BI9: =+AW9*(1+$M$3) -> 0 | BJ9: =+AX9*(1+$M$3) -> 0 | BK9: =+AY9*(1+$M$3) -> 0 | BL9: =+AZ9*(1+$M$3) -> 0 | BM9: =+BA9*(1+$M$3) -> 0 | ... BQ9: =+BE9*(1+$M$3) -> 0
A10: =+CUC!A1443 -> 510505 | B10: =+CUC!B1443 -> HORAS EXTRAS | C10: =+CUC!D1443 -> 0 | D10: =+CUC!E1443 -> 0 | E10: =+CUC!F1443 -> 0 | F10: =+CUC!G1443 -> 0 | G10: =+CUC!H1443 -> 0 | H10: =+SUM(J10:U10) -> 0 | I10: =+G10/12*(1+J$3) -> 0 | J10: =+I10 -> 0 | K10: =+J10 -> 0 | L10: =+K10 -> 0 | M10: =+L10 -> 0 | N10: =+M10 -> 0 | O10: =+N10 -> 0 | P10: =+O10 -> 0 | Q10: =+P10 -> 0 | ... U10: =+T10 -> 0 | V10: =+J10*(1+$J$3) -> 0 | W10: =+K10*(1+$J$3) -> 0 | X10: =+L10*(1+$J$3) -> 0 | Y10: =+M10*(1+$J$3) -> 0 | Z10: =+N10*(1+$J$3) -> 0 | AA10: =+O10*(1+$J$3) -> 0 | AB10: =+P10*(1+$J$3) -> 0 | AC10: =+Q10*(1+$J$3) -> 0 | ... AG10: =+U10*(1+$J$3) -> 0 | AH10: =+V10*(1+$K$3) -> 0 | AI10: =+W10*(1+$K$3) -> 0 | AJ10: =+X10*(1+$K$3) -> 0 | AK10: =+Y10*(1+$K$3) -> 0 | AL10: =+Z10*(1+$K$3) -> 0 | AM10: =+AA10*(1+$K$3) -> 0 | AN10: =+AB10*(1+$K$3) -> 0 | AO10: =+AC10*(1+$K$3) -> 0 | ... AS10: =+AG10*(1+$K$3) -> 0 | AT10: =+AH10*(1+$L$3) -> 0 | AU10: =+AI10*(1+$L$3) -> 0 | AV10: =+AJ10*(1+$L$3) -> 0 | AW10: =+AK10*(1+$L$3) -> 0 | AX10: =+AL10*(1+$L$3) -> 0 | AY10: =+AM10*(1+$L$3) -> 0 | AZ10: =+AN10*(1+$L$3) -> 0 | BA10: =+AO10*(1+$L$3) -> 0 | ... BE10: =+AS10*(1+$L$3) -> 0 | BF10: =+AT10*(1+$M$3) -> 0 | BG10: =+AU10*(1+$M$3) -> 0 | BH10: =+AV10*(1+$M$3) -> 0 | BI10: =+AW10*(1+$M$3) -> 0 | BJ10: =+AX10*(1+$M$3) -> 0 | BK10: =+AY10*(1+$M$3) -> 0 | BL10: =+AZ10*(1+$M$3) -> 0 | BM10: =+BA10*(1+$M$3) -> 0 | ... BQ10: =+BE10*(1+$M$3) -> 0
A11: =+CUC!A1444 -> 510506 | B11: =+CUC!B1444 -> COMISIONES | C11: =+CUC!D1444 -> 0 | D11: =+CUC!E1444 -> 0 | E11: =+CUC!F1444 -> 0 | F11: =+CUC!G1444 -> 0 | G11: =+CUC!H1444 -> 0 | H11: =+SUM(J11:U11) -> 0 | I11: =+G11/12*(1+J$3) -> 0 | J11: =+I11 -> 0 | K11: =+J11 -> 0 | L11: =+K11 -> 0 | M11: =+L11 -> 0 | N11: =+M11 -> 0 | O11: =+N11 -> 0 | P11: =+O11 -> 0 | Q11: =+P11 -> 0 | ... U11: =+T11 -> 0 | V11: =+J11*(1+$J$3) -> 0 | W11: =+K11*(1+$J$3) -> 0 | X11: =+L11*(1+$J$3) -> 0 | Y11: =+M11*(1+$J$3) -> 0 | Z11: =+N11*(1+$J$3) -> 0 | AA11: =+O11*(1+$J$3) -> 0 | AB11: =+P11*(1+$J$3) -> 0 | AC11: =+Q11*(1+$J$3) -> 0 | ... AG11: =+U11*(1+$J$3) -> 0 | AH11: =+V11*(1+$K$3) -> 0 | AI11: =+W11*(1+$K$3) -> 0 | AJ11: =+X11*(1+$K$3) -> 0 | AK11: =+Y11*(1+$K$3) -> 0 | AL11: =+Z11*(1+$K$3) -> 0 | AM11: =+AA11*(1+$K$3) -> 0 | AN11: =+AB11*(1+$K$3) -> 0 | AO11: =+AC11*(1+$K$3) -> 0 | ... AS11: =+AG11*(1+$K$3) -> 0 | AT11: =+AH11*(1+$L$3) -> 0 | AU11: =+AI11*(1+$L$3) -> 0 | AV11: =+AJ11*(1+$L$3) -> 0 | AW11: =+AK11*(1+$L$3) -> 0 | AX11: =+AL11*(1+$L$3) -> 0 | AY11: =+AM11*(1+$L$3) -> 0 | AZ11: =+AN11*(1+$L$3) -> 0 | BA11: =+AO11*(1+$L$3) -> 0 | ... BE11: =+AS11*(1+$L$3) -> 0 | BF11: =+AT11*(1+$M$3) -> 0 | BG11: =+AU11*(1+$M$3) -> 0 | BH11: =+AV11*(1+$M$3) -> 0 | BI11: =+AW11*(1+$M$3) -> 0 | BJ11: =+AX11*(1+$M$3) -> 0 | BK11: =+AY11*(1+$M$3) -> 0 | BL11: =+AZ11*(1+$M$3) -> 0 | BM11: =+BA11*(1+$M$3) -> 0 | ... BQ11: =+BE11*(1+$M$3) -> 0
A12: =+CUC!A1445 -> 510507 | B12: =+CUC!B1445 -> VIATICOS | C12: =+CUC!D1445 -> 0 | D12: =+CUC!E1445 -> 0 | E12: =+CUC!F1445 -> 0 | F12: =+CUC!G1445 -> 0 | G12: =+CUC!H1445 -> 0 | H12: =+SUM(J12:U12) -> 0 | I12: =+G12/12*(1+J$3) -> 0 | J12: =+I12 -> 0 | K12: =+J12 -> 0 | L12: =+K12 -> 0 | M12: =+L12 -> 0 | N12: =+M12 -> 0 | O12: =+N12 -> 0 | P12: =+O12 -> 0 | Q12: =+P12 -> 0 | ... U12: =+T12 -> 0 | V12: =+J12*(1+$J$3) -> 0 | W12: =+K12*(1+$J$3) -> 0 | X12: =+L12*(1+$J$3) -> 0 | Y12: =+M12*(1+$J$3) -> 0 | Z12: =+N12*(1+$J$3) -> 0 | AA12: =+O12*(1+$J$3) -> 0 | AB12: =+P12*(1+$J$3) -> 0 | AC12: =+Q12*(1+$J$3) -> 0 | ... AG12: =+U12*(1+$J$3) -> 0 | AH12: =+V12*(1+$K$3) -> 0 | AI12: =+W12*(1+$K$3) -> 0 | AJ12: =+X12*(1+$K$3) -> 0 | AK12: =+Y12*(1+$K$3) -> 0 | AL12: =+Z12*(1+$K$3) -> 0 | AM12: =+AA12*(1+$K$3) -> 0 | AN12: =+AB12*(1+$K$3) -> 0 | AO12: =+AC12*(1+$K$3) -> 0 | ... AS12: =+AG12*(1+$K$3) -> 0 | AT12: =+AH12*(1+$L$3) -> 0 | AU12: =+AI12*(1+$L$3) -> 0 | AV12: =+AJ12*(1+$L$3) -> 0 | AW12: =+AK12*(1+$L$3) -> 0 | AX12: =+AL12*(1+$L$3) -> 0 | AY12: =+AM12*(1+$L$3) -> 0 | AZ12: =+AN12*(1+$L$3) -> 0 | BA12: =+AO12*(1+$L$3) -> 0 | ... BE12: =+AS12*(1+$L$3) -> 0 | BF12: =+AT12*(1+$M$3) -> 0 | BG12: =+AU12*(1+$M$3) -> 0 | BH12: =+AV12*(1+$M$3) -> 0 | BI12: =+AW12*(1+$M$3) -> 0 | BJ12: =+AX12*(1+$M$3) -> 0 | BK12: =+AY12*(1+$M$3) -> 0 | BL12: =+AZ12*(1+$M$3) -> 0 | BM12: =+BA12*(1+$M$3) -> 0 | ... BQ12: =+BE12*(1+$M$3) -> 0
