Workbook
Name ___nit1: #REF!
Name __nit1: #REF!
Name _nit1: #REF!
Name A_impresión_IM: #REF!
Name A_impresión_IM: #REF!
Name aaa: MATCH(0.01,End_Bal,-1)+1
Name agencias: [1]Listas!$U$2:$U$10
Name agencias: [2]Listas!$U$2:$U$10
Name avvillas: #REF!
Name BANCOS: [3]BANCOS!$A$2:$A$25
Name BASE_DATOS_ESTUDIO_CRED: #REF!
Name Beg_Bal: #REF!
Name cartera: #REF!
Name clientes: #REF!
Name clientes: #REF!
Name COD_REPRES: #N/A
Name contador1: 5
Name contador2: 5
Name Data: #REF!
Name depositos: #REF!
Name depositos: #REF!
Name DINERS: #REF!
Name End_Bal: #REF!
Name Extra_Pay: #REF!
Name FECHA: #REF!
Name FECHA: #REF!
Name Full_Print: #REF!
Name Header_Row: ROW(#REF!)
Name Int: #REF!
Name Interest_Rate: #REF!
Name ITEM: #REF!
Name Last_Row: IF([4]COOADAMS!Values_Entered,Header_Row+[4]COOADAMS!Number_of_Payments,Header_Row)
Name Lista: {1,2,3,4;5,6,7,8;9,10,11,12;13,14,15,16}
Name Loan_Amount: #REF!
Name Loan_Start: #REF!
Name Loan_Years: #REF!
Name MONITOR: #REF!
Name MONITOR_AVVILLAS: #REF!
Name Net_Income: #REF!
Name NetIncomeGrowth: #REF!
Name nits: #REF!
Name NOMBRE: [5]ESTUDIO!$L$6
Name NombreRango1: #REF!
Name NombreRango1: #REF!
Name NOMINA: [5]ESTUDIO!$AE$107
Name Num_Pmt_Per_Year: #REF!
Name Number_of_Payments: MATCH(0.01,End_Bal,-1)+1
Name Other_Growth: #REF!
Name Pay_Date: #REF!
Name Pay_Num: #REF!
Name Payment_Date: DATE(YEAR(Loan_Start),MONTH(Loan_Start)+Payment_Number,DAY(Loan_Start))
Name Play: 656277505
Name Princ: #REF!
Name Print_Area_Reset: OFFSET(Full_Print,0,0,Last_Row)
Name Rand1: #REF!
Name Rand2: #REF!
Name RangoBeneficiosNetos: [6]DatosResumen!$B$9:$B$19,[6]DatosResumen!$D$9:$D$19
Name Retail_Growth: #REF!
Name Revenue: #REF!
Name RevenueGrowth: #REF!

Sheet Proyeccion gastos personal
A1: COD | B1: GASTO MES | C1: Alta gerencia integral | D1: Alta gerencia normal | E1: Jefe - Coord | F1: Analista | G1: Comerciales BASE SMLMV | H1: Auxiliar 1 | I1: Oficios Varios SMLMV | J1: % | L1: COD | M1: GASTO MES | N1: 44927 | O1: 44958 | P1: 44986 | Q1: 45017 | R1: 45047 | S1: 45078 | T1: 45108 | U1: 45139 | V1: 45170 | W1: 45200 | X1: 45231 | Y1: 45261
A2: 510501 | B2: SALARIO INTEGRAL | C2: 15453275 | D2: 0 | E2: 0 | F2: 0 | G2: 0 | H2: 0 | I2: 0 | L2: 510501 | M2: SALARIO INTEGRAL | N2: =+SUM(C12:I12) -> 17310000 | O2: =+N2 -> 17310000 | P2: =+O2 -> 17310000 | Q2: =+P2 -> 17310000 | R2: =+Q2 -> 17310000 | S2: =+R2 -> 17310000 | T2: =+S2 -> 17310000 | U2: =+T2 -> 17310000 | V2: =+U2 -> 17310000 | ... Y2: =+X2 -> 17310000
A3: 510502 | B3: DE REPRESENTACIÓN | C3: 0 | D3: 0 | E3: 0 | F3: 0 | G3: 0 | H3: 0 | I3: 0 | L3: 510502 | M3: DE REPRESENTACIÓN | N3: =+SUM(C13:I13) -> 0 | O3: =+N3 -> 0 | P3: =+O3 -> 0 | Q3: =+P3 -> 0 | R3: =+Q3 -> 0 | S3: =+R3 -> 0 | T3: =+S3 -> 0 | U3: =+T3 -> 0 | V3: =+U3 -> 0 | ... Y3: =+X3 -> 0
A4: 510503 | B4: SUELDOS | C4: 0 | D4: 8152362 | E4: 4987562 | F4: 3487561 | G4: 1001462 | H4: 2016325 | I4: 1000000 | L4: 510503 | M4: SUELDOS | N4: =+SUM(C14:I14) -> 23156000 | O4: =+N4 -> 23156000 | P4: =+O4 -> 23156000 | Q4: =+P4 -> 23156000 | R4: =+Q4 -> 23156000 | S4: =+R4 -> 23156000 | T4: =+S4 -> 23156000 | U4: =+T4 -> 23156000 | V4: =+U4 -> 23156000 | ... Y4: =+X4 -> 23156000
A5: 510504 | B5: JORNALES | C5: 0 | D5: 0 | E5: 0 | F5: 0 | G5: 0 | H5: 0 | I5: 0 | L5: 510504 | M5: JORNALES | N5: =+SUM(C15:I15) -> 0 | O5: =+N5 -> 0 | P5: =+O5 -> 0 | Q5: =+P5 -> 0 | R5: =+Q5 -> 0 | S5: =+R5 -> 0 | T5: =+S5 -> 0 | U5: =+T5 -> 0 | V5: =+U5 -> 0 | ... Y5: =+X5 -> 0
A6: 510505 | B6: HORAS EXTRAS | C6: 0 | D6: 0 | E6: 0 | F6: 0 | G6: 0 | H6: 0 | I6: 0 | L6: 510505 | M6: HORAS EXTRAS | N6: =+SUM(C16:I16) -> 0 | O6: =+N6 -> 0 | P6: =+O6 -> 0 | Q6: =+P6 -> 0 | R6: =+Q6 -> 0 | S6: =+R6 -> 0 | T6: =+S6 -> 0 | U6: =+T6 -> 0 | V6: =+U6 -> 0 | ... Y6: =+X6 -> 0
A7: 510506 | B7: COMISIONES | G7: 3000000 | L7: 510506 | M7: COMISIONES | N7: =+SUM(C17:I17) -> 3360000 | O7: =+N7 -> 3360000 | P7: =+O7 -> 3360000 | Q7: =+P7 -> 3360000 | R7: =+Q7 -> 3360000 | S7: =+R7 -> 3360000 | T7: =+S7 -> 3360000 | U7: =+T7 -> 3360000 | V7: =+U7 -> 3360000 | ... Y7: =+X7 -> 3360000
A8: 510507 | B8: VIÁTICOS | C8: 0 | D8: 0 | E8: 0 | F8: 0 | G8: 0 | H8: 0 | I8: 0 | L8: 510507 | M8: VIÁTICOS | N8: =+SUM(C18:I18) -> 0 | O8: =+N8 -> 0 | P8: =+O8 -> 0 | Q8: =+P8 -> 0 | R8: =+Q8 -> 0 | S8: =+R8 -> 0 | T8: =+S8 -> 0 | U8: =+T8 -> 0 | V8: =+U8 -> 0 | ... Y8: =+X8 -> 0
A9: 510508 | B9: INCAPACIDADES | C9: 0 | D9: 0 | E9: 0 | F9: 0 | G9: 0 | H9: 0 | I9: 0 | L9: 510508 | M9: INCAPACIDADES | N9: =+SUM(C19:I19) -> 0 | O9: =+N9 -> 0 | P9: =+O9 -> 0 | Q9: =+P9 -> 0 | R9: =+Q9 -> 0 | S9: =+R9 -> 0 | T9: =+S9 -> 0 | U9: =+T9 -> 0 | V9: =+U9 -> 0 | ... Y9: =+X9 -> 0
A10: 510509 | B10: AUXILIO DE TRANSPORTE | G10: 117172 | H10: 117172 | I10: 117172 | L10: 510509 | M10: AUXILIO DE TRANSPORTE | N10: =+SUM(C20:I20) -> 399000 | O10: =+N10 -> 399000 | P10: =+O10 -> 399000 | Q10: =+P10 -> 399000 | R10: =+Q10 -> 399000 | S10: =+R10 -> 399000 | T10: =+S10 -> 399000 | U10: =+T10 -> 399000 | V10: =+U10 -> 399000 | ... Y10: =+X10 -> 399000
B11: REAJUSTE | C11: 0.12 | D11: 0.12 | E11: 0.12 | F11: 0.12 | G11: 0.12 | H11: 0.12 | I11: 0.15 | L11: 510510 | M11: CESANTÍAS | N11: =+SUM(C21:I21) -> 3685416.7 | O11: =+N11 -> 3685416.7 | P11: =+O11 -> 3685416.7 | Q11: =+P11 -> 3685416.7 | R11: =+Q11 -> 3685416.7 | S11: =+R11 -> 3685416.7 | T11: =+S11 -> 3685416.7 | U11: =+T11 -> 3685416.7 | V11: =+U11 -> 3685416.7 | ... Y11: =+X11 -> 3685416.7
A12: 510501 | B12: SALARIO INTEGRAL | C12: =+CEILING(C2*(1+C$11),10000) -> 17310000 | D12: =+CEILING(D2*(1+D$11),1000) -> 0 | E12: =+CEILING(E2*(1+E$11),1000) -> 0 | F12: =+CEILING(F2*(1+F$11),1000) -> 0 | G12: =+CEILING(G2*(1+G$11),1000) -> 0 | H12: =+CEILING(H2*(1+H$11),1000) -> 0 | I12: =+CEILING(I2*(1+I$11),1000) -> 0 | L12: 510511 | M12: INTERESES SOBRE CESANTÍAS | N12: =+SUM(C22:I22) -> 442250 | O12: =+N12 -> 442250 | P12: =+O12 -> 442250 | Q12: =+P12 -> 442250 | R12: =+Q12 -> 442250 | S12: =+R12 -> 442250 | T12: =+S12 -> 442250 | U12: =+T12 -> 442250 | V12: =+U12 -> 442250 | ... Y12: =+X12 -> 442250
A13: 510502 | B13: DE REPRESENTACIÓN | C13: =+CEILING(C3*(1+C$11),1000) -> 0 | D13: =+CEILING(D3*(1+D$11),1000) -> 0 | E13: =+CEILING(E3*(1+E$11),1000) -> 0 | F13: =+CEILING(F3*(1+F$11),1000) -> 0 | G13: =+CEILING(G3*(1+G$11),1000) -> 0 | H13: =+CEILING(H3*(1+H$11),1000) -> 0 | I13: =+CEILING(I3*(1+I$11),1000) -> 0 | L13: 510512 | M13: PRIMA LEGAL | N13: =+SUM(C23:I23) -> 3685416.7 | O13: =+N13 -> 3685416.7 | P13: =+O13 -> 3685416.7 | Q13: =+P13 -> 3685416.7 | R13: =+Q13 -> 3685416.7 | S13: =+R13 -> 3685416.7 | T13: =+S13 -> 3685416.7 | U13: =+T13 -> 3685416.7 | V13: =+U13 -> 3685416.7 | ... Y13: =+X13 -> 3685416.7
A14: 510503 | B14: SUELDOS | C14: =+CEILING(C4*(1+C$11),1000) -> 0 | D14: =+CEILING(D4*(1+D$11),1000) -> 9131000 | E14: =+CEILING(E4*(1+E$11),1000) -> 5587000 | F14: =+CEILING(F4*(1+F$11),1000) -> 3907000 | G14: =+CEILING(G4*(1+G$11),1000) -> 1122000 | H14: =+CEILING(H4*(1+H$11),1000) -> 2259000 | I14: =+CEILING(I4*(1+I$11),1000) -> 1150000 | L14: 510513 | M14: PRIMA EXTRALEGAL | N14: =+SUM(C24:I24) -> 0 | O14: =+N14 -> 0 | P14: =+O14 -> 0 | Q14: =+P14 -> 0 | R14: =+Q14 -> 0 | S14: =+R14 -> 0 | T14: =+S14 -> 0 | U14: =+T14 -> 0 | V14: =+U14 -> 0 | ... Y14: =+X14 -> 0
A15: 510504 | B15: JORNALES | C15: =+CEILING(C5*(1+C$11),1000) -> 0 | D15: =+CEILING(D5*(1+D$11),1000) -> 0 | E15: =+CEILING(E5*(1+E$11),1000) -> 0 | F15: =+CEILING(F5*(1+F$11),1000) -> 0 | G15: =+CEILING(G5*(1+G$11),1000) -> 0 | H15: =+CEILING(H5*(1+H$11),1000) -> 0 | I15: =+CEILING(I5*(1+I$11),1000) -> 0 | L15: 510514 | M15: PRIMA DE VACACIONES | N15: =+SUM(C25:I25) -> 0 | O15: =+N15 -> 0 | P15: =+O15 -> 0 | Q15: =+P15 -> 0 | R15: =+Q15 -> 0 | S15: =+R15 -> 0 | T15: =+S15 -> 0 | U15: =+T15 -> 0 | V15: =+U15 -> 0 | ... Y15: =+X15 -> 0
A16: 510505 | B16: HORAS EXTRAS | C16: =+CEILING(C6*(1+C$11),1000) -> 0 | D16: =+CEILING(D6*(1+D$11),1000) -> 0 | E16: =+CEILING(E6*(1+E$11),1000) -> 0 | F16: =+CEILING(F6*(1+F$11),1000) -> 0 | G16: =+CEILING(G6*(1+G$11),1000) -> 0 | H16: =+CEILING(H6*(1+H$11),1000) -> 0 | I16: =+CEILING(I6*(1+I$11),1000) -> 0 | L16: 510515 | M16: PRIMA DE ANTIGÜEDAD | N16: =+SUM(C26:I26) -> 0 | O16: =+N16 -> 0 | P16: =+O16 -> 0 | Q16: =+P16 -> 0 | R16: =+Q16 -> 0 | S16: =+R16 -> 0 | T16: =+S16 -> 0 | U16: =+T16 -> 0 | V16: =+U16 -> 0 | ... Y16: =+X16 -> 0
A17: 510506 | B17: COMISIONES | C17: =+CEILING(C7*(1+C$11),1000) -> 0 | D17: =+CEILING(D7*(1+D$11),1000) -> 0 | E17: =+CEILING(E7*(1+E$11),1000) -> 0 | F17: =+CEILING(F7*(1+F$11),1000) -> 0 | G17: =+CEILING(G7*(1+G$11),1000) -> 3360000 | H17: =+CEILING(H7*(1+H$11),1000) -> 0 | I17: =+CEILING(I7*(1+I$11),1000) -> 0 | L17: 510516 | M17: VACACIONES | N17: =+SUM(C27:I27) -> 0 | O17: =+N17 -> 0 | P17: =+O17 -> 0 | Q17: =+P17 -> 0 | R17: =+Q17 -> 0 | S17: =+R17 -> 0 | T17: =+S17 -> 0 | U17: =+T17 -> 0 | V17: =+U17 -> 0 | ... Y17: =+X17 -> 0
A18: 510507 | B18: VIÁTICOS | C18: =+CEILING(C8*(1+C$11),1000) -> 0 | D18: =+CEILING(D8*(1+D$11),1000) -> 0 | E18: =+CEILING(E8*(1+E$11),1000) -> 0 | F18: =+CEILING(F8*(1+F$11),1000) -> 0 | G18: =+CEILING(G8*(1+G$11),1000) -> 0 | H18: =+CEILING(H8*(1+H$11),1000) -> 0 | I18: =+CEILING(I8*(1+I$11),1000) -> 0 | L18: 510517 | M18: PENSIONES DE JUBILACIÓN | N18: =+SUM(C28:I28) -> 0 | O18: =+N18 -> 0 | P18: =+O18 -> 0 | Q18: =+P18 -> 0 | R18: =+Q18 -> 0 | S18: =+R18 -> 0 | T18: =+S18 -> 0 | U18: =+T18 -> 0 | V18: =+U18 -> 0 | ... Y18: =+X18 -> 0
A19: 510508 | B19: INCAPACIDADES | C19: =+CEILING(C9*(1+C$11),1000) -> 0 | D19: =+CEILING(D9*(1+D$11),1000) -> 0 | E19: =+CEILING(E9*(1+E$11),1000) -> 0 | F19: =+CEILING(F9*(1+F$11),1000) -> 0 | G19: =+CEILING(G9*(1+G$11),1000) -> 0 | H19: =+CEILING(H9*(1+H$11),1000) -> 0 | I19: =+CEILING(I9*(1+I$11),1000) -> 0 | L19: 510518 | M19: OTRAS PRESTACIONES SOCIALES | N19: =+SUM(C29:I29) -> 0 | O19: =+N19 -> 0 | P19: =+O19 -> 0 | Q19: =+P19 -> 0 | R19: =+Q19 -> 0 | S19: =+R19 -> 0 | T19: =+S19 -> 0 | U19: =+T19 -> 0 | V19: =+U19 -> 0 | ... Y19: =+X19 -> 0
A20: 510509 | B20: AUXILIO DE TRANSPORTE | C20: =+CEILING(C10*(1+C$11),1000) -> 0 | D20: =+CEILING(D10*(1+D$11),1000) -> 0 | E20: =+CEILING(E10*(1+E$11),1000) -> 0 | F20: =+CEILING(F10*(1+F$11),1000) -> 0 | G20: =+CEILING(G10*(1+G$11),1000) -> 132000 | H20: =+CEILING(H10*(1+H$11),1000) -> 132000 | I20: =+CEILING(I10*(1+I$11),1000) -> 135000 | L20: 510519 | M20: BONIFICACIONES | N20: =+SUM(C30:I30) -> 0 | O20: =+N20 -> 0 | P20: =+O20 -> 0 | Q20: =+P20 -> 0 | R20: =+Q20 -> 0 | S20: =+R20 -> 0 | T20: =+S20 -> 0 | U20: =+T20 -> 0 | V20: =+U20 -> 0 | ... Y20: =+X20 -> 0
A21: 510510 | B21: CESANTÍAS | C21: =+SUM(C12:C20)/12 -> 1442500 | D21: =+SUM(D12:D20)/12 -> 760916.67 | E21: =+SUM(E12:E20)/12 -> 465583.33 | F21: =+SUM(F12:F20)/12 -> 325583.33 | G21: =+SUM(G12:G20)/12 -> 384500 | H21: =+SUM(H12:H20)/12 -> 199250 | I21: =+SUM(I12:I20)/12 -> 107083.33 | L21: 510520 | M21: INDEMNIZACIONES LABORALES | N21: =+SUM(C31:I31) -> 0 | O21: =+N21 -> 0 | P21: =+O21 -> 0 | Q21: =+P21 -> 0 | R21: =+Q21 -> 0 | S21: =+R21 -> 0 | T21: =+S21 -> 0 | U21: =+T21 -> 0 | V21: =+U21 -> 0 | ... Y21: =+X21 -> 0
A22: 510511 | B22: INTERESES SOBRE CESANTÍAS | C22: =+C21*12% -> 173100 | D22: =+D21*12% -> 91310 | E22: =+E21*12% -> 55870 | F22: =+F21*12% -> 39070 | G22: =+G21*12% -> 46140 | H22: =+H21*12% -> 23910 | I22: =+I21*12% -> 12850 | L22: 510521 | M22: DOTACIÓN Y SUMINISTRO A TRABAJADORES | N22: =+SUM(C32:I32) -> 210000 | O22: =+N22 -> 210000 | P22: =+O22 -> 210000 | Q22: =+P22 -> 210000 | R22: =+Q22 -> 210000 | S22: =+R22 -> 210000 | T22: =+S22 -> 210000 | U22: =+T22 -> 210000 | V22: =+U22 -> 210000 | ... Y22: =+X22 -> 210000
A23: 510512 | B23: PRIMA LEGAL | C23: =+C21 -> 1442500 | D23: =+D21 -> 760916.67 | E23: =+E21 -> 465583.33 | F23: =+F21 -> 325583.33 | G23: =+G21 -> 384500 | H23: =+H21 -> 199250 | I23: =+I21 -> 107083.33 | L23: 510522 | M23: AUXILIOS AL PERSONAL | N23: =+SUM(C33:I33) -> 0 | O23: =+N23 -> 0 | P23: =+O23 -> 0 | Q23: =+P23 -> 0 | R23: =+Q23 -> 0 | S23: =+R23 -> 0 | T23: =+S23 -> 0 | U23: =+T23 -> 0 | V23: =+U23 -> 0 | ... Y23: =+X23 -> 0
A24: 510513 | B24: PRIMA EXTRALEGAL | C24: 0 | D24: 0 | E24: 0 | F24: 0 | G24: 0 | H24: 0 | I24: 0 | L24: 510523 | M24: APORTES SALUD | N24: =+SUM(C34:I34) -> 6243001.9 | O24: =+N24 -> 6243001.9 | P24: =+O24 -> 6243001.9 | Q24: =+P24 -> 6243001.9 | R24: =+Q24 -> 6243001.9 | S24: =+R24 -> 6243001.9 | T24: =+S24 -> 6243001.9 | U24: =+T24 -> 6243001.9 | V24: =+U24 -> 6243001.9 | ... Y24: =+X24 -> 6243001.9
A25: 510514 | B25: PRIMA DE VACACIONES | C25: 0 | D25: 0 | E25: 0 | F25: 0 | G25: 0 | H25: 0 | I25: 0 | L25: 510524 | M25: APORTES PENSIÓN | N25: =+SUM(C35:I35) -> 8813649.8 | O25: =+N25 -> 8813649.8 | P25: =+O25 -> 8813649.8 | Q25: =+P25 -> 8813649.8 | R25: =+Q25 -> 8813649.8 | S25: =+R25 -> 8813649.8 | T25: =+S25 -> 8813649.8 | U25: =+T25 -> 8813649.8 | V25: =+U25 -> 8813649.8 | ... Y25: =+X25 -> 8813649.8
A26: 510515 | B26: PRIMA DE ANTIGÜEDAD | C26: 0 | D26: 0 | E26: 0 | F26: 0 | G26: 0 | H26: 0 | I26: 0 | L26: 510525 | M26: APORTES A,R,L | N26: =+SUM(C36:I36) -> 383393.76 | O26: =+N26 -> 383393.76 | P26: =+O26 -> 383393.76 | Q26: =+P26 -> 383393.76 | R26: =+Q26 -> 383393.76 | S26: =+R26 -> 383393.76 | T26: =+S26 -> 383393.76 | U26: =+T26 -> 383393.76 | V26: =+U26 -> 383393.76 | ... Y26: =+X26 -> 383393.76
A27: 510516 | B27: VACACIONES | C27: 0 | D27: 0 | E27: 0 | F27: 0 | G27: 0 | H27: 0 | I27: 0 | L27: 510526 | M27: APORTES CAJAS DE COMPENSACIÓN FAMILIAR | N27: =+SUM(C37:I37) -> 2937883.3 | O27: =+N27 -> 2937883.3 | P27: =+O27 -> 2937883.3 | Q27: =+P27 -> 2937883.3 | R27: =+Q27 -> 2937883.3 | S27: =+R27 -> 2937883.3 | T27: =+S27 -> 2937883.3 | U27: =+T27 -> 2937883.3 | V27: =+U27 -> 2937883.3 | ... Y27: =+X27 -> 2937883.3
A28: 510517 | B28: PENSIONES DE JUBILACIÓN | C28: 0 | D28: 0 | E28: 0 | F28: 0 | G28: 0 | H28: 0 | I28: 0 | L28: 510527 | M28: APORTES I,C,B,F, | N28: =+SUM(C38:I38) -> 1468941.6 | O28: =+N28 -> 1468941.6 | P28: =+O28 -> 1468941.6 | Q28: =+P28 -> 1468941.6 | R28: =+Q28 -> 1468941.6 | S28: =+R28 -> 1468941.6 | T28: =+S28 -> 1468941.6 | U28: =+T28 -> 1468941.6 | V28: =+U28 -> 1468941.6 | ... Y28: =+X28 -> 1468941.6
A29: 510518 | B29: OTRAS PRESTACIONES SOCIALES | C29: 0 | D29: 0 | E29: 0 | F29: 0 | G29: 0 | H29: 0 | I29: 0 | L29: 510528 | M29: APORTES SENA | N29: =+SUM(C39:I39) -> 2203412.4 | O29: =+N29 -> 2203412.4 | P29: =+O29 -> 2203412.4 | Q29: =+P29 -> 2203412.4 | R29: =+Q29 -> 2203412.4 | S29: =+R29 -> 2203412.4 | T29: =+S29 -> 2203412.4 | U29: =+T29 -> 2203412.4 | V29: =+U29 -> 2203412.4 | ... Y29: =+X29 -> 2203412.4
A30: 510519 | B30: BONIFICACIONES | C30: 0 | D30: 0 | E30: 0 | F30: 0 | G30: 0 | H30: 0 | I30: 0 | L30: 510529 | M30: APORTES SINDICALES | N30: =+SUM(C40:I40) -> 0 | O30: =+N30 -> 0 | P30: =+O30 -> 0 | Q30: =+P30 -> 0 | R30: =+Q30 -> 0 | S30: =+R30 -> 0 | T30: =+S30 -> 0 | U30: =+T30 -> 0 | V30: =+U30 -> 0 | ... Y30: =+X30 -> 0
A31: 510520 | B31: INDEMNIZACIONES LABORALES | C31: 0 | D31: 0 | E31: 0 | F31: 0 | G31: 0 | H31: 0 | I31: 0 | L31: 510530 | M31: SEGUROS | N31: =+SUM(C41:I41) -> 0 | O31: =+N31 -> 0 | P31: =+O31 -> 0 | Q31: =+P31 -> 0 | R31: =+Q31 -> 0 | S31: =+R31 -> 0 | T31: =+S31 -> 0 | U31: =+T31 -> 0 | V31: =+U31 -> 0 | ... Y31: =+X31 -> 0
A32: 510521 | B32: DOTACIÓN Y SUMINISTRO A TRABAJADORES | C32: 0 | D32: 0 | G32: 70000 | H32: 70000 | I32: 70000 | L32: 510531 | M32: CAPACITACIÓN AL PERSONAL | N32: =+SUM(C42:I42) -> 0 | O32: =+N32 -> 0 | P32: =+O32 -> 0 | Q32: =+P32 -> 0 | R32: =+Q32 -> 0 | S32: =+R32 -> 0 | T32: =+S32 -> 0 | U32: =+T32 -> 0 | V32: =+U32 -> 0 | ... Y32: =+X32 -> 0
A33: 510522 | B33: AUXILIOS AL PERSONAL | C33: 0 | D33: 0 | E33: 0 | F33: 0 | G33: 0 | H33: 0 | I33: 0 | L33: 510532 | M33: GASTOS DEPORTIVOS Y DE RECREACIÓN | N33: =+SUM(C43:I43) -> 0 | O33: =+N33 -> 0 | P33: =+O33 -> 0 | Q33: =+P33 -> 0 | R33: =+Q33 -> 0 | S33: =+R33 -> 0 | T33: =+S33 -> 0 | U33: =+T33 -> 0 | V33: =+U33 -> 0 | ... Y33: =+X33 -> 0
A34: 510523 | B34: APORTES SALUD | C34: =+SUM(C$1:C$19)*70%*$J34 -> 1949414.9 | D34: =+SUM(D$1:D$19)*$J34 -> 1469085.8 | E34: =+SUM(E$1:E$19)*$J34 -> 898837.78 | F34: =+SUM(F$1:F$19)*$J34 -> 628537.7 | G34: =+SUM(G$1:G$19)*$J34 -> 731053.9 | H34: =+SUM(H$1:H$19)*$J34 -> 373362.26 | I34: =+SUM(I$1:I$19)*$J34 -> 192709.63 | J34: 0.085 | L34: 510533 | M34: GASTOS MÉDICOS Y MEDICAMENTOS | N34: =+SUM(C44:I44) -> 0 | O34: =+N34 -> 0 | P34: =+O34 -> 0 | Q34: =+P34 -> 0 | R34: =+Q34 -> 0 | S34: =+R34 -> 0 | T34: =+S34 -> 0 | U34: =+T34 -> 0 | V34: =+U34 -> 0 | ... Y34: =+X34 -> 0
A35: 510524 | B35: APORTES PENSIÓN | C35: =+SUM(C$1:C$19)*70%*$J35 -> 2752115.1 | D35: =+SUM(D$1:D$19)*$J35 -> 2074003.5 | E35: =+SUM(E$1:E$19)*$J35 -> 1268947.5 | F35: =+SUM(F$1:F$19)*$J35 -> 887347.33 | G35: =+SUM(G$1:G$19)*$J35 -> 1032076.1 | H35: =+SUM(H$1:H$19)*$J35 -> 527099.65 | I35: =+SUM(I$1:I$19)*$J35 -> 272060.66 | J35: 0.12 | L35: 510534 | M35: SUBSIDIO DE ALIMENTACIÓN | N35: =+SUM(C45:I45) -> 0 | O35: =+N35 -> 0 | P35: =+O35 -> 0 | Q35: =+P35 -> 0 | R35: =+Q35 -> 0 | S35: =+R35 -> 0 | T35: =+S35 -> 0 | U35: =+T35 -> 0 | V35: =+U35 -> 0 | ... Y35: =+X35 -> 0
A36: 510525 | B36: APORTES A,R,L | C36: =+SUM(C$1:C$19)*70%*$J36 -> 119717.01 | D36: =+SUM(D$1:D$19)*$J36 -> 90219.15 | E36: =+SUM(E$1:E$19)*$J36 -> 55199.214 | F36: =+SUM(F$1:F$19)*$J36 -> 38599.609 | G36: =+SUM(G$1:G$19)*$J36 -> 44895.31 | H36: =+SUM(H$1:H$19)*$J36 -> 22928.835 | I36: =+SUM(I$1:I$19)*$J36 -> 11834.639 | J36: 0.00522 | K36: Clase I | L36: 510595 | M36: OTROS BENEFICIOS A EMPLEADOS | N36: =+SUM(C46:I46) -> 0 | O36: =+N36 -> 0 | P36: =+O36 -> 0 | Q36: =+P36 -> 0 | R36: =+Q36 -> 0 | S36: =+R36 -> 0 | T36: =+S36 -> 0 | U36: =+T36 -> 0 | V36: =+U36 -> 0 | ... Y36: =+X36 -> 0
A37: 510526 | B37: APORTES CAJAS DE COMPENSACIÓN FAMILIAR | C37: =+SUM(C$1:C$19)*70%*$J37 -> 917371.7 | D37: =+SUM(D$1:D$19)*$J37 -> 691334.48 | E37: =+SUM(E$1:E$19)*$J37 -> 422982.48 | F37: =+SUM(F$1:F$19)*$J37 -> 295782.44 | G37: =+SUM(G$1:G$19)*$J37 -> 344025.36 | H37: =+SUM(H$1:H$19)*$J37 -> 175699.88 | I37: =+SUM(I$1:I$19)*$J37 -> 90686.886 | J37: 0.04
A38: 510527 | B38: APORTES I,C,B,F, | C38: =+SUM(C$1:C$19)*70%*$J38 -> 458685.85 | D38: =+SUM(D$1:D$19)*$J38 -> 345667.24 | E38: =+SUM(E$1:E$19)*$J38 -> 211491.24 | F38: =+SUM(F$1:F$19)*$J38 -> 147891.22 | G38: =+SUM(G$1:G$19)*$J38 -> 172012.68 | H38: =+SUM(H$1:H$19)*$J38 -> 87849.942 | I38: =+SUM(I$1:I$19)*$J38 -> 45343.443 | J38: 0.02
A39: 510528 | B39: APORTES SENA | C39: =+SUM(C$1:C$19)*70%*$J39 -> 688028.78 | D39: =+SUM(D$1:D$19)*$J39 -> 518500.86 | E39: =+SUM(E$1:E$19)*$J39 -> 317236.86 | F39: =+SUM(F$1:F$19)*$J39 -> 221836.83 | G39: =+SUM(G$1:G$19)*$J39 -> 258019.02 | H39: =+SUM(H$1:H$19)*$J39 -> 131774.91 | I39: =+SUM(I$1:I$19)*$J39 -> 68015.164 | J39: 0.03
A40: 510529 | B40: APORTES SINDICALES | C40: 0 | D40: 0 | E40: 0 | F40: 0 | G40: 0 | H40: 0 | I40: 0
...

Sheet PARÁMETROS
A1: VARIABLES | B1: Año 22 | C1: Año 23 | D1: Año 24 | E1: Año 25 | F1: Año 26 | G1: Año 27 | H1: Año 28 | I1: Año 29 | J1: Año 30 | K1: Año 31 | L1: Año 32 | M1: Año 32
A2: Inflación | B2: 0.12 | C2: 0.08 | D2: 0.06 | E2: 0.04 | F2: 0.04 | G2: 0.035 | H2: =+G2 -> 0.035
A3: Reajuste gastos | C3: =+C2*1.5 -> 0.12 | D3: 0 | E3: =+D2 -> 0.06 | F3: =+E2 -> 0.04 | G3: =+F2 -> 0.04 | H3: =+G2 -> 0.035
A4: Crecimiento Desembolsos (IPC + Variación Base Social) | C4: 0 | D4: =+C2*1.5 -> 0.12 | E4: =+D2*1.5 -> 0.09 | F4: =+E2*1.5 -> 0.06 | G4: =+F2*1.5 -> 0.06 | H4: =+G2*1.5 -> 0.0525
A5: % Cartera improductiva | C5: 0.03 | D5: =+C5 -> 0.03 | E5: =+D5 -> 0.03 | F5: =+E5 -> 0.03 | G5: =+F5 -> 0.03 | H5: =+G5 -> 0.03
A6: % Refinanciación | C6: 0.3 | D6: =+C6 -> 0.3 | E6: =+D6 -> 0.3 | F6: =+E6 -> 0.3 | G6: =+F6 -> 0.3 | H6: =+G6 -> 0.3
A7: Vida util PPE | C7: 36 | D7: =+C7 -> 36 | E7: =+D7 -> 36 | F7: =+E7 -> 36 | G7: =+F7 -> 36 | H7: =+G7 -> 36
A8: Provision General | B8: 0.01 | C8: =+B8 -> 0.01 | D8: =+C8 -> 0.01 | E8: =+D8 -> 0.01 | F8: =+E8+0.1% -> 0.011 | G8: =+F8+0.1% -> 0.012 | H8: =+G8+0.1% -> 0.013
A9: Siniestralidad | B9: 0.01 | C9: =+C8 -> 0.01 | D9: =+D8 -> 0.01 | E9: =+E8 -> 0.01 | F9: =+F8 -> 0.011 | G9: =+G8 -> 0.012 | H9: =+H8 -> 0.013
A10: IBR | B10: 0.11 | C10: 0.1 | D10: 0.09 | E10: 0.08 | F10: 0.06 | G10: =+G2+1% -> 0.045 | H10: =+H2+1% -> 0.045
A11: Tasa Ahorro Permanente | B11: 0.0322 | C11: =+C2 -> 0.08 | D11: =+D2 -> 0.06 | E11: =+E2 -> 0.04 | F11: =+F2 -> 0.04 | G11: =+G2 -> 0.035 | H11: =+H2 -> 0.035
A12: Tasa ahorro Vista | B12: 0.0549 | C12: =+B2+1% -> 0.13 | D12: =+C2+1% -> 0.09 | E12: =+D2+1% -> 0.07 | F12: =+E2+1% -> 0.05 | G12: =+F2+1% -> 0.05 | H12: =+G2+1% -> 0.045
A13: Tasa contractual | B13: 0.0722 | C13: =+C2+1% -> 0.09 | D13: =+D2+1% -> 0.07 | E13: =+E2+1% -> 0.05 | F13: =+F2+1% -> 0.05 | G13: =+G2+1% -> 0.045 | H13: =+H2+1% -> 0.045
A14: Tasa Obligaciones Financieras DTF+ 4 | B14: =+B2 -> 0.12 | C14: =+C2 -> 0.08 | D14: =+D10+4% -> 0.13 | E14: =+E10+4% -> 0.12 | F14: =+F10+4% -> 0.1 | G14: =+G10+4% -> 0.085 | H14: =+H10+4% -> 0.085
A15: % asociados con ahorro vista | B15: 0.25 | C15: =+B15 -> 0.25 | D15: =+C15 -> 0.25 | E15: =+D15 -> 0.25 | F15: =+E15 -> 0.25 | G15: =+F15 -> 0.25 | H15: =+G15 -> 0.25
A16: % asociados con ahorro contractual | B16: 0.03 | C16: =+B16 -> 0.03 | D16: =+C16 -> 0.03 | E16: =+D16 -> 0.03 | F16: =+E16 -> 0.03 | G16: =+F16 -> 0.03 | H16: =+G16 -> 0.03
A17: # Aperturas mensuales CDATs / Base Social | B17: 0 | C17: =+B17 -> 0 | D17: =+C17 -> 0 | E17: =+D17 -> 0 | F17: =+E17 -> 0 | G17: =+F17 -> 0 | H17: =+G17 -> 0
A18: % Asociados con ahorro Permanente | B18: 1 | C18: 1 | D18: 1 | E18: 1 | F18: 1 | G18: 1 | H18: 1
A19: Salario Mínimo (pesos) | B19: 1000000 | C19: 1150000 | D19: =+C19*(1+(C2+1.5%)) -> 1259250 | E19: =+D19*(1+(D2+1.5%)) -> 1353693.8 | F19: =+E19*(1+(E2+1.5%)) -> 1428146.9 | G19: =+F19*(1+(F2+1.5%)) -> 1506695 | H19: =+G19*(1+(G2+1.5%)) -> 1582029.7
A20: Prom. Individual de Aporte Mensual | B20: 59184 | C20: =+B$20*(1+B2) -> 66286.08 | D20: =+C$20*(1+C2) -> 71588.966 | E20: =+D$20*(1+D2) -> 75884.304 | F20: =+E$20*(1+E2) -> 78919.677 | G20: =+F$20*(1+F2) -> 82076.464 | H20: =+G$20*(1+G2) -> 84949.14
A21: Prom. Indiv. Ahorro Permanente | B21: =+B20/80*20 -> 14796 | C21: =+B21*(1+B2) -> 16571.52 | D21: =+C21*(1+C2) -> 17897.242 | E21: =+D21*(1+D2) -> 18971.076 | F21: =+E21*(1+E2) -> 19729.919 | G21: =+F21*(1+F2) -> 20519.116 | H21: =+G21*(1+G2) -> 21237.285
A22: Prom. Indiv. Fondo mutual | B22: 0 | C22: 0 | D22: 0 | E22: 0 | F22: 0 | G22: 0 | H22: 0
A23: Saldo inicial asociados | C23: 1600 | D23: =+C26 -> 1588 | E23: =+D26 -> 1600 | F23: =+E26 -> 1636 | G23: =+F26 -> 1696 | H23: =+G26 -> 1780
A24: Ingreso anual de Asociados | C24: 240 | D24: =+C24+12 -> 252 | E24: =+D24+12 -> 264 | F24: =+E24+12 -> 276 | G24: =+F24+12 -> 288 | H24: =+G24+12 -> 300
A25: Retiro Anual de asociados | C25: =+C24+12 -> 252 | D25: =+C25-12 -> 240 | E25: =+D25-12 -> 228 | F25: =+E25-12 -> 216 | G25: =+F25-12 -> 204 | H25: =+G25-12 -> 192
A26: Asociados al cierre del Año | C26: =+C23+C24-C25 -> 1588 | D26: =+D23+D24-D25 -> 1600 | E26: =+E23+E24-E25 -> 1636 | F26: =+F23+F24-F25 -> 1696 | G26: =+G23+G24-G25 -> 1780 | H26: =+H23+H24-H25 -> 1888
A27: % Habilidad | B27: 1 | C27: 1 | D27: 1 | E27: 1 | F27: 1 | G27: 1 | H27: 1
A28: Aportes Fondo Mutual | B28: 0 | C28: 0 | D28: 0 | E28: 0 | F28: 0 | G28: 0 | H28: 0
A29: Cuota de admisión | B29: 0 | C29: 0 | D29: 0 | E29: 0 | F29: 0 | G29: 0 | H29: 0
A30: Compra Activos Fijos y Software | B30: =+B19*10 -> 10000000 | C30: =+C19*10 -> 11500000 | D30: =+D19*10 -> 12592500 | E30: =+E19*10 -> 13536938 | F30: =+F19*10 -> 14281469 | G30: =+G19*10 -> 15066950 | H30: =+H19*10 -> 15820297
A31: Compras Cartera y Abonos Extraordinarios | B31: =+B19*20 -> 20000000 | C31: =+C19*20 -> 23000000 | D31: =+D19*20 -> 25185000 | E31: =+E19*20 -> 27073875 | F31: =+F19*20 -> 28562938 | G31: =+G19*20 -> 30133900 | H31: =+H19*20 -> 31640595
A32: Liquidación Promedio ex - asociados | B32: =+B19*2 -> 2000000 | C32: =+C19*2 -> 2300000 | D32: =+D19*2 -> 2518500 | E32: =+E19*2 -> 2707387.5 | F32: =+F19*2 -> 2856293.8 | G32: =+G19*2 -> 3013390 | H32: =+H19*2 -> 3164059.5
A33: Aportes cruzados con cartera | B33: 0.5 | C33: =+B33 -> 0.5 | D33: =+C33 -> 0.5 | E33: =+D33 -> 0.5 | F33: =+E33 -> 0.5 | G33: =+F33 -> 0.5 | H33: =+G33 -> 0.5
A34: Crecim. Gastos Generales IPC + 50% crecim base social | C34: 0 | D34: 0 | E34: 0 | F34: 0 | G34: 0 | H34: 0
C37: TASAS DE CREDITO
A38: LINEA | B38: Año 2022 | C38: =+C1 -> Año 23 | D38: =+D1 -> Año 24 | E38: =+E1 -> Año 25 | F38: =+F1 -> Año 26 | G38: =+G1 -> Año 27 | H38: =+H1 -> Año 28
A39: =+'Colocaciones 1er Año'!A2 -> Libre inversion | B39: 0.013 | C39: =B39+(+$E39-$B39)/3 -> 0.015333333 | D39: =C39+(+$E39-$B39)/3 -> 0.017666667 | E39: 0.02 | F39: =+E39 -> 0.02 | G39: =+F39 -> 0.02 | H39: =+G39 -> 0.02
A40: =+'Colocaciones 1er Año'!A3 -> Sobre aportes | B40: 0.009 | C40: =+B40 -> 0.009 | D40: =+C40 -> 0.009 | E40: =+D40 -> 0.009 | F40: =+E40 -> 0.009 | G40: =+F40 -> 0.009 | H40: =+G40 -> 0.009
A41: =+'Colocaciones 1er Año'!A4 -> Vivienda | B41: 0.0075 | C41: =+B41 -> 0.0075 | D41: =+C41 -> 0.0075 | E41: =+D41 -> 0.0075 | F41: =+E41 -> 0.0075 | G41: =+F41 -> 0.0075 | H41: =+G41 -> 0.0075
A42: =+'Colocaciones 1er Año'!A5 -> Vehiculo | B42: 0.01 | C42: =+B42 -> 0.01 | D42: =+C42 -> 0.01 | E42: =+D42 -> 0.01 | F42: =+E42 -> 0.01 | G42: =+F42 -> 0.01 | H42: =+G42 -> 0.01
...

Sheet EF. Anuales
A1: SITUACION FCIERA | B1: 43070 | C1: 43435 | D1: 43800 | E1: 44166 | F1: 44531 | G1: 44805 | H1: 44896 | I1: =EOMONTH(H1,12) -> 45291 | J1: =EOMONTH(I1,12) -> 45657 | K1: =EOMONTH(J1,12) -> 46022 | L1: =EOMONTH(K1,12) -> 46387 | M1: =EOMONTH(L1,12) -> 46752
A2: Efectivo y Eq NETO | B2: =+CUC!C4+CUC!C32+CUC!C559-CUC!C816-CUC!C939-B3-B4 -> 4.9399855e+08 | C2: =+CUC!D4+CUC!D32+CUC!D559-CUC!D816-CUC!D939-C3-C4 -> 4.9309031e+08 | D2: =+CUC!E4+CUC!E32+CUC!E559-CUC!E816-CUC!E939-D3-D4 -> 309177346 | E2: =+CUC!F4+CUC!F32+CUC!F559-CUC!F816-CUC!F939-E3-E4 -> 3.4019951e+08 | F2: =+CUC!G4+CUC!G32+CUC!G559-CUC!G816-CUC!G939-F3-F4 -> 6.9571353e+08 | G2: =+CUC!H4+CUC!H32+CUC!H559-CUC!H816-CUC!H939-G3-G4 -> 3.9125522e+08 | H2: 2.768338e+08 | I2: =+'EF. Mensuales'!N2 -> 4.6024694e+08 | J2: =+'EF. Mensuales'!Z2 -> 3.1104176e+08 | K2: =+'EF. Mensuales'!AL2 -> 3.5334586e+08 | L2: =+'EF. Mensuales'!AX2 -> 3.7942399e+08 | M2: =+'EF. Mensuales'!BJ2 -> 3.944668e+08
A3: Fondo de Liquidez | B3: =+CUC!C18+CUC!C33 -> 3.4848086e+08 | C3: =+CUC!D18+CUC!D33 -> 3.6839883e+08 | D3: =+CUC!E18+CUC!E33 -> 366214794 | E3: =+CUC!F18+CUC!F33 -> 4.1491519e+08 | F3: =+CUC!G18+CUC!G33 -> 4.7909842e+08 | G3: =+CUC!H18+CUC!H33 -> 4.9866945e+08 | H3: 420000000 | I3: =+'EF. Mensuales'!N3 -> 4.7149385e+08 | J3: =+'EF. Mensuales'!Z3 -> 5.1583223e+08 | K3: =+'EF. Mensuales'!AL3 -> 5.5694197e+08 | L3: =+'EF. Mensuales'!AX3 -> 5.9471622e+08 | M3: =+'EF. Mensuales'!BJ3 -> 6.3642366e+08
A4: Otras inversiones | B4: =+CUC!C122+CUC!C143 -> 11032105 | C4: =+CUC!D122+CUC!D143 -> 11713417 | D4: =+CUC!E122+CUC!E143 -> 12368227 | E4: =+CUC!F122+CUC!F143 -> 21988403 | F4: =+CUC!G122+CUC!G143 -> 212946752 | G4: =+CUC!H122+CUC!H143 -> 215330328 | H4: =+G4 -> 215330328 | I4: =+'EF. Mensuales'!N4 -> 2.1621896e+08 | J4: =+'EF. Mensuales'!Z4 -> 2.1713869e+08 | K4: =+'EF. Mensuales'!AL4 -> 2.1809061e+08 | L4: =+'EF. Mensuales'!AX4 -> 2.1907584e+08 | M4: =+'EF. Mensuales'!BJ4 -> 2.2009556e+08
A5: Cartera de Crédito | B5: =+CUC!C248-B6 -> 7.3206698e+09 | C5: =+CUC!D248-C6 -> 8.581492e+09 | D5: =+CUC!E248-D6 -> 9346559831 | E5: =+CUC!F248-E6 -> 1.0632818e+10 | F5: =+CUC!G248-F6 -> 1.2750293e+10 | G5: =+CUC!H248-G6 -> 1.3000109e+10 | H5: 13000000000 | I5: =+'EF. Mensuales'!N5 -> 1.4946699e+10 | J5: =+'EF. Mensuales'!Z5 -> 1.7723663e+10 | K5: =+'EF. Mensuales'!AL5 -> 2.0770567e+10 | L5: =+'EF. Mensuales'!AX5 -> 2.3896542e+10 | M5: =+'EF. Mensuales'!BJ5 -> 2.729814e+10
A6: Provisión Cartera | B6: =-CUC!C273-CUC!C279-CUC!C285-CUC!C327-CUC!C338-CUC!C344-CUC!C368-CUC!C374-CUC!C380-CUC!C410-CUC!C421-CUC!C427-CUC!C457-CUC!C468-CUC!C474-CUC!C480-CUC!C503-CUC!C514 -> -126097433 | C6: =-CUC!D273-CUC!D279-CUC!D285-CUC!D327-CUC!D338-CUC!D344-CUC!D368-CUC!D374-CUC!D380-CUC!D410-CUC!D421-CUC!D427-CUC!D457-CUC!D468-CUC!D474-CUC!D480-CUC!D503-CUC!D514 -> -153143825 | D6: =-CUC!E273-CUC!E279-CUC!E285-CUC!E327-CUC!E338-CUC!E344-CUC!E368-CUC!E374-CUC!E380-CUC!E410-CUC!E421-CUC!E427-CUC!E457-CUC!E468-CUC!E474-CUC!E480-CUC!E503-CUC!E514 -> -164331426 | E6: =-CUC!F273-CUC!F279-CUC!F285-CUC!F327-CUC!F338-CUC!F344-CUC!F368-CUC!F374-CUC!F380-CUC!F410-CUC!F421-CUC!F427-CUC!F457-CUC!F468-CUC!F474-CUC!F480-CUC!F503-CUC!F514 -> -190849251 | F6: =-CUC!G273-CUC!G279-CUC!G285-CUC!G327-CUC!G338-CUC!G344-CUC!G368-CUC!G374-CUC!G380-CUC!G410-CUC!G421-CUC!G427-CUC!G457-CUC!G468-CUC!G474-CUC!G480-CUC!G503-CUC!G514 -> -205154112 | G6: =-CUC!H273-CUC!H279-CUC!H285-CUC!H327-CUC!H338-CUC!H344-CUC!H368-CUC!H374-CUC!H380-CUC!H410-CUC!H421-CUC!H427-CUC!H457-CUC!H468-CUC!H474-CUC!H480-CUC!H503-CUC!H514 -> -216224881 | H6: =+G6 -> -216224881 | I6: =+'EF. Mensuales'!N6 -> -8.1752531e+08 | J6: =+'EF. Mensuales'!Z6 -> -9.6216871e+08 | K6: =+'EF. Mensuales'!AL6 -> -1.1352965e+09 | L6: =+'EF. Mensuales'!AX6 -> -1.33177e+09 | M6: =+'EF. Mensuales'!BJ6 -> -1.5610642e+09
A7: P.P. y Equipo | B7: =+CUC!C634 -> 1.708496e+08 | C7: =+CUC!D634 -> 1.62574e+08 | D7: =+CUC!E634 -> 144895055 | E7: =+CUC!F634 -> 1.2971496e+08 | F7: =+CUC!G634 -> 1.1989654e+08 | G7: =+CUC!H634 -> 1.1175316e+08 | H7: =+G7-(CUC!H1585/3) -> 1.1137548e+08 | I7: =+'EF. Mensuales'!N7 -> 1.2131548e+08 | J7: =+'EF. Mensuales'!Z7 -> 1.3004798e+08 | K7: =+'EF. Mensuales'!AL7 -> 1.3720642e+08 | L7: =+'EF. Mensuales'!AX7 -> 1.42402e+08 | M7: =+'EF. Mensuales'!BJ7 -> 1.4552677e+08
A8: Intangibles | B8: =+CUC!C685+CUC!C677 -> 0 | C8: =+CUC!D685+CUC!D677 -> 0 | D8: =+CUC!E685+CUC!E677 -> 0 | E8: =+CUC!F685+CUC!F677 -> 0 | F8: =+CUC!G685+CUC!G677 -> 0 | G8: =+CUC!H685+CUC!H677 -> 7628544 | H8: 0 | I8: =+'EF. Mensuales'!N8 -> -2.3283064e-09 | J8: =+'EF. Mensuales'!Z8 -> -3.7252903e-09 | K8: =+'EF. Mensuales'!AL8 -> -3.7252903e-09 | L8: =+'EF. Mensuales'!AX8 -> -3.7252903e-09 | M8: =+'EF. Mensuales'!BJ8 -> 2.7939677e-09
A9: Otros activos | B9: 0 | C9: 0 | D9: 0 | E9: 0 | F9: 0 | G9: 0 | H9: 0 | I9: =+'EF. Mensuales'!N9 -> 0 | J9: =+'EF. Mensuales'!Z9 -> 0 | K9: =+'EF. Mensuales'!AL9 -> 0 | L9: =+'EF. Mensuales'!AX9 -> 0 | M9: =+'EF. Mensuales'!BJ9 -> 0
A10: TOTAL ACTIVOS | B10: =SUM(B2:B9) -> 8.2189335e+09 | C10: =SUM(C2:C9) -> 9.4641248e+09 | D10: =SUM(D2:D9) -> 10014883827 | E10: =SUM(E2:E9) -> 1.1348786e+10 | F10: =SUM(F2:F9) -> 1.4052794e+10 | G10: =SUM(G2:G9) -> 1.400852e+10 | H10: =SUM(H2:H9) -> 1.3807315e+10 | I10: =SUM(I2:I9) -> 1.5398449e+10 | ... M10: =SUM(M2:M9) -> 2.7133588e+10
A11: Ahorro Permanente | B11: =+CUC!C757 -> 6.4603227e+08 | C11: =+CUC!D757 -> 7.2469339e+08 | D11: =+CUC!E757 -> 815488749 | E11: =+CUC!F757 -> 955742947 | F11: =+CUC!G757 -> 1100887652 | G11: =+CUC!H757 -> 1184284291 | H11: 1200000000 | I11: =+'EF. Mensuales'!N11 -> 1.3185313e+09 | J11: =+'EF. Mensuales'!Z11 -> 1.4527228e+09 | K11: =+'EF. Mensuales'!AL11 -> 1.6058544e+09 | L11: =+'EF. Mensuales'!AX11 -> 1.7808134e+09 | M11: =+'EF. Mensuales'!BJ11 -> 1.9874365e+09
A12: Ahorro vista | B12: =+CUC!C741 -> 1.8885488e+09 | C12: =+CUC!D741 -> 2.0085779e+09 | D12: =+CUC!E741 -> 1878761857 | E12: =+CUC!F741 -> 2387310260 | F12: =+CUC!G741 -> 3017302995 | G12: =+CUC!H741 -> 2.7569794e+09 | H12: 2600000000 | I12: =+'EF. Mensuales'!N12 -> 2.9588845e+09 | J12: =+'EF. Mensuales'!Z12 -> 3.2364482e+09 | K12: =+'EF. Mensuales'!AL12 -> 3.4704113e+09 | L12: =+'EF. Mensuales'!AX12 -> 3.6479642e+09 | M12: =+'EF. Mensuales'!BJ12 -> 3.8346009e+09
A13: Ahorro contractual | B13: =+CUC!C751 -> 2.7150753e+08 | C13: =+CUC!D751 -> 233944684 | D13: =+CUC!E751 -> 301965223 | E13: =+CUC!F751 -> 325496000 | F13: =+CUC!G751 -> 354734101 | G13: =+CUC!H751 -> 373803463 | H13: 400000000 | I13: =+'EF. Mensuales'!N13 -> 4.3752276e+08 | J13: =+'EF. Mensuales'!Z13 -> 4.6915131e+08 | K13: =+'EF. Mensuales'!AL13 -> 4.9315399e+08 | L13: =+'EF. Mensuales'!AX13 -> 5.1838468e+08 | M13: =+'EF. Mensuales'!BJ13 -> 5.4219918e+08
A14: Obligaciones Financieras | B14: =+CUC!C768 -> 529506590 | C14: =+CUC!D768 -> 1.0333868e+09 | D14: =+CUC!E768 -> 872666664 | E14: =+CUC!F768 -> 751861673 | F14: =+CUC!G768 -> 1.6353002e+09 | G14: =+CUC!H768 -> 1.1434501e+09 | H14: 1000000000 | I14: =+'EF. Mensuales'!N14 -> 2.1064086e+09 | J14: =+'EF. Mensuales'!Z14 -> 3.1539222e+09 | K14: =+'EF. Mensuales'!AL14 -> 4.1646039e+09 | L14: =+'EF. Mensuales'!AX14 -> 5.0903896e+09 | M14: =+'EF. Mensuales'!BJ14 -> 5.6728823e+09
A15: Provisiones | B15: =+CUC!C1021 -> 0 | C15: =+CUC!D1021 -> 0 | D15: =+CUC!E1021 -> 0 | E15: =+CUC!F1021 -> 0 | F15: =+CUC!G1021 -> 0 | G15: =+CUC!H1021 -> 0 | H15: 0 | I15: =+'EF. Mensuales'!N15 -> 0 | J15: =+'EF. Mensuales'!Z15 -> 0 | K15: =+'EF. Mensuales'!AL15 -> 0 | L15: =+'EF. Mensuales'!AX15 -> 0 | M15: =+'EF. Mensuales'!BJ15 -> 0
A16: Fondos | B16: =+CUC!C925 -> 2.6328117e+08 | C16: =+CUC!D925 -> 3.4707553e+08 | D16: =+CUC!E925 -> 421337580 | E16: =+CUC!F925 -> 3.6636605e+08 | F16: =+CUC!G925 -> 2.5538217e+08 | G16: =+CUC!H925 -> 4.4501659e+08 | H16: 300000000 | I16: =+'EF. Mensuales'!N16 -> 4.0890146e+08 | J16: =+'EF. Mensuales'!Z16 -> 2.2585359e+08 | K16: =+'EF. Mensuales'!AL16 -> 4.4514356e+08 | L16: =+'EF. Mensuales'!AX16 -> 7.6238318e+08 | M16: =+'EF. Mensuales'!BJ16 -> 1.3771359e+09
A17: Otros pasivos | B17: 0 | C17: 0 | D17: 0 | E17: 0 | F17: 0 | G17: 0 | H17: 0 | I17: =+'EF. Mensuales'!N17 -> 0 | J17: =+'EF. Mensuales'!Z17 -> 0 | K17: =+'EF. Mensuales'!AL17 -> 0 | L17: =+'EF. Mensuales'!AX17 -> 0 | M17: =+'EF. Mensuales'!BJ17 -> 0
A18: TOTAL PASIVO | B18: =SUM(B11:B17) -> 3.5988764e+09 | C18: =SUM(C11:C17) -> 4.3476783e+09 | D18: =SUM(D11:D17) -> 4290220073 | E18: =SUM(E11:E17) -> 4.7867769e+09 | F18: =SUM(F11:F17) -> 6.3636071e+09 | G18: =SUM(G11:G17) -> 5.9035338e+09 | H18: =SUM(H11:H17) -> 5500000000 | I18: =SUM(I11:I17) -> 7.2302486e+09 | ... M18: =SUM(M11:M17) -> 1.3414255e+10
A19: Aportes Sociales | B19: =+CUC!C1034+CUC!C970 -> 3.2611733e+09 | C19: =+CUC!D1034+CUC!D970 -> 3.6470097e+09 | D19: =+CUC!E1034+CUC!E970 -> 4071345736 | E19: =+CUC!F1034+CUC!F970 -> 4769148425 | F19: =+CUC!G1034+CUC!G970 -> 5459221807 | G19: =+CUC!H1034+CUC!H970 -> 5821799570 | H19: 5950000000 | I19: =+'EF. Mensuales'!N19 -> 6.2549787e+09 | J19: =+'EF. Mensuales'!Z19 -> 6.6537989e+09 | K19: =+'EF. Mensuales'!AL19 -> 7.1548249e+09 | L19: =+'EF. Mensuales'!AX19 -> 7.7651339e+09 | M19: =+'EF. Mensuales'!BJ19 -> 8.520059e+09
A20: Reservas, fondos y Superavit | B20: =+CUC!C1044+CUC!C1053+CUC!C1067+CUC!C1062+CUC!C1070 -> 1.0379772e+09 | C20: =+CUC!D1044+CUC!D1053+CUC!D1067+CUC!D1062+CUC!D1070 -> 1.1021977e+09 | D20: =+CUC!E1044+CUC!E1053+CUC!E1067+CUC!E1062+CUC!E1070 -> 1175711999 | E20: =+CUC!F1044+CUC!F1053+CUC!F1067+CUC!F1062+CUC!F1070 -> 1.2693934e+09 | F20: =+CUC!G1044+CUC!G1053+CUC!G1067+CUC!G1062+CUC!G1070 -> 1.5741476e+09 | G20: =+CUC!H1044+CUC!H1053+CUC!H1067+CUC!H1062+CUC!H1070 -> 1.7072493e+09 | H20: =+G20 -> 1.7072493e+09 | I20: =+'EF. Mensuales'!N20 -> 1.8372623e+09 | J20: =+'EF. Mensuales'!Z20 -> 1.8524543e+09 | K20: =+'EF. Mensuales'!AL20 -> 2.030695e+09 | L20: =+'EF. Mensuales'!AX20 -> 2.3379286e+09 | M20: =+'EF. Mensuales'!BJ20 -> 2.7374072e+09
A21: Resultados Ejercicios Anteriores | I21: =+'EF. Mensuales'!N21 -> 0 | J21: =+'EF. Mensuales'!Z21 -> 0 | K21: =+'EF. Mensuales'!AL21 -> 0 | L21: =+'EF. Mensuales'!AX21 -> 0 | M21: =+'EF. Mensuales'!BJ21 -> 0
A22: Resultado Ejercicio | B22: =+CUC!C1064 -> 3.211026e+08 | C22: =+CUC!D1064 -> 3.6757136e+08 | D22: =+CUC!E1064 -> 478097873 | E22: =+CUC!F1064 -> 5.23771e+08 | F22: =+CUC!G1064 -> 6.5581739e+08 | G22: =+CUC!H1064 -> 5.7593774e+08 | H22: =+H74 -> 6.5006548e+08 | I22: =+'EF. Mensuales'!N22 -> 75959519 | J22: =+'EF. Mensuales'!Z22 -> 8.9120388e+08 | K22: =+'EF. Mensuales'!AL22 -> 1.5361679e+09 | L22: =+'EF. Mensuales'!AX22 -> 1.997393e+09 | M22: =+'EF. Mensuales'!BJ22 -> 2.4618675e+09
A23: TOTAL PATRIMONIO | B23: =+SUM(B19:B22) -> 4.6202531e+09 | C23: =+SUM(C19:C22) -> 5.1167787e+09 | D23: =+SUM(D19:D22) -> 5725155608 | E23: =+SUM(E19:E22) -> 6.5623129e+09 | F23: =+SUM(F19:F22) -> 7.6891868e+09 | G23: =+SUM(G19:G22) -> 8.1049866e+09 | H23: =+SUM(H19:H22) -> 8.3073147e+09 | I23: =+SUM(I19:I22) -> 8.1682005e+09 | ... M23: =+SUM(M19:M22) -> 1.3719334e+10
B24: =+B10-B18-B23 -> -195962.36 | C24: =+C10-C18-C23 -> -332275 | D24: =+D10-D18-D23 -> -491854 | E24: =+E10-E18-E23 -> -303320.82 | F24: =+F10-F18-F23 -> 0 | G24: =+G10-G18-G23 -> 0 | H24: =+H10-H18-H23 -> 0 | I24: =+I10-I18-I23 -> 0 | ... M24: =+M10-M18-M23 -> 0
A26: TEA implicita Cartera | C26: =+C57/AVERAGE(B5:C5) -> 0.12570534 | D26: =+D57/AVERAGE(C5:D5) -> 0.1284915 | E26: =+E57/AVERAGE(D5:E5) -> 0.13137107 | F26: =+F57/AVERAGE(E5:F5) -> 0.13938774 | H26: =+H57/AVERAGE(F5:H5) -> 0.12746242 | I26: =+I57/AVERAGE(H5:I5) -> 0.14265029 | J26: =+J57/AVERAGE(I5:J5) -> 0.15369974 | K26: =+K57/AVERAGE(J5:K5) -> 0.16707259 | L26: =+L57/AVERAGE(K5:L5) -> 0.16712786 | M26: =+M57/AVERAGE(L5:M5) -> 0.16690983
A27: FLUJO DE CAJA | I27: =+I1 -> 45291 | J27: =+J1 -> 45657 | K27: =+K1 -> 46022 | L27: =+L1 -> 46387 | M27: =+M1 -> 46752
A28: Saldo Inicial | I28: =+'EF. Mensuales'!C28 -> 2.768338e+08 | J28: =+I54 -> 4.6024694e+08 | K28: =+J54 -> 3.1104176e+08 | L28: =+K54 -> 3.5334586e+08 | M28: =+L54 -> 3.7942399e+08
A29: Recaudos de Cartera (capital + intereses) | I29: =+SUM('EF. Mensuales'!C29:N29) -> 4.0305751e+09 | J29: =+SUM('EF. Mensuales'!O29:Z29) -> 4.3409146e+09 | K29: =+SUM('EF. Mensuales'!AA29:AL29) -> 5.3128641e+09 | L29: =+SUM('EF. Mensuales'!AM29:AX29) -> 6.1541261e+09 | M29: =+SUM('EF. Mensuales'!AY29:BJ29) -> 6.8561042e+09
A30: Recaudo Aportes | I30: =+SUM('EF. Mensuales'!C30:N30) -> 1.2683179e+09 | J30: =+SUM('EF. Mensuales'!O30:Z30) -> 1.3689242e+09 | K30: =+SUM('EF. Mensuales'!AA30:AL30) -> 1.4720037e+09 | L30: =+SUM('EF. Mensuales'!AM30:AX30) -> 1.5753946e+09 | M30: =+SUM('EF. Mensuales'!AY30:BJ30) -> 1.7083395e+09
A31: Captaciones | I31: =+SUM('EF. Mensuales'!C31:N31) -> 1.5152424e+09 | J31: =+SUM('EF. Mensuales'!O31:Z31) -> 1.6714694e+09 | K31: =+SUM('EF. Mensuales'!AA31:AL31) -> 1.8021466e+09 | L31: =+SUM('EF. Mensuales'!AM31:AX31) -> 1.9139434e+09 | M31: =+SUM('EF. Mensuales'!AY31:BJ31) -> 2.0241374e+09
A32: Rendimientos Excedentes Tesorería | I32: =+SUM('EF. Mensuales'!C32:N32) -> 6550768.1 | J32: =+SUM('EF. Mensuales'!O32:Z32) -> 6537483.9 | K32: =+SUM('EF. Mensuales'!AA32:AL32) -> 3509481.1 | L32: =+SUM('EF. Mensuales'!AM32:AX32) -> 3960285.4 | M32: =+SUM('EF. Mensuales'!AY32:BJ32) -> 3998295.6
A33: Contribuciones Fondos | I33: =+SUM('EF. Mensuales'!C33:N33) -> 0 | J33: =+SUM('EF. Mensuales'!O33:Z33) -> 0 | K33: =+SUM('EF. Mensuales'!AA33:AL33) -> 0 | L33: =+SUM('EF. Mensuales'!AM33:AX33) -> 0 | M33: =+SUM('EF. Mensuales'!AY33:BJ33) -> 0
A34: Recaudo Liq. Prestaciones Sociales | I34: =+SUM('EF. Mensuales'!C34:N34) -> 4.3229054e+08 | J34: =+SUM('EF. Mensuales'!O34:Z34) -> 4.5857509e+08 | K34: =+SUM('EF. Mensuales'!AA34:AL34) -> 4.7197334e+08 | L34: =+SUM('EF. Mensuales'!AM34:AX34) -> 4.7383877e+08 | M34: =+SUM('EF. Mensuales'!AY34:BJ34) -> 4.7336291e+08
A35: Pagos por Caja Cartera | I35: =+SUM('EF. Mensuales'!C35:N35) -> 276000000 | J35: =+SUM('EF. Mensuales'!O35:Z35) -> 302220000 | K35: =+SUM('EF. Mensuales'!AA35:AL35) -> 324886500 | L35: =+SUM('EF. Mensuales'!AM35:AX35) -> 3.4275526e+08 | M35: =+SUM('EF. Mensuales'!AY35:BJ35) -> 3.616068e+08
A36: Disminución de Inversiones | I36: =+SUM('EF. Mensuales'!C36:N36) -> 0 | J36: =+SUM('EF. Mensuales'!O36:Z36) -> 0 | K36: =+SUM('EF. Mensuales'!AA36:AL36) -> 0 | L36: =+SUM('EF. Mensuales'!AM36:AX36) -> 0 | M36: =+SUM('EF. Mensuales'!AY36:BJ36) -> 0
A37: =+A60 -> Admtivos, Sociales, comisiones | I37: =+SUM('EF. Mensuales'!C37:N37) -> 8818307.1 | J37: =+SUM('EF. Mensuales'!O37:Z37) -> 9523771.7 | K37: =+SUM('EF. Mensuales'!AA37:AL37) -> 10095198 | L37: =+SUM('EF. Mensuales'!AM37:AX37) -> 10499006 | M37: =+SUM('EF. Mensuales'!AY37:BJ37) -> 10918966
A38: Venta de PPE | I38: =+SUM('EF. Mensuales'!C38:N38) -> 0 | J38: =+SUM('EF. Mensuales'!O38:Z38) -> 0 | K38: =+SUM('EF. Mensuales'!AA38:AL38) -> 0 | L38: =+SUM('EF. Mensuales'!AM38:AX38) -> 0 | M38: =+SUM('EF. Mensuales'!AY38:BJ38) -> 0
A39: Nuevas obligaciones | I39: =+SUM('EF. Mensuales'!C39:N39) -> 1.4846382e+09 | J39: =+SUM('EF. Mensuales'!O39:Z39) -> 1.7687422e+09 | K39: =+SUM('EF. Mensuales'!AA39:AL39) -> 2.0666792e+09 | L39: =+SUM('EF. Mensuales'!AM39:AX39) -> 2.2942361e+09 | M39: =+SUM('EF. Mensuales'!AY39:BJ39) -> 2.1918997e+09
A40: TOTAL ENTRADAS | I40: =SUM(I29:I39) -> 9.0224331e+09 | J40: =SUM(J29:J39) -> 9.9269066e+09 | K40: =SUM(K29:K39) -> 1.1464158e+10 | L40: =SUM(L29:L39) -> 1.2768754e+10 | M40: =SUM(M29:M39) -> 1.3630368e+10
A41: Desembolsos NETOS | I41: =+SUM('EF. Mensuales'!C41:N41) -> 5755750000 | J41: =+SUM('EF. Mensuales'!O41:Z41) -> 6446440000 | K41: =+SUM('EF. Mensuales'!AA41:AL41) -> 7.0266196e+09 | L41: =+SUM('EF. Mensuales'!AM41:AX41) -> 7.4482168e+09 | M41: =+SUM('EF. Mensuales'!AY41:BJ41) -> 7.8951098e+09
...

Sheet EF. Mensuales
A1: SITUACION FINANCIERA | B1: 44896 | C1: =EOMONTH(B1,1) -> 44957 | D1: =EOMONTH(C1,1) -> 44985 | E1: =EOMONTH(D1,1) -> 45016 | F1: =EOMONTH(E1,1) -> 45046 | G1: =EOMONTH(F1,1) -> 45077 | H1: =EOMONTH(G1,1) -> 45107 | I1: =EOMONTH(H1,1) -> 45138 | J1: =EOMONTH(I1,1) -> 45169 | ... BJ1: =EOMONTH(BI1,1) -> 46752
A2: =+'EF. Anuales'!A2 -> Efectivo y Eq NETO | B2: =+'EF. Anuales'!H2 -> 2.768338e+08 | C2: =+C54 -> 3.9769666e+08 | D2: =+D54 -> 3.1859225e+08 | E2: =+E54 -> 2.3050453e+08 | F2: =+F54 -> 1.1978851e+08 | G2: =+G54 -> 18082727 | H2: =+H54 -> 1.0885256e+08 | I2: =+I54 -> 14457501 | J2: =+J54 -> 33753915 | ... BJ2: =+BJ54 -> 3.944668e+08
A3: =+'EF. Anuales'!A3 -> Fondo de Liquidez | B3: =+'EF. Anuales'!H3 -> 420000000 | C3: =+anexos!B7 -> 4.2419311e+08 | D3: =+anexos!C7 -> 4.284022e+08 | E3: =+anexos!D7 -> 4.3262783e+08 | F3: =+anexos!E7 -> 4.3687054e+08 | G3: =+anexos!F7 -> 4.4113089e+08 | H3: =+anexos!G7 -> 4.4540943e+08 | I3: =+anexos!H7 -> 4.4970671e+08 | J3: =+anexos!I7 -> 4.540233e+08 | ... BJ3: =+anexos!BI7 -> 6.3642366e+08
A4: =+'EF. Anuales'!A4 -> Otras inversiones | B4: =+'EF. Anuales'!H4 -> 215330328 | C4: =+B4+C60 -> 215330328 | D4: =+C4+D60 -> 215330328 | E4: =+D4+E60 -> 215330328 | F4: =+E4+F60 -> 215330328 | G4: =+F4+G60 -> 215330328 | H4: =+G4+H60 -> 215330328 | I4: =+H4+I60 -> 215330328 | J4: =+I4+J60 -> 215330328 | ... BJ4: =+BI4+BJ60 -> 2.2009556e+08
A5: =+'EF. Anuales'!A5 -> Cartera de Crédito | B5: =+'EF. Anuales'!H5 -> 13000000000 | C5: =+anexos!B19 -> 1.2943604e+10 | D5: =+anexos!C19 -> 1.3111398e+10 | E5: =+anexos!D19 -> 1.3276316e+10 | F5: =+anexos!E19 -> 1.3438473e+10 | G5: =+anexos!F19 -> 1.359797e+10 | H5: =+anexos!G19 -> 1.3570934e+10 | I5: =+anexos!H19 -> 1.3775794e+10 | J5: =+anexos!I19 -> 1.3929191e+10 | ... BJ5: =+anexos!BI19 -> 2.729814e+10
A6: =+'EF. Anuales'!A6 -> Provisión Cartera | B6: =+'EF. Anuales'!H6 -> -216224881 | C6: =+anexos!B34 -> -716224881 | D6: =+anexos!C34 -> -7.2452874e+08 | E6: =+anexos!D34 -> -7.3284281e+08 | F6: =+anexos!E34 -> -7.4116795e+08 | G6: =+anexos!F34 -> -7.495049e+08 | H6: =+anexos!G34 -> -7.5245017e+08 | I6: =+anexos!H34 -> -7.6225627e+08 | J6: =+anexos!I34 -> -7.7063502e+08 | ... BJ6: =+anexos!BI34 -> -1.5610642e+09
A7: =+'EF. Anuales'!A7 -> P.P. y Equipo | B7: =+'EF. Anuales'!H7 -> 1.1137548e+08 | C7: =+anexos!B42 -> 1.1124548e+08 | D7: =+anexos!C42 -> 1.1111548e+08 | E7: =+anexos!D42 -> 1.1098548e+08 | F7: =+anexos!E42 -> 1.1085548e+08 | G7: =+anexos!F42 -> 1.1072548e+08 | H7: =+anexos!G42 -> 1.1059548e+08 | I7: =+anexos!H42 -> 1.1046548e+08 | J7: =+anexos!I42 -> 1.1033548e+08 | ... BJ7: =+anexos!BI42 -> 1.4552677e+08
A8: =+'EF. Anuales'!A8 -> Intangibles | B8: =+'EF. Anuales'!H8 -> 0 | C8: =+anexos!B48 -> 21083333 | D8: =+anexos!C48 -> 19166667 | E8: =+anexos!D48 -> 17250000 | F8: =+anexos!E48 -> 15333333 | G8: =+anexos!F48 -> 13416667 | H8: =+anexos!G48 -> 11500000 | I8: =+anexos!H48 -> 9583333.3 | J8: =+anexos!I48 -> 7666666.7 | ... BJ8: =+anexos!BI48 -> 2.7939677e-09
A9: =+'EF. Anuales'!A9 -> Otros activos | B9: =+'EF. Anuales'!H9 -> 0 | C9: =+B9 -> 0 | D9: =+C9 -> 0 | E9: =+D9 -> 0 | F9: =+E9 -> 0 | G9: =+F9 -> 0 | H9: =+G9 -> 0 | I9: =+H9 -> 0 | J9: =+I9 -> 0 | ... BJ9: =+BI9 -> 0
A10: TOTAL ACTIVOS | B10: =SUM(B2:B9) -> 1.3807315e+10 | C10: =SUM(C2:C9) -> 1.3396928e+10 | D10: =SUM(D2:D9) -> 1.3479476e+10 | E10: =SUM(E2:E9) -> 1.3550172e+10 | F10: =SUM(F2:F9) -> 1.3595483e+10 | G10: =SUM(G2:G9) -> 1.3647151e+10 | H10: =SUM(H2:H9) -> 1.3710172e+10 | I10: =SUM(I2:I9) -> 1.3813081e+10 | ... BJ10: =SUM(BJ2:BJ9) -> 2.7133588e+10
A11: =+'EF. Anuales'!A11 -> Ahorro Permanente | B11: =+'EF. Anuales'!H11 -> 1200000000 | C11: =+anexos!B69 -> 1210764432 | D11: =+anexos!C69 -> 1.2213611e+09 | E11: =+anexos!D69 -> 1.2317919e+09 | F11: =+anexos!E69 -> 1.242059e+09 | G11: =+anexos!F69 -> 1.2521643e+09 | H11: =+anexos!G69 -> 1.2621097e+09 | I11: =+anexos!H69 -> 1.2718971e+09 | J11: =+anexos!I69 -> 1.2815286e+09 | ... BJ11: =+anexos!BI69 -> 1.9874365e+09
A12: =+'EF. Anuales'!A12 -> Ahorro vista | B12: =+'EF. Anuales'!H12 -> 2600000000 | C12: =+anexos!B75 -> 2.6281667e+09 | D12: =+anexos!C75 -> 2.6566385e+09 | E12: =+anexos!D75 -> 2.6854187e+09 | F12: =+anexos!E75 -> 2.7145108e+09 | G12: =+anexos!F75 -> 2.743918e+09 | H12: =+anexos!G75 -> 2.7736437e+09 | I12: =+anexos!H75 -> 2.8036915e+09 | J12: =+anexos!I75 -> 2.8340649e+09 | ... BJ12: =+anexos!BI75 -> 3.8346009e+09
A13: =+'EF. Anuales'!A13 -> Ahorro contractual | B13: =+'EF. Anuales'!H13 -> 400000000 | C13: =+anexos!B81 -> 403000000 | D13: =+anexos!C81 -> 406022500 | E13: =+anexos!D81 -> 4.0906767e+08 | F13: =+anexos!E81 -> 4.1213568e+08 | G13: =+anexos!F81 -> 4.1522669e+08 | H13: =+anexos!G81 -> 4.1834089e+08 | I13: =+anexos!H81 -> 4.2147845e+08 | J13: =+anexos!I81 -> 4.2463954e+08 | ... BJ13: =+anexos!BI81 -> 5.4219918e+08
A14: =+'EF. Anuales'!A14 -> Obligaciones Financieras | B14: =+'EF. Anuales'!H14 -> 1000000000 | C14: =+anexos!B89 -> 9.7222222e+08 | D14: =+anexos!C89 -> 9.4521605e+08 | E14: =+anexos!D89 -> 9.1896005e+08 | F14: =+anexos!E89 -> 8.9343338e+08 | G14: =+anexos!F89 -> 8.6861579e+08 | H14: =+anexos!G89 -> 8.4448757e+08 | I14: =+anexos!H89 -> 8.6440208e+08 | J14: =+anexos!I89 -> 9.4165266e+08 | ... BJ14: =+anexos!BI89 -> 5.6728823e+09
A15: =+'EF. Anuales'!A15 -> Provisiones | B15: =+'EF. Anuales'!H15 -> 0 | C15: =+anexos!B117 -> 0 | D15: =+anexos!C117 -> 0 | E15: =+anexos!D117 -> 0 | F15: =+anexos!E117 -> 0 | G15: =+anexos!F117 -> 0 | H15: =+anexos!G117 -> 0 | I15: =+anexos!H117 -> 0 | J15: =+anexos!I117 -> 0 | ... BJ15: =+anexos!BI117 -> 0
A16: =+'EF. Anuales'!A16 -> Fondos | B16: =+'EF. Anuales'!H16 -> 300000000 | C16: =+anexos!B104 -> 283000000 | D16: =+anexos!C104 -> 2.6748843e+08 | E16: =+anexos!D104 -> 7.7339252e+08 | F16: =+anexos!E104 -> 7.1715509e+08 | G16: =+anexos!F104 -> 6.6567256e+08 | H16: =+anexos!G104 -> 6.1854761e+08 | I16: =+anexos!H104 -> 5.7541604e+08 | J16: =+anexos!I104 -> 5.3594402e+08 | ... BJ16: =+anexos!BI104 -> 1.3771359e+09
A17: =+'EF. Anuales'!A17 -> Otros pasivos | B17: =+'EF. Anuales'!H17 -> 0 | C17: =+anexos!B96 -> 0 | D17: =+anexos!C96 -> 0 | E17: =+anexos!D96 -> 0 | F17: =+anexos!E96 -> 0 | G17: =+anexos!F96 -> 0 | H17: =+anexos!G96 -> 0 | I17: =+anexos!H96 -> 0 | J17: =+anexos!I96 -> 0 | ... BJ17: =+anexos!BI96 -> 0
A18: TOTAL PASIVO | B18: =SUM(B11:B17) -> 5500000000 | C18: =SUM(C11:C17) -> 5.4971533e+09 | D18: =SUM(D11:D17) -> 5.4967265e+09 | E18: =SUM(E11:E17) -> 6.0186309e+09 | F18: =SUM(F11:F17) -> 5.9792939e+09 | G18: =SUM(G11:G17) -> 5.9455973e+09 | H18: =SUM(H11:H17) -> 5.9171295e+09 | I18: =SUM(I11:I17) -> 5.9368853e+09 | ... BJ18: =SUM(BJ11:BJ17) -> 1.3414255e+10
A19: =+'EF. Anuales'!A19 -> Aportes Sociales | B19: =+'EF. Anuales'!H19 -> 5950000000 | C19: =+anexos!B111 -> 5977963978 | D19: =+anexos!C111 -> 6.0054456e+09 | E19: =+anexos!D111 -> 6.0324506e+09 | F19: =+anexos!E111 -> 6.0589848e+09 | G19: =+anexos!F111 -> 6.0850539e+09 | H19: =+anexos!G111 -> 6.1106635e+09 | I19: =+anexos!H111 -> 6.1358192e+09 | J19: =+anexos!I111 -> 6.1605264e+09 | ... BJ19: =+anexos!BI111 -> 8.520059e+09
A20: =+'EF. Anuales'!A20 -> Reservas, fondos y Superavit | B20: =+'EF. Anuales'!H20 -> 1.7072493e+09 | C20: =+B20 -> 1.7072493e+09 | D20: =+C20 -> 1.7072493e+09 | E20: =(+D20)+((D21)*20%) -> 1.8372623e+09 | F20: =+E20 -> 1.8372623e+09 | G20: =+F20 -> 1.8372623e+09 | H20: =+G20 -> 1.8372623e+09 | I20: =+H20 -> 1.8372623e+09 | J20: =+I20 -> 1.8372623e+09 | K20: =+J20 -> 1.8372623e+09 | L20: =+K20 -> 1.8372623e+09 | M20: =+L20 -> 1.8372623e+09 | ... P20: =+O20 -> 1.8372623e+09 | Q20: =(+P20)+((P21)*20%) -> 1.8524543e+09 | R20: =+Q20 -> 1.8524543e+09 | S20: =+R20 -> 1.8524543e+09 | T20: =+S20 -> 1.8524543e+09 | U20: =+T20 -> 1.8524543e+09 | V20: =+U20 -> 1.8524543e+09 | W20: =+V20 -> 1.8524543e+09 | X20: =+W20 -> 1.8524543e+09 | Y20: =+X20 -> 1.8524543e+09 | ... AB20: =+AA20 -> 1.8524543e+09 | AC20: =(+AB20)+((AB21)*20%) -> 2.030695e+09 | AD20: =+AC20 -> 2.030695e+09 | AE20: =+AD20 -> 2.030695e+09 | AF20: =+AE20 -> 2.030695e+09 | AG20: =+AF20 -> 2.030695e+09 | AH20: =+AG20 -> 2.030695e+09 | AI20: =+AH20 -> 2.030695e+09 | AJ20: =+AI20 -> 2.030695e+09 | AK20: =+AJ20 -> 2.030695e+09 | ... AN20: =+AM20 -> 2.030695e+09 | AO20: =(+AN20)+((AN21)*20%) -> 2.3379286e+09 | AP20: =+AO20 -> 2.3379286e+09 | AQ20: =+AP20 -> 2.3379286e+09 | AR20: =+AQ20 -> 2.3379286e+09 | AS20: =+AR20 -> 2.3379286e+09 | AT20: =+AS20 -> 2.3379286e+09 | AU20: =+AT20 -> 2.3379286e+09 | AV20: =+AU20 -> 2.3379286e+09 | AW20: =+AV20 -> 2.3379286e+09 | ... AZ20: =+AY20 -> 2.3379286e+09 | BA20: =(+AZ20)+((AZ21)*20%) -> 2.7374072e+09 | BB20: =+BA20 -> 2.7374072e+09 | BC20: =+BB20 -> 2.7374072e+09 | BD20: =+BC20 -> 2.7374072e+09 | BE20: =+BD20 -> 2.7374072e+09 | BF20: =+BE20 -> 2.7374072e+09 | BG20: =+BF20 -> 2.7374072e+09 | BH20: =+BG20 -> 2.7374072e+09 | BI20: =+BH20 -> 2.7374072e+09 | BJ20: =+BI20 -> 2.7374072e+09
A21: =+'EF. Anuales'!A21 -> Resultados Ejercicios Anteriores | C21: =+B22 -> 6.5006548e+08 | D21: =+C21 -> 6.5006548e+08 | O21: =+N22 -> 75959519 | P21: =+O21 -> 75959519 | AA21: =+Z22 -> 8.9120388e+08 | AB21: =+AA21 -> 8.9120388e+08 | AM21: =+AL22 -> 1.5361679e+09 | AN21: =+AM21 -> 1.5361679e+09 | AY21: =+AX22 -> 1.997393e+09 | AZ21: =+AY21 -> 1.997393e+09
A22: =+'EF. Anuales'!A22 -> Resultado Ejercicio | B22: =+'EF. Anuales'!H22 -> 6.5006548e+08 | C22: =+C76 -> -4.355041e+08 | D22: =+D76 -> -3.8001107e+08 | E22: =+E76 -> -3.3817201e+08 | F22: =+F76 -> -2.8005804e+08 | G22: =+G76 -> -2.2076224e+08 | H22: =+H76 -> -1.5488342e+08 | I22: =+I76 -> -96885418 | J22: =+J76 -> -35952483 | ... BJ22: =+BJ76 -> 2.4618675e+09
A23: TOTAL PATRIMONIO | B23: =SUM(B19:B22) -> 8.3073147e+09 | C23: =SUM(C19:C22) -> 7.8997746e+09 | D23: =SUM(D19:D22) -> 7.9827492e+09 | E23: =SUM(E19:E22) -> 7.5315409e+09 | F23: =SUM(F19:F22) -> 7.6161891e+09 | G23: =SUM(G19:G22) -> 7.701554e+09 | H23: =SUM(H19:H22) -> 7.7930425e+09 | I23: =SUM(I19:I22) -> 7.8761961e+09 | ... BJ23: =SUM(BJ19:BJ22) -> 1.3719334e+10
B24: =+B10-B18-B23 -> 0 | C24: =+C10-C18-C23 -> 0 | D24: =+D10-D18-D23 -> 0 | E24: =+E10-E18-E23 -> 0 | F24: =+F10-F18-F23 -> 0 | G24: =+G10-G18-G23 -> 0 | H24: =+H10-H18-H23 -> 0 | I24: =+I10-I18-I23 -> 0 | ... BJ24: =+BJ10-BJ18-BJ23 -> 0
A27: FLUJO DE CAJA | B27: =+B1 -> 44896 | C27: =+C1 -> 44957 | D27: =+D1 -> 44985 | E27: =+E1 -> 45016 | F27: =+F1 -> 45046 | G27: =+G1 -> 45077 | H27: =+H1 -> 45107 | I27: =+I1 -> 45138 | ... BJ27: =+BJ1 -> 46752
A28: Saldo Inicial | C28: =+B2 -> 2.768338e+08 | D28: =+C54 -> 3.9769666e+08 | E28: =+D54 -> 3.1859225e+08 | F28: =+E54 -> 2.3050453e+08 | G28: =+F54 -> 1.1978851e+08 | H28: =+G54 -> 18082727 | I28: =+H54 -> 1.0885256e+08 | J28: =+I54 -> 14457501 | K28: =+J54 -> 33753915 | ... BJ28: =+BI54 -> 2.024021e+08
A29: =+'EF. Anuales'!A29 -> Recaudos de Cartera (capital + intereses) | C29: =+anexos!B18 -> 2.86296e+08 | D29: =+anexos!C18 -> 2.8496515e+08 | E29: =+anexos!D18 -> 2.890427e+08 | F29: =+anexos!E18 -> 2.9299369e+08 | G29: =+anexos!F18 -> 2.9682699e+08 | H29: =+anexos!G18 -> 4.845205e+08 | I29: =+anexos!H18 -> 2.9946031e+08 | J29: =+anexos!I18 -> 3.0411218e+08 | ... BJ29: =+anexos!BI18 -> 6.109364e+08
A30: =+'EF. Anuales'!A30 -> Recaudo Aportes | C30: =+anexos!B108 -> 106057728 | D30: =+anexos!C108 -> 1.0599144e+08 | E30: =+anexos!D108 -> 1.0592516e+08 | F30: =+anexos!E108 -> 1.0585887e+08 | G30: =+anexos!F108 -> 1.0579258e+08 | H30: =+anexos!G108 -> 1.057263e+08 | I30: =+anexos!H108 -> 1.0566001e+08 | J30: =+anexos!I108 -> 1.0559373e+08 | ... BJ30: =+anexos!BI108 -> 1.4552157e+08
A31: =+'EF. Anuales'!A31 -> Captaciones | C31: =+anexos!B64+anexos!B72+anexos!B78 -> 1.2095888e+08 | D31: =+anexos!C64+anexos!C72+anexos!C78 -> 1.2189138e+08 | E31: =+anexos!D64+anexos!D72+anexos!D78 -> 1.2283361e+08 | F31: =+anexos!E64+anexos!E72+anexos!E78 -> 1.2378566e+08 | G31: =+anexos!F64+anexos!F72+anexos!F78 -> 1.2474765e+08 | H31: =+anexos!G64+anexos!G72+anexos!G78 -> 1.2571967e+08 | I31: =+anexos!H64+anexos!H72+anexos!H78 -> 1.2670182e+08 | J31: =+anexos!I64+anexos!I72+anexos!I78 -> 1.2769422e+08 | ... BJ31: =+anexos!BI64+anexos!BI72+anexos!BI78 -> 1.7246475e+08
A32: =+'EF. Anuales'!A32 -> Rendimientos Excedentes Tesorería | C32: =+C28*(PARÁMETROS!$C$2/24) -> 922779.34 | D32: =+D28*(PARÁMETROS!$C$2/24) -> 1325655.5 | E32: =+E28*(PARÁMETROS!$C$2/24) -> 1061974.2 | F32: =+F28*(PARÁMETROS!$C$2/24) -> 768348.43 | G32: =+G28*(PARÁMETROS!$C$2/24) -> 399295.04 | H32: =+H28*(PARÁMETROS!$C$2/24) -> 60275.756 | I32: =+I28*(PARÁMETROS!$C$2/24) -> 362841.87 | J32: =+J28*(PARÁMETROS!$C$2/24) -> 48191.67 | ... N32: =+N28*(PARÁMETROS!$C$2/24) -> 494916.96 | O32: =+O28*(PARÁMETROS!$D$2/24) -> 1150617.3 | P32: =+P28*(PARÁMETROS!$D$2/24) -> 1355103.4 | Q32: =+Q28*(PARÁMETROS!$D$2/24) -> 1003435.7 | R32: =+R28*(PARÁMETROS!$D$2/24) -> 673894.04 | S32: =+S28*(PARÁMETROS!$D$2/24) -> 590837.05 | T32: =+T28*(PARÁMETROS!$D$2/24) -> 286500.42 | U32: =+U28*(PARÁMETROS!$D$2/24) -> 3144.0984 | V32: =+V28*(PARÁMETROS!$D$2/24) -> 191603.35 | ... Z32: =+Z28*(PARÁMETROS!$D$2/24) -> 499681.38 | AA32: =+AA28*(PARÁMETROS!$E$2/24) -> 518402.93 | AB32: =+AB28*(PARÁMETROS!$E$2/24) -> 721305.01 | AC32: =+AC28*(PARÁMETROS!$E$2/24) -> 518729.75 | AD32: =+AD28*(PARÁMETROS!$E$2/24) -> 332386.03 | AE32: =+AE28*(PARÁMETROS!$E$2/24) -> 260664.71 | AF32: =+AF28*(PARÁMETROS!$E$2/24) -> 9837.5511 | AG32: =+AG28*(PARÁMETROS!$E$2/24) -> 109208.83 | AH32: =+AH28*(PARÁMETROS!$E$2/24) -> 95978.944 | ... AL32: =+AL28*(PARÁMETROS!$E$2/24) -> 363659.82 | AM32: =+AM28*(PARÁMETROS!$F$2/24) -> 588909.76 | AN32: =+AN28*(PARÁMETROS!$F$2/24) -> 805058.61 | AO32: =+AO28*(PARÁMETROS!$F$2/24) -> 594540.56 | AP32: =+AP28*(PARÁMETROS!$F$2/24) -> 404384.09 | AQ32: =+AQ28*(PARÁMETROS!$F$2/24) -> 292816.79 | AR32: =+AR28*(PARÁMETROS!$F$2/24) -> 10392.543 | AS32: =+AS28*(PARÁMETROS!$F$2/24) -> 136389.93 | AT32: =+AT28*(PARÁMETROS!$F$2/24) -> 106726.27 | ... AX32: =+AX28*(PARÁMETROS!$F$2/24) -> 393075.09 | AY32: =+AY28*(PARÁMETROS!$G$2/24) -> 553326.65 | AZ32: =+AZ28*(PARÁMETROS!$G$2/24) -> 752745.47 | BA32: =+BA28*(PARÁMETROS!$G$2/24) -> 588542.59 | BB32: =+BB28*(PARÁMETROS!$G$2/24) -> 443120.6 | BC32: =+BC28*(PARÁMETROS!$G$2/24) -> 416142.21 | BD32: =+BD28*(PARÁMETROS!$G$2/24) -> 178911.27 | BE32: =+BE28*(PARÁMETROS!$G$2/24) -> 17026.848 | BF32: =+BF28*(PARÁMETROS!$G$2/24) -> 122853.18 | ... BJ32: =+BJ28*(PARÁMETROS!$G$2/24) -> 295169.73
A33: =+'EF. Anuales'!A33 -> Contribuciones Fondos | C33: =+anexos!B102 -> 0 | D33: =+anexos!C102 -> 0 | E33: =+anexos!D102 -> 0 | F33: =+anexos!E102 -> 0 | G33: =+anexos!F102 -> 0 | H33: =+anexos!G102 -> 0 | I33: =+anexos!H102 -> 0 | J33: =+anexos!I102 -> 0 | ... BJ33: =+anexos!BI102 -> 0
A34: =+'EF. Anuales'!A34 -> Recaudo Liq. Prestaciones Sociales | C34: =+'FLUJO DE CARTERA'!C201 -> 35667692 | D34: =+'FLUJO DE CARTERA'!D201 -> 35701206 | E34: =+'FLUJO DE CARTERA'!E201 -> 35773423 | F34: =+'FLUJO DE CARTERA'!F201 -> 35841534 | G34: =+'FLUJO DE CARTERA'!G201 -> 35905871 | H34: =+'FLUJO DE CARTERA'!H201 -> 35966727 | I34: =+'FLUJO DE CARTERA'!I201 -> 36080579 | J34: =+'FLUJO DE CARTERA'!J201 -> 36133901 | ... BJ34: =+'FLUJO DE CARTERA'!BJ201 -> 39488588
A35: =+'EF. Anuales'!A35 -> Pagos por Caja Cartera | C35: =+'FLUJO DE CARTERA'!C212 -> 23000000 | D35: =+'FLUJO DE CARTERA'!D212 -> 23000000 | E35: =+'FLUJO DE CARTERA'!E212 -> 23000000 | F35: =+'FLUJO DE CARTERA'!F212 -> 23000000 | G35: =+'FLUJO DE CARTERA'!G212 -> 23000000 | H35: =+'FLUJO DE CARTERA'!H212 -> 23000000 | I35: =+'FLUJO DE CARTERA'!I212 -> 23000000 | J35: =+'FLUJO DE CARTERA'!J212 -> 23000000 | ... BJ35: =+'FLUJO DE CARTERA'!BJ212 -> 30133900
A36: =+'EF. Anuales'!A36 -> Disminución de Inversiones | C36: =+anexos!B6 -> 0 | D36: =+anexos!C6 -> 0 | E36: =+anexos!D6 -> 0 | F36: =+anexos!E6 -> 0 | G36: =+anexos!F6 -> 0 | H36: =+anexos!G6 -> 0 | I36: =+anexos!H6 -> 0 | J36: =+anexos!I6 -> 0 | ... BJ36: =+anexos!BI6 -> 0
A37: =+'EF. Anuales'!A37 -> Admtivos, Sociales, comisiones | C37: =+C61 -> 734858.93 | D37: =+D61 -> 734858.93 | E37: =+E61 -> 734858.93 | F37: =+F61 -> 734858.93 | G37: =+G61 -> 734858.93 | H37: =+H61 -> 734858.93 | I37: =+I61 -> 734858.93 | J37: =+J61 -> 734858.93 | ... BJ37: =+BJ61 -> 909913.85
A38: Ventas de PPE | C38: =+anexos!B40 -> 0 | D38: =+anexos!C40 -> 0 | E38: =+anexos!D40 -> 0 | F38: =+anexos!E40 -> 0 | G38: =+anexos!F40 -> 0 | H38: =+anexos!G40 -> 0 | I38: =+anexos!H40 -> 0 | J38: =+anexos!I40 -> 0 | ... BJ38: =+anexos!BI40 -> 0
A39: =+'EF. Anuales'!A39 -> Nuevas obligaciones | C39: =IF(+SUM(C28:C37)>C53,0,(C53-SUM(C28:C37))*1.5) -> 0 | D39: =IF(+SUM(D28:D37)>D53,0,(D53-SUM(D28:D37))*1.5) -> 0 | E39: =IF(+SUM(E28:E37)>E53,0,(E53-SUM(E28:E37))*1.5) -> 0 | F39: =IF(+SUM(F28:F37)>F53,0,(F53-SUM(F28:F37))*1.5) -> 0 | G39: =IF(+SUM(G28:G37)>G53,0,(G53-SUM(G28:G37))*1.5) -> 0 | H39: =IF(+SUM(H28:H37)>H53,0,(H53-SUM(H28:H37))*1.5) -> 0 | I39: =IF(+SUM(I28:I37)>I53,0,(I53-SUM(I28:I37))*1.5) -> 43372503 | J39: =IF(+SUM(J28:J37)>J53,0,(J53-SUM(J28:J37))*1.5) -> 1.0126175e+08 | ... BJ39: =IF(+SUM(BJ28:BJ37)>BJ53,0,(BJ53-SUM(BJ28:BJ37))*1.5) -> 0
A40: TOTAL ENTRADAS | C40: =SUM(C29:C39) -> 5.7363793e+08 | D40: =SUM(D29:D39) -> 5.7360969e+08 | E40: =SUM(E29:E39) -> 5.7837172e+08 | F40: =SUM(F29:F39) -> 5.8298296e+08 | G40: =SUM(G29:G39) -> 5.8740725e+08 | H40: =SUM(H29:H39) -> 7.7572833e+08 | I40: =SUM(I29:I39) -> 6.3537293e+08 | J40: =SUM(J29:J39) -> 6.9857882e+08 | ... BJ40: =SUM(BJ29:BJ39) -> 9.9975029e+08
A41: =+'EF. Anuales'!A41 -> Desembolsos NETOS | C41: =+anexos!B12-anexos!B13 -> 224250000 | D41: =+anexos!C12-anexos!C13 -> 448500000 | E41: =+anexos!D12-anexos!D13 -> 448500000 | F41: =+anexos!E12-anexos!E13 -> 448500000 | G41: =+anexos!F12-anexos!F13 -> 448500000 | H41: =+anexos!G12-anexos!G13 -> 448500000 | I41: =+anexos!H12-anexos!H13 -> 448500000 | J41: =+anexos!I12-anexos!I13 -> 448500000 | ... BJ41: =+anexos!BI12-anexos!BI13 -> 2.0506779e+08
A42: =+'EF. Anuales'!A42 -> Retiro Aportes en Efectivo (Remanentes) | C42: =+anexos!B110+anexos!B68-'FLUJO DE CARTERA'!C190 -> 0 | D42: =+anexos!C110+anexos!C68-'FLUJO DE CARTERA'!D190 -> 0 | E42: =+anexos!D110+anexos!D68-'FLUJO DE CARTERA'!E190 -> 0 | F42: =+anexos!E110+anexos!E68-'FLUJO DE CARTERA'!F190 -> 0 | G42: =+anexos!F110+anexos!F68-'FLUJO DE CARTERA'!G190 -> 0 | H42: =+anexos!G110+anexos!G68-'FLUJO DE CARTERA'!H190 -> 0 | I42: =+anexos!H110+anexos!H68-'FLUJO DE CARTERA'!I190 -> 48565946 | J42: =+anexos!I110+anexos!I68-'FLUJO DE CARTERA'!J190 -> 0 | ... BJ42: =+anexos!BI110+anexos!BI68-'FLUJO DE CARTERA'!BJ190 -> 49981518
...

Sheet posible retiro
A1: No | B1: CEDULA | C1: DIRECCION | D1: APORTES | E1: PERMANENTE | F1: CREDITOS | G1: CDAT | H1: TOTAL AHORRO
D27: =SUM(D2:D26) -> 0 | E27: =SUM(E2:E26) -> 0 | F27: =SUM(F2:F26) -> 0 | G27: =SUM(G2:G26) -> 0 | H27: =SUM(H2:H26) -> 0

Sheet Colocaciones 1er Año
