Workbook

Sheet margen
A1: COD | B1: DESCR | C1: AGRO | D1: Credito 3 | E1: Credito 2 | F1: Credito 1 | G1: Mutuales | H1: FE 3 | I1: FE 2 | J1: FE 1 | K1: Act Fciera
A2: 100000 | B2: ACTIVO | C2: 2.8233875e+12 | D2: 7.6199798e+11 | E2: 1.0735508e+12 | F2: 2.4730142e+12 | G2: 3.0732953e+11 | H2: 1.1673879e+12 | I2: 3.2853433e+12 | J2: 7.1299028e+12 | K2: 18220525029191
B3: Inversiones financieras no participativas | C3: 7.480836e+10 | D3: 2.3882287e+10 | E3: 6.9108602e+10 | F3: 1.8100475e+11 | G3: 4.7260064e+10 | H3: 1.3054829e+11 | I3: 4.4883018e+11 | J3: 1.1414383e+12 | K3: 2.1575213e+12
A4: 140000 | B4: Cartera | C4: 2.2189997e+10 | D4: 5.728258e+11 | E4: 7.7895675e+11 | F4: 1.6797219e+12 | G4: 1.7460279e+11 | H4: 7.9561203e+11 | I4: 2.3930741e+12 | J4: 5.0090837e+12 | K4: 1.3864722e+13
B5: Inversiones financieras no participativas | C5: =+C3/C2 -> 0.026495959 | D5: =+D3/D2 -> 0.031341667 | E5: =+E3/E2 -> 0.064373853 | F5: =+F3/F2 -> 0.073191955 | G5: =+G3/G2 -> 0.15377651 | H5: =+H3/H2 -> 0.1118294 | I5: =+I3/I2 -> 0.13661592 | J5: =+J3/J2 -> 0.16009171 | K5: =+K3/K2 -> 0.11841159
A6: 140000 | B6: Cartera | C6: =+C4/C2 -> 0.0078593525 | D6: =+D4/D2 -> 0.75174189 | E6: =+E4/E2 -> 0.7255891 | F6: =+F4/F2 -> 0.67922047 | G6: =+G4/G2 -> 0.56812891 | H6: =+H4/H2 -> 0.68153186 | I6: =+I4/I2 -> 0.72840917 | J6: =+J4/J2 -> 0.70254586 | K6: =+K4/K2 -> 0.76093975
A7: 210500 | B7: Vista | C7: 0 | D7: 0 | E7: 0 | F7: 0 | G7: 4.398597e+10 | H7: 4.2565094e+10 | I7: 1.778516e+11 | J7: 5.6036432e+11 | K7: 3.2865017e+12
A8: 211000 | B8: CDAT | C8: 0 | D8: 0 | E8: 0 | F8: 0 | G8: 7.4041298e+10 | H8: 1.8563117e+10 | I8: 1.9319373e+11 | J8: 1.1731032e+12 | K8: 6.2944204e+12
A9: 212500 | B9: Contractura | C9: 0 | D9: 0 | E9: 0 | F9: 0 | G9: 1.3652652e+10 | H9: 3.1034902e+10 | I9: 1.5722501e+11 | J9: 1.3694636e+11 | K9: 3.3505255e+11
A10: 213000 | B10: Permanente | C10: 0 | D10: 0 | E10: 1.0163967e+10 | F10: 0 | G10: 6.5591506e+10 | H10: 5.1191286e+11 | I10: 1.3502291e+12 | J10: 2.5097026e+12 | K10: 6.9135467e+11
A11: 230000 | B11: Obligaciones | C11: 6.7512632e+11 | D11: 6.7456383e+10 | E11: 9.3564553e+10 | F11: 3.1266121e+11 | G11: 9.3547172e+09 | H11: 1.469867e+10 | I11: 7.8680869e+10 | J11: 1.823055e+11 | K11: 6.724538e+11
A12: 310000 | B12: Aportes | C12: 3.4889942e+11 | D12: 4.8669101e+11 | E12: 7.2303301e+11 | F12: 1.3896177e+12 | G12: 2.2377666e+10 | H12: 3.5680045e+11 | I12: 8.2513384e+11 | J12: 9.8176018e+11 | K12: 3.810556e+12
B13: =+B7 -> Vista | G13: =+G7/G$2 -> 0.14312315 | H13: =+H7/H$2 -> 0.036461826 | I13: =+I7/I$2 -> 0.054134859 | J13: =+J7/J$2 -> 0.078593544 | K13: =+K7/K$2 -> 0.1803736
B14: =+B8 -> CDAT | G14: =+G8/G$2 -> 0.24091826 | H14: =+H8/H$2 -> 0.015901413 | I14: =+I8/I$2 -> 0.058804731 | J14: =+J8/J$2 -> 0.16453285 | K14: =+K8/K$2 -> 0.34545769
B15: =+B9 -> Contractura | G15: =+G9/G$2 -> 0.044423496 | H15: =+H9/H$2 -> 0.02658491 | I15: =+I9/I$2 -> 0.047856494 | J15: =+J9/J$2 -> 0.019207325 | K15: =+K9/K$2 -> 0.018388743
B16: =+B10 -> Permanente | E16: =+E10/E$2 -> 0.0094676161 | G16: =+G10/G$2 -> 0.21342402 | H16: =+H10/H$2 -> 0.43851137 | I16: =+I10/I$2 -> 0.41098572 | J16: =+J10/J$2 -> 0.35199675 | K16: =+K10/K$2 -> 0.03794373
B17: =+B12 -> Aportes | C17: =+C12/C$2 -> 0.12357475 | D17: =+D12/D$2 -> 0.63870381 | E17: =+E12/E$2 -> 0.67349678 | F17: =+F12/F$2 -> 0.56191254 | G17: =+G12/G$2 -> 0.072813263 | H17: =+H12/H$2 -> 0.30564002 | I17: =+I12/I$2 -> 0.25115605 | J17: =+J12/J$2 -> 0.13769615 | K17: =+K12/K$2 -> 0.20913535
B18: Permanente y aportes | C18: =+(C17+C16) -> 0.12357475 | D18: =+(D17+D16) -> 0.63870381 | E18: =+(E17+E16) -> 0.6829644 | F18: =+(F17+F16) -> 0.56191254 | G18: =+(G17+G16) -> 0.28623729 | H18: =+(H17+H16) -> 0.74415139 | I18: =+(I17+I16) -> 0.66214177 | J18: =+(J17+J16) -> 0.4896929 | K18: =+(K17+K16) -> 0.24707908
B19: =+B11 -> Obligaciones | C19: =+C11/C$2 -> 0.23911926 | D19: =+D11/D$2 -> 0.088525672 | E19: =+E11/E$2 -> 0.087154286 | F19: =+F11/F$2 -> 0.1264292 | G19: =+G11/G$2 -> 0.030438719 | H19: =+H11/H$2 -> 0.012591077 | I19: =+I11/I$2 -> 0.023949056 | J19: =+J11/J$2 -> 0.025569142 | K19: =+K11/K$2 -> 0.03690639

Sheet BALANCES
A1: COD | B1: DESCR | C1: AGRO | D1: Mutuales | E1: Credito 3 | F1: Credito 2 | G1: Credito 1 | H1: FE 3 | I1: FE 2 | J1: FE 1 | K1: Act Fciera
A2: 100000 | B2: ACTIVO | C2: 2.8233875e+12 | D2: 3.0732953e+11 | E2: 7.6199798e+11 | F2: 1.0735508e+12 | G2: 2.4730142e+12 | H2: 1.1673879e+12 | I2: 3.2853433e+12 | J2: 7.1299028e+12 | K2: 18220525029191
A3: 110000 | B3: EFECTIVO Y EQUIVALENTE AL EFECTIVO | C3: 1.7922654e+11 | D3: 3.503978e+10 | E3: 9.2218591e+10 | F3: 1.1504289e+11 | G3: 2.786908e+11 | H3: 1.8767003e+11 | I3: 4.2379037e+11 | J3: 9.4810798e+11 | K3: 2.1755564e+12
A4: 110500 | B4: CAJA | C4: 1.8352133e+10 | D4: 1.4003564e+09 | E4: 3.5507079e+09 | F4: 8.2032622e+08 | G4: 1.3272039e+09 | H4: 1.7345531e+09 | I4: 8.8973807e+08 | J4: 9.9170285e+09 | K4: 1.1259886e+11
A5: 110505 | B5: CAJA GENERAL | C5: 1.8200164e+10 | D5: 1.3491687e+09 | E5: 3.4198592e+09 | F5: 7.2908445e+08 | G5: 1.1863939e+09 | H5: 1.5777442e+09 | I5: 7.5669508e+08 | J5: 9.7786299e+09 | K5: 1.1207862e+11
A6: 110510 | B6: CAJA MENOR | C6: 1.5196941e+08 | D6: 51187703 | E6: 1.308362e+08 | F6: 91241763 | G6: 140809946 | H6: 1.567985e+08 | I6: 1.3304251e+08 | J6: 1.3839852e+08 | K6: 5.2023249e+08
A7: 111000 | B7: BANCOS Y OTRAS ENTIDADES CON ACTIVIDAD FINANCIERA | C7: 1.1787263e+11 | D7: 2.2262342e+10 | E7: 7.2186339e+10 | F7: 7.6586067e+10 | G7: 1.3442381e+11 | H7: 1.3208162e+11 | I7: 2.61249e+11 | J7: 4.413783e+11 | K7: 8.9411148e+11
A8: 111005 | B8: BANCOS COMERCIALES | C8: 1.1234364e+11 | D8: 1.5023966e+10 | E8: 6.479706e+10 | F8: 6.5960446e+10 | G8: 1.2362317e+11 | H8: 1.2105802e+11 | I8: 2.3452105e+11 | J8: 4.2624038e+11 | K8: 7.6822291e+11
A9: 111010 | B9: BANCOS COOPERATIVOS | C9: 6.4809735e+08 | D9: 4.7271103e+09 | E9: 5.100093e+09 | F9: 6.825743e+09 | G9: 8.5493594e+09 | H9: 5.5821754e+09 | I9: 8.5690153e+09 | J9: 6.1204339e+09 | K9: 1.0355334e+11
A10: 111015 | B10: ENTIDADES SECTOR SOLIDARIO | C10: 1.5171628e+09 | D10: 177486399 | E10: 9.2100727e+08 | F10: 2.0007224e+09 | G10: 1.7099177e+09 | H10: 6.312183e+08 | I10: 1.3525384e+09 | J10: 1.2255878e+09 | K10: 1.2969297e+10
A11: 111020 | B11: ENTIDADES DEL EXTERIOR | C11: 2.434011e+09 | D11: 21243629 | E11: 0 | F11: 0 | G11: 297070.29 | H11: 0 | I11: 0 | J11: 0 | K11: 3.8196017e+08
A12: 111025 | B12: OTRAS ENTIDADES | C12: 9.2971811e+08 | D12: 2.312535e+09 | E12: 1.3681763e+09 | F12: 1.799156e+09 | G12: 5.4105734e+08 | H12: 4.8101943e+09 | I12: 1.680639e+10 | J12: 7.7918922e+09 | K12: 8.9839713e+09
A13: 111500 | B13: EQUIVALENTES AL EFECTIVO (compromiso de pago) | C13: 8.3991351e+09 | D13: 4.0266298e+09 | E13: 1.4610764e+10 | F13: 3.4545916e+10 | G13: 1.3971534e+11 | H13: 2.647114e+10 | I13: 9.5080226e+10 | J13: 2.3002504e+11 | K13: 3.0288436e+11
... A1404: 980000 | B1404: ACREEDORAS DE CONTROL POR CONTRA (CR) | C1404: 9.1944397e+09 | D1404: 4616493463 | E1404: 1.9893809e+10 | F1404: 3.8359043e+12 | G1404: 2.5262945e+11 | H1404: 2.309442e+10 | I1404: 7.4269022e+10 | J1404: 8.7986364e+11 | K1404: 6.1305656e+11

Sheet Proyeccion gastos personal
A1: COD | B1: GASTO MES | C1: Alta gerencia integral | D1: Alta gerencia normal | E1: Jefe - Coord | F1: Analista | G1: Comerciales BASE SMLMV | H1: Auxiliar 1 | I1: Oficios Varios SMLMV | J1: % | L1: COD | M1: GASTO MES | N1: 44927 | O1: 44958 | P1: 44986 | Q1: 45017 | R1: 45047 | S1: 45078 | T1: 45108 | U1: 45139 | V1: 45170 | W1: 45200 | X1: 45231 | Y1: 45261
A2: 510501 | B2: SALARIO INTEGRAL | C2: 15000000 | D2: 0 | E2: 0 | F2: 0 | G2: 0 | H2: 0 | I2: 0 | L2: 510501 | M2: SALARIO INTEGRAL | N2: =+SUM(C12:I12) -> 16800000 | O2: =+N2 -> 16800000 | P2: =+O2 -> 16800000 | Q2: =+P2 -> 16800000 | R2: =+Q2 -> 16800000 | S2: =+R2 -> 16800000 | T2: =+S2 -> 16800000 | U2: =+T2 -> 16800000 | V2: =+U2 -> 16800000 | ... Y2: =+X2 -> 16800000
A3: 510502 | B3: DE REPRESENTACIÓN | C3: 0 | D3: 0 | E3: 0 | F3: 0 | G3: 0 | H3: 0 | I3: 0 | L3: 510502 | M3: DE REPRESENTACIÓN | N3: =+SUM(C13:I13) -> 0 | O3: =+N3 -> 0 | P3: =+O3 -> 0 | Q3: =+P3 -> 0 | R3: =+Q3 -> 0 | S3: =+R3 -> 0 | T3: =+S3 -> 0 | U3: =+T3 -> 0 | V3: =+U3 -> 0 | ... Y3: =+X3 -> 0
A4: 510503 | B4: SUELDOS | C4: 0 | D4: 8000000 | E4: 5000000 | F4: 3500000 | G4: 1000000 | H4: 2000000 | I4: 1000000 | L4: 510503 | M4: SUELDOS | N4: =+SUM(C14:I14) -> 22990000 | O4: =+N4 -> 22990000 | P4: =+O4 -> 22990000 | Q4: =+P4 -> 22990000 | R4: =+Q4 -> 22990000 | S4: =+R4 -> 22990000 | T4: =+S4 -> 22990000 | U4: =+T4 -> 22990000 | V4: =+U4 -> 22990000 | ... Y4: =+X4 -> 22990000
A5: 510504 | B5: JORNALES | C5: 0 | D5: 0 | E5: 0 | F5: 0 | G5: 0 | H5: 0 | I5: 0 | L5: 510504 | M5: JORNALES | N5: =+SUM(C15:I15) -> 0 | O5: =+N5 -> 0 | P5: =+O5 -> 0 | Q5: =+P5 -> 0 | R5: =+Q5 -> 0 | S5: =+R5 -> 0 | T5: =+S5 -> 0 | U5: =+T5 -> 0 | V5: =+U5 -> 0 | ... Y5: =+X5 -> 0
A6: 510505 | B6: HORAS EXTRAS | C6: 0 | D6: 0 | E6: 0 | F6: 0 | G6: 0 | H6: 0 | I6: 0 | L6: 510505 | M6: HORAS EXTRAS | N6: =+SUM(C16:I16) -> 0 | O6: =+N6 -> 0 | P6: =+O6 -> 0 | Q6: =+P6 -> 0 | R6: =+Q6 -> 0 | S6: =+R6 -> 0 | T6: =+S6 -> 0 | U6: =+T6 -> 0 | V6: =+U6 -> 0 | ... Y6: =+X6 -> 0
A7: 510506 | B7: COMISIONES | G7: 3000000 | L7: 510506 | M7: COMISIONES | N7: =+SUM(C17:I17) -> 3360000 | O7: =+N7 -> 3360000 | P7: =+O7 -> 3360000 | Q7: =+P7 -> 3360000 | R7: =+Q7 -> 3360000 | S7: =+R7 -> 3360000 | T7: =+S7 -> 3360000 | U7: =+T7 -> 3360000 | V7: =+U7 -> 3360000 | ... Y7: =+X7 -> 3360000
A8: 510507 | B8: VIÁTICOS | C8: 0 | D8: 0 | E8: 0 | F8: 0 | G8: 0 | H8: 0 | I8: 0 | L8: 510507 | M8: VIÁTICOS | N8: =+SUM(C18:I18) -> 0 | O8: =+N8 -> 0 | P8: =+O8 -> 0 | Q8: =+P8 -> 0 | R8: =+Q8 -> 0 | S8: =+R8 -> 0 | T8: =+S8 -> 0 | U8: =+T8 -> 0 | V8: =+U8 -> 0 | ... Y8: =+X8 -> 0
A9: 510508 | B9: INCAPACIDADES | C9: 0 | D9: 0 | E9: 0 | F9: 0 | G9: 0 | H9: 0 | I9: 0 | L9: 510508 | M9: INCAPACIDADES | N9: =+SUM(C19:I19) -> 0 | O9: =+N9 -> 0 | P9: =+O9 -> 0 | Q9: =+P9 -> 0 | R9: =+Q9 -> 0 | S9: =+R9 -> 0 | T9: =+S9 -> 0 | U9: =+T9 -> 0 | V9: =+U9 -> 0 | ... Y9: =+X9 -> 0
A10: 510509 | B10: AUXILIO DE TRANSPORTE | G10: 117172 | H10: 117172 | I10: 117172 | L10: 510509 | M10: AUXILIO DE TRANSPORTE | N10: =+SUM(C20:I20) -> 397213.08 | O10: =+N10 -> 397213.08 | P10: =+O10 -> 397213.08 | Q10: =+P10 -> 397213.08 | R10: =+Q10 -> 397213.08 | S10: =+R10 -> 397213.08 | T10: =+S10 -> 397213.08 | U10: =+T10 -> 397213.08 | V10: =+U10 -> 397213.08 | ... Y10: =+X10 -> 397213.08
B11: REAJUSTE | C11: 0.12 | D11: 0.12 | E11: 0.12 | F11: 0.12 | G11: 0.12 | H11: 0.12 | I11: 0.15 | L11: 510510 | M11: CESANTÍAS | N11: =+SUM(C21:I21) -> 3628934.4 | O11: =+N11 -> 3628934.4 | P11: =+O11 -> 3628934.4 | Q11: =+P11 -> 3628934.4 | R11: =+Q11 -> 3628934.4 | S11: =+R11 -> 3628934.4 | T11: =+S11 -> 3628934.4 | U11: =+T11 -> 3628934.4 | V11: =+U11 -> 3628934.4 | ... Y11: =+X11 -> 3628934.4
A12: 510501 | B12: SALARIO INTEGRAL | C12: =+C2*(1+C$11) -> 16800000 | D12: =+D2*(1+D$11) -> 0 | E12: =+E2*(1+E$11) -> 0 | F12: =+F2*(1+F$11) -> 0 | G12: =+G2*(1+G$11) -> 0 | H12: =+H2*(1+H$11) -> 0 | I12: =+I2*(1+I$11) -> 0 | L12: 510511 | M12: INTERESES SOBRE CESANTÍAS | N12: =+SUM(C22:I22) -> 435472.13 | O12: =+N12 -> 435472.13 | P12: =+O12 -> 435472.13 | Q12: =+P12 -> 435472.13 | R12: =+Q12 -> 435472.13 | S12: =+R12 -> 435472.13 | T12: =+S12 -> 435472.13 | U12: =+T12 -> 435472.13 | V12: =+U12 -> 435472.13 | ... Y12: =+X12 -> 435472.13
A13: 510502 | B13: DE REPRESENTACIÓN | C13: =+C3*(1+C$11) -> 0 | D13: =+D3*(1+D$11) -> 0 | E13: =+E3*(1+E$11) -> 0 | F13: =+F3*(1+F$11) -> 0 | G13: =+G3*(1+G$11) -> 0 | H13: =+H3*(1+H$11) -> 0 | I13: =+I3*(1+I$11) -> 0 | L13: 510512 | M13: PRIMA LEGAL | N13: =+SUM(C23:I23) -> 3628934.4 | O13: =+N13 -> 3628934.4 | P13: =+O13 -> 3628934.4 | Q13: =+P13 -> 3628934.4 | R13: =+Q13 -> 3628934.4 | S13: =+R13 -> 3628934.4 | T13: =+S13 -> 3628934.4 | U13: =+T13 -> 3628934.4 | V13: =+U13 -> 3628934.4 | ... Y13: =+X13 -> 3628934.4
A14: 510503 | B14: SUELDOS | C14: =+C4*(1+C$11) -> 0 | D14: =+D4*(1+D$11) -> 8960000 | E14: =+E4*(1+E$11) -> 5600000 | F14: =+F4*(1+F$11) -> 3920000 | G14: =+G4*(1+G$11) -> 1120000 | H14: =+H4*(1+H$11) -> 2240000 | I14: =+I4*(1+I$11) -> 1150000 | L14: 510513 | M14: PRIMA EXTRALEGAL | N14: =+SUM(C24:I24) -> 0 | O14: =+N14 -> 0 | P14: =+O14 -> 0 | Q14: =+P14 -> 0 | R14: =+Q14 -> 0 | S14: =+R14 -> 0 | T14: =+S14 -> 0 | U14: =+T14 -> 0 | V14: =+U14 -> 0 | ... Y14: =+X14 -> 0
A15: 510504 | B15: JORNALES | C15: =+C5*(1+C$11) -> 0 | D15: =+D5*(1+D$11) -> 0 | E15: =+E5*(1+E$11) -> 0 | F15: =+F5*(1+F$11) -> 0 | G15: =+G5*(1+G$11) -> 0 | H15: =+H5*(1+H$11) -> 0 | I15: =+I5*(1+I$11) -> 0 | L15: 510514 | M15: PRIMA DE VACACIONES | N15: =+SUM(C25:I25) -> 0 | O15: =+N15 -> 0 | P15: =+O15 -> 0 | Q15: =+P15 -> 0 | R15: =+Q15 -> 0 | S15: =+R15 -> 0 | T15: =+S15 -> 0 | U15: =+T15 -> 0 | V15: =+U15 -> 0 | ... Y15: =+X15 -> 0
A16: 510505 | B16: HORAS EXTRAS | C16: =+C6*(1+C$11) -> 0 | D16: =+D6*(1+D$11) -> 0 | E16: =+E6*(1+E$11) -> 0 | F16: =+F6*(1+F$11) -> 0 | G16: =+G6*(1+G$11) -> 0 | H16: =+H6*(1+H$11) -> 0 | I16: =+I6*(1+I$11) -> 0 | L16: 510515 | M16: PRIMA DE ANTIGÜEDAD | N16: =+SUM(C26:I26) -> 0 | O16: =+N16 -> 0 | P16: =+O16 -> 0 | Q16: =+P16 -> 0 | R16: =+Q16 -> 0 | S16: =+R16 -> 0 | T16: =+S16 -> 0 | U16: =+T16 -> 0 | V16: =+U16 -> 0 | ... Y16: =+X16 -> 0
A17: 510506 | B17: COMISIONES | C17: =+C7*(1+C$11) -> 0 | D17: =+D7*(1+D$11) -> 0 | E17: =+E7*(1+E$11) -> 0 | F17: =+F7*(1+F$11) -> 0 | G17: =+G7*(1+G$11) -> 3360000 | H17: =+H7*(1+H$11) -> 0 | I17: =+I7*(1+I$11) -> 0 | L17: 510516 | M17: VACACIONES | N17: =+SUM(C27:I27) -> 0 | O17: =+N17 -> 0 | P17: =+O17 -> 0 | Q17: =+P17 -> 0 | R17: =+Q17 -> 0 | S17: =+R17 -> 0 | T17: =+S17 -> 0 | U17: =+T17 -> 0 | V17: =+U17 -> 0 | ... Y17: =+X17 -> 0
A18: 510507 | B18: VIÁTICOS | C18: =+C8*(1+C$11) -> 0 | D18: =+D8*(1+D$11) -> 0 | E18: =+E8*(1+E$11) -> 0 | F18: =+F8*(1+F$11) -> 0 | G18: =+G8*(1+G$11) -> 0 | H18: =+H8*(1+H$11) -> 0 | I18: =+I8*(1+I$11) -> 0 | L18: 510517 | M18: PENSIONES DE JUBILACIÓN | N18: =+SUM(C28:I28) -> 0 | O18: =+N18 -> 0 | P18: =+O18 -> 0 | Q18: =+P18 -> 0 | R18: =+Q18 -> 0 | S18: =+R18 -> 0 | T18: =+S18 -> 0 | U18: =+T18 -> 0 | V18: =+U18 -> 0 | ... Y18: =+X18 -> 0
A19: 510508 | B19: INCAPACIDADES | C19: =+C9*(1+C$11) -> 0 | D19: =+D9*(1+D$11) -> 0 | E19: =+E9*(1+E$11) -> 0 | F19: =+F9*(1+F$11) -> 0 | G19: =+G9*(1+G$11) -> 0 | H19: =+H9*(1+H$11) -> 0 | I19: =+I9*(1+I$11) -> 0 | L19: 510518 | M19: OTRAS PRESTACIONES SOCIALES | N19: =+SUM(C29:I29) -> 0 | O19: =+N19 -> 0 | P19: =+O19 -> 0 | Q19: =+P19 -> 0 | R19: =+Q19 -> 0 | S19: =+R19 -> 0 | T19: =+S19 -> 0 | U19: =+T19 -> 0 | V19: =+U19 -> 0 | ... Y19: =+X19 -> 0
A20: 510509 | B20: AUXILIO DE TRANSPORTE | C20: =+C10*(1+C$11) -> 0 | D20: =+D10*(1+D$11) -> 0 | E20: =+E10*(1+E$11) -> 0 | F20: =+F10*(1+F$11) -> 0 | G20: =+G10*(1+G$11) -> 131232.64 | H20: =+H10*(1+H$11) -> 131232.64 | I20: =+I10*(1+I$11) -> 134747.8 | L20: 510519 | M20: BONIFICACIONES | N20: =+SUM(C30:I30) -> 0 | O20: =+N20 -> 0 | P20: =+O20 -> 0 | Q20: =+P20 -> 0 | R20: =+Q20 -> 0 | S20: =+R20 -> 0 | T20: =+S20 -> 0 | U20: =+T20 -> 0 | V20: =+U20 -> 0 | ... Y20: =+X20 -> 0
A21: 510510 | B21: CESANTÍAS | C21: =+SUM(C12:C20)/12 -> 1400000 | D21: =+SUM(D12:D20)/12 -> 746666.67 | E21: =+SUM(E12:E20)/12 -> 466666.67 | F21: =+SUM(F12:F20)/12 -> 326666.67 | G21: =+SUM(G12:G20)/12 -> 384269.39 | H21: =+SUM(H12:H20)/12 -> 197602.72 | I21: =+SUM(I12:I20)/12 -> 107062.32 | L21: 510520 | M21: INDEMNIZACIONES LABORALES | N21: =+SUM(C31:I31) -> 0 | O21: =+N21 -> 0 | P21: =+O21 -> 0 | Q21: =+P21 -> 0 | R21: =+Q21 -> 0 | S21: =+R21 -> 0 | T21: =+S21 -> 0 | U21: =+T21 -> 0 | V21: =+U21 -> 0 | ... Y21: =+X21 -> 0
A22: 510511 | B22: INTERESES SOBRE CESANTÍAS | C22: =+C21*12% -> 168000 | D22: =+D21*12% -> 89600 | E22: =+E21*12% -> 56000 | F22: =+F21*12% -> 39200 | G22: =+G21*12% -> 46112.326 | H22: =+H21*12% -> 23712.326 | I22: =+I21*12% -> 12847.478 | L22: 510521 | M22: DOTACIÓN Y SUMINISTRO A TRABAJADORES | N22: =+SUM(C32:I32) -> 210000 | O22: =+N22 -> 210000 | P22: =+O22 -> 210000 | Q22: =+P22 -> 210000 | R22: =+Q22 -> 210000 | S22: =+R22 -> 210000 | T22: =+S22 -> 210000 | U22: =+T22 -> 210000 | V22: =+U22 -> 210000 | ... Y22: =+X22 -> 210000
A23: 510512 | B23: PRIMA LEGAL | C23: =+C21 -> 1400000 | D23: =+D21 -> 746666.67 | E23: =+E21 -> 466666.67 | F23: =+F21 -> 326666.67 | G23: =+G21 -> 384269.39 | H23: =+H21 -> 197602.72 | I23: =+I21 -> 107062.32 | L23: 510522 | M23: AUXILIOS AL PERSONAL | N23: =+SUM(C33:I33) -> 0 | O23: =+N23 -> 0 | P23: =+O23 -> 0 | Q23: =+P23 -> 0 | R23: =+Q23 -> 0 | S23: =+R23 -> 0 | T23: =+S23 -> 0 | U23: =+T23 -> 0 | V23: =+U23 -> 0 | ... Y23: =+X23 -> 0
A24: 510513 | B24: PRIMA EXTRALEGAL | C24: 0 | D24: 0 | E24: 0 | F24: 0 | G24: 0 | H24: 0 | I24: 0 | L24: 510523 | M24: APORTES SALUD | N24: =+SUM(C34:I34) -> 6159228.9 | O24: =+N24 -> 6159228.9 | P24: =+O24 -> 6159228.9 | Q24: =+P24 -> 6159228.9 | R24: =+Q24 -> 6159228.9 | S24: =+R24 -> 6159228.9 | T24: =+S24 -> 6159228.9 | U24: =+T24 -> 6159228.9 | V24: =+U24 -> 6159228.9 | ... Y24: =+X24 -> 6159228.9
A25: 510514 | B25: PRIMA DE VACACIONES | C25: 0 | D25: 0 | E25: 0 | F25: 0 | G25: 0 | H25: 0 | I25: 0 | L25: 510524 | M25: APORTES PENSIÓN | N25: =+SUM(C35:I35) -> 8695382 | O25: =+N25 -> 8695382 | P25: =+O25 -> 8695382 | Q25: =+P25 -> 8695382 | R25: =+Q25 -> 8695382 | S25: =+R25 -> 8695382 | T25: =+S25 -> 8695382 | U25: =+T25 -> 8695382 | V25: =+U25 -> 8695382 | ... Y25: =+X25 -> 8695382
A26: 510515 | B26: PRIMA DE ANTIGÜEDAD | C26: 0 | D26: 0 | E26: 0 | F26: 0 | G26: 0 | H26: 0 | I26: 0 | L26: 510525 | M26: APORTES A,R,L | N26: =+SUM(C36:I36) -> 378249.12 | O26: =+N26 -> 378249.12 | P26: =+O26 -> 378249.12 | Q26: =+P26 -> 378249.12 | R26: =+Q26 -> 378249.12 | S26: =+R26 -> 378249.12 | T26: =+S26 -> 378249.12 | U26: =+T26 -> 378249.12 | V26: =+U26 -> 378249.12 | ... Y26: =+X26 -> 378249.12
A27: 510516 | B27: VACACIONES | C27: 0 | D27: 0 | E27: 0 | F27: 0 | G27: 0 | H27: 0 | I27: 0 | L27: 510526 | M27: APORTES CAJAS DE COMPENSACIÓN FAMILIAR | N27: =+SUM(C37:I37) -> 2898460.7 | O27: =+N27 -> 2898460.7 | P27: =+O27 -> 2898460.7 | Q27: =+P27 -> 2898460.7 | R27: =+Q27 -> 2898460.7 | S27: =+R27 -> 2898460.7 | T27: =+S27 -> 2898460.7 | U27: =+T27 -> 2898460.7 | V27: =+U27 -> 2898460.7 | ... Y27: =+X27 -> 2898460.7
A28: 510517 | B28: PENSIONES DE JUBILACIÓN | C28: 0 | D28: 0 | E28: 0 | F28: 0 | G28: 0 | H28: 0 | I28: 0 | L28: 510527 | M28: APORTES I,C,B,F, | N28: =+SUM(C38:I38) -> 1449230.3 | O28: =+N28 -> 1449230.3 | P28: =+O28 -> 1449230.3 | Q28: =+P28 -> 1449230.3 | R28: =+Q28 -> 1449230.3 | S28: =+R28 -> 1449230.3 | T28: =+S28 -> 1449230.3 | U28: =+T28 -> 1449230.3 | V28: =+U28 -> 1449230.3 | ... Y28: =+X28 -> 1449230.3
A29: 510518 | B29: OTRAS PRESTACIONES SOCIALES | C29: 0 | D29: 0 | E29: 0 | F29: 0 | G29: 0 | H29: 0 | I29: 0 | L29: 510528 | M29: APORTES SENA | N29: =+SUM(C39:I39) -> 2173845.5 | O29: =+N29 -> 2173845.5 | P29: =+O29 -> 2173845.5 | Q29: =+P29 -> 2173845.5 | R29: =+Q29 -> 2173845.5 | S29: =+R29 -> 2173845.5 | T29: =+S29 -> 2173845.5 | U29: =+T29 -> 2173845.5 | V29: =+U29 -> 2173845.5 | ... Y29: =+X29 -> 2173845.5
A30: 510519 | B30: BONIFICACIONES | C30: 0 | D30: 0 | E30: 0 | F30: 0 | G30: 0 | H30: 0 | I30: 0 | L30: 510529 | M30: APORTES SINDICALES | N30: =+SUM(C40:I40) -> 0 | O30: =+N30 -> 0 | P30: =+O30 -> 0 | Q30: =+P30 -> 0 | R30: =+Q30 -> 0 | S30: =+R30 -> 0 | T30: =+S30 -> 0 | U30: =+T30 -> 0 | V30: =+U30 -> 0 | ... Y30: =+X30 -> 0
A31: 510520 | B31: INDEMNIZACIONES LABORALES | C31: 0 | D31: 0 | E31: 0 | F31: 0 | G31: 0 | H31: 0 | I31: 0 | L31: 510530 | M31: SEGUROS | N31: =+SUM(C41:I41) -> 0 | O31: =+N31 -> 0 | P31: =+O31 -> 0 | Q31: =+P31 -> 0 | R31: =+Q31 -> 0 | S31: =+R31 -> 0 | T31: =+S31 -> 0 | U31: =+T31 -> 0 | V31: =+U31 -> 0 | ... Y31: =+X31 -> 0
A32: 510521 | B32: DOTACIÓN Y SUMINISTRO A TRABAJADORES | C32: 0 | D32: 0 | G32: 70000 | H32: 70000 | I32: 70000 | L32: 510531 | M32: CAPACITACIÓN AL PERSONAL | N32: =+SUM(C42:I42) -> 0 | O32: =+N32 -> 0 | P32: =+O32 -> 0 | Q32: =+P32 -> 0 | R32: =+Q32 -> 0 | S32: =+R32 -> 0 | T32: =+S32 -> 0 | U32: =+T32 -> 0 | V32: =+U32 -> 0 | ... Y32: =+X32 -> 0
A33: 510522 | B33: AUXILIOS AL PERSONAL | C33: 0 | D33: 0 | E33: 0 | F33: 0 | G33: 0 | H33: 0 | I33: 0 | L33: 510532 | M33: GASTOS DEPORTIVOS Y DE RECREACIÓN | N33: =+SUM(C43:I43) -> 0 | O33: =+N33 -> 0 | P33: =+O33 -> 0 | Q33: =+P33 -> 0 | R33: =+Q33 -> 0 | S33: =+R33 -> 0 | T33: =+S33 -> 0 | U33: =+T33 -> 0 | V33: =+U33 -> 0 | ... Y33: =+X33 -> 0
A34: 510523 | B34: APORTES SALUD | C34: =+SUM(C$1:C$19)*70%*$J34 -> 1892100 | D34: =+SUM(D$1:D$19)*$J34 -> 1441600 | E34: =+SUM(E$1:E$19)*$J34 -> 901000.01 | F34: =+SUM(F$1:F$19)*$J34 -> 630700.01 | G34: =+SUM(G$1:G$19)*$J34 -> 730759.63 | H34: =+SUM(H$1:H$19)*$J34 -> 370359.63 | I34: =+SUM(I$1:I$19)*$J34 -> 192709.63 | J34: 0.085 | L34: 510533 | M34: GASTOS MÉDICOS Y MEDICAMENTOS | N34: =+SUM(C44:I44) -> 0 | O34: =+N34 -> 0 | P34: =+O34 -> 0 | Q34: =+P34 -> 0 | R34: =+Q34 -> 0 | S34: =+R34 -> 0 | T34: =+S34 -> 0 | U34: =+T34 -> 0 | V34: =+U34 -> 0 | ... Y34: =+X34 -> 0
A35: 510524 | B35: APORTES PENSIÓN | C35: =+SUM(C$1:C$19)*70%*$J35 -> 2671200 | D35: =+SUM(D$1:D$19)*$J35 -> 2035200 | E35: =+SUM(E$1:E$19)*$J35 -> 1272000 | F35: =+SUM(F$1:F$19)*$J35 -> 890400.01 | G35: =+SUM(G$1:G$19)*$J35 -> 1031660.7 | H35: =+SUM(H$1:H$19)*$J35 -> 522860.65 | I35: =+SUM(I$1:I$19)*$J35 -> 272060.66 | J35: 0.12 | L35: 510534 | M35: SUBSIDIO DE ALIMENTACIÓN | N35: =+SUM(C45:I45) -> 0 | O35: =+N35 -> 0 | P35: =+O35 -> 0 | Q35: =+P35 -> 0 | R35: =+Q35 -> 0 | S35: =+R35 -> 0 | T35: =+S35 -> 0 | U35: =+T35 -> 0 | V35: =+U35 -> 0 | ... Y35: =+X35 -> 0
A36: 510525 | B36: APORTES A,R,L | C36: =+SUM(C$1:C$19)*70%*$J36 -> 116197.2 | D36: =+SUM(D$1:D$19)*$J36 -> 88531.201 | E36: =+SUM(E$1:E$19)*$J36 -> 55332.001 | F36: =+SUM(F$1:F$19)*$J36 -> 38732.401 | G36: =+SUM(G$1:G$19)*$J36 -> 44877.238 | H36: =+SUM(H$1:H$19)*$J36 -> 22744.438 | I36: =+SUM(I$1:I$19)*$J36 -> 11834.639 | J36: 0.00522 | K36: Clase I | L36: 510595 | M36: OTROS BENEFICIOS A EMPLEADOS | N36: =+SUM(C46:I46) -> 0 | O36: =+N36 -> 0 | P36: =+O36 -> 0 | Q36: =+P36 -> 0 | R36: =+Q36 -> 0 | S36: =+R36 -> 0 | T36: =+S36 -> 0 | U36: =+T36 -> 0 | V36: =+U36 -> 0 | ... Y36: =+X36 -> 0
A37: 510526 | B37: APORTES CAJAS DE COMPENSACIÓN FAMILIAR | C37: =+SUM(C$1:C$19)*70%*$J37 -> 890400 | D37: =+SUM(D$1:D$19)*$J37 -> 678400 | E37: =+SUM(E$1:E$19)*$J37 -> 424000 | F37: =+SUM(F$1:F$19)*$J37 -> 296800 | G37: =+SUM(G$1:G$19)*$J37 -> 343886.88 | H37: =+SUM(H$1:H$19)*$J37 -> 174286.88 | I37: =+SUM(I$1:I$19)*$J37 -> 90686.886 | J37: 0.04
A38: 510527 | B38: APORTES I,C,B,F, | C38: =+SUM(C$1:C$19)*70%*$J38 -> 445200 | D38: =+SUM(D$1:D$19)*$J38 -> 339200 | E38: =+SUM(E$1:E$19)*$J38 -> 212000 | F38: =+SUM(F$1:F$19)*$J38 -> 148400 | G38: =+SUM(G$1:G$19)*$J38 -> 171943.44 | H38: =+SUM(H$1:H$19)*$J38 -> 87143.442 | I38: =+SUM(I$1:I$19)*$J38 -> 45343.443 | J38: 0.02
A39: 510528 | B39: APORTES SENA | C39: =+SUM(C$1:C$19)*70%*$J39 -> 667800 | D39: =+SUM(D$1:D$19)*$J39 -> 508800 | E39: =+SUM(E$1:E$19)*$J39 -> 318000 | F39: =+SUM(F$1:F$19)*$J39 -> 222600 | G39: =+SUM(G$1:G$19)*$J39 -> 257915.16 | H39: =+SUM(H$1:H$19)*$J39 -> 130715.16 | I39: =+SUM(I$1:I$19)*$J39 -> 68015.164 | J39: 0.03
A40: 510529 | B40: APORTES SINDICALES | C40: 0 | D40: 0 | E40: 0 | F40: 0 | G40: 0 | H40: 0 | I40: 0
...

Sheet Gastos
A1: COD | B1: DESCR | C1: AGRO | D1: Mutuales | E1: Credito 3 | F1: Credito 2 | G1: Credito 1 | H1: FE 3 | I1: FE 2 | J1: FE 1 | K1: Act Fciera
B2: INGRESOS sin recuperaciones | C2: 8.483045e+12 | D2: 6.0456154e+10 | E2: 1.4386674e+11 | F2: 1.6412558e+11 | G2: 3.6559091e+11 | H2: 1.3424161e+11 | I2: 3.4033857e+11 | J2: 6.171931e+11 | K2: 2.0774104e+12
B3: COSTOS | C3: 7.7941701e+12 | D3: 1.3367632e+10 | E3: 1.4364373e+10 | F3: 2.9040708e+10 | G3: 1.1488849e+11 | H3: 2.0066886e+10 | I3: 7.7140124e+10 | J3: 1.862007e+11 | K3: 4.3229737e+11
A4: 540000 | B4: G. VENTAS | C4: 4.6594655e+11 | D4: 5.0585662e+08 | E4: 1.9755151e+09 | F4: 5.0646523e+09 | G4: 1474354561 | H4: 9.4812882e+08 | I4: 2.1307524e+09 | J4: 7.9070888e+09 | K4: 1.0057716e+09
B5: % COSTOS Y VENTAS | C5: =(+C3+C4)/C2 -> 0.97372072 | D5: =(+D3+D4)/D2 -> 0.22948017 | E5: =(+E3+E4)/E2 -> 0.11357655 | F5: =(+F3+F4)/F2 -> 0.20780039 | G5: =(+G3+G4)/G2 -> 0.31828702 | H5: =(+H3+H4)/H2 -> 0.1565462 | I5: =(+I3+I4)/I2 -> 0.2329177 | J5: =(+J3+J4)/J2 -> 0.31450091 | K5: =(+K3+K4)/K2 -> 0.20857849
A6: 700000 | B6: MARGEN BRUTO | C6: =+C2-C3-C4 -> 2.2292834e+11 | D6: =+D2-D3-D4 -> 46582665450 | E6: =+E2-E3-E4 -> 1.2752685e+11 | F6: =+F2-F3-F4 -> 1.3002022e+11 | G6: =+G2-G3-G4 -> 2.4922807e+11 | H6: =+H2-H3-H4 -> 1.132266e+11 | I6: =+I2-I3-I4 -> 2.6106769e+11 | J6: =+J2-J3-J4 -> 4.2308531e+11 | K6: =+K2-K3-K4 -> 1.6441073e+12
A7: 510500 | B7: BENEFICIOS A EMPLEADOS | C7: 6.4907277e+10 | D7: 2.3484036e+10 | E7: 3.9535455e+10 | F7: 4.5760611e+10 | G7: 7.1859343e+10 | H7: 3.2011563e+10 | I7: 8.5441204e+10 | J7: 1.2744451e+11 | K7: 5.0407003e+11
A8: 511000 | B8: GENERALES sin otros | C8: 4.5845363e+10 | D8: 1.2873962e+10 | E8: 5.0715393e+10 | F8: 3.9972402e+10 | G8: 6.766739e+10 | H8: 3.7463347e+10 | I8: 5.4431808e+10 | J8: 9.1090479e+10 | K8: 4.806646e+11
A9: 511095 | B9: OTROS | C9: 1.1249049e+10 | D9: 1.9905605e+09 | E9: 7.5791303e+09 | F9: 1.2502764e+10 | G9: 2.9828978e+10 | H9: 1.401115e+10 | I9: 3.2900046e+10 | J9: 5.6143963e+10 | K9: 6.3678348e+10
B10: Depreciaciones y amortizaciones | C10: =+C93+C100 -> 9.2470764e+09 | D10: =+D93+D100 -> 1.3198494e+09 | E10: =+E93+E100 -> 1.9469241e+09 | F10: =+F93+F100 -> 3.0848991e+09 | G10: =+G93+G100 -> 6.1347516e+09 | H10: =+H93+H100 -> 1.3875609e+09 | I10: =+I93+I100 -> 3.6118308e+09 | J10: =+J93+J100 -> 9.1747427e+09 | K10: =+K93+K100 -> 4.2799586e+10
B11: Deterioro NETO de recuperaciones | C11: -1.9815545e+08 | D11: 4.8529425e+08 | E11: 6.6699487e+09 | F11: 2.5016566e+09 | G11: -1.7865248e+09 | H11: 1.2925831e+09 | I11: 1.0485789e+10 | J11: 8.2501534e+09 | K11: 1.3023392e+11
B12: =+B7 -> BENEFICIOS A EMPLEADOS | C12: =+C7/C$6 -> 0.29115759 | D12: =+D7/D$6 -> 0.5041368 | E12: =+E7/E$6 -> 0.31001672 | F12: =+F7/F$6 -> 0.35194995 | G12: =+G7/G$6 -> 0.28832765 | H12: =+H7/H$6 -> 0.28272123 | I12: =+I7/I$6 -> 0.32727605 | J12: =+J7/J$6 -> 0.3012265 | K12: =+K7/K$6 -> 0.30659194
B13: =+B8 -> GENERALES sin otros | C13: =+C8/C$6 -> 0.20565068 | D13: =+D8/D$6 -> 0.27636809 | E13: =+E8/E$6 -> 0.39768405 | F13: =+F8/F$6 -> 0.30743219 | G13: =+G8/G$6 -> 0.2715079 | H13: =+H8/H$6 -> 0.33087056 | I13: =+I8/I$6 -> 0.20849691 | J13: =+J8/J$6 -> 0.2153005 | K13: =+K8/K$6 -> 0.29235599
B14: =+B9 -> OTROS | C14: =+C9/C$6 -> 0.050460381 | D14: =+D9/D$6 -> 0.042731786 | E14: =+E9/E$6 -> 0.059431644 | F14: =+F9/F$6 -> 0.096160148 | G14: =+G9/G$6 -> 0.11968547 | H14: =+H9/H$6 -> 0.12374433 | I14: =+I9/I$6 -> 0.12602113 | J14: =+J9/J$6 -> 0.13270128 | K14: =+K9/K$6 -> 0.038731261
B15: =+B10 -> Depreciaciones y amortizaciones | C15: =+C10/C$6 -> 0.04148004 | D15: =+D10/D$6 -> 0.028333488 | E15: =+E10/E$6 -> 0.015266778 | F15: =+F10/F$6 -> 0.023726302 | G15: =+G10/G$6 -> 0.024615011 | H15: =+H10/H$6 -> 0.012254726 | I15: =+I10/I$6 -> 0.013834844 | J15: =+J10/J$6 -> 0.021685326 | K15: =+K10/K$6 -> 0.026032113
B16: =+B11 -> Deterioro NETO de recuperaciones | C16: =+C11/C$6 -> -0.00088887513 | D16: =+D11/D$6 -> 0.010417915 | E16: =+E11/E$6 -> 0.05230231 | F16: =+F11/F$6 -> 0.01924052 | G16: =+G11/G$6 -> -0.0071682328 | H16: =+H11/H$6 -> 0.011415897 | I16: =+I11/I$6 -> 0.04016502 | J16: =+J11/J$6 -> 0.019499976 | K16: =+K11/K$6 -> 0.079212542
A17: 700000 | B17: Excedente NETO | C17: =+BALANCES!C780 -> 2.4470316e+10 | D17: =+BALANCES!D780 -> 3.0660892e+09 | E17: =+BALANCES!E780 -> 8.4630733e+09 | F17: =+BALANCES!F780 -> 1.8021617e+10 | G17: =+BALANCES!G780 -> 5.4619475e+10 | H17: =+BALANCES!H780 -> 1.971923e+10 | I17: =+BALANCES!I780 -> 5.6251287e+10 | J17: =+BALANCES!J780 -> 9.4767654e+10 | K17: =+BALANCES!K780 -> 3.2003873e+11
B18: % EXCEDENTE NETO / margen BRUTO | C18: =+C17/C6 -> 0.10976763 | D18: =+D17/D6 -> 0.065820391 | E18: =+E17/E6 -> 0.066363071 | F18: =+F17/F6 -> 0.13860627 | G18: =+G17/G6 -> 0.21915459 | H18: =+H17/H6 -> 0.17415723 | I18: =+I17/I6 -> 0.21546629 | J18: =+J17/J6 -> 0.22399183 | K18: =+K17/K6 -> 0.19465806
A19: 511001 | B19: HONORARIOS | C19: 5.324801e+09 | D19: 2.2933081e+09 | E19: 1.704671e+10 | F19: 7.2250333e+09 | G19: 8.0552503e+09 | H19: 1.8225528e+10 | I19: 1.4272568e+10 | J19: 1.1028397e+10 | K19: 3.932252e+10 | L19: =+SUM(C19:K19) -> 1.2279412e+11
A20: 511005 | B20: SEGUROS | C20: 1.9495004e+09 | D20: 5.2285347e+08 | E20: 5.0466031e+09 | F20: 4.2638665e+09 | G20: 4.0031062e+09 | H20: 2.1616978e+09 | I20: 5.0114306e+09 | J20: 7.0873564e+09 | K20: 6.9030055e+10 | L20: =+SUM(C20:K20) -> 9.9076469e+10
A21: 511002 | B21: IMPUESTOS | C21: 1.2345886e+10 | D21: 1.0445657e+09 | E21: 2.2780774e+09 | F21: 2.6085681e+09 | G21: 6.755957e+09 | H21: 1.3648957e+09 | I21: 4.3043243e+09 | J21: 1.3888326e+10 | K21: 3.8557609e+10 | L21: =+SUM(C21:K21) -> 8.3148209e+10
A22: 511030 | B22: SISTEMATIZACIÓN | C22: 9.6205751e+08 | D22: 1.0146205e+09 | E22: 1.5700012e+09 | F22: 2.7571529e+09 | G22: 4.1341043e+09 | H22: 1.7418784e+09 | I22: 4.8812796e+09 | J22: 1.1687699e+10 | K22: 4.1459749e+10 | L22: =+SUM(C22:K22) -> 7.0208542e+10
A23: 511003 | B23: ARRENDAMIENTOS | C23: 3.0298123e+09 | D23: 1.0463699e+09 | E23: 4.7676898e+09 | F23: 1.9734593e+09 | G23: 5183873497 | H23: 1.1405095e+09 | I23: 2.176584e+09 | J23: 4.307967e+09 | K23: 3.5122171e+10 | L23: =+SUM(C23:K23) -> 5.8748436e+10
A24: 511012 | B24: SERVICIOS PÚBLICOS | C24: 3.1880978e+09 | D24: 1.2516801e+09 | E24: 2.4270012e+09 | F24: 2.6957066e+09 | G24: 5.1090829e+09 | H24: 7.5100233e+08 | I24: 2.2638459e+09 | J24: 5.0095486e+09 | K24: 3.4815895e+10 | L24: =+SUM(C24:K24) -> 5.751186e+10
A25: 511018 | B25: PUBLICIDAD Y PROPAGANDA | C25: 4.9363866e+08 | D25: 4.8087704e+08 | E25: 1.0196212e+09 | F25: 1.9223677e+09 | G25: 3.1296575e+09 | H25: 2.4771867e+08 | I25: 1.2856228e+09 | J25: 6.6342421e+09 | K25: 3.8859408e+10 | L25: =+SUM(C25:K25) -> 5.4073154e+10
A26: 511019 | B26: CONTRIBUCIONES Y AFILIACIONES | C26: 1.8850876e+09 | D26: 3.0003742e+08 | E26: 5.3497036e+08 | F26: 1.3488123e+09 | G26: 1.7720963e+09 | H26: 9.3640682e+08 | I26: 2.1160311e+09 | J26: 5.1665923e+09 | K26: 3.6100705e+10 | L26: =+SUM(C26:K26) -> 5.0160739e+10
A27: 511028 | B27: SERVICIOS TEMPORALES | C27: 1.6770857e+09 | D27: 257001401 | E27: 1.8587628e+09 | F27: 8.613059e+08 | G27: 2.958953e+09 | H27: 1.1309632e+09 | I27: 2040095117 | J27: 3.4973798e+09 | K27: 1.5247814e+10 | L27: =+SUM(C27:K27) -> 2.9529361e+10
A28: 511006 | B28: MANTENIMIENTO Y REPARACIONES | C28: 2.0524086e+09 | D28: 5.5118026e+08 | E28: 9.6437978e+08 | F28: 1.8317618e+09 | G28: 3.6578174e+09 | H28: 7.164673e+08 | I28: 1.4810628e+09 | J28: 2.7180222e+09 | K28: 1.3684432e+10 | L28: =+SUM(C28:K28) -> 2.7657532e+10
A29: 511021 | B29: GASTOS DE DIRECTIVOS | C29: 1.0128862e+09 | D29: 8.3478725e+08 | E29: 1.256315e+09 | F29: 1.7512504e+09 | G29: 2921855621 | H29: 7.7193214e+08 | I29: 1.2738674e+09 | J29: 1.8725109e+09 | K29: 1.4500537e+10 | L29: =+SUM(C29:K29) -> 2.6195942e+10
A30: 511022 | B30: GASTOS DE COMITÉS | C30: 1.0941622e+08 | D30: 169403454 | E30: 1.0235984e+09 | F30: 2.2533424e+09 | G30: 1319082991 | H30: 1.4881606e+09 | I30: 1.3283009e+09 | J30: 1.7975831e+09 | K30: 1.5743184e+10 | L30: =+SUM(C30:K30) -> 2.5232072e+10
... A47: 511009 | B47: REPARACIONES LOCATIVAS | C47: 1.1812337e+08 | D47: 156630946 | E47: 2.7232307e+08 | F47: 1.3675161e+08 | G47: 5.9555383e+08 | H47: 40785564 | I47: 124952853 | J47: 2.5880049e+08 | K47: 2.6881514e+09 | L47: =+SUM(C47:K47) -> 4.3920731e+09
A48: 511500 | B48: DETERIORO | C48: 5014701696 | D48: 2.4098721e+09 | E48: 1.3083437e+10 | F48: 1.4726222e+10 | G48: 3.4891408e+10 | H48: 5.9813117e+09 | I48: 2.171066e+10 | J48: 3.6937092e+10 | K48: 3.7771846e+11
A49: 511501 | B49: INVERSIONES FONDO DE LIQUIDEZ | C49: 0 | D49: 0 | E49: 25729821 | F49: 0 | G49: 0 | H49: 70870480 | I49: 2.7299638e+08 | J49: 27391279 | K49: 4355825.7
A50: 511502 | B50: INVERSIONES NEGOCIABLES EN TÍTULOS DE DEUDA | C50: 0 | D50: 0 | E50: 0 | F50: 0 | G50: 0 | H50: 1968443.6 | I50: 0 | J50: 0 | K50: 0
A51: 511503 | B51: INVERSIONES NEGOCIABLES EN TÍTULOS PARTICIPATIVOS | C51: 0 | D51: 0 | E51: 0 | F51: 0 | G51: 0 | H51: 7197885.2 | I51: 0 | J51: 0 | K51: 0
A52: 511504 | B52: INVERSIONES PARA MANTENER HASTA EL VENCIMIENTO | C52: 0 | D52: 0 | E52: 1000000 | F52: 845432 | G52: 0 | H52: 0 | I52: 0 | J52: 0 | K52: 0
A53: 511506 | B53: INVERSIONES DISPONIBLES PARA LA VENTA EN TÍTULOS PARTICIPATIVOS | C53: 0 | D53: 0 | E53: 0 | F53: 0 | G53: 0 | H53: 5103029.5 | I53: 0 | J53: 0 | K53: 0
A54: 511507 | B54: INVERSIONES EN ENTIDADES SUBSIDIARIAS | C54: 0 | D54: 0 | E54: 30233954 | F54: 0 | G54: 0 | H54: 3117720.7 | I54: 99022425 | J54: 0 | K54: 2.4648661e+08
A55: 511508 | B55: INVERSIONES EN ENTIDADES ASOCIADAS | C55: 0 | D55: 0 | E55: 5706300 | F55: 12658722 | G55: 0 | H55: 0 | I55: 0 | J55: 0 | K55: 455713.26
A56: 511510 | B56: EN NEGOCIOS CONJUNTOS | C56: 2.1592895e+08 | D56: 0 | E56: 0 | F56: 0 | G56: 0 | H56: 0 | I56: 0 | J56: 0 | K56: 0
...
