Workbook
Name BASE: #REF!
Name BASE1: #REF!
Name BASE2: #REF!
Name BASE3: #REF!

Sheet ESFA 1 ENE 2015
C3: HOJA DE TRABAJO - PREPARACIÓN DE ESTADO DE SITUACIÓN FINANCIERA DE APERTURA ESFA Cifras expresadas en miles de pesos
C5: PUC Resoluciones No. 1515-01 y 890-04 | E5: Saldo Inicial PCGA 01/01/2015 | F5: Ajustes por Errores en PCGA Debitos | G5: Ajustes por Errores en PCGA Créditos | H5: Ajustes por Convergencia a NIIF Debitos | I5: Ajustes por Convergencia a NIIF Créditos | J5: Reclasificaciones por Convergencia a NIIF Debitos | K5: Reclasificaciones por Convergencia a NIIF Créditos | L5: Columna de Control A 01/01/2015 | M5: =+L6-L135-L226 -> 0
B6: =+E6-E135-E226 -> 0 | C6: 1000 | D6: ACTIVO | E6: =+E7+E13+E31+E48+E71+E98+E120+E123 -> 5.7154227e+10 | F6: =+F7+F13+F31+F48+F71+F98+F120+F123 -> 0 | G6: =+G7+G13+G31+G48+G71+G98+G120+G123 -> 0 | H6: =+H7+H13+H31+H48+H71+H98+H120+H123 -> 3.6385502e+08 | I6: =+I7+I13+I31+I48+I71+I98+I120+I123 -> 6.3055924e+08 | J6: =+J7+J13+J31+J48+J71+J98+J120+J123 -> 0 | K6: =+K7+K13+K31+K48+K71+K98+K120+K123 -> 0 | L6: =+L7+L13+L31+L48+L71+L98+L120+L123 -> 5.6887523e+10
C7: 1100 | D7: DISPONIBLE | E7: =+SUM(E8:E12) -> 3.8376055e+09 | F7: =+SUM(F8:F12) -> 0 | G7: =+SUM(G8:G12) -> 0 | H7: =+SUM(H8:H12) -> 0 | I7: =+SUM(I8:I12) -> 0 | J7: =+SUM(J8:J12) -> 0 | K7: =+SUM(K8:K12) -> 0 | L7: =+SUM(L8:L12) -> 3.8376055e+09
C8: 1105 | D8: Caja | E8: 0 | L8: =+E8+F8+H8+J8-K8-I8-G8 -> 0
C9: 1110 | D9: Bancos Y Otras Entidades | E9: 3.8376055e+09 | L9: =+E9+F9+H9+J9-K9-I9-G9 -> 3.8376055e+09
C10: 1115 | D10: Fondos Especificos | E10: 0 | L10: =+E10+F10+H10+J10-K10-I10-G10 -> 0
C11: 1120 | D11: Fondo De Liquidez | E11: 0 | L11: =+E11+F11+H11+J11-K11-I11-G11 -> 0
C12: 1130 | D12: Remesas En Transito | E12: 0 | L12: =+E12+F12+H12+J12-K12-I12-G12 -> 0
C13: 1200 | D13: INVERSIONES | E13: =+SUM(E14:E30) -> 317452094 | F13: =+SUM(F14:F30) -> 0 | G13: =+SUM(G14:G30) -> 0 | H13: =+SUM(H14:H30) -> 0 | I13: =+SUM(I14:I30) -> 52939995 | J13: =+SUM(J14:J30) -> 0 | K13: =+SUM(K14:K30) -> 0 | L13: =+SUM(L14:L30) -> 264512099
C14: 1201 | D14: Compromisos De Reventa De Inversiones | E14: 0 | L14: =+E14+F14+H14+J14-K14-I14-G14 -> 0
C15: 1202 | D15: Compromisos De Reventa De Cartera | E15: 0 | L15: =+E15+F15+H15+J15-K15-I15-G15 -> 0
C16: 1203 | D16: Fondo De Liquidez | E16: 0 | L16: =+E16+F16+H16+J16-K16-I16-G16 -> 0
C17: 1204 | D17: Inversiones Negociables En Titulos De Deuda | E17: 0 | L17: =+E17+F17+H17+J17-K17-I17-G17 -> 0
C18: 1206 | D18: Inversiones Negociables En Titulos Participativos | E18: 0 | L18: =+E18+F18+H18+J18-K18-I18-G18 -> 0
C19: 1208 | D19: Inversiones Para Mantener Hasta El Vencimiento | E19: 213420044 | L19: =+E19+F19+H19+J19-K19-I19-G19 -> 213420044
C20: 1213 | D20: Inversiones Disponibles Para La Venta En Titulos De Deuda | E20: 0 | L20: =+E20+F20+H20+J20-K20-I20-G20 -> 0
C21: 1216 | D21: Inversiones Disponibles Para La Venta En Titulos Participativos | E21: 104032050 | I21: =+E21-(39151*1305) -> 52939995 | L21: =+E21+F21+H21+J21-K21-I21-G21 -> 51092055
C22: 1231 | D22: Derechos De Recompra De Inversiones Negociables En Titulos De Deuda | E22: 0 | L22: =+E22+F22+H22+J22-K22-I22-G22 -> 0
C23: 1232 | D23: Derechos De Recompra De Inversiones Negociables En Titulos Participativos | E23: 0 | L23: =+E23+F23+H23+J23-K23-I23-G23 -> 0
C24: 1235 | D24: Derechos De Recompra De Inversiones Disponibles Para La Venta En Titulos De Deuda | E24: 0 | L24: =+E24+F24+H24+J24-K24-I24-G24 -> 0
C25: 1236 | D25: Derechos De Recompra De Inversiones Disponibles Para La Venta En Titulos Participativos | E25: 0 | L25: =+E25+F25+H25+J25-K25-I25-G25 -> 0
C26: 1286 | D26: Provision De Inversiones Negociables En Titulos De Deuda | E26: 0 | L26: =+E26+F26+H26+J26-K26-I26-G26 -> 0
C27: 1287 | D27: Provision De Inversiones Negociables En Titulos Participativos | E27: 0 | L27: =+E27+F27+H27+J27-K27-I27-G27 -> 0
C28: 1288 | D28: Provision De Inversiones Para Mantener Hasta El Vencimiento | E28: 0 | L28: =+E28+F28+H28+J28-K28-I28-G28 -> 0
C29: 1289 | D29: Provision De Inversiones Disponibles Para La Venta En Titulos De Deuda | E29: 0 | L29: =+E29+F29+H29+J29-K29-I29-G29 -> 0
C30: 1291 | D30: Provision De Inversiones Disponibles Para La Venta En Titulos Participativos | E30: 0 | L30: =+E30+F30+H30+J30-K30-I30-G30 -> 0
C31: 1300 | D31: INVENTARIOS | E31: 0 | L31: =+E31+F31+H31+J31-K31-I31-G31 -> 0
C32: 1305 | D32: Bienes No Transformados Por La Entidad | E32: 0 | L32: =+E32+F32+H32+J32-K32-I32-G32 -> 0
C33: 1310 | D33: Materias Primas | E33: 0 | L33: =+E33+F33+H33+J33-K33-I33-G33 -> 0
... C47: 1390 | D47: Provision | E47: 0 | L47: =+E47+F47+H47+J47-K47-I47-G47 -> 0
C48: 1400 | D48: CARTERA DE CRÉDITOS | E48: =+SUM(E49:E70) -> 50994808643 | F48: =+SUM(F49:F70) -> 0 | G48: =+SUM(G49:G70) -> 0 | H48: =+SUM(H49:H70) -> 0 | I48: =+SUM(I49:I70) -> 2.9940684e+08 | J48: =+SUM(J49:J70) -> 0 | K48: =+SUM(K49:K70) -> 0 | L48: =+SUM(L49:L70) -> 5.0695402e+10 | M48: 0.005 | N48: =+L48*M48 -> 2.5347701e+08
C49: 1404 | D49: Creditos De Vivienda - Con Libranza | E49: 0 | L49: =+E49+F49+H49+J49-K49-I49-G49 -> 0 | N49: =L48-#REF! -> #REF!
C50: 1405 | D50: Creditos De Vivienda - Sin Libranza | E50: 0 | L50: =+E50+F50+H50+J50-K50-I50-G50 -> 0
C51: 1411 | D51: Creditos De Consumo, Garantia Admisible - Con Libranza | E51: 387667225 | L51: =+E51+F51+H51+J51-K51-I51-G51 -> 387667225
C52: 1412 | D52: Creditos De Consumo , Garantia Admisible, - Sin Libranza | E52: 490176374 | L52: =+E52+F52+H52+J52-K52-I52-G52 -> 490176374
C53: 1441 | D53: Creditos De Consumo, Otras Garantias - Con Libranza | E53: 48743561557 | L53: =+E53+F53+H53+J53-K53-I53-G53 -> 48743561557
C54: 1442 | D54: Creditos De Consumo , Otras Garantias - Sin Libranza | E54: 1781960857 | L54: =+E54+F54+H54+J54-K54-I54-G54 -> 1781960857
C55: 1455 | D55: Microcreditos Inmobiliario - Sin Libranza | E55: 0 | L55: =+E55+F55+H55+J55-K55-I55-G55 -> 0
C56: 1456 | D56: Microcreditos, Empresarial - Garantia Admisible - Con Libranza | E56: 0 | L56: =+E56+F56+H56+J56-K56-I56-G56 -> 0
...

Sheet ESF
B2: COOPEJEMPLO
B3: COOPERATIVA ESPECIALIZADA DE AHORRO Y CREDITO
B4: ESTADO DE SITUACION FINANCIERA
C5: Por Orden de Liquidez
B6: Acumulado a 31 de Diciembre de los años 2022 y 2021
B7: (Información en pesos colombianos)
C9: ACTIVOS | D9: Nota | F9: 2022 | G9: % | H9: 2021 | I9: % | J9: Variación $ | K9: %
C11: Efectivo y Equivalentes al Efectivo | D11: -4 | F11: =SUM(F12:F13) -> 3.362434e+09 | G11: =+F11/F$48 -> 0.048956541 | H11: =SUM(H12:H13) -> 3.078682e+09 | I11: =+H11/H$48 -> 0.047341268 | J11: =+F11-H11 -> 2.83752e+08 | K11: =IFERROR(+J11/H11,0%) -> 0.092166716
C12: Bancos | F12: =+'Hoja trabajo ESF'!E7 -> 2.6712039e+09 | G12: =+F12/F$48 -> 0.038892334 | H12: =+'Hoja trabajo ESF'!G7 -> 2.7851696e+09 | I12: =+H12/H$48 -> 0.042827893 | J12: =+F12-H12 -> -1.139657e+08 | K12: =IFERROR(+J12/H12,0%) -> -0.040918764
C13: Efectivo Restringido - Fondo de Liquidez | F13: =+'Hoja trabajo ESF'!E8 -> 6.9123007e+08 | G13: =+F13/F$48 -> 0.010064208 | H13: =+'Hoja trabajo ESF'!G8 -> 2.9351237e+08 | I13: =+H13/H$48 -> 0.0045133755 | J13: =+F13-H13 -> 3.977177e+08 | K13: =IFERROR(+J13/H13,0%) -> 1.3550288
C15: Activos Financieros de Inversión | D15: -5 | F15: =SUM(F16:F18) -> 698283723 | G15: =+F15/F$48 -> 0.010166908 | H15: =SUM(H16:H18) -> 621597211 | I15: =+H15/H$48 -> 0.0095583762 | J15: =+F15-H15 -> 76686512 | K15: =IFERROR(+J15/H15,0%) -> 0.1233701
C16: Inversiones en instrumentos de Deuda (Costo amortizado) | F16: =+'Hoja trabajo ESF'!E10 -> 571056269 | G16: =+F16/F$48 -> 0.0083144948 | H16: =+'Hoja trabajo ESF'!G10 -> 535845042 | I16: =+H16/H$48 -> 0.0082397546 | J16: =+F16-H16 -> 35211227 | K16: =IFERROR(+J16/H16,0%) -> 0.065711585
C17: Inversiones en instrumentos Patrimonio a Valor Razonable | F17: =+'Hoja trabajo ESF'!E11 -> 51287810 | G17: =+F17/F$48 -> 0.00074674293 | H17: =+'Hoja trabajo ESF'!G11 -> 46589690 | I17: =+H17/H$48 -> 0.00071641535 | J17: =+F17-H17 -> 4698120 | K17: =IFERROR(+J17/H17,0%) -> 0.10084034
C18: Otras inversiones de patrimonio al costo histórico | F18: =+'Hoja trabajo ESF'!E12 -> 75939644 | G18: =+F18/F$48 -> 0.00110567 | H18: =+'Hoja trabajo ESF'!G12 -> 39162479 | I18: =+H18/H$48 -> 0.00060220622 | J18: =+F18-H18 -> 36777165 | K18: =IFERROR(+J18/H18,0%) -> 0.93909185
C20: Cartera de Créditos (costo amortizado) | D20: -6 | F20: =SUM(F21:F29) -> 6.196017e+10 | G20: =+F20/F$48 -> 0.90213091 | H20: =SUM(H21:H29) -> 59071085688 | I20: =+H20/H$48 -> 0.9083433 | J20: =+F20-H20 -> 2.8890843e+09 | K20: =IFERROR(+J20/H20,0%) -> 0.048908603
C21: Cartera de Crédito Asociados - Consumo (capital) | F21: =+'Hoja trabajo ESF'!E14 -> 62598064199 | G21: =+F21/F$48 -> 0.91141856 | H21: =+'Hoja trabajo ESF'!G14 -> 59838406262 | I21: =+H21/H$48 -> 0.92014248 | J21: =+F21-H21 -> 2759657937 | K21: =IFERROR(+J21/H21,0%) -> 0.046118507
C22: Cartera de Crédito Asociados - Comercial (capital) | F22: =+'Hoja trabajo ESF'!E15 -> 416771952 | G22: =+F22/F$48 -> 0.006068138 | H22: =+'Hoja trabajo ESF'!G15 -> 240063536 | I22: =+H22/H$48 -> 0.0036914863 | J22: =+F22-H22 -> 176708416 | K22: =IFERROR(+J22/H22,0%) -> 0.7360902
C23: Créditos a Empleados | F23: =+'Hoja trabajo ESF'!E16 -> 282817633 | G23: =+F23/F$48 -> 0.0041177829 | H23: =+'Hoja trabajo ESF'!G16 -> 273363689 | I23: =+H23/H$48 -> 0.0042035468 | J23: =+F23-H23 -> 9453944 | K23: =IFERROR(+J23/H23,0%) -> 0.034583759
C24: Intereses Cartera Asociados (Método Interés Efectivo) | F24: =+'Hoja trabajo ESF'!E17 -> 227781509 | G24: =+F24/F$48 -> 0.0033164651 | H24: =+'Hoja trabajo ESF'!G17 -> 196248890 | I24: =+H24/H$48 -> 0.0030177431 | J24: =+F24-H24 -> 31532619 | K24: =IFERROR(+J24/H24,0%) -> 0.16067667
C25: Intereses Créditos Comerciales | F25: =+'Hoja trabajo ESF'!E18 -> 3136492 | G25: =+F25/F$48 -> 4.566686e-05 | H25: =+'Hoja trabajo ESF'!G18 -> 3863458 | I25: =+H25/H$48 -> 5.9408865e-05 | J25: =+F25-H25 -> -726966 | K25: =IFERROR(+J25/H25,0%) -> -0.18816459
C26: Deterioro Cartera Crédito Asociados Capital (individual) | F26: =+'Hoja trabajo ESF'!E19 -> -702958376 | G26: =+F26/F$48 -> -0.01023497 | H26: =+'Hoja trabajo ESF'!G19 -> -820283195 | I26: =+H26/H$48 -> -0.012613595 | J26: =+F26-H26 -> 117324819 | K26: =IFERROR(+J26/H26,0%) -> -0.14302965
C27: Deterioro Cartera Crédito Asociados Capital (General) | F27: =+'Hoja trabajo ESF'!E20 -> -793986936 | G27: =+F27/F$48 -> -0.011560332 | H27: =+'Hoja trabajo ESF'!G20 -> -600784698 | I27: =+H27/H$48 -> -0.0092383396 | J27: =+F27-H27 -> -193202238 | K27: =IFERROR(+J27/H27,0%) -> 0.32158315
C28: Deterioro Creditos a Empleados | F28: =+'Hoja trabajo ESF'!E21 -> -15454768 | G28: =+F28/F$48 -> -0.00022501913 | H28: =+'Hoja trabajo ESF'!G21 -> -15347844 | I28: =+H28/H$48 -> -0.00023600567 | J28: =+F28-H28 -> -106923.74 | K28: =IFERROR(+J28/H28,0%) -> 0.0069666945
C29: Deterioro Intereses Cartera | F29: =+'Hoja trabajo ESF'!E22 -> -56001724 | G29: =+F29/F$48 -> -0.00081537682 | H29: =+'Hoja trabajo ESF'!G22 -> -44444410 | I29: =+H29/H$48 -> -0.00068342712 | J29: =+F29-H29 -> -11557314 | K29: =IFERROR(+J29/H29,0%) -> 0.26003977
C31: Cuentas por Cobrar | D31: -7 | F31: =SUM(F32:F35) -> 2.0641917e+08 | G31: =+F31/F$48 -> 0.0030054325 | H31: =SUM(H32:H35) -> 1.3771798e+08 | I31: =+H31/H$48 -> 0.0021177061 | J31: =+F31-H31 -> 68701191 | K31: =IFERROR(+J31/H31,0%) -> 0.49885421
C32: Convenios | F32: =+'Hoja trabajo ESF'!E24 -> 111579896 | G32: =+F32/F$48 -> 0.0016245868 | H32: =+'Hoja trabajo ESF'!G24 -> 63523626 | I32: =+H32/H$48 -> 0.00097681055 | J32: =+F32-H32 -> 48056270 | K32: =IFERROR(+J32/H32,0%) -> 0.75651018
C33: Activos por impuestos corriente | F33: =+'Hoja trabajo ESF'!E25 -> 40165 | G33: =+F33/F$48 -> 5.8479646e-07 | H33: =+'Hoja trabajo ESF'!G25 -> 0 | I33: =+H33/H$48 -> 0 | J33: =+F33-H33 -> 40165 | K33: =IFERROR(+J33/H33,0%) -> 0
C34: Deudores Patronales | F34: =+'Hoja trabajo ESF'!E26 -> 28603226 | G34: =+F34/F$48 -> 0.00041645874 | H34: =+'Hoja trabajo ESF'!G26 -> 23153554 | I34: =+H34/H$48 -> 0.00035603503 | J34: =+F34-H34 -> 5449672 | K34: =IFERROR(+J34/H34,0%) -> 0.23537086
C35: Otras cuentas por cobrar | F35: =+'Hoja trabajo ESF'!E27 -> 66195880 | G35: =+F35/F$48 -> 0.00096380222 | H35: =+'Hoja trabajo ESF'!G27 -> 51040795 | I35: =+H35/H$48 -> 0.00078486054 | J35: =+F35-H35 -> 15155084 | K35: =IFERROR(+J35/H35,0%) -> 0.296921
C37: Propiedades, Planta y Equipo | D37: -8 | F37: =SUM(F38:F42) -> 2.1530064e+09 | G37: =+F37/F$48 -> 0.031347455 | H37: =SUM(H38:H42) -> 1.6089902e+09 | I37: =+H37/H$48 -> 0.024741639 | J37: =+F37-H37 -> 5.4401619e+08 | K37: =IFERROR(+J37/H37,0%) -> 0.33811032
C38: Terrenos | F38: =+'Hoja trabajo ESF'!E29 -> 179682458 | G38: =+F38/F$48 -> 0.00261615 | H38: =+'Hoja trabajo ESF'!G29 -> 179682458 | I38: =+H38/H$48 -> 0.0027629991 | J38: =+F38-H38 -> 0 | K38: =IFERROR(+J38/H38,0%) -> 0
C39: Edificiaciones | F39: =+'Hoja trabajo ESF'!E30 -> 1401846479 | G39: =+F39/F$48 -> 0.020410677 | H39: =+'Hoja trabajo ESF'!G30 -> 968895289 | I39: =+H39/H$48 -> 0.014898821 | J39: =+F39-H39 -> 432951190 | K39: =IFERROR(+J39/H39,0%) -> 0.44685034
C40: Muebles y Equipos de Oficina | F40: =+'Hoja trabajo ESF'!E31 -> 5.8370085e+08 | G40: =+F40/F$48 -> 0.008498598 | H40: =+'Hoja trabajo ESF'!G31 -> 412105156 | I40: =+H40/H$48 -> 0.0063369913 | J40: =+F40-H40 -> 1.7159569e+08 | K40: =IFERROR(+J40/H40,0%) -> 0.41638812
C41: Equipo de Computo y Comunicación | F41: =+'Hoja trabajo ESF'!E32 -> 3.6759674e+08 | G41: =+F41/F$48 -> 0.0053521541 | H41: =+'Hoja trabajo ESF'!G32 -> 3.0137684e+08 | I41: =+H41/H$48 -> 0.0046343085 | J41: =+F41-H41 -> 66219894 | K41: =IFERROR(+J41/H41,0%) -> 0.21972456
C42: Depreciación Acumulada | F42: =+'Hoja trabajo ESF'!E33 -> -3.7982014e+08 | G42: =+F42/F$48 -> -0.005530125 | H42: =+'Hoja trabajo ESF'!G33 -> -2.5306955e+08 | I42: =+H42/H$48 -> -0.0038914814 | J42: =+F42-H42 -> -1.2675059e+08 | K42: =IFERROR(+J42/H42,0%) -> 0.50085278
C44: Otros Activos NO Financieros | D44: -9 | F44: =SUM(F45:F47) -> 3.0170314e+08 | G44: =+F44/F$48 -> 0.0043927531 | H44: =SUM(H45:H47) -> 513601670 | I44: =+H44/H$48 -> 0.0078977156 | J44: =+F44-H44 -> -2.1189853e+08 | K44: =IFERROR(+J44/H44,0%) -> -0.41257368
C45: Intangibles - Licencias y Software | F45: =+'Hoja trabajo ESF'!E35 -> 2.742566e+08 | G45: =+F45/F$48 -> 0.0039931356 | H45: =+'Hoja trabajo ESF'!G35 -> 279281886 | I45: =+H45/H$48 -> 0.0042945517 | J45: =+F45-H45 -> -5025281.6 | K45: =IFERROR(+J45/H45,0%) -> -0.017993582
C46: Anticipos de Contratos | F46: =+'Hoja trabajo ESF'!E36 -> 27446536 | G46: =+F46/F$48 -> 0.0003996175 | H46: =+'Hoja trabajo ESF'!G36 -> 234319784 | I46: =+H46/H$48 -> 0.0036031639 | J46: =+F46-H46 -> -206873248 | K46: =IFERROR(+J46/H46,0%) -> -0.88286718
C48: TOTAL ACTIVO | F48: =+F44+F37+F31+F20+F15+F11 -> 6.8682016e+10 | G48: =+F48/F$48 -> 1 | H48: =+H44+H37+H31+H20+H15+H11 -> 6.5031675e+10 | I48: =+H48/H$48 -> 1 | J48: =+F48-H48 -> 3.6503417e+09 | K48: =IFERROR(+J48/H48,0%) -> 0.056131749
B50: PASIVOS
...

Sheet FEI
A1: COOPEJEMPLO
A2: COOPERATIVA ESPECIALIZADA DE AHORRO Y CREDITO
A3: ESTADO DE FLUJOS DE EFECTIVO INDIVIDUAL (Método Indirecto)
A4: Por los Años Terminados a Diciembre 31 de 2022 y 2021
A5: Expresado en Pesos Colombianos
C7: 2022 | F7: 2021
A9: Efectivo Generado por las Operaciones | D9: =+ESF!F99 -> 8.7663173e+08 | G9: =+ESF!H99 -> 598264538
A10: mas partidas que no afectan el efectivo: Gastos Depreciación | C10: =-ESF!J42 -> 1.2675059e+08 | F10: 76162836
A11: MENOS partidas que no afectan el efectivo: Valoración acciones AVAL | C11: =-ESF!J17 -> -4698120 | F11: =+ERI!G44 -> 61357460
A12: mas partidas que no afectan el efectivo: Deterioro | C12: =-ESF!J26-ESF!J27-ESF!J29-ESF!J28 -> 87541657 | F12: 324726282
A13: Excedentes Netos Del Año | D13: =+D9+C10+C12+C11 -> 1.0862258e+09 | G13: =+G9+F10+F11+F12 -> 1.0605111e+09
A15: Efectivo Generado en actividades de INVERSION
A16: (Aumento) Disminución en Inversiones de Patrimonio | C16: =-ESF!J18 -> -36777165 | F16: -21201675
A17: (Aumento) Disminución Inversiones de Deuda | C17: =-ESF!J16 -> -35211227 | F17: -319729794
A18: (Aumento) Disminución de Propiedades planta y equipo | C18: =-ESF!J38-ESF!J39-ESF!J40-ESF!J41 -> -6.7076678e+08 | F18: -536927796
A19: Subtotal efectivo generado en actividades de INVERSION | D19: =SUM(C16:C18) -> -7.4275517e+08 | G19: -877859265
A21: Efectivo Generado en actividades de FINANCIACION
A22: Aumento (Disminución) Obligaciones Financieras | C22: =+ESF!J58 -> -1.2286208e+09 | F22: 2.9913694e+09
A23: Aumento (Disminución) Excedentes, reservas y fondos patrimoniales | C23: =-ESF!H99+ESF!J93+ESF!J95 -> -1.7947936e+08 | F23: -399038711
A24: Subtotal efectivo generado en actividades de INVERSION | D24: =+SUM(C22:C23) -> -1.4081002e+09 | G24: 2.5923307e+09
A26: Efectivo Generado en Actividades de OPERACIÓN
A27: (Aumento) Disminución Cartera Credito | C27: =-ESF!J21-ESF!J22-ESF!J23-ESF!J24-ESF!J25 -> -2976625950 | F27: -5585524249
A28: (Aumento) Disminución de Cuentas por Cobrar | C28: =-ESF!J31 -> -68701191 | F28: 1.6954981e+08
A29: Aumento (Disminución) Depósitos | C29: =+ESF!J52 -> 3.6048715e+09 | F29: 2665064702
A30: Aumento (Disminución) Cuentas por Pagar | C30: =+ESF!J63 -> -1.500467e+08 | F30: -2.8799975e+08
A31: Aumento (Disminución) Beneficios a Empleados | C31: =+ESF!J73 -> 19404624 | F31: 13083572
A32: Aumento (Disminución) de Impuestos | C32: =+ESF!J69 -> 130213 | F32: 862346
A33: Aumento (Disminución) de Aportes Sociales | C33: =+ESF!J91 -> 708389539 | F33: 996817662
A34: Aumento (Disminución) de Fondos Sociales, Mutuales y Otros | C34: =+ESF!J79 -> -50895193 | F34: 44116171
A35: (Aumento) Disminución en Intangibles y otros activos | C35: =-ESF!J44 -> 2.1189853e+08 | F35: -279281886
A36: Aumento (Disminución) otros pasivos | C36: =+ESF!J83 -> 49956112 | F36: -35957693
A37: Total Recursos de Financiacion & Operación | D37: =SUM(C27:C36) -> 1.3483815e+09 | G37: -2.2992693e+09
A40: Aumento (Disminución) del Disponible | D40: =+D13+D19+D24+D37 -> 2.83752e+08 | G40: 4.7571321e+08
A42: Saldo al Incio del Periodo. | D42: =+ESF!H11 -> 3.078682e+09 | G42: 2.6029688e+09
A44: Total Saldo en Disponible a Diciembre 31 de 2022 | D44: =D40+D42 -> 3.362434e+09 | G44: 3.078682e+09

Sheet Hoja trabajo ESF
B1: COOIPEJEMPLO
B2: NIT 800-020-034-8
B3: ESTADO DE SITUACION FINANCIERA | D3: Nota | E3: 31 de diciembre de 2022 | F3: % | G3: 31 de diciembre de 2021 | H3: %
B4: A 31 de diciembre de 2022 y 2021
A5: Cuentas puc | B5: ACTIVO | C5: Código
B6: Efectivo y Equivalentes al efectivo | D6: -4 | E6: =SUM(E7:E8) -> 3.362434e+09 | F6: =+E6/E$37 -> 0.048956541 | G6: =SUM(G7:G8) -> 3.078682e+09 | H6: =+G6/G$37 -> 0.047341268
B7: Bancos | C7: 1110 | E7: =+'Año 2022'!C4 -> 2.6712039e+09 | G7: ='Año 2021'!C7 -> 2.7851696e+09
B8: Efectivo Restringido - Fondo de Liquidez | C8: 1120 | E8: =+'Año 2022'!C31 -> 6.9123007e+08 | G8: ='Año 2021'!C34 -> 2.9351237e+08
B9: Activos Financieros de Inversión | D9: -5 | E9: =SUM(E10:E12) -> 698283723 | F9: =+E9/E$37 -> 0.010166908 | G9: =SUM(G10:G12) -> 621597211 | H9: =+G9/G$37 -> 0.0095583762
B10: Inversiones Deuda (costo amortizado) > 90 días | C10: 1208 | E10: =+'Año 2022'!C44 -> 571056269 | G10: ='Año 2021'!C46 -> 535845042
B11: De Patrimonio a Valor Razonable (Grupo Aval) | C11: 1206 | E11: =+'Año 2022'!C41 -> 51287810 | G11: ='Año 2021'!C43 -> 46589690
A12: 1226 | B12: Otras inversiones de patrimonio al costo historico | C12: 1226 | E12: =+'Año 2022'!C47 -> 75939644 | G12: ='Año 2021'!C49 -> 39162479
B13: Cartera de Créditos | D13: -6 | E13: =+SUM(E14:E22) -> 6.196017e+10 | F13: =+E13/E$37 -> 0.90213091 | G13: =+SUM(G14:G22) -> 59071085688 | H13: =+G13/G$37 -> 0.9083433
A14: 1411-12-41-42 | B14: Cartera de Crédito Asociados - Consumo (capital) | C14: 1411-1412-1441-1442 | E14: =+'Año 2022'!C51+'Año 2022'!C54+'Año 2022'!C63+'Año 2022'!C74 -> 62598064199 | G14: ='Año 2021'!C53+'Año 2021'!C56+'Año 2021'!C63+'Año 2021'!C74 -> 59838406262
A15: 1461-1462 | B15: Cartera de Crédito Asociados - Comercial (capital) | C15: 1461 - 1462 | E15: =+ 'Año 2022'!C121+'Año 2022'!C124 -> 416771952 | G15: ='Año 2021'!C121+'Año 2021'!C124 -> 240063536
A16: 1469 | B16: Créditos a Empleados | C16: 1469 | E16: =+'Año 2022'!C139 -> 282817633 | G16: ='Año 2021'!C148 -> 273363689
A17: 1443 | B17: Intereses Causados Cartera Asociados (Método Interés Efectivo) | C17: 1443 | E17: =+'Año 2022'!C85 -> 227781509 | G17: ='Año 2021'!C85 -> 196248890
A18: 1463 | B18: Intereses Créditos Comerciales | C18: 1463 | E18: =+'Año 2022'!C128 -> 3136492 | G18: ='Año 2021'!C130 -> 3863458
A19: 1445 | B19: Deterioro Cartera Crédito Asociados Capital (individual) | C19: 1445 | E19: =+'Año 2022'!C101 -> -702958376 | G19: ='Año 2021'!C101 -> -820283195
A20: 1468 | B20: Deterioro Cartera Crédito Asociados Capital (General) | C20: 14680501, 02, 146810 | E20: =+'Año 2022'!C134+'Año 2022'!C135+'Año 2022'!C136 -> -793986936 | G20: -600784698
A21: 1471 | B21: Deterioro Creditos a Empleados | C21: 1471 | E21: =+'Año 2022'!C145 -> -15454768 | G21: ='Año 2021'!C154 -> -15347844
A22: 1446 | B22: Deterioro Intereses Cartera | C22: 1446 | E22: =+'Año 2022'!C114 -> -56001724 | G22: ='Año 2021'!C114 -> -44444410
B23: Cuentas por Cobrar | D23: -7 | E23: =+SUM(E24:E27) -> 2.0641917e+08 | F23: =+E23/E$37 -> 0.0030054325 | G23: =+SUM(G24:G27) -> 1.3771798e+08 | H23: =+G23/G$37 -> 0.0021177061
A24: 1473 | B24: Convenios | C24: 1473 | E24: =+'Año 2022'!C148 -> 111579896 | G24: ='Año 2021'!C157 -> 63523626
B25: Activos por impuesto corriente | C25: 1640 | E25: =+'Año 2022'!C161 -> 40165 | G25: 0
B26: Deudores Patronales | C26: 1650 | E26: =+'Año 2022'!C164 -> 28603226 | G26: ='Año 2021'!C175 -> 23153554
A27: 1660-1675-1690 | B27: Otras cuentas por cobrar | C27: 1660-1675-1690 | E27: =+'Año 2022'!C167 -> 66195880 | G27: ='Año 2021'!C179 -> 51040795
B28: Propiedades, Planta y Equipo | D28: -8 | E28: =+SUM(E29:E33) -> 2.1530064e+09 | F28: =+E28/E$37 -> 0.031347455 | G28: =+SUM(G29:G33) -> 1.6089902e+09 | H28: =+G28/G$37 -> 0.024741639
B29: Terrenos | C29: 170502 | E29: =+'Año 2022'!C176 -> 179682458 | G29: ='Año 2021'!C191 -> 179682458
B30: Edificiaciones | C30: 170504 | E30: =+'Año 2022'!C178 -> 1401846479 | G30: ='Año 2021'!C193 -> 968895289
B31: Muebles y Equipos de Oficina | C31: 170505 | E31: =+'Año 2022'!C180 -> 5.8370085e+08 | G31: ='Año 2021'!C195 -> 412105156
B32: Equipo de Computo y Comunicación | C32: 170520 | E32: =+'Año 2022'!C183 -> 3.6759674e+08 | G32: ='Año 2021'!C198 -> 3.0137684e+08
B33: Depreciación Acumulada | C33: 170595 | E33: =+'Año 2022'!C187 -> -3.7982014e+08 | G33: ='Año 2021'!C202 -> -2.5306955e+08
B34: Otros Activos NO Financieros | D34: -9 | E34: =SUM(E35:E36) -> 3.0170314e+08 | F34: =+E34/E$37 -> 0.0043927531 | G34: =SUM(G35:G36) -> 513601670 | H34: =+G34/G$37 -> 0.0078977156
B35: Intangibles - Software | C35: 1910 | E35: =+'Año 2022'!C192 -> 2.742566e+08 | G35: ='Año 2021'!C209 -> 279281886
A36: 1630 | B36: Anticipos de Contratos | E36: =+'Año 2022'!C158 -> 27446536 | G36: =+'Año 2021'!C171 -> 234319784
B37: TOTAL ACTIVO | E37: =+E34+E28+E23+E13+E9+E6 -> 6.8682016e+10 | F37: =+E37/E$37 -> 1 | G37: =+G34+G28+G23+G13+G9+G6 -> 6.5031675e+10 | H37: =+G37/G$37 -> 1
B39: PASIVO
B40: Depósitos Y Exigibilidades (costo amortizado) | D40: -10 | E40: =SUM(E41:E44) -> 6.2699362e+09 | F40: =+E40/E$37 -> 0.091289344 | G40: =SUM(G41:G44) -> 2665064702 | H40: =+G40/G$37 -> 0.040981025
B41: A la Vista | C41: 2105 | E41: =+'Año 2022'!C199 -> 6.3209276e+08 | G41: ='Año 2021'!C214 -> 481188436
...

Sheet ERI
B1: =+ESF!B2 -> COOPEJEMPLO
B2: =+ESF!B3 -> COOPERATIVA ESPECIALIZADA DE AHORRO Y CREDITO
B3: ESTADO DE RESULTADO INTEGRAL
B4: Acumulado del 01 de enero al 31 de Diciembre de los años 2022 y 2021
B5: Expresado en Pesos Colombianos y Clasificado por Naturaleza del Gasto
C6: Nota | E6: Año 2022 | F6: % | G6: Año 2021 | H6: % | I6: Var 2022 | J6: Var $%
B7: INGRESOS ORDINARIOS | C7: -17
B8: Intereses | D8: CODIGO | E8: =+SUM(E9:E11) -> 1.0580343e+10 | F8: =+E8/E$20 -> 0.95523255 | G8: 9.5025932e+09 | H8: =+G8/G$20 -> 0.97177011 | I8: =+E8-G8 -> 1.0777494e+09 | J8: =IF(G8>0,+(E8-G8)/G8,"N.A.") -> 0.11341635
B9: Cartera de Crédito (Método del interés efectivo) | D9: 4150 - 42100503 | E9: =+'Año 2022'!C367+'Año 2022'!C385 -> 1.053317e+10 | F9: =+E9/E$20 -> 0.95097363 | G9: 9476526862 | H9: =+G9/G$20 -> 0.96910447 | I9: =+E9-G9 -> 1.0566431e+09 | J9: =IF(G9>0,+(E9-G9)/G9,"N.A.") -> 0.11150109
B10: Intereses fondo de liquidez | D10: 41509805 | E10: =+'Año 2022'!C379 -> 7830037.8 | F10: =+E10/E$20 -> 0.00070692484 | G10: 2941395.4 | H10: =+G10/G$20 -> 0.0003007979 | I10: =+E10-G10 -> 4888642.5 | J10: =IF(G10>0,+(E10-G10)/G10,"N.A.") -> 1.6620148
B11: Rendimientos financieros (método interés efectivo) | D11: 41509801 | E11: =+'Año 2022'!C382 -> 39342661 | F11: =+E11/E$20 -> 0.0035520013 | G11: 23124945 | H11: =+G11/G$20 -> 0.0023648419 | I11: =+E11-G11 -> 16217716 | J11: =IF(G11>0,+(E11-G11)/G11,"N.A.") -> 0.70130832
B12: Otros Ingresos Ordinario | E12: =+SUM(E13:E15) -> 62311439 | F12: =+E12/E$20 -> 0.0056257077 | G12: 45856229 | H12: =+G12/G$20 -> 0.0046894265 | I12: =+E12-G12 -> 16455210 | J12: =IF(G12>0,+(E12-G12)/G12,"N.A.") -> 0.35884352
B13: Dividendos y Participaciones | D13: 421030 | E13: =+'Año 2022'!C387-E18 -> 8848659 | F13: =+E13/E$20 -> 0.00079888973 | G13: 9032685 | H13: =+G13/G$20 -> 0.00092371557 | I13: =+E13-G13 -> -184026 | J13: =IF(G13>0,+(E13-G13)/G13,"N.A.") -> -0.020373344
B14: Otros ingresos de crédito | D14: 41509803 | E14: =+'Año 2022'!C384 -> 19528956 | F14: =+E14/E$20 -> 0.0017631465 | G14: 3998016.5 | H14: =+G14/G$20 -> 0.00040885187 | I14: =+E14-G14 -> 15530939 | J14: =IF(G14>0,+(E14-G14)/G14,"N.A.") -> 3.8846611
B15: Comisiones Tarjeta y Descuentos Proveedores | D15: 4220 - 41509802 | E15: =+'Año 2022'!C390+'Año 2022'!C383 -> 33933824 | F15: =+E15/E$20 -> 0.0030636714 | G15: 32825527 | H15: =+G15/G$20 -> 0.0033568591 | I15: =+E15-G15 -> 1108297 | J15: =IF(G15>0,+(E15-G15)/G15,"N.A.") -> 0.033763266
B16: Ganancias | C16: -18 | E16: =+SUM(E17:E19) -> 4.3354158e+08 | F16: =+E16/E$20 -> 0.039141741 | G16: 2.3019375e+08 | H16: =+G16/G$20 -> 0.023540459 | I16: =+E16-G16 -> 2.0334783e+08 | J16: =IF(G16>0,+(E16-G16)/G16,"N.A.") -> 0.88337687
B17: Otras Ganancias | D17: 4240 | E17: =+'Año 2022'!C394 -> 1535846.3 | F17: =+E17/E$20 -> 0.0001386619 | G17: 6214165.9 | H17: =+G17/G$20 -> 0.00063548345 | I17: =+E17-G17 -> -4678319.7 | J17: =IF(G17>0,+(E17-G17)/G17,"N.A.") -> -0.75284756
B18: Valorizacion de inversiones grupo AVAL | E18: =+'Año 2022'!E614 -> 9983505 | F18: =+E18/E$20 -> 0.00090134784 | G18: 3915100 | H18: =+G18/G$20 -> 0.00040037252 | I18: =+E18-G18 -> 6068405 | J18: =IF(G18>0,+(E18-G18)/G18,"N.A.") -> 1.55
B19: Recuperación del Deterioro | D19: 41509804 - 4225 | E19: =+'Año 2022'!C391 -> 422022230 | F19: =+E19/E$20 -> 0.038101731 | G19: 220064482 | H19: =+G19/G$20 -> 0.022504603 | I19: =+E19-G19 -> 201957748 | J19: =IF(G19>0,+(E19-G19)/G19,"N.A.") -> 0.91772078
B20: TOTAL INGRESOS Y GANANCIAS | E20: =+E16+E8+E12 -> 1.1076196e+10 | F20: =+E20/E$20 -> 1 | G20: 9.7786432e+09 | H20: =+G20/G$20 -> 1 | I20: =+E20-G20 -> 1.2975525e+09 | J20: =IF(G20>0,+(E20-G20)/G20,"N.A.") -> 0.13269249
B21: COSTOS
B22: Intereses (método interés efectivo) | E22: =+SUM(E23:E29) -> 4.227982e+09 | F22: =+E22/E$20 -> 0.38171789 | G22: 4.0027154e+09 | H22: =+G22/G$20 -> 0.4093324 | I22: =+E22-G22 -> 2.2526655e+08 | J22: =IF(G22>0,+(E22-G22)/G22,"N.A.") -> 0.056278433
B23: Intereses Ahorro a la vista | D23: 615005 | E23: =+'Año 2022'!C632 -> 8135782 | F23: =+E23/E$20 -> 0.00073452856 | G23: 8668425 | H23: =+G23/G$20 -> 0.00088646501 | I23: =+E23-G23 -> -532643 | J23: =IF(G23>0,+(E23-G23)/G23,"N.A.") -> -0.061446341
B24: Intereses Certificados de depósito a Término | D24: 615010 | E24: =+'Año 2022'!C634 -> 202554684 | F24: =+E24/E$20 -> 0.018287388 | G24: 47697614 | H24: =+G24/G$20 -> 0.0048777334 | I24: =+E24-G24 -> 154857070 | J24: =IF(G24>0,+(E24-G24)/G24,"N.A.") -> 3.2466419
B25: Intereses Ahorro Contractual | D25: 615015 | E25: =+'Año 2022'!C636 -> 2100484 | F25: =+E25/E$20 -> 0.00018963948 | G25: 364133 | H25: =+G25/G$20 -> 3.7237579e-05 | I25: =+E25-G25 -> 1736351 | J25: =IF(G25>0,+(E25-G25)/G25,"N.A.") -> 4.7684527
B26: Intereses Ahorro Permanente | D26: 615020 | E26: =+'Año 2022'!C638 -> 9190230 | F26: =+E26/E$20 -> 0.00082972803 | G26: 3208367 | H26: =+G26/G$20 -> 0.0003280994 | I26: =+E26-G26 -> 5981863 | J26: =IF(G26>0,+(E26-G26)/G26,"N.A.") -> 1.8644572
B27: Intereses Obligaciones Financieras | D27: 615035 - 615095 | E27: =+'Año 2022'!C642 -> 3.5666409e+09 | F27: =+E27/E$20 -> 0.32200956 | G27: 3.5779638e+09 | H27: =+G27/G$20 -> 0.36589573 | I27: =+E27-G27 -> -11322906 | J27: =IF(G27>0,+(E27-G27)/G27,"N.A.") -> -0.0031646228
B28: Gravamen a los Movimientos Financieros - Propio | D28: 61753501 | E28: =+'Año 2022'!C640 -> 3.4463023e+08 | F28: =+E28/E$20 -> 0.031114494 | G28: 2.9421181e+08 | H28: =+G28/G$20 -> 0.030087182 | I28: =+E28-G28 -> 50418412 | J28: =IF(G28>0,+(E28-G28)/G28,"N.A.") -> 0.17136773
B29: Gravamen a los Movimientos Financieros - Asumido | D29: 61753502 | E29: =+'Año 2022'!C641 -> 94729704 | F29: =+E29/E$20 -> 0.0085525488 | G29: 70601298 | H29: =+G29/G$20 -> 0.0072199482 | I29: =+E29-G29 -> 24128406 | J29: =IF(G29>0,+(E29-G29)/G29,"N.A.") -> 0.34175585
B30: GASTOS BANCARIOS
B31: Gastos Bancarios | E31: =+SUM(E32:E33) -> 1.7678492e+08 | F31: =+E31/E$20 -> 0.015960798 | G31: 1.5015718e+08 | H31: =+G31/G$20 -> 0.015355626 | I31: =+E31-G31 -> 26627733 | J31: =IF(G31>0,+(E31-G31)/G31,"N.A.") -> 0.1773324
B32: Comisiones Bancarias | D32: 521005 - 51401501 | E32: =+'Año 2022'!C611+'Año 2022'!C613 -> 1.036924e+08 | F32: =+E32/E$20 -> 0.0093617338 | G32: 88147831 | H32: =+G32/G$20 -> 0.0090143213 | I32: =+E32-G32 -> 15544564 | J32: =IF(G32>0,+(E32-G32)/G32,"N.A.") -> 0.17634653
B33: Tarjeta de Afinidad | D33: 51401502 | E33: =+'Año 2022'!C614 -> 73092522 | F33: =+E33/E$20 -> 0.0065990638 | G33: 62009352 | H33: =+G33/G$20 -> 0.0063413043 | I33: =+E33-G33 -> 11083170 | J33: =IF(G33>0,+(E33-G33)/G33,"N.A.") -> 0.17873384
B34: TOTAL COSTOS FINANCIEROS Y GASTOS BANCARIOS | C34: -19 | E34: =+E31+E22 -> 4.4047669e+09 | F34: =+E34/E$20 -> 0.39767868 | G34: 4.1528726e+09 | H34: =+G34/G$20 -> 0.42468802 | I34: =+E34-G34 -> 2.5189429e+08 | J34: =IF(G34>0,+(E34-G34)/G34,"N.A.") -> 0.060655433
B35: GASTOS ORDINARIOS
B36: Beneficios a Empleados | D36: 5105 | E36: =+'Año 2022'!C400 -> 1.4593446e+09 | F36: =+E36/E$20 -> 0.13175504 | G36: 1.2046883e+09 | H36: =+G36/G$20 -> 0.12319586 | I36: =+E36-G36 -> 2.5465624e+08 | J36: =IF(G36>0,+(E36-G36)/G36,"N.A.") -> 0.21138766
B37: Gastos Generales | D37: 5110 | E37: =+'Año 2022'!C456+'Año 2022'!C617-E38 -> 2.3276299e+09 | F37: =+E37/E$20 -> 0.21014705 | G37: 2.1313583e+09 | H37: =+G37/G$20 -> 0.21796053 | I37: =+E37-G37 -> 1.962716e+08 | J37: =IF(G37>0,+(E37-G37)/G37,"N.A.") -> 0.09208757
B38: Gastos Sociales | E38: =+'Nota Gastos y sociales'!C16 -> 1.3201826e+09 | F38: =+E38/E$20 -> 0.11919098 | G38: 1.0241381e+09 | H38: =+G38/G$20 -> 0.10473212 | I38: =+E38-G38 -> 2.9604454e+08 | J38: =IF(G38>0,+(E38-G38)/G38,"N.A.") -> 0.28906702
B39: Depreciaciones | D39: 5125 | E39: =+'Año 2022'!C599 -> 1.3037059e+08 | F39: =+E39/E$20 -> 0.01177034 | G39: 76920605 | H39: =+G39/G$20 -> 0.0078661838 | I39: =+E39-G39 -> 53449982 | J39: =IF(G39>0,+(E39-G39)/G39,"N.A.") -> 0.6948721
B40: TOTAL GASTOS ORDINARIOS | C40: -20 | E40: =SUM(E36:E39) -> 5.2375276e+09 | F40: =+E40/E$20 -> 0.47286341 | G40: 4.4367056e+09 | H40: =+G40/G$20 -> 0.45371383 | I40: =+E40-G40 -> 8.0082197e+08 | J40: =IF(G40>0,+(E40-G40)/G40,"N.A.") -> 0.18049923
...

Sheet CP
B1: COOPEJEMPLO
B2: COOPERATIVA ESPECIALIZADA DE AHORRO Y CREDITO
B3: ESTADO DE CAMBIOS EN EL PATRIMONIO
B4: Acumulados del 01 de enero al 31 de Diciembre de los Años 2022 y 2021
B5: ( Cifras en pesos Colombianos)
B8: CONCEPTO | C8: 31/12/12015 | D8: Disminución | E8: Aumento | F8: 44561 | G8: Disminución | H8: Aumento | I8: 44926
B9: Capital Social | C9: 19860941752 | D9: 0 | E9: 996817662 | F9: 20857759414 | G9: 0 | H9: =+ESF!J91 -> 708389539 | I9: =+F9+H9-G9 -> 21566148953
B10: Fondos, Reservas y Superavit | C10: 2.9423342e+09 | D10: 0 | E10: 4.199152e+08 | F10: 3.3622494e+09 | G10: 0 | H10: =+ESF!J93+ESF!J95 -> 4.1878518e+08 | I10: =+F10+H10-G10 -> 3.7810346e+09
B11: Ajustes por adopción NIIF | C11: 386783268 | E11: 0 | F11: =+C11 -> 386783268 | G11: 0 | H11: 0 | I11: =+F11+H11-G11 -> 386783268
B12: Resultados del Ejercicio | C12: 7.5759646e+08 | D12: 1.5933196e+08 | E12: 0 | F12: =+C12-D12 -> 598264502 | G12: 0 | H12: 278367224 | I12: =+F12+H12-G12 -> 876631726
B13: TOTAL PATRIMONIO | C13: 2.3947656e+10 | D13: 1.5933196e+08 | E13: 1.4167329e+09 | F13: 2.5205057e+10 | G13: =SUM(G9:G12) -> 0 | H13: =SUM(H9:H12) -> 1.4055419e+09 | I13: =+F13+H13-G13 -> 2.6610599e+10

Sheet Año 2022
A1: COD | B1: DESCRIPCION | C1: Anterior
A2: 1 | B2: ACTIVOS | C2: 6.8682016e+10
A3: 11 | B3: EFECTIVO Y EQUIVALENTE AL EFECTIVO | C3: 3.362434e+09
A4: 1110 | B4: BANCOS Y OTRAS ENTIDADES FINANCIERAS | C4: 2.6712039e+09
A5: 111005 | B5: BANCOS COMERCIALES | C5: 2.1665148e+09
A6: 1110050101 | B6: Banco Caja Social Cta Cte 21002301162 | C6: 2.2297636e+08
A7: 1110050102 | B7: Banco Bbva Cta Cte 001304640100003821 | C7: 1.6434431e+08
A8: 1110050103 | B8: Banco Davivienda Cte Cte 0287-6999-6464 | C8: 62365727
A9: 1110050104 | B9: Banco De Occidente Cta Cte 800-57798-3 | C9: 49371581
A10: 1110050105 | B10: Banco Popular Cta Cte 110221175151 | C10: 2.3683395e+08
A11: 1110050106 | B11: Banco Bogotá Bquilla Cta Cte 96053988 | C11: 2.0557223e+08
A12: 1110050107 | B12: Banco Sudameris Colombia Cta Cte 33430034 | C12: 5.4582862e+08
A13: 1110050108 | B13: Gnb Sudmeris | C13: 2e+08
... A236: 24053501 | B236: Intereses Sobre Créditos Obligaciones Financi | C236: 1.1737833e+08
A237: 2308 | B237: CREDITOS ORDINARIOS LARGO PLAZO | C237: =+C238+C240 -> 24174590291
A238: 230805 | B238: BANCOS COMERCIALES | C238: =+C239 -> 16762109137
A239: 23080501 | B239: Obligacion Fra Largo Plazo Bcos Comerciales | C239: 16762109137
A240: 230810 | B240: BANCOS COOPERATIVOS | C240: =+C241 -> 7412481154
A241: 23081001 | B241: Bancos Cooperativos | C241: 7412481154
A242: 24 | B242: CUENTAS POR PAGAR Y OTRAS | C242: =1305323892.37+4500000 -> 1.3098239e+09
A243: 2410 | B243: COSTOS Y GASTOS POR PAGAR | C243: 97971287
A244: 241095 | B244: OTROS | C244: 97971287
A245: 24159501 | B245: Vr Causados por Pagar | C245: 49609590
A246: 24959501 | B246: Vr Por Pagar Asoc-Proveedores-Terceros | C246: 3484402
A247: 24959506 | B247: Transitoria Tarjeta Afinidad | C247: 16767790
A248: 24959511 | B248: Créditos Compras de Cartera | C248: 78764
A249: 24959512 | B249: Auxilios por Desembolsar a Asociados | C249: 1710405
A250: 24959514 | B250: Pasivos Varios | C250: 26320336
A251: 2420 | B251: PROVEEDORES | C251: 710366910
A252: 242005 | B252: NACIONALES | C252: 710366910
A253: 24350501 | B253: Proveedores Nacionales Por Convenios | C253: 672152287
A254: 24350503 | B254: Garantías Comunitarias | C254: 38214623
... A386: 421030 | B386: EN INVERSIONES PARA MANTENER HASTA EL VENCIMI | C386: 18832164
A387: 41508301 | B387: Rendimiento Acciones | C387: 18832164 | D387: Que hay aquí? | E387: Dividendos del grupo aval? Y que mas?
A388: 4220 | B388: OTROS INGRESOS | C388: 2764960
A389: 422010 | B389: COMISIONES Y/O HONORARIOS | C389: 2764960
A390: 41506001 | B390: Cobro ComisionTarjeta | C390: 2764960
A391: 4225 | B391: RECUPERACIONES DETERIORO | C391: 422022230
A392: 422512 | B392: DE CRÉDITOS DE CONSUMO | C392: 422022230
A393: 41801601 | B393: Consumo Reintegro Provision | C393: 422022230
...

Sheet Año 2021
A1: CODIGO | B1: DESCRIPCION | C1: FINAL
A2: 1 | B2: ACTIVOS | C2: 6.4644891e+10
A3: 11 | B3: EFECTIVO Y EQUIVALENTE AL EFECTIVO | C3: 3.078682e+09
A4: 1105 | B4: CAJA | C4: 0
A5: 110510 | B5: CAJA MENOR | C5: 0
A6: 11051001 | B6: Caja Menor | C6: 0
A7: 1110 | B7: BANCOS Y OTRAS ENTIDADES FINANCIERAS | C7: 2.7851696e+09
A8: 111005 | B8: BANCOS COMERCIALES | C8: 2.4735135e+09
A9: 1110050101 | B9: Banco Caja Social Cta Cte 21002301162 | C9: 1.8886785e+08
A10: 1110050102 | B10: Banco Bbva Cta Cte 001304640100003821 | C10: 1.3124466e+08
A11: 1110050103 | B11: Banco Davivienda Cte Cte 0287-6999-6464 | C11: 77335766
A12: 1110050104 | B12: Banco De Occidente Cta Cte 800-57798-3 | C12: 1.1628515e+08
A13: 1110050105 | B13: Banco Popular Cta Cte 110221175151 | C13: 2.3028069e+08
... A153: 16409503 | B153: Empleados Intereses Corrientes Vivienda | C153: 54388
A154: 1471 | B154: DETERIORO CRÉDITOS A EMPLEADOS (CR) | C154: -15347844 | E154: =C131+C156 -> -11484386
A155: 147110 | B155: CRÉDITOS A EMPLEADOS CONSUMO | C155: -15347844
A156: 16984507 | B156: Creditos Empleados | C156: -15347844
A157: 1473 | B157: CONVENIOS POR COBRAR | C157: 63523626
A158: 147320 | B158: SERVICIOS FUNERARIOS | C158: 8998827
A159: 16052001 | B159: Servicios Funerarios | C159: 5948939
A160: 16052002 | B160: Servicios Funerarios Nuevo | C160: 3049888
A161: 147395 | B161: OTROS CONVENIOS | C161: 54524799
A162: 16053501 | B162: Otros Servicios | C162: 3503124
A163: 16053502 | B163: Otros Servicios Bonos | C163: 28996992
A164: 16059501 | B164: Seguro deudores Cartera | C164: 22024683
A165: 16 | B165: CUENTAS POR COBRAR Y OTRAS | C165: 3.0851413e+08
A166: 1630 | B166: ANTICIPOS | C166: 234319784
... A168: 16250501 | B168: Anticipos de Contratos | C168: 0
A169: 163015 | B169: PROVEEDORES
A170: 16251001 | B170: Anticipos a Proveedores | C170: 0
A171: 163095 | B171: OTROS | C171: 234319784
A172: 16259501 | B172: Anticipos cursos asociados | C172: 0
A173: 16250501 | B173: Anticipos de Contratos | C173: 232560184
A174: 16251001 | B174: Anticipos a Proveedores | C174: 1759600
A175: 1650 | B175: DEUDORES PATRONALES Y EMPRESAS | C175: 23153554
A176: 165005 | B176: DESCUENTO DE NOMINA | C176: 23153554
A177: 16500501 | B177: Descuentos de Nómina COPERCON | C177: 23140201
A178: 16500502 | B178: Descuentos de Nomina Empleados CootraCOPERCON | C178: 13353
A179: 1660 | B179: OTRAS CUENTAS POR COBRAR | C179: 51040795
A180: 166035 | B180: CUENTAS POR COBRAR DE TERCEROS | C180: 51040795
...

Sheet Nota Cartera
A1: CODIGO | B1: DESCRIPCION | C1: AÑO 2022 | D1: AÑO 2021 | E1: AÑO 2020 | F1: VAR 22-21 | G1: %
A2: 1411 | B2: Creditos De Consumo, Garantia Admisible – Con Libranza | C2: =VLOOKUP(A2,'Año 2022'!$A$2:$C$694,3,FALSE) -> 211376903 | D2: 299062183 | E2: 294658784 | F2: =+C2-D2 -> -87685280 | G2: =IFERROR(+(F2/D2),0) -> -0.29320083
A3: 141105 | B3: Categoria A Riesgo Normal | C3: =VLOOKUP(A3,'Año 2022'!$A$2:$C$694,3,FALSE) -> 211376903 | D3: 299062183 | E3: 262541487 | F3: =D3-E3 -> 36520696 | G3: =IFERROR(+(F3/D3),0) -> 0.1221174
A4: 141115 | B4: Categoria C Riesgo Apreciable | C4: 0 | D4: 0 | E4: 32117297 | F4: =D4-E4 -> -32117297 | G4: =IFERROR(+(F4/D4),0) -> 0
A5: 1412 | B5: Creditos De Consumo, Garantia Admisible, Sin Libranza | C5: =VLOOKUP(A5,'Año 2022'!$A$2:$C$694,3,FALSE) -> 499302723 | D5: =SUM(D6:D9) -> 451274737 | E5: 639004817 | F5: =D5-E5 -> -187730080 | G5: =IFERROR(+(F5/D5),0) -> -0.41599953
A6: 141205 | B6: Categoria A Riesgo Normal | C6: =VLOOKUP(A6,'Año 2022'!$A$2:$C$694,3,FALSE) -> 331582294 | D6: 401589347 | E6: 424309460 | F6: =D6-E6 -> -22720113 | G6: =IFERROR(+(F6/D6),0) -> -0.056575487
A7: 141215 | B7: Categoria C Riesgo Apreciable | C7: =VLOOKUP(A7,'Año 2022'!$A$2:$C$694,3,FALSE) -> 71324354 | E7: 112682973 | F7: =D7-E7 -> -112682973 | G7: =IFERROR(+(F7/D7),0) -> 0
A8: 141220 | B8: Categoria D Riesgo Significativo | C8: =VLOOKUP(A8,'Año 2022'!$A$2:$C$694,3,FALSE) -> 70717933 | E8: 52326994 | F8: =D8-E8 -> -52326994 | G8: =IFERROR(+(F8/D8),0) -> 0
A9: 141225 | B9: Categoria E Riesgo De Incobrabilidad | C9: =VLOOKUP(A9,'Año 2022'!$A$2:$C$694,3,FALSE) -> 25678142 | D9: 49685390 | E9: 49685390 | F9: =D9-E9 -> 0 | G9: =IFERROR(+(F9/D9),0) -> 0
A10: 1441 | B10: Creditos De Consumo, Otras Garantias – Con Libranza | C10: =VLOOKUP(A10,'Año 2022'!$A$2:$C$694,3,FALSE) -> 57460370468 | D10: =SUM(D11:D15) -> 55753105463 | E10: 50869829771 | F10: =D10-E10 -> 4883275692 | G10: =IFERROR(+(F10/D10),0) -> 0.08758751
A11: 144105 | B11: Categoria A Riesgo Normal | C11: =VLOOKUP(A11,'Año 2022'!$A$2:$C$694,3,FALSE) -> 56736006361 | D11: 54932259372 | E11: 49603964320 | F11: =D11-E11 -> 5328295052 | G11: =IFERROR(+(F11/D11),0) -> 0.096997559
A12: 144110 | B12: Categoria B Riesgo Aceptable | C12: =VLOOKUP(A12,'Año 2022'!$A$2:$C$694,3,FALSE) -> 160743609 | D12: 58449107 | E12: 130005337 | F12: =D12-E12 -> -71556230 | G12: =IFERROR(+(F12/D12),0) -> -1.2242485
A13: 144115 | B13: Categoria C Riesgo Apreciable | C13: =VLOOKUP(A13,'Año 2022'!$A$2:$C$694,3,FALSE) -> 160263765 | D13: 239768918 | E13: 377608185 | F13: =D13-E13 -> -137839267 | G13: =IFERROR(+(F13/D13),0) -> -0.5748838
A14: 144120 | B14: Categoria D Riesgo Significativo | C14: =VLOOKUP(A14,'Año 2022'!$A$2:$C$694,3,FALSE) -> 31165158 | D14: 81017556 | E14: 258698876 | F14: =D14-E14 -> -177681320 | G14: =IFERROR(+(F14/D14),0) -> -2.1931212
A15: 144125 | B15: Categoria E Riesgo De Incobrabilidad | C15: =VLOOKUP(A15,'Año 2022'!$A$2:$C$694,3,FALSE) -> 372191575 | D15: 441610510 | E15: 499553053 | F15: =D15-E15 -> -57942543 | G15: =IFERROR(+(F15/D15),0) -> -0.13120735
A16: 1442 | B16: Creditos De Consumo, Otras Gartantías – Sin Libranza | C16: =VLOOKUP(A16,'Año 2022'!$A$2:$C$694,3,FALSE) -> 4427014105 | D16: =SUM(D17:D21) -> 3334963879 | E16: 2421382908 | F16: =D16-E16 -> 913580971 | G16: =IFERROR(+(F16/D16),0) -> 0.27394029
A17: 144205 | B17: Categoria A Riesgo Normal | C17: =VLOOKUP(A17,'Año 2022'!$A$2:$C$694,3,FALSE) -> 3545029922 | D17: 2510106408 | E17: 1885460672 | F17: =D17-E17 -> 624645736 | G17: =IFERROR(+(F17/D17),0) -> 0.24885229
A18: 144210 | B18: Categoria B Riesgo Aceptable | C18: =VLOOKUP(A18,'Año 2022'!$A$2:$C$694,3,FALSE) -> 198529209 | D18: 201675605 | E18: 160917501 | F18: =D18-E18 -> 40758104 | G18: =IFERROR(+(F18/D18),0) -> 0.20209734
A19: 144215 | B19: Categoria C Riesgo Apreciable | C19: =VLOOKUP(A19,'Año 2022'!$A$2:$C$694,3,FALSE) -> 106484659 | D19: 18644324 | E19: 120002850 | F19: =D19-E19 -> -101358526 | G19: =IFERROR(+(F19/D19),0) -> -5.4364281
A20: 144220 | B20: Categoria D Riesgo Significativo | C20: =VLOOKUP(A20,'Año 2022'!$A$2:$C$694,3,FALSE) -> 121829666 | D20: 127719157 | E20: 38877672 | F20: =D20-E20 -> 88841485 | G20: =IFERROR(+(F20/D20),0) -> 0.69560031
A21: 144225 | B21: Categoria E Riesgo De Incobrabilidad | C21: =VLOOKUP(A21,'Año 2022'!$A$2:$C$694,3,FALSE) -> 455140649 | D21: 476818385 | E21: 216124213 | F21: =D21-E21 -> 260694172 | G21: =IFERROR(+(F21/D21),0) -> 0.54673683
A22: =+'Año 2022'!A101 -> 1445 | B22: Provision Creditos De Consumo | C22: =VLOOKUP(A22,'Año 2022'!$A$2:$C$694,3,FALSE) -> -702958376 | D22: =SUM(D23:D29) -> -820283195 | E22: -558427368 | F22: =D22-E22 -> -261855827 | G22: =IFERROR(+(F22/D22),0) -> 0.31922613
A23: =+'Año 2022'!A102 -> 144520 | B23: Categoria B Credito Aceptable, Otras Garantias | C23: =VLOOKUP(A23,'Año 2022'!$A$2:$C$694,3,FALSE) -> -3302644 | D23: -2413973 | E23: -2337974 | F23: =D23-E23 -> -75999 | G23: =IFERROR(+(F23/D23),0) -> 0.031482954
A24: 144525 | B24: Categoria C ‑ Credito Apreciable, Garantia Admisible | E24: -13041720 | F24: =D24-E24 -> 13041720 | G24: =IFERROR(+(F24/D24),0) -> 0
A25: =+'Año 2022'!A104 -> 144530 | B25: Categoria C ‑ Credito Apreciable, Otras Garantias | C25: =VLOOKUP(A25,'Año 2022'!$A$2:$C$694,3,FALSE) -> -25639461 | D25: -22806598 | E25: -40817219 | F25: =D25-E25 -> 18010621 | G25: =IFERROR(+(F25/D25),0) -> -0.78971099
A26: =+'Año 2022'!A106 -> 144535 | B26: Categoria D ‑ Credito Significativo, Garantia Admisible | C26: =VLOOKUP(A26,'Año 2022'!$A$2:$C$694,3,FALSE) -> -13811129 | E26: -9277277 | F26: =D26-E26 -> 9277277 | G26: =IFERROR(+(F26/D26),0) -> 0
A27: =+'Año 2022'!A108 -> 144540 | B27: Categoria D ‑ Credito Significativo, Otras Garantias | C27: =VLOOKUP(A27,'Año 2022'!$A$2:$C$694,3,FALSE) -> -29124480 | D27: -35875507 | E27: -49333543 | F27: =D27-E27 -> 13458036 | G27: =IFERROR(+(F27/D27),0) -> -0.37513159
A28: =+'Año 2022'!A110 -> 144545 | B28: Categoria E ‑ Credito Irrecuperable, Garantia Admisible | C28: =VLOOKUP(A28,'Año 2022'!$A$2:$C$694,3,FALSE) -> -24375374 | D28: -46507735 | E28: -31979712 | F28: =D28-E28 -> -14528023 | G28: =IFERROR(+(F28/D28),0) -> 0.31237864
A29: =+'Año 2022'!A112 -> 144550 | B29: Categoria E ‑ Credito Irrecuperable, Otras Garantias | C29: =VLOOKUP(A29,'Año 2022'!$A$2:$C$694,3,FALSE) -> -606705288 | D29: -712679382 | E29: -411639923 | F29: =D29-E29 -> -301039459 | G29: =IFERROR(+(F29/D29),0) -> 0.42240517
A30: 1461 | B30: Creditos Comerciales, Garantia Admisible Sin Libranza | C30: =VLOOKUP(A30,'Año 2022'!$A$2:$C$694,3,FALSE) -> 91939954 | D30: 0 | E30: 0 | F30: =D30-E30 -> 0 | G30: =IFERROR(+(F30/D30),0) -> 0
A31: 146105 | B31: Categoria A Riesgo Normal | C31: =VLOOKUP(A31,'Año 2022'!$A$2:$C$694,3,FALSE) -> 91939954 | D31: 0 | E31: 0 | F31: =D31-E31 -> 0 | G31: =IFERROR(+(F31/D31),0) -> 0
A32: 1462 | B32: Creditos Comerciales, Garantia Admisible Sin Libranza | C32: =VLOOKUP(A32,'Año 2022'!$A$2:$C$694,3,FALSE) -> 324831998 | D32: 121629211 | E32: 146198199 | F32: =D32-E32 -> -24568988 | G32: =IFERROR(+(F32/D32),0) -> -0.20199907
A33: 146205 | B33: Categoria A Riesgo Normal | C33: =VLOOKUP(A33,'Año 2022'!$A$2:$C$694,3,FALSE) -> 324831998 | D33: 121629211 | E33: 146198199 | F33: =D33-E33 -> -24568988 | G33: =IFERROR(+(F33/D33),0) -> -0.20199907
A34: 1463 | B34: Creditos Comerciales, Otras Garantias Con Libranza | C34: =VLOOKUP(A34,'Año 2022'!$A$2:$C$694,3,FALSE) -> 3136492 | D34: 1231894 | F34: =D34-E34 -> 1231894 | G34: =IFERROR(+(F34/D34),0) -> 1
A35: 146305 | B35: Categoria A Riesgo Normal | C35: =VLOOKUP(A35,'Año 2022'!$A$2:$C$694,3,FALSE) -> 3136492 | D35: 1231894 | F35: =D35-E35 -> 1231894 | G35: =IFERROR(+(F35/D35),0) -> 1
A36: 1465 | B36: Creditos Comerciales, Otras Garantias – Sin Libranza | C36: 0 | D36: 117202431 | E36: 152097210 | F36: =D36-E36 -> -34894779 | G36: =IFERROR(+(F36/D36),0) -> -0.29773085
A37: 146505 | B37: Categoria A Riesgo Normal | C37: 0 | D37: 117202431 | E37: 152097210 | F37: =D37-E37 -> -34894779 | G37: =IFERROR(+(F37/D37),0) -> -0.29773085
A38: 1469 | B38: Creditos A Empleados | C38: =VLOOKUP(A38,'Año 2022'!$A$2:$C$694,3,FALSE) -> 282817633 | D38: =SUM(D39:D41) -> 273363689 | E38: =SUM(E39:E41) -> 246142276 | F38: =D38-E38 -> 27221413 | G38: =IFERROR(+(F38/D38),0) -> 0.099579476
A39: =+'Año 2022'!A140 -> 146905 | B39: Categoria A Riesgo Normal, Vivienda | C39: =VLOOKUP(A39,'Año 2022'!$A$2:$C$694,3,FALSE) -> 160474387 | D39: 184815361 | E39: 153688233 | F39: =D39-E39 -> 31127128 | G39: =IFERROR(+(F39/D39),0) -> 0.16842284
A40: =+'Año 2022'!A142 -> 146930 | B40: Categoria A Riesgo Normal, Consumo | C40: =VLOOKUP(A40,'Año 2022'!$A$2:$C$694,3,FALSE) -> 122343246 | D40: 88493940 | E40: 92392931 | F40: =D40-E40 -> -3898991 | G40: =IFERROR(+(F40/D40),0) -> -0.044059412
...

Sheet PPE
A1: COSTO | B1: Terrenos | C1: Edificiaciones | D1: Muebles y Equipos de Oficina | E1: Equipo de Computo y Comunicación | F1: TOTAL
A2: Saldo 2021 | B2: =+ESF!H38 -> 179682458 | C2: =+ESF!H39 -> 968895289 | D2: =+ESF!H40 -> 412105156 | E2: =+ESF!H41 -> 3.0137684e+08 | F2: =+SUM(B2:E2) -> 1.8620597e+09
A3: Adquisiciones | B3: 0 | C3: =+ESF!J39 -> 432951190 | D3: =+ESF!J40 -> 1.7159569e+08 | E3: =+ESF!J41+3620000 -> 69839894 | F3: =+SUM(B3:E3) -> 6.7438678e+08
A4: Baja en Cuentas | B4: 0 | C4: 0 | D4: 0 | E4: =1900000+1720000 -> 3620000 | F4: =+SUM(B4:E4) -> 3620000
A5: Disposiciones | B5: 0 | C5: 0 | D5: 0 | E5: 0 | F5: =+SUM(B5:E5) -> 0
A6: Saldo Final 2022 | B6: =+B2+B3-B4-B5 -> 179682458 | C6: =+C2+C3-C4-C5 -> 1401846479 | D6: =+D2+D3-D4-D5 -> 5.8370085e+08 | E6: =+E2+E3-E4-E5 -> 3.6759674e+08 | F6: =+F2+F3-F4-F5 -> 2.5328265e+09 | G6: =F6+F12 -> 2.1530064e+09
A7: DEPRECIACION
A8: Saldo inicial 2021 | B8: 0 | C8: =+'Año 2021'!$C$203 -> -10439254 | D8: =+'Año 2021'!$C$204 -> -1.4538566e+08 | E8: =+'Año 2021'!$C$205 -> -97244635 | F8: =+SUM(B8:E8) -> -2.5306955e+08
A9: Gasto Depreciación | C9: =+'Año 2022'!C601 -> 13145743 | D9: =+'Año 2022'!C602 -> 48918433 | E9: =+'Año 2022'!C605 -> 68306411 | F9: =+SUM(B9:E9) -> 1.3037059e+08
A10: Baja en Cuentas | E10: 3620000 | F10: =+SUM(B10:E10) -> 3620000
A11: Disposiciones
A12: Saldo Final 2022 | B12: =+B8-B9+B10+B11 -> 0 | C12: =+C8-C9+C10+C11 -> -23584997 | D12: =+D8-D9+D10+D11 -> -1.9430409e+08 | E12: =+E8-E9+E10+E11 -> -1.6193105e+08 | F12: =+F8-F9+F10+F11 -> -3.7982014e+08
A13: TOTAL PPE | B13: =+B12+B6 -> 179682458 | C13: =+C12+C6 -> 1.3782615e+09 | D13: =+D12+D6 -> 3.8939676e+08 | E13: =+E12+E6 -> 2.0566569e+08 | F13: =+F12+F6 -> 2.1530064e+09

Sheet cxc
A1: CODIGO | B1: CONCEPTO | C1: Año 2022 | D1: Año 2021 | E1: Año 2015 | F1: VAR | G1: Nota
A2: 16053502 | B2: Otros Servicios Bonos | C2: =+'Año 2022'!C154+'Año 2022'!C155 -> 75202422 | D2: 28996992 | E2: 28053084 | F2: =+C2-D2 -> 46205430 | G2: 7.1
A3: 16059501 | B3: Seguro deudores Cartera | C3: =+'Año 2022'!C156 -> 22203591 | D3: 22024683 | E3: 18013122 | F3: =+C3-D3 -> 178908 | G3: 7.2
A4: 16052001 | B4: Servicios Funerarios | C4: =+'Año 2022'!C149 -> 10966668 | D4: 8998827 | E4: 6456184 | F4: =+C4-D4 -> 1967841 | G4: 7.3
A5: 16053501 | B5: Otros Servicios | C5: =+'Año 2022'!C153 -> 3207215 | D5: 3503124 | E5: 3800498 | F5: =+C5-D5 -> -295909
B6: Subtotal CONVENIOS | C6: =+SUM(C2:C5) -> 111579896 | D6: =+SUM(D2:D5) -> 63523626 | E6: =+SUM(E2:E5) -> 56322888 | F6: =+C6-D6 -> 48056270
B7: Subtotal PATRONALES | C7: 28603226 | D7: 23153554 | E7: 0 | F7: =+C7-D7 -> 5449672 | G7: 7.4
A8: 16909501 | B8: Asociados | C8: =+'Año 2022'!C171 -> 25242856 | D8: 39765752 | E8: 100175816 | F8: =+C8-D8 -> -14522896 | G8: 7.5
A9: 16902501 | B9: Terceros y proveedores | C9: =+'Año 2022'!C170 -> 40619565 | D9: 7499490.3 | E9: 5735255.6 | F9: =+C9-D9 -> 33120074
A10: 16909504 | B10: Deudas Garantias comunitaria | C10: =+'Año 2022'!C172 -> 100000 | D10: 3444480 | E10: 0 | F10: =+C10-D10 -> -3344480
A11: 16751001 | B11: Anticipos de impuestos | C11: =+'Año 2022'!C169+'Año 2022'!C163 -> 103566 | D11: 0 | E11: 633000 | F11: =+C11-D11 -> 103566
A12: 16909599 | B12: Intereses de Ajuste al Ciclo | C12: =+'Año 2022'!C173 -> 170058 | D12: 331073 | E12: 562160 | F12: =+C12-D12 -> -161015
B13: Subtotal OTRAS | C13: =+SUM(C8:C12) -> 66236045 | D13: =+SUM(D8:D12) -> 51040795 | E13: =+SUM(E8:E12) -> 1.0710623e+08 | F13: =+C13-D13 -> 15195249
B14: TOTAL CXC | C14: =+C13+C7+C6 -> 2.0641917e+08 | D14: =+D13+D7+D6 -> 1.3771798e+08 | E14: =+E13+E7+E6 -> 1.6342912e+08 | F14: =+C14-D14 -> 68701191
A16: 7.1 | B16: Bono Solidario vendido a los asociados por valor de $300,000 cada uno que se descuenta a 12 meses
A17: 7.2 | B17: Seguro de vida deudores que pagan los asociados mensualmente, liquidado sobre saldos y cubre las obligaciones crediticias en caso de fallecimiento
A18: 7.3 | B18: Convenio de servicios excequiales cobrado a los asociados mensualmente para pagarlo a las entidades con las que se tiene convenio
A19: 7.4 | B19: Valores pendientes de pago de COPERCON por descuentos de obligaciones crediticias, aportes y ahorros de sus trabajadores asociados a la Cooperativa y que ingresan el primer día hábil del mes inmediatamente siguiente. No presentan atrasos.
A20: 7.5 | B20: Casi su totalidad corresponde a $70,000 cobrados a cada asociado por la asesoría en la preparación de su declaración de renta y que se les cobra en dos cuotas por nómina. La Cooperativa asume otros $30,000 como subsidio.

Sheet Oblig financieras
A1: ENTIDAD | B1: No.OBLIGAC | C1: TASA INTERES | D1: VR CREDITO OTORGADO | E1: FECHA DE DESEMBOLSO | F1: FECHA INICIAL DE PAGO | G1: FECHA FINAL DE PAGO | H1: CUOTAS AMORTIZADAS | I1: PLAZO EN MESES | J1: VR.CUOTA CAPITAL | K1: ABONOS A CAPITAL ACUMULADOS | L1: SALDO A CAPITAL | M1: SALDO A CORTO PLAZO | N1: SALDO A LARGO PLAZO
A2: BCO BOGOTA | B2: 255578397 | C2: DTF+4,5 | D2: 500000000 | E2: SEPTIEMBRE 23-2014 | F2: OCTUBRE 23-2014 | G2: SEPTIEMBRE 23-2018 | H2: 39 | I2: 48 | J2: =D2/I2 -> 10416667 | K2: =J2*H2 -> 406250000 | L2: =D2-K2+3-11-1-1-1-1+1+1-3-1+1-1-1-1+1-1+1-6-2+1-2+1-2+1 -> 93749976 | M2: 93749976 | N2: =L2-M2 -> 0
A3: BCO BOGOTA | B3: 257524842 | C3: DTF+4,5 | D3: 400000000 | E3: ABRIL 10-2015 | F3: MAYO 10-2015 | G3: ABRIL 10-2020 | H3: 32 | I3: 60 | J3: =D3/I3 -> 6666666.7 | K3: =J3*H3 -> 2.1333333e+08 | L3: =D3-K3-4+2-1-5+1-1-2-1-1-2-1-1-2-1-1-1 -> 1.8666665e+08 | M3: =J3*12 -> 80000000 | N3: =L3-M3 -> 1.0666665e+08
A4: BCO BOGOTA | B4: 258210411 | C4: DTF+4,5 | D4: 3700000000 | E4: JUNIO 19-2015 | F4: JULIO 19-2015 | G4: JUNIO 19-2020 | H4: 30 | I4: 60 | J4: =D4/I4 -> 61666667 | K4: =J4*H4 -> 1850000000 | L4: =D4-K4-2-2-1-1-1-1-1-1-1-3-1-2-1 -> 1849999982 | M4: =J4*12 -> 740000000 | N4: =L4-M4 -> 1109999982
A5: BCO BOGOTA | B5: 259340920 | C5: DTF+4,5 | D5: 400000000 | E5: OCTUBRE 15-2015 | F5: NOVIEMBRE 15-2015 | G5: OCTUBRE 15-2020 | H5: 26 | I5: 60 | J5: =D5/I5 -> 6666666.7 | K5: =J5*H5 -> 1.7333333e+08 | L5: =D5-K5-1-1-2-1-1-1-1-1-1-1-4-1-2-1 -> 2.2666665e+08 | M5: =J5*12 -> 80000000 | N5: =L5-M5 -> 1.4666665e+08
A6: BCO BOGOTA | B6: 259614466 | C6: DTF+5,00 | D6: 500000000 | E6: NOVIEMBRE 17-2015 | F6: DICIEMBRE 17-2015 | G6: NOVIEMBRE 17-2020 | H6: 25 | I6: 60 | J6: =D6/I6 -> 8333333.3 | K6: =J6*H6 -> 2.0833333e+08 | L6: =D6-K6+1-1+1+1+1+1-3 -> 2.9166667e+08 | M6: =J6*12 -> 100000000 | N6: =L6-M6 -> 1.9166667e+08
A7: BCO BOGOTA | B7: 353109174 | C7: DTF+4,65 | D7: 1200000000 | E7: ENERO 12-2016 | F7: FEBRERO 12-2016 | G7: ENERO 12-2021 | H7: 23 | I7: 60 | J7: =D7/I7 -> 20000000 | K7: =J7*H7 -> 460000000 | L7: =D7-K7-1-3-1 -> 739999995 | M7: =J7*12 -> 240000000 | N7: =L7-M7 -> 499999995
A8: BCO BOGOTA | B8: 353654100 | C8: IBR+4,65 | D8: 200000000 | E8: MARZO 11-2016 | F8: ABRIL 11-2016 | G8: MARZO 11-2021 | H8: 21 | I8: 60 | J8: =D8/I8 -> 3333333.3 | K8: =J8*H8 -> 70000000 | L8: =D8-K8+1+1+1+1-5+1 -> 130000000 | M8: =J8*12 -> 40000000 | N8: =L8-M8 -> 90000000
A9: BCO BOGOTA | B9: 53751000086-2 | C9: IBR+4,65 | D9: 100000000 | E9: JUNIO 30-2017 | F9: JULIO 10-2017 | G9: DICIEMBRE 30-2017 | H9: 5 | I9: 6 | J9: =D9/I9 -> 16666667 | K9: =J9*H9 -> 83333333 | L9: =100000000-14404990-14265835-11888197-9906830-8255691 -> 41278457 | M9: 41278457
A10: BCO BOGOTA | B10: 35503741-6 | C10: IBR+4,2 | D10: 600000000 | E10: AGOSTO 14-2017 | F10: FEBRERO 14-2018 | G10: FEBRERO 18-2018 | H10: 0 | I10: 120 DIAS | J10: 600000000 | K10: 0 | L10: 600000000 | M10: 600000000
A11: BCO BOGOTA | B11: 356676544 | C11: IBR+4,2 | D11: 400000000 | E11: AGOSTO 11-2017 | F11: FEBRERO 11-2018 | G11: FEBRERO 11-2018 | H11: 0 | I11: 180 DIAS | J11: 400000000 | K11: 0 | L11: 400000000 | M11: 400000000
A12: BCO BOGOTA | B12: 356895120 | C12: IBR+4,2 | D12: 400000000 | E12: SEPTIEMBRE 9-2017 | F12: MARZO 4-2018 | G12: MARZO 4-2018 | H12: 0 | I12: 180 DIAS | J12: 400000000 | L12: 400000000 | M12: 400000000
A13: BCO BOGOTA | B13: 359228346 | C13: IBR+4,50 | D13: 270000000 | E13: NOVIEMBRE 29-2017 | F13: ENERO 26-2018 | G13: ENERO 26-2018 | H13: 0 | I13: 60 DIAS | J13: 270000000 | L13: 270000000 | M13: 270000000 | N13: 0
A14: BCO BOGOTA | B14: 359421118 | C14: IBR+4,00 | D14: 500000000 | E14: DICIEMBRE 20-2017 | F14: JUNIO 18-2018 | G14: JUNIO 18-2018 | H14: 0 | I14: 180 DIAS | J14: 500000000 | K14: 0 | L14: 500000000 | M14: 500000000 | N14: 0
A15: BCO C SOCIAL | B15: 31006240538 | C15: DTF+3,8 | D15: 1699000000 | E15: OCTUBRE 25-2017 | F15: NOVIEMBRE 25-2017 | G15: OCTUBRE 25-2020 | H15: 36 | I15: 36 | J15: =D15/I15 -> 47194444 | K15: =H15*J15 -> 1699000000 | L15: 0 | M15: 0 | N15: =L15-M15 -> 0
A16: BCO C SOCIAL | B16: 31006246295 | C16: DTF+3,8 | D16: 1838000000 | E16: NOVIEMBRE 28-2017 | F16: DICIEMBRE 28-2017 | G16: NOVIEMBRE 28-2020 | H16: 1 | I16: 36 | J16: =D16/I16 -> 51055556 | K16: =H16*J16 -> 51055556 | L16: =D16-K16-444 -> 1.786944e+09 | M16: =J16*12 -> 6.1266667e+08 | N16: =L16-M16 -> 1.1742773e+09
A17: BCO C SOCIAL | B17: 31006251242 | C17: DTF+3,8 | D17: 1647000000 | E17: DICIEMBRE 22-2017 | F17: ENERO 22-2018 | G17: DICIEMBRE 22-2020 | H17: 0 | I17: 36 | J17: =D17/I17 -> 45750000 | K17: =H17*J17 -> 0 | L17: =D17-K17 -> 1647000000 | M17: =J17*12 -> 549000000 | N17: =L17-M17 -> 1098000000
A18: BCO POPULAR | B18: 22113021220 | C18: IBR+4,50 | D18: 4700000000 | E18: NOVIEMBRE 2-2016 | F18: DICIEMBRE 2-2016 | G18: NOVIEMBRE 2-2019 | H18: 13 | I18: 36 | J18: =D18/I18 -> 1.3055556e+08 | K18: =H18*J18 -> 1.6972222e+09 | L18: =D18-K18-1-1-1-1+1-1+1-1-1-1 -> 3.0027778e+09 | M18: =J18*12 -> 1.5666667e+09 | N18: =L18-M18 -> 1.4361111e+09
A19: BCO POPULAR | B19: 22113021516 | C19: IBR+4,50 | D19: 340000000 | E19: MARZO 24-2017 | F19: ABRIL 24-2017 | G19: MARZO 24-2020 | H19: 9 | I19: 36 | J19: =D19/I19 -> 9444444.4 | K19: =H19*J19 -> 85000000 | L19: =D19-K19+1+1-15+1-1+1 -> 254999988 | M19: =J19*12 -> 1.1333333e+08 | N19: =L19-M19 -> 1.4166665e+08
A20: BCO POPULAR | B20: 22113021534 | C20: IBR+4,50 | D20: 220000000 | E20: ABRIL 19-2017 | F20: MAYO 19-2017 | G20: ABRIL 19-2020 | H20: 8 | I20: 36 | J20: =D20/I20 -> 6111111.1 | K20: =H20*J20 -> 48888889 | L20: =D20-K20+1-1+1 -> 1.7111111e+08 | M20: =J20*12 -> 73333333 | N20: =L20-M20 -> 97777779
A21: BCO POPULAR | B21: 22113021759 | C21: IBR+4,50 | D21: 480000000 | E21: SEPTIEMBRE 4-2017 | F21: OCTUBRE 4-2017 | G21: SEPTIEMBRE 4-2020 | H21: 3 | I21: 36 | J21: =D21/I21 -> 13333333 | K21: =H21*J21 -> 40000000 | L21: =D21-K21+1 -> 440000001 | M21: =J21*12 -> 160000000 | N21: =L21-M21 -> 280000001
A22: BCO POPULAR | B22: 22113021919 | C22: IBR+4,00 | D22: 1000000000 | E22: NOVIEMBRE 3-2017 | F22: DICIEMBRE 3-2017 | G22: NOVIEMBRE 3-2020 | H22: 1 | I22: 36 | J22: =D22/I22 -> 27777778 | K22: =H22*J22 -> 27777778 | L22: =D22-K22 -> 9.7222222e+08 | M22: =J22*12 -> 3.3333333e+08 | N22: =L22-M22 -> 6.3888889e+08
A23: BCO POPULAR | B23: 22113021901 | C23: IBR+4 | D23: 1200000000 | E23: NOVIEMBRE 3-2017 | F23: DICIEMBRE 3-2017 | G23: NOVIEMBRE 3-2020 | H23: 1 | I23: 36 | J23: =D23/I23 -> 33333333 | K23: =H23*J23 -> 33333333 | L23: =D23-K23 -> 1.1666667e+09 | M23: =J23*12 -> 400000000 | N23: =L23-M23 -> 7.6666667e+08
A24: BCO POPULAR | B24: 22113022012 | C24: IBR+4 | D24: 370000000 | E24: DICIEMBRE 1-2017 | F24: ENERO 1-2018 | G24: DICIEMBRE 1-2020 | H24: 0 | I24: 36 | J24: =D24/I24 -> 10277778 | K24: =H24*J24 -> 0 | L24: 370000000 | M24: =J24*12 -> 1.2333333e+08 | N24: =L24-M24 -> 2.4666667e+08
A25: BCO POPULAR | B25: 22113022003 | C25: IBR+4 | D25: 500000000 | E25: DICIEMBRE 1-2017 | F25: ENERO 1-2018 | G25: DICIEMBRE 1-2020 | H25: 0 | I25: 36 | J25: =D25/I25 -> 13888889 | K25: =H25*J25 -> 0 | L25: 500000000 | M25: =J25*12 -> 1.6666667e+08 | N25: =L25-M25 -> 3.3333333e+08
A26: BCO POPULAR | B26: 22113021641 | C26: IBR+3,00 | D26: 500000000 | E26: JUNIO-21-2017 | F26: DICIEMBRE 21-2017 | G26: DICIEMBRE 21-2017 | H26: 0 | I26: 180 DIAS | J26: 500000000 | L26: 0 | M26: 0
A27: BCO SUDAMERIS | B27: 11059506 | C27: DTF+4,65 | D27: 300000000 | E27: JUNIO 18-2015 | F27: JULIO 18-2015 | G27: JUNIO 18-2018 | H27: 30 | I27: 36 | J27: =D27/I27 -> 8333333.3 | K27: =+J27*H27 -> 250000000 | L27: =D27-K27+2-2+1-1+1+1+1+1+1+1+1 -> 50000007 | M27: 50000007 | N27: 0
A28: BCO SUDAMERIS | B28: 11061120 | C28: IBR+5,6 | D28: 300000000 | E28: FEBRERO 12-2016 | F28: MARZO 12-2016 | G28: FEBRERO 12-2019 | H28: 22 | I28: 36 | J28: =D28/I28 -> 8333333.3 | K28: =+J28*H28 -> 1.8333333e+08 | L28: =D28-K28+1+1+1+1+1+1+1 -> 1.1666667e+08 | M28: =J28*12 -> 100000000 | N28: =L28-M28 -> 16666674
A29: BCO SUDAMERIS | B29: 11063246 | C29: IBR+4,50 | D29: 280000000 | E29: FEBRERO 9-2017 | F29: MARZO 9-2017 | G29: FEBRERO 9-2018 | H29: 10 | I29: 12 | J29: =D29/I29 -> 23333333 | K29: =+J29*H29 -> 2.3333333e+08 | L29: =D29-K29+1+1+1 -> 46666670 | M29: 46666670 | N29: 0
A30: BCO SUDAMERIS | B30: 11063387 | C30: IBR+5,6 | D30: 400000000 | E30: MARZO 9-2017 | F30: ABRIL 9-2017 | G30: MARZO 9-2020 | H30: 9 | I30: 36 | J30: =D30/I30 -> 11111111 | K30: =+J30*H30 -> 100000000 | L30: =D30-K30+1 -> 300000001 | M30: =J30*12 -> 1.3333333e+08 | N30: =L30-M30 -> 1.6666667e+08
